{"text_format":"1","workbook":"xlsx","n_sheets":8,"sheets":["DADOS DE ENTRADA","RELATÓRIO","BASES TÉCNICAS","PREMISSAS","PARTICIPANTES - JOIA","Masculino","Feminino","Plan1"],"not_rendered":{"charts":0,"images":0,"macros":1,"external_links":0,"defined_names":25,"comments":0,"pivot_tables":0},"unopened":[],"bounds":{"document_bytes":16777216,"sheet_cells":100000,"rows_first":2000,"rows_last":500,"rows_between":2000,"halvings":0,"cell_chars":16384,"cell_head_chars":4096},"cells_cut":0,"cells_raw":0,"read":"whole","date_system":"1900"}

{"sheet":"DADOS DE ENTRADA","index":0,"n_rows":24,"n_cols":2,"rows_kept":24,"cut":false,"hidden":false,"merged":[[6,3,6,4],[17,0,17,1],[0,0,0,2],[1,0,1,2],[2,0,2,2],[6,0,6,1]]}
["FUNDAÇÃO LIBERTAS DE SEGURIDADE SOCIAL"]
["PLANO RP4 - MGS"]
["CÁLCULO DE JOIA"]
[]
[]
[]
["DADOS CADASTRAIS DO PARTICIPANTE"]
["MATRÍCULA",0]
["NOME COMPLETO","NOME DO PARTICIPANTE"]
["DATA NASCIMENTO","1975-10-15"]
["DATA ADMISSÃO","1999-09-30"]
["DATA INSCRIÇÃO","2017-10-31"]
["SALÁRIO DE PARTICIPAÇÃO (R$)",12000]
["PERÍODO, EM MESES, DE CARÊNCIA ESPECIAL SOLICITADA PELO PARTICIPANTE, CONFORME REGULAMENTO DO PLANO (CASO NÃO SOLICITADO PELO PARTICIPANTE, PREENCHER COM 0).",0]
["SEXO (M ou F)","M"]
["SALDO DE CONTA DE RECURSOS PORTADOS - SCRP (R$)",0]
[]
["PARÂMETROS"]
[]
["TETO PREVIMINAS CORRIGIDO - TPC - Junho/2018",4190.67]
["TETO PREVIMINAS - TP",4207.18]
["TAXA DE CARREGAMENTO ADMINISTRATIVO",0]
[]
["Versão 11/06/2018"]

{"sheet":"RELATÓRIO","index":1,"n_rows":57,"n_cols":2,"rows_kept":57,"cut":false,"hidden":false,"merged":[[46,0,46,1],[47,0,47,1],[48,0,48,1],[49,0,49,1],[50,0,50,1],[0,0,0,1],[1,0,1,1],[4,0,4,1],[45,0,45,1],[33,0,33,1],[14,0,14,1],[2,0,2,1],[15,0,15,1],[25,0,25,1],[31,0,31,1]]}
["FUNDAÇÃO LIBERTAS DE SEGURIDADE SOCIAL"]
["PLANO RP4 - MGS"]
["CÁLCULO DE JOIA"]
[]
["INFORMAÇÕES  CADASTRAIS DO PARTICIPANTE"]
["MATRÍCULA",{"$f":"'DADOS DE ENTRADA'!B8","v":0}]
["DATA NASCIMENTO",{"$f":"'DADOS DE ENTRADA'!B10","v":"1975-10-15"}]
["DATA ADMISSÃO",{"$f":"'DADOS DE ENTRADA'!B11","v":"1999-09-30"}]
["DATA INSCRIÇÃO",{"$f":"'DADOS DE ENTRADA'!B12","v":"2017-10-31"}]
["SALÁRIO DE PARTICIPAÇÃO (R$)",{"$f":"ROUND('DADOS DE ENTRADA'!B13,2)","v":12000}]
["SALDO DE CONTA DE RECURSOS PORTADOS - SCRP (R$)",{"$f":"ROUND('DADOS DE ENTRADA'!B16,2)","v":0}]
["CONTRIBUIÇÃO NORMAL MENSAL (R$)",{"$f":"ROUND('PARTICIPANTES - JOIA'!Y8,2)/(1-'BASES TÉCNICAS'!$B$5)","v":193.8}]
["SEXO (M ou F)",{"$f":"'DADOS DE ENTRADA'!B15","v":"M"}]
[]
["HIPÓTESES ATUARIAIS UTILIZADAS"]
["ECONÔMICAS, FINANCEIRAS E DEMOGRÁFICAS"]
["TPC",{"$f":"ROUND('DADOS DE ENTRADA'!B20,2)","v":4190.67}]
["TP",{"$f":"ROUND('DADOS DE ENTRADA'!B21,2)","v":4207.18}]
["ROTATIVIDADE",{"$f":"PREMISSAS!B4","v":"Experiência Libertas MGS 2016 - ELMGS 2016"}]
["TAXA DE JUROS",{"$f":"ROUND(PREMISSAS!B5,4)","v":4.3700000000000003E-2}]
["CRESCIMENTO SALARIAL",{"$f":"ROUND(PREMISSAS!B6,4)","v":3.2000000000000002E-3}]
["BENEFÍCIO MÍNIMO","10 % SRB"]
["TAXA DE CARREGAMENTO ADMINISTRATIVO",{"$f":"ROUND(PREMISSAS!B8,4)","v":0}]
["FATOR CAPACIDADE",{"$f":"ROUND(PREMISSAS!B9,4)","v":0.98080000000000001}]
[]
["BIOMÉTRICAS"]
["MORTALIDADE GERAL",{"$f":"PREMISSAS!B13","v":"AT 2000 - M & F (suavizada em 10%) D10%"}]
["MORTALIDADE DE INVÁLIDOS",{"$f":"PREMISSAS!B14","v":"MI - 85 Female D20%"}]
["ENTRADA EM INVALIDEZ",{"$f":"PREMISSAS!B15","v":"LIGHT MÉDIA D40%"}]
["AUXÍLIO DOENÇA",{"$f":"PREMISSAS!B16","v":"EXPERIÊNCIA LIBERTAS AXD 2016"}]
[]
["OBS: Em caso de alteração das hipóteses utilizadas, o simulador deverá ser revisado, visto que os Fatores Atuariais utilizados para esta simulação estão vinculados às bases técnicas ora apresentadas."]
[]
["RESULTADOS (1)"]
["IDADE NA INSCRIÇÃO (anos)",{"$f":"ROUND('PARTICIPANTES - JOIA'!K8/12,2)","v":42}]
["TEMPO DE EMPRESA NA DATA DA INSCRIÇÃO (anos)",{"$f":"ROUND('PARTICIPANTES - JOIA'!L8/12,2)","v":18.079999999999998}]
["IDADE PREVISTA DE APOSENTADORIA (anos)",{"$f":"ROUND('PARTICIPANTES - JOIA'!N8/12,2)","v":64}]
["JOIA ATUARIAL ",{"$f":"ROUND('PARTICIPANTES - JOIA'!W8,2)","v":64204.79}]
["JOIA MÍNIMA ",{"$f":"ROUND('PARTICIPANTES - JOIA'!Z8,2)","v":84109.2}]
["JOIA FINAL TOTAL ",{"$f":"ROUND('PARTICIPANTES - JOIA'!AA8,2)","v":84109.2}]
["FATOR CORRETIVO DE JOIA (2)",{"$f":"ROUND('PARTICIPANTES - JOIA'!AC8,6)","v":2.5414780000000001}]
["CONTRIB.EXTRAORDINÁRIA DE JOIA (3)",{"$f":"ROUND('PARTICIPANTES - JOIA'!AD8,2)","v":492.54}]
["CONTRIB. TOTAL (NORMAL + JOIA)",{"$f":"B12+B42","v":686.34}]
["TEMPO DE CONTRIBUIÇÃO FUTURA (meses)",{"$f":"ROUND('PARTICIPANTES - JOIA'!O8,0)","v":264}]
["OBSERVAÇÕES:"]
["(1) Os resultados apresentados têm como base a data de inscrição do Participante no Plano e possuem vigência ao longo do mês de cálculo."]
["É o valor, atuarialmente calculado, devido pelo Participante que venha a se inscrever no Plano, considerando a idade em que teria implementado as condições para recebimento do Benefício Pleno, observado o disposto em Regulamento. "]
[" Conforme disposições Regulamentares, o valor da joia não poderá ser inferior ao resultado da multiplicação do valor da contribuição normal mensal do Participante, relativo ao mês da entrada do requerimento de inscrição, pelo dobro do número de meses durante os quais o interessado, apesar de funcionalmente vinculado à Patrocinadora, tenha se conservado voluntariamente desligado ao Plano"]
["Consiste no maior valor entre a Joia Atuarial e a Joia Mínima, descontado do Saldo de Conta de Recursos Portados - SCRP, caso exista."]
["(2) Consiste no fator numérico aplicável ao valor da contribução normal mensal do Participante, sendo que este estará isento do pagamento da joia quando o fator corretivo for inferior a 0,01."]
["(3) Corresponde ao valor a ser pago mensalmente pelo Participante, a título de joia, condicionado ao valor da contribuição normal mensal."]
[]
[]
[]
[null,{"$f":"TODAY()","v":"2018-06-11"}]
[{"$f":"'DADOS DE ENTRADA'!B9","v":"NOME DO PARTICIPANTE"}]
[{"$f":"'DADOS DE ENTRADA'!A24","v":"Versão 11/06/2018"}]

{"sheet":"BASES TÉCNICAS","index":2,"n_rows":32,"n_cols":4,"rows_kept":32,"cut":false,"hidden":true,"merged":[[0,0,0,3],[22,0,22,3]]}
["Hipóteses utilizadas pelas funções"]
[]
["talass = ",0]
["talpen = ",0]
["adm = ",{"$f":"ROUND('DADOS DE ENTRADA'!B22,2)","v":0}]
["LSP = ",{"$f":"3*B7","v":12621.54}]
["TP =",{"$f":"'DADOS DE ENTRADA'!B21","v":4207.18}]
["INSS = ",5645.8]
["TPC =",{"$f":"'DADOS DE ENTRADA'!B20","v":4190.67}]
["BM = ",0.1]
["BMV = ",0]
["alfa = ",3.2000000000000002E-3]
["g1 = ",0.98080000000000001]
["g2 = ",1]
["Pa1 = ",0]
["Pa2 = ",0]
["Pa3 = ",0]
["ts= ",1.6150000000000001E-2]
["ROT"]
["i = ",4.3700000000000003E-2]
[]
[]
["Bases Técnicas para o Cálculo da Idade Provável de Aposentadoria"]
["Idade Mínima TC",null,64,{"$f":"C24*12","v":768}]
["Idade Mínima Homens",null,65,{"$f":"C25*12","v":780}]
["Idade Mínima Mulheres",null,60,720]
["Tempo Mínimo INSS Ap TC Homens",null,35,420]
["Tempo Mínimo INSS Ap TC Mulheres",null,30,360]
["Tempo Mínimo INSS Ap Idade",null,15,180]
["Tempo de Contribuição Libertas",null,5,60]
["Tempo de Empresa",null,10,120]
["Idade de Entrada no Mercado de Trabalho",null,18,216]

{"sheet":"PREMISSAS","index":3,"n_rows":16,"n_cols":2,"rows_kept":16,"cut":false,"hidden":true,"merged":[[0,0,0,3],[1,0,1,3],[11,0,11,3]]}
["Hipóteses utilizadas pelas funções"]
["Econômicas, Financeiras e Demográficas"]
["TPC",{"$f":"'DADOS DE ENTRADA'!B20","v":4190.67}]
["ROTATIVIDADE","Experiência Libertas MGS 2016 - ELMGS 2016"]
["TAXA DE JUROS",{"$f":"'BASES TÉCNICAS'!B20","v":4.3700000000000003E-2}]
["CRESCIMENTO SALARIAL",{"$f":"'BASES TÉCNICAS'!B12","v":3.2000000000000002E-3}]
["TP",{"$f":"'DADOS DE ENTRADA'!B21","v":4207.18}]
["TAXA DE CARREGAMENTO",{"$f":"'DADOS DE ENTRADA'!B22","v":0}]
["FATOR CAPACIDADE",{"$f":"'BASES TÉCNICAS'!B13","v":0.98080000000000001}]
[]
[]
["Biométricas"]
["MORTALIDADE GERAL","AT 2000 - M & F (suavizada em 10%) D10%"]
["MORTALIDADE DE INVÁLIDOS","MI - 85 Female D20%"]
["ENTRADA EM INVALIDEZ","LIGHT MÉDIA D40%"]
["MORBIDEZ","EXPERIÊNCIA LIBERTAS AXD 2016"]

{"sheet":"PARTICIPANTES - JOIA","index":4,"n_rows":8,"n_cols":1026,"rows_kept":8,"cut":false,"hidden":true,"merged":[[4,22,4,29],[4,16,4,19]]}
[null,null,"Data - base",{"$f":"'DADOS DE ENTRADA'!B12","v":"2017-10-31"},null,null,null,null,null,null,null,null,null,null,null,null,null,null,{"$f":"TODAY()","v":"2018-06-11"},{"$f":"S1/S1","v":1},null,null,null,null,null,null,null,null,"tx de juros mensal",{"$f":"((1+PREMISSAS!B5)^(1/12))","v":1.0035707008042658},null,null,null,null,null,null,null,null,null,null,null,null,null,null,null,null,null,null,null,null,null,null,null,null,null,null,null,null,null,null,null,null,null,null,null,null,null,null,null,null,null,null,null,null,null,null,null,null,null,null,null,null,null,null,null,null,null,null,null,null,null,null,null,null,null,null,null,null,null,null,null,null,null,null,null,null,null,null,null,null,null,null,null,null,null,null,null,null,null,null,null,null,null,null,null,null,null,null,null,null,null,null,null,null,null,null,null,null,null,null,null,null,null,null,null,null,null,null,null,null,null,null,null,null,null,null,null,null,null,null,null,null,null,null,null,null,null,null,null,null,null,null,null,null,null,null,null,null,null,null,null,null,null,null,null,null,null,null,null,null,null,null,null,null,null,null,null,null,null,null,null,null,null,null,null,null,null,null,null,null,null,null,null,null,null,null,null,null,null,null,null,null,null,null,null,null,null,null,null,null,null,null,null,null,null,null,null,null,null,null,null,null,null,null,null,null,null,null,null,null,null,null,null,null,null,null,null,null,null,null,null,null,null,null,null,null,null,null,null,null,null,null,null,null,null,null,null,null,null,null,null,null,null,null,null,null,null,null,null,null,null,null,null,null,null,null,null,null,null,null,null,null,null,null,null,null,null,null,null,null,null,null,null,null,null,null,null,null,null,null,null,null,null,null,null,null,null,null,null,null,null,null,null,null,null,null,null,null,null,null,null,null,null,null,null,null,null,null,null,null,null,null,null,null,null,null,null,null,null,null,null,null,null,null,null,null,null,null,null,null,null,null,null,null,null,null,null,null,null,null,null,null,null,null,null,null,null,null,null,null,null,null,null,null,null,null,null,null,null,null,null,null,null,null,null,null,null,null,null,null,null,null,null,null,null,null,null,null,null,null,null,null,null,null,null,null,null,null,null,null,null,null,null,null,null,null,null,null,null,null,null,null,null,null,null,null,null,null,null,null,null,null,null,null,null,null,null,null,null,null,null,null,null,null,null,null,null,null,null,null,null,null,null,null,null,null,null,null,null,null,null,null,null,null,null,null,null,null,null,null,null,null,null,null,null,null,null,null,null,null,null,null,null,null,null,null,null,null,null,null,null,null,null,null,null,null,null,null,null,null,null,null,null,null,null,null,null,null,null,null,null,null,null,null,null,null,null,null,null,null,null,null,null,null,null,null,null,null,null,null,null,null,null,null,null,null,null,null,null,null,null,null,null,null,null,null,null,null,null,null,null,null,null,null,null,null,null,null,null,null,null,null,null,null,null,null,null,null,null,null,null,null,null,null,null,null,null,null,null,null,null,null,null,null,null,null,null,null,null,null,null,null,null,null,null,null,null,null,null,null,null,null,null,null,null,null,null,null,null,null,null,null,null,null,null,null,null,null,null,null,null,null,null,null,null,null,null,null,null,null,null,null,null,null,null,null,null,null,null,null,null,null,null,null,null,null,null,null,null,null,null,null,null,null,null,null,null,null,null,null,null,null,null,null,null,null,null,null,null,null,null,null,null,null,null,null,null,null,null,null,null,null,null,null,null,null,null,null,null,null,null,null,null,null,null,null,null,null,null,null,null,null,null,null,null,null,null,null,null,null,null,null,null,null,null,null,null,null,null,null,null,null,null,null,null,null,null,null,null,null,null,null,null,null,null,null,null,null,null,null,null,null,null,null,null,null,null,null,null,null,null,null,null,null,null,null,null,null,null,null,null,null,null,null,null,null,null,null,null,null,null,null,null,null,null,null,null,null,null,null,null,null,null,null,null,null,null,null,null,null,null,null,null,null,null,null,null,null,null,null,null,null,null,null,null,null,null,null,null,null,null,null,null,null,null,null,null,null,null,null,null,null,null,null,null,null,null,null,null,null,null,null,null,null,null,null,null,null,null,null,null,null,null,null,null,null,null,null,null,null,null,null,null,null,null,null,null,null,null,null,null,null,null,null,null,null,null,null,null,null,null,null,null,null,null,null,null,null,null,null,null,null,null,null,null,null,null,null,null,null,null,null,null,null,null,null,null,null,null,null,null,null,null,null,null,null,null,null,null,null,null,null,null,null,null,null,null,null,null,null,null,null,null,null,null,null,null,null,null,null,null,null,null,null,null,null,null,null,null,null,null,null,null,null,null,null,null,null,null,null,null,null,null,null,null,null,null,null,null,null,null,null,null,null,null,null,null,null,null,null,null,null,null,null,null,null,null,null,null,null,null,null,null,null,null,null,null,null,null,null,null,null,null,null,null,null,null,null,null,null,null,null,null,null,{"$f":"TODAY()","v":"2018-06-11"},{"$f":"AMK1/AMK1","v":1}]
[]
[1,{"$f":"A3+1","v":2},{"$f":"B3+1","v":3},4,5,6,7,8,9,10,11,12,13,14,15,16,17,18,19,20,21,22,23,24,25,26,27,28,29,30]
[null,null,null,null,null,null,null,null,{"$f":"+I8/12","v":42},8.3333333333333329E-2,42,18.083333333333332,0,64]
[null,null,null,null,null,null,null,null,null,null,null,null,null,null,null,null,"CAPITALIZAÇÃO / AGREGADO",null,null,null,null,null,"CÁLCULO FINAL DA JOIA E DO RESPECTIVO FATOR"]
["Matrícula","Situação","Dt.Nasc.","Dt.Adm.","Dt.Insc.","Sal. Partic.","SRB","SCRP","Idade","Sexo","Idade de Insc","TE","TP","IdadeApos","TSF","TVP","Aposentadoria Programada","Aposentadoria Invalidez","Auxílio Doença","Resgate","Contribuição Ativo","Contribuição Patrocinadora","JÓIA ATUARIAL INICIAL (JI)","TEMPO SEM CONTRIB.","CONTRIB MENSAL","JÓIA MÍNIMA (JM)","JÓIA","JÓIA (12) ","FATOR JOIA (F JOIA)","CONTRIB.EXTRAORDINÁRIA DE JOIA"]
["TOTAL",null,null,null,null,{"$f":"SUM(F8:F10000)","v":12000},{"$f":"SUM(G8:G65536)","v":12000},{"$f":"SUM(H8:H65536)","v":0},null,null,null,null,null,null,null,null,{"$f":"SUM(Q8:Q65536)","v":32115.931284914132},{"$f":"SUM(R8:R65536)","v":50183.104190576334},14394.0816345657,7243.2113980109298,{"$f":"SUM(U8:U65536)","v":19865.77},19865.77]
[{"$f":"'DADOS DE ENTRADA'!B8","v":0},"ATIVO",{"$f":"'DADOS DE ENTRADA'!B10","v":"1975-10-15"},{"$f":"'DADOS DE ENTRADA'!B11","v":"1999-09-30"},{"$f":"'DADOS DE ENTRADA'!B12","v":"2017-10-31"},{"$f":"'DADOS DE ENTRADA'!B13","v":12000},{"$f":"'DADOS DE ENTRADA'!B13","v":12000},{"$f":"'DADOS DE ENTRADA'!B16","v":0},{"$f":"DATEDIF(C8,$D$1,\"M\")","v":504},{"$f":"IF('DADOS DE ENTRADA'!B15=\"M\",1,2)","v":1},{"$f":"DATEDIF(C8,E8,\"M\")","v":504},{"$f":"DATEDIF(D8,$D$1,\"M\")","v":217},{"$f":"DATEDIF(E8,$D$1,\"M\")","v":0},{"$f":"I8+(MAX(MIN(IF(J8=1,'BASES TÉCNICAS'!$D$24-I8,'BASES TÉCNICAS'!$D$25-I8),IF(J8=1,'BASES TÉCNICAS'!$D$27-P8,'BASES TÉCNICAS'!$D$28-P8)),MIN(IF(J8=1,'BASES TÉCNICAS'!$D$25-I8,'BASES TÉCNICAS'!$D$26-I8),'BASES TÉCNICAS'!$D$24-I8),'BASES TÉCNICAS'!$D$30-M8,'BASES TÉCNICAS'!$D$31-L8,'BASES TÉCNICAS'!$D$29-P8,0))+'DADOS DE ENTRADA'!B14","v":768},{"$f":"MAX(N8-I8,0)","v":264},{"$f":"MAX(0,I8-'BASES TÉCNICAS'!$D$32)","v":288},{"$f":"EAP(G8,I8,N8,J8)*$AML$1","v":32115.931284914132},{"$f":"VAEINV(I8,N8,J8,G8)*$AML$1","v":50183.104190576334},{"$f":"VAEAXD(I8,N8,J8,G8)*$AML$1","v":14394.0816345657},{"$f":"ERP(F8,I8,N8,M8,K8,J8)*$AML$1","v":7243.2113980109298},{"$f":"ROUND(VACAT(F8,I8,N8,J8),2)*$AML$1","v":19865.77},{"$f":"+U8","v":19865.77},{"$f":"MAX(SUM(Q8:T8)-((SUM(U8:V8))*(1-'BASES TÉCNICAS'!$B$5)),0)","v":64204.788508067089},{"$f":"L8-M8","v":217},{"$f":"CONTRIB(F8,K8,N8,K8)*(1-'BASES TÉCNICAS'!$B$5)","v":193.8},{"$f":"2*X8*(Y8/(1-'BASES TÉCNICAS'!$B$5))","v":84109.200000000012},{"$f":"MAX(MAX(Z8,W8)-'DADOS DE ENTRADA'!B16,0)","v":84109.200000000012},{"$f":"AA8/IF(O8=0,0,(1-(1/($AD$1))^MAX(O8,60))/($AD$1-1))","v":492.53836888979049},{"$f":"IF(AB8/Y8<0.01,0,AB8/(Y8))","v":2.5414776516501054},{"$f":"Y8*AC8/(1-'BASES TÉCNICAS'!$B$5)","v":492.53836888979043}]

{"sheet":"Masculino","index":5,"n_rows":1385,"n_cols":40,"rows_kept":1385,"cut":false,"hidden":true,"merged":[[1,20,3,20],[1,21,2,22],[1,23,2,23],[1,24,2,24],[1,25,2,25]]}
["Idade","qx","qxi","Dx","lxaa","Dxaa","lxpi","Dxaapi","ix","vx","ax","cx","Peculio Ax","aix","cix","Peculio Aix","Hx masculino","Wx","pxai",null,null,2,{"$f":"V1+1","v":3},{"$f":"W1+1","v":4},5,6,7,8,9,10,11,12,13,14,15,16,17,18,19,20]
[0,{"$f":"W5","v":1.872E-3},{"$f":"Y5","v":7.2896009999999997E-3},{"$f":"AC5","v":10000000},{"$f":"AF5","v":10000000},{"$f":"AG5","v":100000000000},{"$f":"E2","v":10000000},{"$f":"F2","v":100000000000},{"$f":"X5","v":0},{"$f":"AN5","v":0},{"$f":"AE5","v":22.368223333333333},{"$f":"0","v":0},{"$f":"AL5","v":0},{"$f":"AI5","v":19.429033333333333},{"$f":"0","v":0},{"$f":"AK5","v":0},{"$f":"0","v":0},{"$f":"Z5","v":0},{"$f":"AH5","v":0},null,"IDADE (em meses)","AT-2000 (suavizada em 10%) D10%",null,"LIGHT MÉDIA D40%","MI - 85 Female D20%","Rotatividade"]
[1,1.7771250000000001E-3,7.2901340000000002E-3,9963613,9998405,99635800000,9998405,99635800000,0,0,22.368255667731507,{"$f":"0","v":0},0,19.426999768122645,{"$f":"0","v":0},0,{"$f":"0","v":0},0,0]
[2,1.6822499999999999E-3,7.2906669999999998E-3,9927227,9996810,99271600000,9996810,99271600000,0,0,22.368275858068589,{"$f":"0","v":0},0,19.424939426788683,{"$f":"0","v":0},0,{"$f":"0","v":0},0,0,null,null,"px","qx","ix","qxi","wx","vx","lx","Dx","Nx","ax(12)","lxaa","Dxaa","pxai","axi(12)",null,"AxI","Ax",null,"vx (morbidez)"]
[3,1.587375E-3,7.2912009999999998E-3,9890840,9995216,98907400000,9995216,98907400000,0,0,22.368308623601905,{"$f":"0","v":0},0,19.422874246686757,{"$f":"0","v":0},0,{"$f":"0","v":0},0,0,null,0,0.99812800000000002,1.872E-3,0,7.2896009999999997E-3,0,1,10000000,10000000,229098900,22.368223333333333,10000000,100000000000,0,19.429033333333333,null,0,0,null,0]
[4,1.4924999999999999E-3,7.2917340000000002E-3,9854454,9993621,98543200000,9993621,98543200000,0,0,22.368339306266993,{"$f":"0","v":0},0,19.420789942975698,{"$f":"0","v":0},0,{"$f":"0","v":0},0,0,null,1,0.99822290000000002,1.7771250000000001E-3,0,7.2901340000000002E-3,0,0.99644200373585612,9998440,9963613,228265600,22.368255667731507,9998405,99635800000,0,19.426999768122645,null,0,0,null,0]
[5,1.397625E-3,7.2922669999999998E-3,9818067,9992026,98179000000,9992026,98179000000,0,0,22.368362364506169,{"$f":"0","v":0},0,19.418678107592633,{"$f":"0","v":0},0,{"$f":"0","v":0},0,0,null,2,0.99831780000000003,1.6822499999999999E-3,0,7.2906669999999998E-3,0,0.99289666680912791,9996880,9927227,227432200,22.368275858068589,9996810,99271600000,0,19.424939426788683,null,0,0,null,0]
[6,1.3027500000000001E-3,7.2928000000000003E-3,9781680,9990431,97814810000,9990431,97814810000,0,0,22.368395817487382,{"$f":"0","v":0},0,19.416560942431826,{"$f":"0","v":0},0,{"$f":"0","v":0},0,0,null,3,0.99841259999999998,1.587375E-3,0,7.2912009999999998E-3,0,0.98936394417794016,9995320,9890840,226598900,22.368308623601905,9995216,98907400000,0,19.422874246686757,null,0,0,null,0]
[7,1.207875E-3,7.2933329999999999E-3,9745294,9988836,97450610000,9988836,97450610000,0,0,22.368427169394103,{"$f":"0","v":0},0,19.414423978184693,{"$f":"0","v":0},0,{"$f":"0","v":0},0,0,null,4,0.99850749999999999,1.4924999999999999E-3,0,7.2917340000000002E-3,0,0.98584379096067642,9993760,9854454,225765600,22.368339306266993,9993621,98543200000,0,19.420789942975698,null,0,0,null,0]
[8,1.1130000000000001E-3,7.2938660000000004E-3,9708907,9987241,97086410000,9987241,97086410000,0,0,22.368450816176665,{"$f":"0","v":0},0,19.412258691462529,{"$f":"0","v":0},0,{"$f":"0","v":0},0,0,null,5,0.9986024,1.397625E-3,0,7.2922669999999998E-3,0,0.98233616243540889,9992200,9818067,224932200,22.368362364506169,9992026,98179000000,0,19.418678107592633,null,0,0,null,0]
[9,1.0181249999999999E-3,7.2944000000000004E-3,9672521,9985646,96722210000,9985646,96722210000,0,0,22.368482610858809,{"$f":"0","v":0},0,19.41008548388157,{"$f":"0","v":0},0,{"$f":"0","v":0},0,0,null,6,0.99869719999999995,1.3027500000000001E-3,0,7.2928000000000003E-3,0,0.97884101403933033,9990640,9781680,224098900,22.368395817487382,9990431,97814810000,0,19.416560942431826,null,0,0,null,0]
[10,9.2325000000000003E-4,7.294933E-3,9636134,9984052,96358010000,9984052,96358010000,0,0,22.368517023182395,{"$f":"0","v":0},0,19.407893830193608,{"$f":"0","v":0},0,{"$f":"0","v":0},0,0,null,7,0.99879209999999996,1.207875E-3,0,7.2933329999999999E-3,0,0.97535830136818757,9989080,9745294,223265600,22.368427169394103,9988836,97450610000,0,19.414423978184693,null,0,0,null,0]
[11,8.2837500000000001E-4,7.2954659999999996E-3,9599748,9982457,95993810000,9982457,95993810000,0,0,22.368538892895938,{"$f":"0","v":0},0,19.405675113966311,{"$f":"0","v":0},0,{"$f":"0","v":0},0,0,null,8,0.99888699999999997,1.1130000000000001E-3,0,7.2938660000000004E-3,0,0.97188798017571787,9987520,9708907,222432200,22.368450816176665,9987241,97086410000,0,19.412258691462529,null,0,0,null,0]
[12,7.3349999999999999E-4,7.2960000000000004E-3,9563361,9980862,95629610000,9980862,95629610000,0,0,22.368573781226075,{"$f":"0","v":0},0,19.403445820352928,{"$f":"0","v":0},0,{"$f":"0","v":0},0,0,null,9,0.99898189999999998,1.0181249999999999E-3,0,7.2944000000000004E-3,0,0.96843000637308629,9985960,9672521,221598900,22.368482610858809,9985646,96722210000,0,19.41008548388157,null,0,0,null,0]
[13,7.06425E-4,7.296599E-3,9529432,9980217,95290020000,9980217,95290020000,0,0,22.366519256691618,{"$f":"0","v":0},0,19.401317004874521,{"$f":"0","v":0},0,{"$f":"0","v":0},0,0,null,10,0.99907670000000004,9.2325000000000003E-4,0,7.294933E-3,0,0.96498433602832601,9984400,9636134,220765600,22.368517023182395,9984052,96358010000,0,19.407893830193608,null,0,0,null,0]
[14,6.7935000000000001E-4,7.2972000000000002E-3,9495504,9979572,94950420000,9979572,94950420000,0,0,22.364437106234696,{"$f":"0","v":0},0,19.399170711170107,{"$f":"0","v":0},0,{"$f":"0","v":0},0,0,null,11,0.99917160000000005,8.2837500000000001E-4,0,7.2954659999999996E-3,0,0.96155092536577991,9982840,9599748,219932200,22.368538892895938,9982457,95993810000,0,19.405675113966311,null,0,0,null,0]
[15,6.5227500000000001E-4,7.2978000000000001E-3,9461576,9978927,94610830000,9978927,94610830000,0,0,22.362350592191689,{"$f":"0","v":0},0,19.397006723100034,{"$f":"0","v":0},0,{"$f":"0","v":0},0,0,null,12,0.99926649999999995,7.3349999999999999E-4,0,7.2960000000000004E-3,0,0.95812973076554442,9981280,9563361,219098900,22.368573781226075,9980862,95629610000,0,19.403445820352928,null,0,0,null,0]
[16,6.2520000000000002E-4,7.2984E-3,9427647,9978282,94271240000,9978282,94271240000,0,0,22.360240882481069,{"$f":"0","v":0},0,19.394814133235776,{"$f":"0","v":0},0,{"$f":"0","v":0},0,0,null,13,0.9992936,7.06425E-4,0,7.296599E-3,0,0.95472070876291548,9980670,9529432,218302000,22.366519256691618,9980217,95290020000,0,19.401317004874521,null,0,0,null,0]
[17,5.9812500000000002E-4,7.2989989999999996E-3,9393718,9977637,93931650000,9977637,93931650000,0,0,22.358126578137998,{"$f":"0","v":0},0,19.392614049205179,{"$f":"0","v":0},0,{"$f":"0","v":0},0,0,null,14,0.9993206,6.7935000000000001E-4,0,7.2972000000000002E-3,0,0.95132381604783622,9980060,9495504,217505000,22.364437106234696,9979572,94950420000,0,19.399170711170107,null,0,0,null,0]
[18,5.7105000000000003E-4,7.2995999999999998E-3,9359790,9976992,93592060000,9976992,93592060000,0,0,22.355983814807811,{"$f":"0","v":0},0,19.390397748312225,{"$f":"0","v":0},0,{"$f":"0","v":0},0,0,null,15,0.99934769999999995,6.5227500000000001E-4,0,7.2978000000000001E-3,0,0.94793900946434695,9979450,9461576,216708100,22.362350592191689,9978927,94610830000,0,19.397006723100034,null,0,0,null,0]
[19,5.4397500000000004E-4,7.3001999999999997E-3,9325862,9976348,93252480000,9976348,93252480000,0,0,22.353836183364784,{"$f":"0","v":0},0,19.388160712278474,{"$f":"0","v":0},0,{"$f":"0","v":0},0,0,null,16,0.99937480000000001,6.2520000000000002E-4,0,7.2984E-3,0,0.94456624601003658,9978840,9427647,215911100,22.360240882481069,9978282,94271240000,0,19.394814133235776,null,0,0,null,0]
[20,5.1690000000000004E-4,7.3007999999999997E-3,9291933,9975703,92912890000,9975703,92912890000,0,0,22.351664570224514,{"$f":"0","v":0},0,19.385904845678755,{"$f":"0","v":0},0,{"$f":"0","v":0},0,0,null,17,0.99940189999999995,5.9812500000000002E-4,0,7.2989989999999996E-3,0,0.94120548283549643,9978230,9393718,215114200,22.358126578137998,9977637,93931650000,0,19.392614049205179,null,0,0,null,0]
[21,4.8982500000000005E-4,7.3013990000000001E-3,9258004,9975058,92573290000,9975058,92573290000,0,0,22.349487841367676,{"$f":"0","v":0},0,19.383618996169332,{"$f":"0","v":0},0,{"$f":"0","v":0},0,0,null,18,0.99942889999999995,5.7105000000000003E-4,0,7.2995999999999998E-3,0,0.93785667724377608,9977620,9359790,214317200,22.355983814807811,9976992,93592060000,0,19.390397748312225,null,0,0,null,0]
[22,4.6275E-4,7.3020000000000003E-3,9224076,9974413,92233700000,9974413,92233700000,0,0,22.347281776516152,{"$f":"0","v":0},0,19.381324701755585,{"$f":"0","v":0},0,{"$f":"0","v":0},0,0,null,19,0.99945600000000001,5.4397500000000004E-4,0,7.3001999999999997E-3,0,0.93451978668984037,9977009,9325862,213520300,22.353836183364784,9976348,93252480000,0,19.388160712278474,null,0,0,null,0]
[23,4.3567500000000001E-4,7.3026000000000002E-3,9190148,9973768,91894110000,9973768,91894110000,0,0,22.345070304272213,{"$f":"0","v":0},0,19.379010847827946,{"$f":"0","v":0},0,{"$f":"0","v":0},0,0,null,20,0.99948309999999996,5.1690000000000004E-4,0,7.3007999999999997E-3,0,0.93119476878002938,9976399,9291933,212723300,22.351664570224514,9975703,92912890000,0,19.385904845678755,null,0,0,null,0]
[24,4.0860000000000001E-4,7.3032000000000001E-3,9156219,9973123,91554520000,9973123,91554520000,0,0,22.342834020789585,{"$f":"0","v":0},0,19.376677183190008,{"$f":"0","v":0},0,{"$f":"0","v":0},0,0,null,21,0.99951020000000002,4.8982500000000005E-4,0,7.3013990000000001E-3,0,0.92788158127151965,9975789,9258004,211926400,22.349487841367676,9975058,92573290000,0,19.383618996169332,null,0,0,null,0]
[25,4.02075E-4,7.3038E-3,9123972,9972749,91231780000,9972749,91231780000,0,0,22.34008921772228,{"$f":"0","v":0},0,19.374447596849752,{"$f":"0","v":0},0,{"$f":"0","v":0},0,0,null,22,0.99953720000000001,4.6275E-4,0,7.3020000000000003E-3,0,0.92458018207178772,9975179,9224076,211129400,22.347281776516152,9974413,92233700000,0,19.381324701755585,null,0,0,null,0]
[26,3.9554999999999999E-4,7.3044E-3,9091726,9972374,90909030000,9972374,90909030000,0,0,22.337322427373341,{"$f":"0","v":0},0,19.37219970227833,{"$f":"0","v":0},0,{"$f":"0","v":0},0,0,null,23,0.99956429999999996,4.3567500000000001E-4,0,7.3026000000000002E-3,0,0.92129052923807486,9974569,9190148,210332500,22.345070304272213,9973768,91894110000,0,19.379010847827946,null,0,0,null,0]
[27,3.8902499999999998E-4,7.3049999999999999E-3,9059480,9972000,90586290000,9972000,90586290000,0,0,22.334535940988516,{"$f":"0","v":0},0,19.369933273039202,{"$f":"0","v":0},0,{"$f":"0","v":0},0,0,null,24,0.99959140000000002,4.0860000000000001E-4,0,7.3032000000000001E-3,0,0.91801258097685468,9973959,9156219,209535500,22.342834020789585,9973123,91554520000,0,19.376677183190008,null,0,0,null,0]
[28,3.8249999999999997E-4,7.3055999999999998E-3,9027233,9971626,90263540000,9971626,90263540000,0,0,22.331732081321778,{"$f":"0","v":0},0,19.367648078946271,{"$f":"0","v":0},0,{"$f":"0","v":0},0,0,null,25,0.99959790000000004,4.02075E-4,0,7.3038E-3,0,0.9147462956433019,9973619,9123972,208772500,22.34008921772228,9972749,91231780000,0,19.374447596849752,null,0,0,null,0]
[29,3.7597500000000002E-4,7.3061999999999997E-3,8994986,9971251,89940800000,9971251,89940800000,0,0,22.328897000692013,{"$f":"0","v":0},0,19.365343885985961,{"$f":"0","v":0},0,{"$f":"0","v":0},0,0,null,26,0.99960450000000001,3.9554999999999999E-4,0,7.3044E-3,0,0.91149163174076364,9973280,9091726,208009500,22.337322427373341,9972374,90909030000,0,19.37219970227833,null,0,0,null,0]
[30,3.6945000000000001E-4,7.3067999999999996E-3,8962740,9970877,89618060000,9970877,89618060000,0,0,22.326050125296504,{"$f":"0","v":0},0,19.363020456237315,{"$f":"0","v":0},0,{"$f":"0","v":0},0,0,null,27,0.99961100000000003,3.8902499999999998E-4,0,7.3049999999999999E-3,0,0.90824854792023157,9972940,9059480,207246500,22.334535940988516,9972000,90586290000,0,19.369933273039202,null,0,0,null,0]
[31,3.62925E-4,7.3074000000000004E-3,8930494,9970503,89295310000,9970503,89295310000,0,0,22.323182691050835,{"$f":"0","v":0},0,19.360677547790115,{"$f":"0","v":0},0,{"$f":"0","v":0},0,0,null,28,0.99961750000000005,3.8249999999999997E-4,0,7.3055999999999998E-3,0,0.90501700297981735,9972601,9027233,206483500,22.331732081321778,9971626,90263540000,0,19.367648078946271,null,0,0,null,0]
[32,3.5639999999999999E-4,7.3080000000000003E-3,8898247,9970128,88972570000,9970128,88972570000,0,0,22.320297043713591,{"$f":"0","v":0},0,19.358314914660912,{"$f":"0","v":0},0,{"$f":"0","v":0},0,0,null,29,0.99962399999999996,3.7597500000000002E-4,0,7.3061999999999997E-3,0,0.90179695586422848,9972261,8994986,205720400,22.328897000692013,9971251,89940800000,0,19.365343885985961,null,0,0,null,0]
[33,3.4987499999999998E-4,7.3086000000000002E-3,8866000,9969754,88649830000,9969754,88649830000,0,0,22.317390405293629,{"$f":"0","v":0},0,19.355932306706929,{"$f":"0","v":0},0,{"$f":"0","v":0},0,0,null,30,0.99963060000000004,3.6945000000000001E-4,0,7.3067999999999996E-3,0,0.89858836566424727,9971922,8962740,204957400,22.326050125296504,9970877,89618060000,0,19.363020456237315,null,0,0,null,0]
[34,3.4335000000000002E-4,7.3092000000000001E-3,8833754,9969380,88327090000,9969380,88327090000,0,0,22.31444863833277,{"$f":"0","v":0},0,19.353540992523961,{"$f":"0","v":0},0,{"$f":"0","v":0},0,0,null,31,0.99963709999999995,3.62925E-4,0,7.3074000000000004E-3,0,0.89539119161621072,9971582,8930494,204194400,22.323182691050835,9970503,89295310000,0,19.360677547790115,null,0,0,null,0]
[35,3.3682500000000002E-4,7.3098E-3,8801508,9969005,88004340000,9969005,88004340000,0,0,22.311496677614791,{"$f":"0","v":0},0,19.351117716536873,{"$f":"0","v":0},0,{"$f":"0","v":0},0,0,null,32,0.99964359999999997,3.5639999999999999E-4,0,7.3080000000000003E-3,0,0.89220539310149294,9971242,8898247,203431400,22.320297043713591,9970128,88972570000,0,19.358314914660912,null,0,0,null,0]
[36,3.3030000000000001E-4,7.3103999999999999E-3,8769261,9968631,87681600000,9968631,87681600000,0,0,22.308525612933632,{"$f":"0","v":0},0,19.348673689867216,{"$f":"0","v":0},0,{"$f":"0","v":0},0,0,null,33,0.99965009999999999,3.4987499999999998E-4,0,7.3086000000000002E-3,0,0.88903092964598884,9970903,8866000,202668400,22.317390405293629,9969754,88649830000,0,19.355932306706929,null,0,0,null,0]
[37,3.2685E-4,7.3110670000000001E-3,8738432,9968322,87373050000,9968322,87373050000,0,0,22.305510035057395,{"$f":"0","v":0},0,19.346337153358075,{"$f":"0","v":0},0,{"$f":"0","v":0},0,0,null,34,0.99965669999999995,3.4335000000000002E-4,0,7.3092000000000001E-3,0,0.88586776091960007,9970563,8833754,201905300,22.31444863833277,9969380,88327090000,0,19.353540992523961,null,0,0,null,0]
[38,3.234E-4,7.3117329999999999E-3,8707603,9968013,87064510000,9968013,87064510000,0,0,22.302484588276858,{"$f":"0","v":0},0,19.343990814533534,{"$f":"0","v":0},0,{"$f":"0","v":0},0,0,null,35,0.99966319999999997,3.3682500000000002E-4,0,7.3098E-3,0,0.88271584673572256,9970224,8801508,201142300,22.311496677614791,9969005,88004340000,0,19.351117716536873,null,0,0,null,0]
[39,3.1995E-4,7.3124000000000001E-3,8676774,9967704,86755970000,9967704,86755970000,0,0,22.299426117356518,{"$f":"0","v":0},0,19.34161570084563,{"$f":"0","v":0},0,{"$f":"0","v":0},0,0,null,36,0.99966969999999999,3.3030000000000001E-4,0,7.3103999999999999E-3,0,0.87957514705073636,9969884,8769261,200379300,22.308525612933632,9968631,87681600000,0,19.348673689867216,null,0,0,null,0]
[40,3.165E-4,7.3130670000000004E-3,8645946,9967394,86447420000,9967394,86447420000,0,0,22.296343193677128,{"$f":"0","v":0},0,19.33923038478693,{"$f":"0","v":0},0,{"$f":"0","v":0},0,0,null,37,0.99967309999999998,3.2685E-4,0,7.3110670000000001E-3,0,0.87644562196349596,9969610,8738432,199648500,22.305510035057395,9968322,87373050000,0,19.346337153358075,null,0,0,null,0]
[41,3.1304999999999999E-4,7.3137330000000002E-3,8615117,9967085,86138880000,9967085,86138880000,0,0,22.293240856933998,{"$f":"0","v":0},0,19.336815729936838,{"$f":"0","v":0},0,{"$f":"0","v":0},0,0,null,38,0.99967660000000003,3.234E-4,0,7.3117329999999999E-3,0,0.87332723171482474,9969335,8707603,198917800,22.302484588276858,9968013,87064510000,0,19.343990814533534,null,0,0,null,0]
[42,3.0959999999999999E-4,7.3144000000000004E-3,8584288,9966776,85830340000,9966776,85830340000,0,0,22.290127886358579,{"$f":"0","v":0},0,19.334392825730003,{"$f":"0","v":0},0,{"$f":"0","v":0},0,0,null,39,0.99968000000000001,3.1995E-4,0,7.3124000000000001E-3,0,0.87021993668700826,9969061,8676774,198187000,22.299426117356518,9967704,86755970000,0,19.34161570084563,null,0,0,null,0]
[43,3.0614999999999999E-4,7.3150669999999998E-3,8553459,9966467,85521790000,9966467,85521790000,0,0,22.286980784615906,{"$f":"0","v":0},0,19.33193526555138,{"$f":"0","v":0},0,{"$f":"0","v":0},0,0,null,40,0.99968349999999995,3.165E-4,0,7.3130670000000004E-3,0,0.86712369740329232,9968786,8645946,197456200,22.296343193677128,9967394,86447420000,0,19.33923038478693,null,0,0,null,0]
[44,3.0269999999999999E-4,7.3157329999999996E-3,8522630,9966158,85213250000,9966158,85213250000,0,0,22.28381091478413,{"$f":"0","v":0},0,19.329469025875373,{"$f":"0","v":0},0,{"$f":"0","v":0},0,0,null,41,0.99968699999999999,3.1304999999999999E-4,0,7.3137330000000002E-3,0,0.86403847452738081,9968512,8615117,196725400,22.293240856933998,9967085,86138880000,0,19.336815729936838,null,0,0,null,0]
[45,2.9924999999999998E-4,7.3163999999999998E-3,8491802,9965848,84904710000,9965848,84904710000,0,0,22.280627117385293,{"$f":"0","v":0},0,19.326972265806301,{"$f":"0","v":0},0,{"$f":"0","v":0},0,0,null,42,0.99969039999999998,3.0959999999999999E-4,0,7.3144000000000004E-3,0,0.86096422886293578,9968238,8584288,195994700,22.290127886358579,9966776,85830340000,0,19.334392825730003,null,0,0,null,0]
[46,2.9579999999999998E-4,7.317067E-3,8460973,9965539,84596160000,9965539,84596160000,0,0,22.277410997332495,{"$f":"0","v":0},0,19.324466419066503,{"$f":"0","v":0},0,{"$f":"0","v":0},0,0,null,43,0.99969390000000002,3.0614999999999999E-4,0,7.3150669999999998E-3,0,0.85790092135307994,9967963,8553459,195263900,22.286980784615906,9966467,85521790000,0,19.33193526555138,null,0,0,null,0]
[47,2.9234999999999998E-4,7.3177329999999999E-3,8430144,9965230,84287620000,9965230,84287620000,0,0,22.274171354605567,{"$f":"0","v":0},0,19.3219246191676,{"$f":"0","v":0},0,{"$f":"0","v":0},0,0,null,44,0.99969730000000001,3.0269999999999999E-4,0,7.3157329999999996E-3,0,0.85484851307990017,9967689,8522630,194533100,22.28381091478413,9966158,85213250000,0,19.329469025875373,null,0,0,null,0]
[48,2.8889999999999997E-4,7.3184000000000001E-3,8399315,9964921,83979080000,9964921,83979080000,0,0,22.270907930190337,{"$f":"0","v":0},0,19.31937569644893,{"$f":"0","v":0},0,{"$f":"0","v":0},0,0,null,45,0.9997007,2.9924999999999998E-4,0,7.3163999999999998E-3,0,0.85180696526395294,9967414,8491802,193802400,22.280627117385293,9965848,84904710000,0,19.326972265806301,null,0,0,null,0]
[49,2.8665E-4,7.3191330000000002E-3,8369815,9964646,83683840000,9964646,83683840000,0,0,22.26769052940039,{"$f":"0","v":0},0,19.31692529658967,{"$f":"0","v":0},0,{"$f":"0","v":0},0,0,null,46,0.99970420000000004,2.9579999999999998E-4,0,7.317067E-3,0,0.8487762392637721,9967140,8460973,193071600,22.277410997332495,9965539,84596160000,0,19.324466419066503,null,0,0,null,0]
[50,2.8439999999999997E-4,7.3198669999999999E-3,8340314,9964372,83388600000,9964372,83388600000,0,0,22.264441112968488,{"$f":"0","v":0},0,19.314467088460127,{"$f":"0","v":0},0,{"$f":"0","v":0},0,0,null,47,0.99970760000000003,2.9234999999999998E-4,0,7.3177329999999999E-3,0,0.84575629657537754,9966865,8430144,192340800,22.274171354605567,9965230,84287620000,0,19.3219246191676,null,0,0,null,0]
[51,2.8215E-4,7.3206E-3,8310813,9964097,83093360000,9964097,83093360000,0,0,22.26118066006298,{"$f":"0","v":0},0,19.311988605440934,{"$f":"0","v":0},0,{"$f":"0","v":0},0,0,null,48,0.99971109999999996,2.8889999999999997E-4,0,7.3184000000000001E-3,0,0.84274709883178622,9966591,8399315,191610000,22.270907930190337,9964921,83979080000,0,19.31937569644893,null,0,0,null,0]
[52,2.7989999999999997E-4,7.3213330000000002E-3,8281313,9963822,82798130000,9963822,82798130000,0,0,22.257894224221044,{"$f":"0","v":0},0,19.309489595657531,{"$f":"0","v":0},0,{"$f":"0","v":0},0,0,null,49,0.99971339999999997,2.8665E-4,0,7.3191330000000002E-3,0,0.83974860780252458,9966351,8369815,190910100,22.26769052940039,9964646,83683840000,0,19.31692529658967,null,0,0,null,0]
[53,2.7765E-4,7.3220660000000003E-3,8251812,9963548,82502890000,9963548,82502890000,0,0,22.254574934571945,{"$f":"0","v":0},0,19.30696980304597,{"$f":"0","v":0},0,{"$f":"0","v":0},0,0,null,50,0.99971560000000004,2.8439999999999997E-4,0,7.3198669999999999E-3,0,0.83676078539314325,9966111,8340314,190210100,22.264441112968488,9964372,83388600000,0,19.314467088460127,null,0,0,null,0]
[54,2.7540000000000003E-4,7.3228E-3,8222312,9963273,82207650000,9963273,82207650000,0,0,22.251241216176989,{"$f":"0","v":0},0,19.304428967265437,{"$f":"0","v":0},0,{"$f":"0","v":0},0,0,null,51,0.99971779999999999,2.8215E-4,0,7.3206E-3,0,0.83378359364473231,9965871,8310813,189510200,22.26118066006298,9964097,83093360000,0,19.311988605440934,null,0,0,null,0]
[55,2.7315E-4,7.3235330000000001E-3,8192811,9962998,81912410000,9962998,81912410000,0,0,22.247874066056202,{"$f":"0","v":0},0,19.301866823608606,{"$f":"0","v":0},0,{"$f":"0","v":0},0,0,null,52,0.9997201,2.7989999999999997E-4,0,7.3213330000000002E-3,0,0.83081699473343995,9965631,8281313,188810300,22.257894224221044,9963822,82798130000,0,19.309489595657531,null,0,0,null,0]
[56,2.7090000000000003E-4,7.3242669999999998E-3,8163311,9962724,81617180000,9962724,81617180000,0,0,22.244492037809984,{"$f":"0","v":0},0,19.29928310290968,{"$f":"0","v":0},0,{"$f":"0","v":0},0,0,null,53,0.99972240000000001,2.7765E-4,0,7.3220660000000003E-3,0,0.82786095096999102,9965391,8251812,188110300,22.254574934571945,9963548,82502890000,0,19.30696980304597,null,0,0,null,0]
[57,2.6865E-4,7.3249999999999999E-3,8133810,9962449,81321940000,9962449,81321940000,0,0,22.241088278432862,{"$f":"0","v":0},0,19.296677531450161,{"$f":"0","v":0},0,{"$f":"0","v":0},0,0,null,54,0.99972459999999996,2.7540000000000003E-4,0,7.3228E-3,0,0.82491542479920932,9965152,8222312,187410400,22.251241216176989,9963273,82207650000,0,19.304428967265437,null,0,0,null,0]
[58,2.6640000000000002E-4,7.3257330000000001E-3,8104309,9962174,81026700000,9962174,81026700000,0,0,22.237647399467779,{"$f":"0","v":0},0,19.29404983086215,{"$f":"0","v":0},0,{"$f":"0","v":0},0,0,null,55,0.99972680000000003,2.7315E-4,0,7.3235330000000001E-3,0,0.821980378799539,9964912,8192811,186710400,22.247874066056202,9962998,81912410000,0,19.301866823608606,null,0,0,null,0]
[59,2.6415E-4,7.3264660000000002E-3,8074809,9961900,80731470000,9961900,80731470000,0,0,22.234190941853857,{"$f":"0","v":0},0,19.291399718029236,{"$f":"0","v":0},0,{"$f":"0","v":0},0,0,null,56,0.99972910000000004,2.7090000000000003E-4,0,7.3242669999999998E-3,0,0.81905577568257071,9964672,8163311,186010500,22.244492037809984,9962724,81617180000,0,19.29928310290968,null,0,0,null,0]
[60,2.6190000000000002E-4,7.3271999999999999E-3,8045308,9961625,80436230000,9961625,80436230000,0,0,22.230699537336957,{"$f":"0","v":0},0,19.288726904984795,{"$f":"0","v":0},0,{"$f":"0","v":0},0,0,null,57,0.99973140000000005,2.6865E-4,0,7.3249999999999999E-3,0,0.81614157829256662,9964432,8133810,185310600,22.241088278432862,9962449,81321940000,0,19.296677531450161,null,0,0,null,0]
[61,2.60325E-4,7.3280000000000003E-3,8017068,9961373,80153620000,9961373,80153620000,0,0,22.227293257335475,{"$f":"0","v":0},0,19.286172968683172,{"$f":"0","v":0},0,{"$f":"0","v":0},0,0,null,58,0.9997336,2.6640000000000002E-4,0,7.3257330000000001E-3,0,0.81323774960598927,9964192,8104309,184610600,22.237647399467779,9962174,81026700000,0,19.29404983086215,null,0,0,null,0]
[62,2.5874999999999997E-4,7.3287999999999999E-3,7988828,9961121,79871020000,9961121,79871020000,0,0,22.223862895366711,{"$f":"0","v":0},0,19.283595482851879,{"$f":"0","v":0},0,{"$f":"0","v":0},0,0,null,59,0.99973579999999995,2.6415E-4,0,7.3264660000000002E-3,0,0.81034425273103039,9963952,8074809,183910700,22.234190941853857,9961900,80731470000,0,19.291399718029236,null,0,0,null,0]
[63,2.57175E-4,7.3296000000000004E-3,7960589,9960868,79588410000,9960868,79588410000,0,0,22.220392773909904,{"$f":"0","v":0},0,19.280999313294004,{"$f":"0","v":0},0,{"$f":"0","v":0},0,0,null,60,0.99973809999999996,2.6190000000000002E-4,0,7.3271999999999999E-3,0,0.80746105090714293,9963712,8045308,183210700,22.230699537336957,9961625,80436230000,0,19.288726904984795,null,0,0,null,0]
[64,{"$f":"W69","v":2.5559999999999998E-4},{"$f":"Y69","v":7.3303999999999999E-3},{"$f":"AC69","v":7932349},{"$f":"AF69","v":9960616},{"$f":"AG69","v":79305800000},{"$f":"E66","v":9960616},{"$f":"F66","v":79305800000},{"$f":"X69","v":0},{"$f":"AN69","v":0},{"$f":"AE69","v":22.216913421022362},{"$f":"0","v":0},{"$f":"AL69","v":0},{"$f":"AI69","v":19.278394698073239},{"$f":"0","v":0},{"$f":"AK69","v":0},{"$f":"0","v":0},{"$f":"Z69","v":0},{"$f":"AH69","v":0},null,61,0.99973959999999995,2.60325E-4,0,7.3280000000000003E-3,0,0.80458810750457366,9963494,8017068,182540300,22.227293257335475,9961373,80153620000,0,19.286172968683172,null,0,0,null,0]
[65,2.5402500000000001E-4,7.3312000000000004E-3,7904109,9960364,79023190000,9960364,79023190000,0,0,22.213396554247922,{"$f":"0","v":0},0,19.275755303860457,{"$f":"0","v":0},0,{"$f":"0","v":0},0,0,null,62,0.99974130000000005,2.5874999999999997E-4,0,7.3287999999999999E-3,0,0.80172538602389787,9963277,7988828,181869900,22.223862895366711,9961121,79871020000,0,19.283595482851879,null,0,0,null,0]
[66,2.5244999999999998E-4,7.332E-3,7875869,9960112,78740590000,9960112,78740590000,0,0,22.209867164076329,{"$f":"0","v":0},0,19.273093863654498,{"$f":"0","v":0},0,{"$f":"0","v":0},0,0,null,63,0.99974280000000004,2.57175E-4,0,7.3296000000000004E-3,0,0.79887285009555553,9963060,7960589,181199400,22.220392773909904,9960868,79588410000,0,19.280999313294004,null,0,0,null,0]
[67,2.5087500000000001E-4,7.3328000000000004E-3,7847629,9959860,78457970000,9959860,78457970000,0,0,22.2062996299052,{"$f":"0","v":0},0,19.270423324055393,{"$f":"0","v":0},0,{"$f":"0","v":0},0,0,null,64,0.99974439999999998,2.5559999999999998E-4,0,7.3303999999999999E-3,0,0.79603046347938955,9962842,7932349,180529000,22.216913421022362,9960616,79305800000,0,19.278394698073239,null,0,0,null,0]
[68,2.4929999999999999E-4,7.3336E-3,7819389,9959608,78175360000,9959608,78175360000,0,0,22.202719115905346,{"$f":"0","v":0},0,19.267714380145343,{"$f":"0","v":0},0,{"$f":"0","v":0},0,0,null,65,0.99974600000000002,2.5402500000000001E-4,0,7.3312000000000004E-3,0,0.79319819006418513,9962624,7904109,179858500,22.213396554247922,9960364,79023190000,0,19.275755303860457,null,0,0,null,0]
[69,2.4772500000000002E-4,7.3343999999999996E-3,7791149,9959356,77892760000,9959356,77892760000,0,0,22.199112645858353,{"$f":"0","v":0},0,19.264985164335851,{"$f":"0","v":0},0,{"$f":"0","v":0},0,0,null,66,0.99974759999999996,2.5244999999999998E-4,0,7.332E-3,0,0.79037599386721114,9962407,7875869,179188100,22.209867164076329,9960112,78740590000,0,19.273093863654498,null,0,0,null,0]
[70,2.4614999999999999E-4,7.3352000000000001E-3,7762909,9959103,77610150000,9959103,77610150000,0,0,22.195467054725661,{"$f":"0","v":0},0,19.26224615746624,{"$f":"0","v":0},0,{"$f":"0","v":0},0,0,null,67,0.99974909999999995,2.5087500000000001E-4,0,7.3328000000000004E-3,0,0.78756383903376259,9962190,7847629,178517600,22.2062996299052,9959860,78457970000,0,19.270423324055393,null,0,0,null,0]
[71,2.4457500000000002E-4,7.3359999999999996E-3,7734670,9958851,77327540000,9958851,77327540000,0,0,22.191804832440599,{"$f":"0","v":0},0,19.259470335061202,{"$f":"0","v":0},0,{"$f":"0","v":0},0,0,null,68,0.99975069999999999,2.4929999999999999E-4,0,7.3336E-3,0,0.78476168983670569,9961972,7819389,177847200,22.202719115905346,9959608,78175360000,0,19.267714380145343,null,0,0,null,0]
[72,2.43E-4,7.3368000000000001E-3,7706430,9958599,77044930000,9958599,77044930000,0,0,22.188105744164286,{"$f":"0","v":0},0,19.256670731210406,{"$f":"0","v":0},0,{"$f":"0","v":0},0,0,null,69,0.99975230000000004,2.4772500000000002E-4,0,7.3343999999999996E-3,0,0.78196951067602338,9961754,7791149,177176800,22.199112645858353,9959356,77892760000,0,19.264985164335851,null,0,0,null,0]
[73,2.4202499999999999E-4,7.3375999999999997E-3,7679391,9958363,76774360000,9958363,76774360000,0,0,22.184510448159234,{"$f":"0","v":0},0,19.25401194935338,{"$f":"0","v":0},0,{"$f":"0","v":0},0,0,null,70,0.99975380000000003,2.4614999999999999E-4,0,7.3352000000000001E-3,0,0.77918726607836375,9961537,7762909,176506300,22.195467054725661,9959103,77610150000,0,19.26224615746624,null,0,0,null,0]
[74,2.4105E-4,7.3384000000000001E-3,7652352,9958126,76503780000,9958126,76503780000,0,0,22.180889744747759,{"$f":"0","v":0},0,19.251317702232807,{"$f":"0","v":0},0,{"$f":"0","v":0},0,0,null,71,0.99975539999999996,2.4457500000000002E-4,0,7.3359999999999996E-3,0,0.77641492069658846,9961320,7734670,175835900,22.191804832440599,9958851,77327540000,0,19.259470335061202,null,0,0,null,0]
[75,2.4007499999999999E-4,7.3391999999999997E-3,7625313,9957890,76233200000,9957890,76233200000,0,0,22.177243363649463,{"$f":"0","v":0},0,19.248614899672926,{"$f":"0","v":0},0,{"$f":"0","v":0},0,0,null,72,0.99975700000000001,2.43E-4,0,7.3368000000000001E-3,0,0.77365243930932448,9961102,7706430,175165400,22.188105744164286,9958599,77044930000,0,19.256670731210406,null,0,0,null,0]
[76,2.3910000000000001E-4,7.3400000000000002E-3,7598275,9957653,75962620000,9957653,75962620000,0,0,22.173568041211109,{"$f":"0","v":0},0,19.245875973306344,{"$f":"0","v":0},0,{"$f":"0","v":0},0,0,null,73,0.99975789999999998,2.4202499999999999E-4,0,7.3375999999999997E-3,0,0.77089978682051608,9960900,7679391,174523200,22.184510448159234,9958363,76774360000,0,19.25401194935338,null,0,0,null,0]
[77,2.38125E-4,7.3407999999999998E-3,7571236,9957417,75692050000,9957417,75692050000,0,0,22.169869468252386,{"$f":"0","v":0},0,19.243128048615141,{"$f":"0","v":0},0,{"$f":"0","v":0},0,0,null,74,0.99975899999999995,2.4105E-4,0,7.3384000000000001E-3,0,0.7681569282589793,9960698,7652352,173881000,22.180889744747759,9958126,76503780000,0,19.251317702232807,null,0,0,null,0]
[78,2.3714999999999999E-4,7.3416000000000002E-3,7544197,9957180,75421470000,9957180,75421470000,0,0,22.166144383336402,{"$f":"0","v":0},0,19.240343321369235,{"$f":"0","v":0},0,{"$f":"0","v":0},0,0,null,75,0.99975990000000003,2.4007499999999999E-4,0,7.3391999999999997E-3,0,0.76542382877795767,9960497,7625313,173238800,22.177243363649463,9957890,76233200000,0,19.248614899672926,null,0,0,null,0]
[79,2.3617500000000001E-4,7.3423999999999998E-3,7517158,9956944,75150890000,9956944,75150890000,0,0,22.162392500374917,{"$f":"0","v":0},0,19.237549136072715,{"$f":"0","v":0},0,{"$f":"0","v":0},0,0,null,76,0.99976089999999995,2.3910000000000001E-4,0,7.3400000000000002E-3,0,0.76270045365467909,9960295,7598275,172596600,22.173568041211109,9957653,75962620000,0,19.245875973306344,null,0,0,null,0]
[80,2.352E-4,7.3432000000000002E-3,7490120,9956708,74880320000,9956708,74880320000,0,0,22.15861049845218,{"$f":"0","v":0},0,19.234717448445892,{"$f":"0","v":0},0,{"$f":"0","v":0},0,0,null,77,0.99976189999999998,2.38125E-4,0,7.3407999999999998E-3,0,0.75998676828991485,9960093,7571236,171954400,22.169869468252386,9957417,75692050000,0,19.243128048615141,null,0,0,null,0]
[81,2.3422499999999999E-4,7.3439999999999998E-3,7463081,9956471,74609740000,9956471,74609740000,0,0,22.154804134065632,{"$f":"0","v":0},0,19.231875825453983,{"$f":"0","v":0},0,{"$f":"0","v":0},0,0,null,78,0.99976279999999995,2.3714999999999999E-4,0,7.3416000000000002E-3,0,0.75728273820754055,9959892,7544197,171312200,22.166144383336402,9957180,75421470000,0,19.240343321369235,null,0,0,null,0]
[82,2.3325E-4,7.3448000000000003E-3,7436042,9956235,74339160000,9956235,74339160000,0,0,22.15097008820911,{"$f":"0","v":0},0,19.228995978464507,{"$f":"0","v":0},0,{"$f":"0","v":0},0,0,null,79,0.99976379999999998,2.3617500000000001E-4,0,7.3423999999999998E-3,0,0.75458832905409756,9959690,7517158,170670000,22.162392500374917,9956944,75150890000,0,19.237549136072715,null,0,0,null,0]
[83,2.3227499999999999E-4,7.3455999999999999E-3,7409003,9955998,74068580000,9955998,74068580000,0,0,22.147108057813806,{"$f":"0","v":0},0,19.226105700419915,{"$f":"0","v":0},0,{"$f":"0","v":0},0,0,null,80,0.99976480000000001,2.352E-4,0,7.3432000000000002E-3,0,0.75190350659835647,9959488,7490120,170027800,22.15861049845218,9956708,74880320000,0,19.234717448445892,null,0,0,null,0]
[84,2.3130000000000001E-4,7.3464000000000003E-3,7381965,9955762,73798010000,9955762,73798010000,0,0,22.143214662356161,{"$f":"0","v":0},0,19.223176453911023,{"$f":"0","v":0},0,{"$f":"0","v":0},0,0,null,81,0.99976580000000004,2.3422499999999999E-4,0,7.3439999999999998E-3,0,0.7492282367308829,9959286,7463081,169385600,22.154804134065632,9956471,74609740000,0,19.231875825453983,null,0,0,null,0]
[85,2.3407500000000001E-4,7.3473330000000002E-3,7356071,9955535,73538900000,9955535,73538900000,0,0,22.139435785987747,{"$f":"0","v":0},0,19.220385989589214,{"$f":"0","v":0},0,{"$f":"0","v":0},0,0,null,82,0.99976679999999996,2.3325E-4,0,7.3448000000000003E-3,0,0.74656248546360338,9959084,7436042,168743400,22.15097008820911,9956235,74339160000,0,19.228995978464507,null,0,0,null,0]
[86,2.3685000000000001E-4,7.3482670000000003E-3,7330178,9955309,73279800000,9955309,73279800000,0,0,22.135640760247114,{"$f":"0","v":0},0,19.217586910315902,{"$f":"0","v":0},0,{"$f":"0","v":0},0,0,null,83,0.99976770000000004,2.3227499999999999E-4,0,7.3455999999999999E-3,0,0.74390621892937392,9958883,7409003,168101200,22.147108057813806,9955998,74068580000,0,19.226105700419915,null,0,0,null,0]
[87,2.3962500000000001E-4,7.3492000000000002E-3,7304284,9955082,73020690000,9955082,73020690000,0,0,22.131808242030747,{"$f":"0","v":0},0,19.214750354524273,{"$f":"0","v":0},0,{"$f":"0","v":0},0,0,null,84,0.99976869999999995,2.3130000000000001E-4,0,7.3464000000000003E-3,0,0.74125940338154972,9958681,7381965,167459000,22.143214662356161,9955762,73798010000,0,19.223176453911023,null,0,0,null,0]
[88,2.4240000000000001E-4,7.350133E-3,7278391,9954855,72761590000,9954855,72761590000,0,0,22.127945339613291,{"$f":"0","v":0},0,19.2118902934197,{"$f":"0","v":0},0,{"$f":"0","v":0},0,0,null,85,0.99976589999999999,2.3407500000000001E-4,0,7.3473330000000002E-3,0,0.7386220051935567,9958489,7356071,166843800,22.139435785987747,9955535,73538900000,0,19.220385989589214,null,0,0,null,0]
[89,2.4517499999999998E-4,7.3510670000000002E-3,7252497,9954629,72502480000,9954629,72502480000,0,0,22.124071767971774,{"$f":"0","v":0},0,19.209006433619042,{"$f":"0","v":0},0,{"$f":"0","v":0},0,0,null,86,0.99976310000000002,2.3685000000000001E-4,0,7.3482670000000003E-3,0,0.73599399085846351,9958297,7330178,166228700,22.135640760247114,9955309,73279800000,0,19.217586910315902,null,0,0,null,0]
[90,2.4794999999999998E-4,7.352E-3,7226604,9954402,72243380000,9954402,72243380000,0,0,22.120153463507894,{"$f":"0","v":0},0,19.206101351650371,{"$f":"0","v":0},0,{"$f":"0","v":0},0,0,null,87,0.99976039999999999,2.3962500000000001E-4,0,7.3492000000000002E-3,0,0.73337532698855679,9958105,7304284,165613500,22.131808242030747,9955082,73020690000,0,19.214750354524273,null,0,0,null,0]
[91,2.5072499999999998E-4,7.3529329999999999E-3,7200711,9954175,71984270000,9954175,71984270000,0,0,22.116206979421893,{"$f":"0","v":0},0,19.203169006226073,{"$f":"0","v":0},0,{"$f":"0","v":0},0,0,null,88,0.99975760000000002,2.4240000000000001E-4,0,7.350133E-3,0,0.73076598031491624,9957913,7278391,164998300,22.127945339613291,9954855,72761590000,0,19.2118902934197,null,0,0,null,0]
[92,2.5349999999999998E-4,7.353867E-3,7174817,9953949,71725160000,9953949,71725160000,0,0,22.112249105679862,{"$f":"0","v":0},0,19.200211952219231,{"$f":"0","v":0},0,{"$f":"0","v":0},0,0,null,89,0.99975480000000005,2.4517499999999998E-4,0,7.3510670000000002E-3,0,0.72816591768699235,9957721,7252497,164383200,22.124071767971774,9954629,72502480000,0,19.209006433619042,null,0,0,null,0]
[93,2.5627499999999998E-4,7.3547999999999999E-3,7148924,9953722,71466060000,9953722,71466060000,0,0,22.108245404016976,{"$f":"0","v":0},0,19.197229876008659,{"$f":"0","v":0},0,{"$f":"0","v":0},0,0,null,90,0.99975199999999997,2.4794999999999998E-4,0,7.352E-3,0,0.72557510607218512,9957529,7226604,163768000,22.120153463507894,9954402,72243380000,0,19.206101351650371,null,0,0,null,0]
[94,2.5904999999999998E-4,7.3557329999999997E-3,7123030,9953495,71206950000,9953495,71206950000,0,0,22.104229812780982,{"$f":"0","v":0},0,19.194222458642979,{"$f":"0","v":0},0,{"$f":"0","v":0},0,0,null,91,0.99974929999999995,2.5072499999999998E-4,0,7.3529329999999999E-3,0,0.72299351255542454,9957337,7200711,163152800,22.116206979421893,9954175,71984270000,0,19.203169006226073,null,0,0,null,0]
[95,2.6182499999999998E-4,7.3566669999999999E-3,7097137,9953269,70947850000,9953269,70947850000,0,0,22.100167639194979,{"$f":"0","v":0},0,19.19120424398595,{"$f":"0","v":0},0,{"$f":"0","v":0},0,0,null,92,0.99974649999999998,2.5349999999999998E-4,0,7.353867E-3,0,0.72042110433875206,9957145,7174817,162537700,22.112249105679862,9953949,71725160000,0,19.200211952219231,null,0,0,null,0]
[96,2.6459999999999998E-4,7.3575999999999997E-3,7071243,9953042,70688740000,9953042,70688740000,0,0,22.096078917808367,{"$f":"0","v":0},0,19.188145229278973,{"$f":"0","v":0},0,{"$f":"0","v":0},0,0,null,93,0.99974370000000001,2.5627499999999998E-4,0,7.3547999999999999E-3,0,0.71785784874090441,9956953,7148924,161922500,22.108245404016976,9953722,71466060000,0,19.197229876008659,null,0,0,null,0]
[97,2.66925E-4,7.3585999999999999E-3,7046421,9952788,70440370000,9952788,70440370000,0,0,22.092206614535236,{"$f":"0","v":0},0,19.185231069615547,{"$f":"0","v":0},0,{"$f":"0","v":0},0,0,null,94,0.99974099999999999,2.5904999999999998E-4,0,7.3557329999999997E-3,0,0.71530371319689789,9956761,7123030,161307400,22.104229812780982,9953495,71206950000,0,19.194222458642979,null,0,0,null,0]
[98,2.6925000000000001E-4,7.3596E-3,7021599,9952534,70191990000,9952534,70191990000,0,0,22.088292691593466,{"$f":"0","v":0},0,19.182289984772151,{"$f":"0","v":0},0,{"$f":"0","v":0},0,0,null,95,0.99973820000000002,2.6182499999999998E-4,0,7.3566669999999999E-3,0,0.71275866525761511,9956569,7097137,160692200,22.100167639194979,9953269,70947850000,0,19.19120424398595,null,0,0,null,0]
[99,2.7157499999999997E-4,7.3606000000000001E-3,6996776,9952280,69943620000,9952280,69943620000,0,0,22.084354232101564,{"$f":"0","v":0},0,19.179327605103833,{"$f":"0","v":0},0,{"$f":"0","v":0},0,0,null,96,0.99973540000000005,2.6459999999999998E-4,0,7.3575999999999997E-3,0,0.71022267258939242,9956377,7071243,160077000,22.096078917808367,9953042,70688740000,0,19.188145229278973,null,0,0,null,0]
[100,2.7389999999999999E-4,7.3616000000000003E-3,6971954,9952025,69695240000,9952025,69695240000,0,0,22.080398826020176,{"$f":"0","v":0},0,19.176337678313594,{"$f":"0","v":0},0,{"$f":"0","v":0},0,0,null,97,0.99973310000000004,2.66925E-4,0,7.3585999999999999E-3,0,0.70769570297360906,9956158,7046421,159487800,22.092206614535236,9952788,70440370000,0,19.185231069615547,null,0,0,null,0]
[101,2.7622500000000001E-4,7.3626000000000004E-3,6947132,9951771,69446860000,9951771,69446860000,0,0,22.076400760294558,{"$f":"0","v":0},0,19.173325872045904,{"$f":"0","v":0},0,{"$f":"0","v":0},0,0,null,98,0.99973080000000003,2.6925000000000001E-4,0,7.3596E-3,0,0.70517772430627834,9955938,7021599,158898500,22.088292691593466,9952534,70191990000,0,19.182289984772151,null,0,0,null,0]
[102,2.7855000000000002E-4,7.3635999999999997E-3,6922309,9951517,69198490000,9951517,69198490000,0,0,22.072377288897869,{"$f":"0","v":0},0,19.170301182615823,{"$f":"0","v":0},0,{"$f":"0","v":0},0,0,null,99,0.99972839999999996,2.7157499999999997E-4,0,7.3606000000000001E-3,0,0.70266870459763897,9955718,6996776,158309200,22.084354232101564,9952280,69943620000,0,19.179327605103833,null,0,0,null,0]
[103,2.8087499999999998E-4,7.3645999999999998E-3,6897487,9951263,68950110000,9951263,68950110000,0,0,22.068336077811139,{"$f":"0","v":0},0,19.16723573741773,{"$f":"0","v":0},0,{"$f":"0","v":0},0,0,null,100,0.99972609999999995,2.7389999999999999E-4,0,7.3616000000000003E-3,0,0.70016861197174984,9955499,6971954,157720000,22.080398826020176,9952025,69695240000,0,19.176337678313594,null,0,0,null,0]
[104,2.832E-4,7.3655999999999999E-3,6872665,9951009,68701740000,9951009,68701740000,0,0,22.064251125048774,{"$f":"0","v":0},0,19.164147498250401,{"$f":"0","v":0},0,{"$f":"0","v":0},0,0,null,101,0.99972380000000005,2.7622500000000001E-4,0,7.3626000000000004E-3,0,0.69767741466608357,9955280,6947132,157130700,22.076400760294558,9951771,69446860000,0,19.173325872045904,null,0,0,null,0]
[105,2.8552500000000001E-4,7.3666000000000001E-3,6847843,9950754,68453360000,9950754,68453360000,0,0,22.060136558086004,{"$f":"0","v":0},0,19.161030066175034,{"$f":"0","v":0},0,{"$f":"0","v":0},0,0,null,102,0.99972150000000004,2.7855000000000002E-4,0,7.3635999999999997E-3,0,0.69519508103112415,9955060,6922309,156541400,22.072377288897869,9951517,69198490000,0,19.170301182615823,null,0,0,null,0]
[106,2.8784999999999998E-4,7.3676000000000002E-3,6823020,9950500,68204980000,9950500,68204980000,0,0,22.056010021955085,{"$f":"0","v":0},0,19.157889203541146,{"$f":"0","v":0},0,{"$f":"0","v":0},0,0,null,103,0.99971909999999997,2.8087499999999998E-4,0,7.3645999999999998E-3,0,0.69272157952996416,9954840,6897487,155952200,22.068336077811139,9951263,68950110000,0,19.16723573741773,null,0,0,null,0]
[107,2.9017499999999999E-4,7.3686000000000003E-3,6798198,9950246,67956610000,9950246,67956610000,0,0,22.051835317241419,{"$f":"0","v":0},0,19.154718450585573,{"$f":"0","v":0},0,{"$f":"0","v":0},0,0,null,104,0.99971679999999996,2.832E-4,0,7.3655999999999999E-3,0,0.69025687873790476,9954621,6872665,155362900,22.064251125048774,9951009,68701740000,0,19.164147498250401,null,0,0,null,0]
[108,2.9250000000000001E-4,7.3695999999999996E-3,6773376,9949992,67708230000,9949992,67708230000,0,0,22.047630014929037,{"$f":"0","v":0},0,19.151523608115024,{"$f":"0","v":0},0,{"$f":"0","v":0},0,0,null,105,0.99971449999999995,2.8552500000000001E-4,0,7.3666000000000001E-3,0,0.68780094734205566,9954402,6847843,154773600,22.060136558086004,9950754,68453360000,0,19.161030066175034,null,0,0,null,0]
[109,2.9437499999999999E-4,7.370667E-3,6749584,9949715,67470180000,9949715,67470180000,0,0,22.043636368305563,{"$f":"0","v":0},0,19.148492376175646,{"$f":"0","v":0},0,{"$f":"0","v":0},0,0,null,106,0.99971220000000005,2.8784999999999998E-4,0,7.3676000000000002E-3,0,0.68535375414093802,9954182,6823020,154184400,22.056010021955085,9950500,68204980000,0,19.157889203541146,null,0,0,null,0]
[110,2.9625000000000002E-4,7.3717330000000001E-3,6725792,9949438,67232120000,9949438,67232120000,0,0,22.039599599075718,{"$f":"0","v":0},0,19.145420391519227,{"$f":"0","v":0},0,{"$f":"0","v":0},0,0,null,107,0.99970979999999998,2.9017499999999999E-4,0,7.3686000000000003E-3,0,0.68291526804408753,9953962,6798198,153595100,22.051835317241419,9950246,67956610000,0,19.154718450585573,null,0,0,null,0]
[111,2.98125E-4,7.3727999999999997E-3,6702000,9949160,66994070000,9949160,66994070000,0,0,22.035549089823931,{"$f":"0","v":0},0,19.142323043901744,{"$f":"0","v":0},0,{"$f":"0","v":0},0,0,null,108,0.99970749999999997,2.9250000000000001E-4,0,7.3695999999999996E-3,0,0.68048545807165994,9953743,6773376,153005800,22.047630014929037,9949992,67708230000,0,19.151523608115024,null,0,0,null,0]
[112,2.9999999999999997E-4,7.3738670000000001E-3,6678209,9948883,66756010000,9948883,66756010000,0,0,22.031451365428463,{"$f":"0","v":0},0,19.139200017918135,{"$f":"0","v":0},0,{"$f":"0","v":0},0,0,null,109,0.99970559999999997,2.9437499999999999E-4,0,7.370667E-3,0,0.67806429335403673,9953500,6749584,152441400,22.043636368305563,9949715,67470180000,0,19.148492376175646,null,0,0,null,0]
[113,3.0187500000000001E-4,7.3749330000000002E-3,6654417,9948606,66517960000,9948606,66517960000,0,0,22.027342759703817,{"$f":"0","v":0},0,19.13605099291189,{"$f":"0","v":0},0,{"$f":"0","v":0},0,0,null,110,0.99970380000000003,2.9625000000000002E-4,0,7.3717330000000001E-3,0,0.67565174313143372,9953258,6725792,151876900,22.039599599075718,9949438,67232120000,0,19.145420391519227,null,0,0,null,0]
[114,3.0374999999999998E-4,7.3759999999999997E-3,6630625,9948328,66279900000,9948328,66279900000,0,0,22.023189587457189,{"$f":"0","v":0},0,19.13287564286528,{"$f":"0","v":0},0,{"$f":"0","v":0},0,0,null,111,0.99970190000000003,2.98125E-4,0,7.3727999999999997E-3,0,0.67324777675350977,9953015,6702000,151312500,22.035549089823931,9949160,66994070000,0,19.142323043901744,null,0,0,null,0]
[115,3.0562500000000002E-4,7.3770670000000002E-3,6606833,9948051,66041850000,9948051,66041850000,0,0,22.019021638910299,{"$f":"0","v":0},0,19.129673636286846,{"$f":"0","v":0},0,{"$f":"0","v":0},0,0,null,112,0.99970000000000003,2.9999999999999997E-4,0,7.3738670000000001E-3,0,0.67085236367897771,9952773,6678209,150748000,22.031451365428463,9948883,66756010000,0,19.139200017918135,null,0,0,null,0]
[116,3.0749999999999999E-4,7.3781330000000003E-3,6583042,9947774,65803790000,9947774,65803790000,0,0,22.014804946304963,{"$f":"0","v":0},0,19.126460865530909,{"$f":"0","v":0},0,{"$f":"0","v":0},0,0,null,113,0.99969810000000003,3.0187500000000001E-4,0,7.3749330000000002E-3,0,0.66846547347521579,9952530,6654417,150183600,22.027342759703817,9948606,66517960000,0,19.13605099291189,null,0,0,null,0]
[117,3.0937500000000003E-4,7.3791999999999998E-3,6559250,9947497,65565740000,9947497,65565740000,0,0,22.010576348922005,{"$f":"0","v":0},0,19.123204597638203,{"$f":"0","v":0},0,{"$f":"0","v":0},0,0,null,114,0.99969629999999998,3.0374999999999998E-4,0,7.3759999999999997E-3,0,0.66608707581788185,9952288,6630625,149619100,22.023189587457189,9948328,66279900000,0,19.13287564286528,null,0,0,null,0]
[118,3.1125E-4,7.3802670000000003E-3,6535458,9947220,65327690000,9947220,65327690000,0,0,22.006301662408358,{"$f":"0","v":0},0,19.119920645312643,{"$f":"0","v":0},0,{"$f":"0","v":0},0,0,null,115,0.99969430000000004,3.0562500000000002E-4,0,7.3770670000000002E-3,0,0.66371714049052721,9952045,6606833,149054700,22.019021638910299,9948051,66041850000,0,19.129673636286846,null,0,0,null,0]
[119,3.1312499999999998E-4,7.3813339999999998E-3,6511666,9946942,65089630000,9946942,65089630000,0,0,22.002011095675567,{"$f":"0","v":0},0,19.116608653991982,{"$f":"0","v":0},0,{"$f":"0","v":0},0,0,null,116,0.99969249999999998,3.0749999999999999E-4,0,7.3781330000000003E-3,0,0.66135563738421377,9951802,6583042,148490200,22.014804946304963,9947774,65803790000,0,19.126460865530909,null,0,0,null,0]
[120,3.1500000000000001E-4,7.3823999999999999E-3,6487875,9946665,64851570000,9946665,64851570000,0,0,21.997670173207712,{"$f":"0","v":0},0,19.113268263033373,{"$f":"0","v":0},0,{"$f":"0","v":0},0,0,null,117,0.99969070000000004,3.0937500000000003E-4,0,7.3791999999999998E-3,0,0.65900253649713014,9951560,6559250,147925800,22.010576348922005,9947497,65565740000,0,19.123204597638203,null,0,0,null,0]
[121,3.1657499999999998E-4,7.3835339999999998E-3,6465074,9946369,64623450000,9946369,64623450000,0,0,21.993543293807104,{"$f":"0","v":0},0,19.110088192277789,{"$f":"0","v":0},0,{"$f":"0","v":0},0,0,null,118,0.99968869999999999,3.1125E-4,0,7.3802670000000003E-3,0,0.65665780793421213,9951317,6535458,147361300,22.006301662408358,9947220,65327690000,0,19.119920645312643,null,0,0,null,0]
[122,3.1815000000000001E-4,7.3846670000000001E-3,6442273,9946074,64395320000,9946074,64395320000,0,0,21.98937167958162,{"$f":"0","v":0},0,19.106885238093732,{"$f":"0","v":0},0,{"$f":"0","v":0},0,0,null,119,0.99968690000000004,3.1312499999999998E-4,0,7.3813339999999998E-3,0,0.65432142190676124,9951075,6511666,146796900,22.002011095675567,9946942,65089630000,0,19.116608653991982,null,0,0,null,0]
[123,3.1972499999999998E-4,7.3857999999999997E-3,6419473,9945778,64167190000,9945778,64167190000,0,0,21.985182499923798,{"$f":"0","v":0},0,19.103652549047396,{"$f":"0","v":0},0,{"$f":"0","v":0},0,0,null,120,0.99968500000000005,3.1500000000000001E-4,0,7.3823999999999999E-3,0,0.65199334873206771,9950832,6487875,146232400,21.997670173207712,9946665,64851570000,0,19.113268263033373,null,0,0,null,0]
[124,3.213E-4,7.3869340000000004E-3,6396672,9945482,63939070000,9945482,63939070000,0,0,21.980951344699243,{"$f":"0","v":0},0,19.100393053145304,{"$f":"0","v":0},0,{"$f":"0","v":0},0,0,null,121,0.9996834,3.1657499999999998E-4,0,7.3835339999999998E-3,0,0.64967355883303235,9950571,6465074,145691800,21.993543293807104,9946369,64623450000,0,19.110088192277789,null,0,0,null,0]
[125,3.2287499999999997E-4,7.3880669999999999E-3,6373872,9945186,63710940000,9945186,63710940000,0,0,21.976702073715945,{"$f":"0","v":0},0,19.097109724969705,{"$f":"0","v":0},0,{"$f":"0","v":0},0,0,null,122,0.99968179999999995,3.1815000000000001E-4,0,7.3846670000000001E-3,0,0.64736202273779142,9950310,6442273,145151100,21.98937167958162,9946074,64395320000,0,19.106885238093732,null,0,0,null,0]
[126,3.2445E-4,7.3892000000000003E-3,6351071,9944890,63482810000,9944890,63482810000,0,0,21.972410092985367,{"$f":"0","v":0},0,19.093778696672977,{"$f":"0","v":0},0,{"$f":"0","v":0},0,0,null,123,0.99968029999999997,3.1972499999999998E-4,0,7.3857999999999997E-3,0,0.64505871107934165,9950048,6419473,144610500,21.985182499923798,9945778,64167190000,0,19.103652549047396,null,0,0,null,0]
[127,3.2602500000000002E-4,7.3903329999999998E-3,6328270,9944595,63254680000,9944595,63254680000,0,0,21.96810298601882,{"$f":"0","v":0},0,19.090436691048669,{"$f":"0","v":0},0,{"$f":"0","v":0},0,0,null,124,0.99967870000000003,3.213E-4,0,7.3869340000000004E-3,0,0.64276359459516796,9949787,6396672,144069800,21.980951344699243,9945482,63939070000,0,19.100393053145304,null,0,0,null,0]
[128,{"$f":"W133","v":3.2759999999999999E-4},{"$f":"Y133","v":7.3914669999999997E-3},{"$f":"AC133","v":6305470},{"$f":"AF133","v":9944299},{"$f":"AG133","v":63026560000},{"$f":"E130","v":9944299},{"$f":"F130","v":63026560000},{"$f":"X133","v":0},{"$f":"AN133","v":0},{"$f":"AE133","v":21.963745301037562},{"$f":"0","v":0},{"$f":"AL133","v":0},{"$f":"AI133","v":19.087069854247577},{"$f":"0","v":0},{"$f":"AK133","v":0},{"$f":"0","v":0},{"$f":"Z133","v":0},{"$f":"AH133","v":0},null,125,0.99967709999999999,3.2287499999999997E-4,0,7.3880669999999999E-3,0,0.64047664412687066,9949526,6373872,143529200,21.976702073715945,9945186,63710940000,0,19.097109724969705,null,0,0,null,0]
[129,3.2917500000000002E-4,7.3926E-3,6282669,9944003,62798430000,9944003,62798430000,0,0,21.959375485959868,{"$f":"0","v":0},0,19.083671142802793,{"$f":"0","v":0},0,{"$f":"0","v":0},0,0,null,126,0.9996756,3.2445E-4,0,7.3892000000000003E-3,0,0.63819783061979596,9949264,6351071,142988500,21.972410092985367,9944890,63482810000,0,19.093778696672977,null,0,0,null,0]
[130,3.3074999999999999E-4,7.3937339999999999E-3,6259868,9943708,62570300000,9943708,62570300000,0,0,21.954957862796252,{"$f":"0","v":0},0,19.0802469056128,{"$f":"0","v":0},0,{"$f":"0","v":0},0,0,null,127,0.99967399999999995,3.2602500000000002E-4,0,7.3903329999999998E-3,0,0.63592712512266591,9949003,6328270,142447900,21.96810298601882,9944595,63254680000,0,19.090436691048669,null,0,0,null,0]
[131,3.3232500000000001E-4,7.3948670000000003E-3,6237068,9943412,62342180000,9943412,62342180000,0,0,21.950504334194633,{"$f":"0","v":0},0,19.076790032506764,{"$f":"0","v":0},0,{"$f":"0","v":0},0,0,null,128,0.99967240000000002,3.2759999999999999E-4,0,7.3914669999999997E-3,0,0.63366449878721176,9948742,6305470,141907200,21.963745301037562,9944299,63026560000,0,19.087069854247577,null,0,0,null,0]
[132,3.3389999999999998E-4,7.3959999999999998E-3,6214267,9943116,62114050000,9943116,62114050000,0,0,21.9460378365354,{"$f":"0","v":0},0,19.073303510037487,{"$f":"0","v":0},0,{"$f":"0","v":0},0,0,null,129,0.99967079999999997,3.2917500000000002E-4,0,7.3926E-3,0,0.63140992286780628,9948481,6282669,141366600,21.959375485959868,9944003,62798430000,0,19.083671142802793,null,0,0,null,0]
[133,3.35175E-4,7.3971999999999996E-3,6192419,9942805,61895460000,9942805,61895460000,0,0,21.941744097365934,{"$f":"0","v":0},0,19.069983378830159,{"$f":"0","v":0},0,{"$f":"0","v":0},0,0,null,130,0.99966929999999998,3.3074999999999999E-4,0,7.3937339999999999E-3,0,0.62916336872109924,9948220,6259868,140825900,21.954957862796252,9943708,62570300000,0,19.0802469056128,null,0,0,null,0]
[134,3.3645000000000002E-4,7.3984000000000003E-3,6170570,9942493,61676870000,9942493,61676870000,0,0,21.937439801617462,{"$f":"0","v":0},0,19.066632502131945,{"$f":"0","v":0},0,{"$f":"0","v":0},0,0,null,131,0.99966770000000005,3.3232500000000001E-4,0,7.3948670000000003E-3,0,0.62692480780565341,9947958,6237068,140285200,21.950504334194633,9943412,62342180000,0,19.076790032506764,null,0,0,null,0]
[135,3.3772499999999998E-4,7.3996000000000001E-3,6148722,9942182,61458280000,9942182,61458280000,0,0,21.933084997175023,{"$f":"0","v":0},0,19.063253945800394,{"$f":"0","v":0},0,{"$f":"0","v":0},0,0,null,132,0.9996661,3.3389999999999998E-4,0,7.3959999999999998E-3,0,0.62469421168158179,9947697,6214267,139744600,21.9460378365354,9943116,62114050000,0,19.073303510037487,null,0,0,null,0]
[136,3.39E-4,7.4007999999999999E-3,6126873,9941871,61239690000,9941871,61239690000,0,0,21.928719123931572,{"$f":"0","v":0},0,19.05983317893746,{"$f":"0","v":0},0,{"$f":"0","v":0},0,0,null,133,0.99966480000000002,3.35175E-4,0,7.3971999999999996E-3,0,0.62247155201018645,9947420,6192419,139226700,21.941744097365934,9942805,61895460000,0,19.069983378830159,null,0,0,null,0]
[137,3.4027500000000002E-4,7.4019999999999997E-3,6105025,9941559,61021090000,9941559,61021090000,0,0,21.92430194116049,{"$f":"0","v":0},0,19.056398164741406,{"$f":"0","v":0},0,{"$f":"0","v":0},0,0,null,134,0.99966350000000004,3.3645000000000002E-4,0,7.3984000000000003E-3,0,0.62025680055359833,9947143,6170570,138708900,21.937439801617462,9942493,61676870000,0,19.066632502131945,null,0,0,null,0]
[138,3.4154999999999998E-4,7.4032000000000004E-3,6083176,9941248,60802500000,9941248,60802500000,0,0,21.919873160555166,{"$f":"0","v":0},0,19.052937906340077,{"$f":"0","v":0},0,{"$f":"0","v":0},0,0,null,135,0.9996623,3.3772499999999998E-4,0,7.3996000000000001E-3,0,0.61804992917441881,9946866,6148722,138191000,21.933084997175023,9942182,61458280000,0,19.063253945800394,null,0,0,null,0]
[139,3.42825E-4,7.4044009999999997E-3,6061328,9940937,60583910000,9940937,60583910000,0,0,21.91539224847536,{"$f":"0","v":0},0,19.049445082911703,{"$f":"0","v":0},0,{"$f":"0","v":0},0,0,null,136,0.99966100000000002,3.39E-4,0,7.4007999999999999E-3,0,0.61585090983536184,9946590,6126873,137673200,21.928719123931572,9941871,61239690000,0,19.05983317893746,null,0,0,null,0]
[140,3.4410000000000002E-4,7.4056010000000004E-3,6039480,9940625,60365320000,9940625,60365320000,0,0,21.910895474444818,{"$f":"0","v":0},0,19.045922798909238,{"$f":"0","v":0},0,{"$f":"0","v":0},0,0,null,137,0.99965970000000004,3.4027500000000002E-4,0,7.4019999999999997E-3,0,0.61365971459889801,9946313,6105025,137155300,21.92430194116049,9941559,61021090000,0,19.056398164741406,null,0,0,null,0]
[141,3.4537499999999998E-4,7.4068010000000002E-3,6017631,9940314,60146730000,9940314,60146730000,0,0,21.906353160404816,{"$f":"0","v":0},0,19.042374208850113,{"$f":"0","v":0},0,{"$f":"0","v":0},0,0,null,138,0.99965850000000001,3.4154999999999998E-4,0,7.4032000000000004E-3,0,0.61147631562689952,9946036,6083176,136637500,21.919873160555166,9941248,60802500000,0,19.052937906340077,null,0,0,null,0]
[142,3.4665E-4,7.408001E-3,5995783,9940003,59928140000,9940003,59928140000,0,0,21.901773998213965,{"$f":"0","v":0},0,19.038791888759242,{"$f":"0","v":0},0,{"$f":"0","v":0},0,0,null,139,0.99965720000000002,3.42825E-4,0,7.4044009999999997E-3,0,0.60930068518028657,9945759,6061328,136119600,21.91539224847536,9940937,60583910000,0,19.049445082911703,null,0,0,null,0]
[143,3.4792500000000001E-4,7.4092009999999998E-3,5973934,9939691,59709550000,9939691,59709550000,0,0,21.897181837518346,{"$f":"0","v":0},0,19.035178966038611,{"$f":"0","v":0},0,{"$f":"0","v":0},0,0,null,140,0.99965590000000004,3.4410000000000002E-4,0,7.4056010000000004E-3,0,0.60713279561867484,9945482,6039480,135601800,21.910895474444818,9940625,60365320000,0,19.045922798909238,null,0,0,null,0]
[144,3.4919999999999998E-4,7.4104009999999996E-3,5952086,9939380,59490960000,9939380,59490960000,0,0,21.892535392913789,{"$f":"0","v":0},0,19.031538619127009,{"$f":"0","v":0},0,{"$f":"0","v":0},0,0,null,141,0.99965470000000001,3.4537499999999998E-4,0,7.4068010000000002E-3,0,0.60497261940002445,9945206,6017631,135083900,21.906353160404816,9940314,60146730000,0,19.042374208850113,null,0,0,null,0]
[145,3.5024999999999998E-4,7.4117339999999997E-3,5931152,9939056,59281520000,9939056,59281520000,0,0,21.888090655351046,{"$f":"0","v":0},0,19.028067181859637,{"$f":"0","v":0},0,{"$f":"0","v":0},0,0,null,142,0.99965329999999997,3.4665E-4,0,7.408001E-3,0,0.60282012908028981,9944929,5995783,134566000,21.901773998213965,9940003,59928140000,0,19.038791888759242,null,0,0,null,0]
[146,3.5129999999999997E-4,7.4130669999999997E-3,5910218,9938732,59072090000,9938732,59072090000,0,0,21.883614431255609,{"$f":"0","v":0},0,19.024567178428416,{"$f":"0","v":0},0,{"$f":"0","v":0},0,0,null,143,0.99965210000000004,3.4792500000000001E-4,0,7.4092009999999998E-3,0,0.60067529731307134,9944652,5973934,134048200,21.897181837518346,9939691,59709550000,0,19.035178966038611,null,0,0,null,0]
[147,3.5235000000000003E-4,7.4144010000000002E-3,5889284,9938408,58862660000,9938408,58862660000,0,0,21.879106384862176,{"$f":"0","v":0},0,19.02103825477376,{"$f":"0","v":0},0,{"$f":"0","v":0},0,0,null,144,0.99965079999999995,3.4919999999999998E-4,0,7.4104009999999996E-3,0,0.59853809684926795,9944375,5952086,133530300,21.892535392913789,9939380,59490960000,0,19.031538619127009,null,0,0,null,0]
[148,3.5340000000000002E-4,7.4157340000000002E-3,5868350,9938084,58653220000,9938084,58653220000,0,0,21.874566175614383,{"$f":"0","v":0},0,19.017476422025702,{"$f":"0","v":0},0,{"$f":"0","v":0},0,0,null,145,0.99964980000000003,3.5024999999999998E-4,0,7.4117339999999997E-3,0,0.59640850053673045,9944086,5931152,133034300,21.888090655351046,9939056,59281520000,0,19.028067181859637,null,0,0,null,0]
[149,3.5445000000000002E-4,7.4170670000000003E-3,5847416,9937760,58443790000,9937760,58443790000,0,0,21.869993458079033,{"$f":"0","v":0},0,19.013888557672196,{"$f":"0","v":0},0,{"$f":"0","v":0},0,0,null,146,0.99964869999999995,3.5129999999999997E-4,0,7.4130669999999997E-3,0,0.59428648131991724,9943796,5910218,132538300,21.883614431255609,9938732,59072090000,0,19.024567178428416,null,0,0,null,0]
[150,3.5550000000000002E-4,7.4184000000000003E-3,5826482,9937436,58234360000,9937436,58234360000,0,0,21.865387881858496,{"$f":"0","v":0},0,19.010270675056226,{"$f":"0","v":0},0,{"$f":"0","v":0},0,0,null,147,0.99964770000000003,3.5235000000000003E-4,0,7.4144010000000002E-3,0,0.59217201223954974,9943507,5889284,132042300,21.879106384862176,9938408,58862660000,0,19.02103825477376,null,0,0,null,0]
[151,3.5655000000000002E-4,7.4197330000000004E-3,5805548,9937113,58024920000,9937113,58024920000,0,0,21.860749091501209,{"$f":"0","v":0},0,19.006622395868558,{"$f":"0","v":0},0,{"$f":"0","v":0},0,0,null,148,0.99964660000000005,3.5340000000000002E-4,0,7.4157340000000002E-3,0,0.59006506643227086,9943217,5868350,131546300,21.874566175614383,9938084,58653220000,0,19.017476422025702,null,0,0,null,0]
[152,3.5760000000000002E-4,7.4210669999999999E-3,5784614,9936789,57815490000,9936789,57815490000,0,0,21.856076726410208,{"$f":"0","v":0},0,19.002943335416219,{"$f":"0","v":0},0,{"$f":"0","v":0},0,0,null,149,0.99964549999999996,3.5445000000000002E-4,0,7.4170670000000003E-3,0,0.58796561713030304,9942928,5847416,131050300,21.869993458079033,9937760,58443790000,0,19.013888557672196,null,0,0,null,0]
[153,3.5865000000000002E-4,7.4224E-3,5763680,9936465,57606060000,9936465,57606060000,0,0,21.851370420749706,{"$f":"0","v":0},0,18.999233102487267,{"$f":"0","v":0},0,{"$f":"0","v":0},0,0,null,150,0.99964450000000005,3.5550000000000002E-4,0,7.4184000000000003E-3,0,0.58587363766110834,9942638,5826482,130554300,21.865387881858496,9937436,58234360000,0,19.010270675056226,null,0,0,null,0]
[154,3.5970000000000002E-4,7.4237330000000001E-3,5742746,9936141,57396630000,9936141,57396630000,0,0,21.846629803349593,{"$f":"0","v":0},0,18.995491299212119,{"$f":"0","v":0},0,{"$f":"0","v":0},0,0,null,151,0.99964339999999996,3.5655000000000002E-4,0,7.4197330000000004E-3,0,0.58378910144704976,9942349,5805548,130058300,21.860749091501209,9937113,58024920000,0,19.006622395868558,null,0,0,null,0]
[155,3.6075000000000001E-4,7.4250669999999996E-3,5721812,9935817,57187190000,9935817,57187190000,0,0,21.841837020626798,{"$f":"0","v":0},0,18.991717520921327,{"$f":"0","v":0},0,{"$f":"0","v":0},0,0,null,152,0.99964240000000004,3.5760000000000002E-4,0,7.4210669999999999E-3,0,0.58171198200505325,9942060,5784614,129562300,21.856076726410208,9936789,57815490000,0,19.002943335416219,null,0,0,null,0]
[156,3.6180000000000001E-4,7.4263999999999997E-3,5700878,9935493,56977760000,9935493,56977760000,0,0,21.837026580233196,{"$f":"0","v":0},0,18.987911355999685,{"$f":"0","v":0},0,{"$f":"0","v":0},0,0,null,153,0.99964140000000001,3.5865000000000002E-4,0,7.4224E-3,0,0.57964225294627147,9941770,5763680,129066300,21.851370420749706,9936465,57606060000,0,18.999233102487267,null,0,0,null,0]
[157,3.6269999999999998E-4,7.4278670000000003E-3,5680822,9935159,56777120000,9935159,56777120000,0,0,21.832419337084197,{"$f":"0","v":0},0,18.984272105402606,{"$f":"0","v":0},0,{"$f":"0","v":0},0,0,null,154,0.99964030000000004,3.5970000000000002E-4,0,7.4237330000000001E-3,0,0.57757988797574877,9941481,5742746,128570300,21.846629803349593,9936141,57396630000,0,18.995491299212119,null,0,0,null,0]
[158,3.636E-4,7.4293329999999998E-3,5660766,9934825,56576480000,9934825,56576480000,0,0,21.827761781709398,{"$f":"0","v":0},0,18.980626025028347,{"$f":"0","v":0},0,{"$f":"0","v":0},0,0,null,155,0.99963930000000001,3.6075000000000001E-4,0,7.4250669999999996E-3,0,0.57552486089208643,9941191,5721812,128074200,21.841837020626798,9935817,57187190000,0,18.991717520921327,null,0,0,null,0]
[159,3.6450000000000002E-4,7.4308000000000004E-3,5640710,9934490,56375830000,9934490,56375830000,0,0,21.82307110570596,{"$f":"0","v":0},0,18.976949807408637,{"$f":"0","v":0},0,{"$f":"0","v":0},0,0,null,156,0.99963820000000003,3.6180000000000001E-4,0,7.4263999999999997E-3,0,0.57347714558711049,9940902,5700878,127578200,21.837026580233196,9935493,56977760000,0,18.987911355999685,null,0,0,null,0]
[160,3.6539999999999999E-4,7.4322670000000002E-3,5620654,9934156,56175190000,9934156,56175190000,0,0,21.818364746047937,{"$f":"0","v":0},0,18.973219761039392,{"$f":"0","v":0},0,{"$f":"0","v":0},0,0,null,157,0.99963729999999995,3.6269999999999998E-4,0,7.4278670000000003E-3,0,0.57143671604553969,9940602,5680822,127103200,21.832419337084197,9935159,56777120000,0,18.984272105402606,null,0,0,null,0]
[161,3.6630000000000001E-4,7.4337329999999997E-3,5600597,9933822,55974550000,9933822,55974550000,0,0,21.81361081535891,{"$f":"0","v":0},0,18.969478122538547,{"$f":"0","v":0},0,{"$f":"0","v":0},0,0,null,158,0.99963639999999998,3.636E-4,0,7.4293329999999998E-3,0,0.56940354634465506,9940302,5660766,126628100,21.827761781709398,9934825,56576480000,0,18.980626025028347,null,0,0,null,0]
[162,3.6719999999999998E-4,7.4352000000000003E-3,5580541,9933488,55773900000,9933488,55773900000,0,0,21.808818707421615,{"$f":"0","v":0},0,18.965701234206509,{"$f":"0","v":0},0,{"$f":"0","v":0},0,0,null,159,0.99963550000000001,3.6450000000000002E-4,0,7.4308000000000004E-3,0,0.56737761065397041,9940003,5640710,126153000,21.82307110570596,9934490,56375830000,0,18.976949807408637,null,0,0,null,0]
[163,3.681E-4,7.4366670000000001E-3,5560485,9933154,55573270000,9933154,55573270000,0,0,21.80399203037145,{"$f":"0","v":0},0,18.961888749725485,{"$f":"0","v":0},0,{"$f":"0","v":0},0,0,null,160,0.99963460000000004,3.6539999999999999E-4,0,7.4322670000000002E-3,0,0.5653588832349048,9939703,5620654,125678000,21.818364746047937,9934156,56175190000,0,18.973219761039392,null,0,0,null,0]
[164,3.6900000000000002E-4,7.4381330000000004E-3,5540429,9932820,55372620000,9932820,55372620000,0,0,21.799148457938305,{"$f":"0","v":0},0,18.958047957604492,{"$f":"0","v":0},0,{"$f":"0","v":0},0,0,null,161,0.99963369999999996,3.6630000000000001E-4,0,7.4337329999999997E-3,0,0.56334733844045448,9939403,5600597,125202900,21.81361081535891,9933822,55974550000,0,18.969478122538547,null,0,0,null,0]
[165,3.6989999999999999E-4,7.4396000000000002E-3,5520373,9932486,55171980000,9932486,55171980000,0,0,21.794251576539001,{"$f":"0","v":0},0,18.954174611592649,{"$f":"0","v":0},0,{"$f":"0","v":0},0,0,null,162,0.99963279999999999,3.6719999999999998E-4,0,7.4352000000000003E-3,0,0.56134295071486795,9939104,5580541,124727800,21.808818707421615,9933488,55773900000,0,18.965701234206509,null,0,0,null,0]
[166,3.7080000000000001E-4,7.441067E-3,5500317,9932151,54971340000,9932151,54971340000,0,0,21.78931898379675,{"$f":"0","v":0},0,18.950262395511967,{"$f":"0","v":0},0,{"$f":"0","v":0},0,0,null,163,0.99963190000000002,3.681E-4,0,7.4366670000000001E-3,0,0.55934569459332084,9938804,5560485,124252700,21.80399203037145,9933154,55573270000,0,18.961888749725485,null,0,0,null,0]
[167,3.7169999999999998E-4,7.4425339999999998E-3,5480260,9931817,54770700000,9931817,54770700000,0,0,21.784354361532724,{"$f":"0","v":0},0,18.946322663254641,{"$f":"0","v":0},0,{"$f":"0","v":0},0,0,null,164,0.99963100000000005,3.6900000000000002E-4,0,7.4381330000000004E-3,0,0.55735554470159299,9938504,5540429,123777700,21.799148457938305,9932820,55372620000,0,18.958047957604492,null,0,0,null,0]
[168,3.726E-4,7.4440000000000001E-3,5460204,9931483,54570050000,9931483,54570050000,0,0,21.779367492496615,{"$f":"0","v":0},0,18.942349108503262,{"$f":"0","v":0},0,{"$f":"0","v":0},0,0,null,165,0.99963009999999997,3.6989999999999999E-4,0,7.4396000000000002E-3,0,0.55537247575574478,9938204,5520373,123302600,21.794251576539001,9932486,55171980000,0,18.954174611592649,null,0,0,null,0]
[169,3.7342499999999998E-4,7.4455340000000002E-3,5440990,9931140,54377840000,9931140,54377840000,3.5000000000000245E-6,0,21.774566224774045,{"$f":"0","v":0},0,18.938561886236844,{"$f":"0","v":0},0,{"$f":"0","v":0},0,3.4869703155000245E-6,null,166,0.9996292,3.7080000000000001E-4,0,7.441067E-3,0,0.55339646256179753,9937904,5500317,122827500,21.78931898379675,9932151,54971340000,0,18.950262395511967,null,0,0,null,0]
[170,3.7425000000000002E-4,7.4470669999999999E-3,5421776,9930797,54185630000,9930797,54185630000,6.9999999999999745E-6,0,21.769712482896132,{"$f":"0","v":0},0,18.934745407561593,{"$f":"0","v":0},0,{"$f":"0","v":0},0,6.9739352654999745E-6,null,167,0.99962830000000003,3.7169999999999998E-4,0,7.4425339999999998E-3,0,0.5514274800154122,9937605,5480260,122352400,21.784354361532724,9931817,54770700000,0,18.946322663254641,null,0,0,null,0]
[171,3.75075E-4,7.4485999999999997E-3,5402562,9930454,53993420000,9930454,53993420000,1.0499999999999999E-5,0,21.764842726469404,{"$f":"0","v":0},0,18.930901457958708,{"$f":"0","v":0},0,{"$f":"0","v":0},0,1.0460894849999999E-5,null,168,0.99962740000000005,3.726E-4,0,7.4440000000000001E-3,0,0.54946550310157105,9937305,5460204,121877400,21.779367492496615,9931483,54570050000,0,18.942349108503262,null,0,0,null,0]
[172,3.7589999999999998E-4,7.4501339999999997E-3,5383348,9930111,53801210000,9930111,53801210000,1.4000000000000024E-5,0,21.759938208217882,{"$f":"0","v":0},0,18.927019547225907,{"$f":"0","v":0},0,{"$f":"0","v":0},0,1.3947849062000025E-5,null,169,0.99962660000000003,3.7342499999999998E-4,3.5000000000000245E-6,7.4455340000000002E-3,0,0.54751050689425984,9936996,5440990,121422400,21.774566224774045,9931140,54377840000,3.4869703155000245E-6,18.938561886236844,null,0,0,null,0]
[173,3.7672500000000001E-4,7.4516670000000004E-3,5364134,9929768,53609000000,9929768,53609000000,1.7499999999999975E-5,0,21.754998554597378,{"$f":"0","v":0},0,18.923107222379123,{"$f":"0","v":0},0,{"$f":"0","v":0},0,1.7434797913749975E-5,null,170,0.99962569999999995,3.7425000000000002E-4,6.9999999999999745E-6,7.4470669999999999E-3,0,0.54556246655615048,9936688,5421776,120967300,21.769712482896132,9930797,54185630000,6.9739352654999745E-6,18.934745407561593,null,0,0,null,0]
[174,3.7754999999999999E-4,7.4532000000000001E-3,5344919,9929425,53416790000,9929425,53416790000,2.0999999999999999E-5,0,21.75002755732438,{"$f":"0","v":0},0,18.919160184920674,{"$f":"0","v":0},0,{"$f":"0","v":0},0,2.0921741399999999E-5,null,171,0.99962490000000004,3.75075E-4,1.0499999999999999E-5,7.4485999999999997E-3,0,0.54362135733828654,9936379,5402562,120512300,21.764842726469404,9930454,53993420000,1.0460894849999999E-5,18.930901457958708,null,0,0,null,0]
[175,3.7837500000000002E-4,7.4547329999999998E-3,5325705,9929082,53224570000,9929082,53224570000,2.4500000000000023E-5,0,21.744997728000328,{"$f":"0","v":0},0,18.915186083033166,{"$f":"0","v":0},0,{"$f":"0","v":0},0,2.4408679520750023E-5,null,172,0.99962410000000002,3.7589999999999998E-4,1.4000000000000024E-5,7.4501339999999997E-3,0,0.54168715457976813,9936071,5383348,120057300,21.759938208217882,9930111,53801210000,1.3947849062000025E-5,18.927019547225907,null,0,0,null,0]
[176,3.792E-4,7.4562669999999999E-3,5306491,9928739,53032360000,9928739,53032360000,2.7999999999999972E-5,0,21.739950319021236,{"$f":"0","v":0},0,18.911170197379473,{"$f":"0","v":0},0,{"$f":"0","v":0},0,2.7895612261999973E-5,null,173,0.99962329999999999,3.7672500000000001E-4,1.7499999999999975E-5,7.4516670000000004E-3,0,0.53975983370743863,9935762,5364134,119602300,21.754998554597378,9929768,53609000000,1.7434797913749975E-5,18.923107222379123,null,0,0,null,0]
[177,3.8002499999999998E-4,7.4577999999999997E-3,5287277,9928396,52840150000,9928396,52840150000,3.15E-5,0,21.734866225406133,{"$f":"0","v":0},0,18.907126432411221,{"$f":"0","v":0},0,{"$f":"0","v":0},0,3.1382539649999999E-5,null,174,0.99962249999999997,3.7754999999999999E-4,2.0999999999999999E-5,7.4532000000000001E-3,0,0.53783937023557271,9935454,5344919,119147300,21.75002755732438,9929425,53416790000,2.0921741399999999E-5,18.919160184920674,null,0,0,null,0]
[178,3.8085000000000001E-4,7.4593330000000003E-3,5268063,9928053,52647940000,9928053,52647940000,3.5000000000000024E-5,0,21.729745045759703,{"$f":"0","v":0},0,18.903048234864279,{"$f":"0","v":0},0,{"$f":"0","v":0},0,3.4869461672500028E-5,null,175,0.9996216,3.7837500000000002E-4,2.4500000000000023E-5,7.4547329999999998E-3,0,0.53592573976556501,9935145,5325705,118692200,21.744997728000328,9929082,53224570000,2.4408679520750023E-5,18.915186083033166,null,0,0,null,0]
[179,3.8167499999999999E-4,7.4608670000000004E-3,5248849,9927710,52455730000,9927710,52455730000,3.8499999999999974E-5,0,21.724586372809224,{"$f":"0","v":0},0,18.898931055639995,{"$f":"0","v":0},0,{"$f":"0","v":0},0,3.8356378310249972E-5,null,176,0.99962079999999998,3.792E-4,2.7999999999999972E-5,7.4562669999999999E-3,0,0.53401891798562062,9934836,5306491,118237200,21.739950319021236,9928739,53032360000,2.7895612261999973E-5,18.911170197379473,null,0,0,null,0]
[180,3.8249999999999997E-4,7.4624000000000001E-3,5229635,9927367,52263520000,9927367,52263520000,4.1999999999999998E-5,0,21.7193897932966,{"$f":"0","v":0},0,18.894782643583699,{"$f":"0","v":0},0,{"$f":"0","v":0},0,4.1843289599999992E-5,null,177,0.99961999999999995,3.8002499999999998E-4,3.15E-5,7.4577999999999997E-3,0,0.53211888067044555,9934528,5287277,117782200,21.734866225406133,9928396,52840150000,3.1382539649999999E-5,18.907126432411221,null,0,0,null,0]
[181,3.834E-4,7.4640669999999996E-3,5211228,9927016,52079390000,9927016,52079390000,4.3000000000000008E-5,2.6903108333333809E-5,21.714392749655165,{"$f":"0","v":0},0,18.890830518296937,{"$f":"0","v":0},0,{"$f":"0","v":0},0,4.2839522559500013E-5,null,178,0.99961909999999998,3.8085000000000001E-4,3.5000000000000024E-5,7.4593330000000003E-3,0,0.53022560368093974,9934219,5268063,117327200,21.729745045759703,9928053,52647940000,3.4869461672500028E-5,18.903048234864279,null,0,0,null,0]
[182,3.8430000000000002E-4,7.4657329999999996E-3,5192821,9926665,51895260000,9926665,51895260000,4.3999999999999992E-5,5.3806216666667049E-5,21.709341022602807,{"$f":"0","v":0},0,18.886850116513163,{"$f":"0","v":0},0,{"$f":"0","v":0},0,4.3835753873999992E-5,null,179,0.99961840000000002,3.8167499999999999E-4,3.8499999999999974E-5,7.4608670000000004E-3,0,0.52833906296388955,9933911,5248849,116872200,21.724586372809224,9927710,52455730000,3.8356378310249972E-5,18.898931055639995,null,0,0,null,0]
[183,3.8519999999999998E-4,7.4673999999999999E-3,5174414,9926314,51711140000,9926314,51711140000,4.4999999999999996E-5,8.0709325000000859E-5,21.704272680281605,{"$f":"0","v":0},0,18.882828321778121,{"$f":"0","v":0},0,{"$f":"0","v":0},0,4.4831983499999999E-5,null,180,0.99961750000000005,3.8249999999999997E-4,4.1999999999999998E-5,7.4624000000000001E-3,0,0.52645923455166277,9933602,5229635,116417200,21.7193897932966,9927367,52263520000,4.1843289599999992E-5,18.894782643583699,null,0,0,null,0]
[184,3.8610000000000001E-4,7.4690659999999999E-3,5156007,9925963,51527010000,9925963,51527010000,4.6000000000000007E-5,1.0761243333333467E-4,21.699168149888081,{"$f":"0","v":0},0,18.878777313755222,{"$f":"0","v":0},0,{"$f":"0","v":0},0,4.5828211482000005E-5,null,181,0.99961659999999997,3.834E-4,4.3000000000000008E-5,7.4640669999999996E-3,0,0.52458609456190386,9933285,5211228,115981400,21.714392749655165,9927016,52079390000,4.2839522559500013E-5,18.890830518296937,null,0,0,null,2.6903108333333809E-5]
[185,3.8699999999999997E-4,7.4707330000000002E-3,5137600,9925612,51342880000,9925612,51342880000,4.699999999999999E-5,1.3451554166666791E-4,21.694027042458217,{"$f":"0","v":0},0,18.874696850756994,{"$f":"0","v":0},0,{"$f":"0","v":0},0,4.6824437774499991E-5,null,182,0.9996157,3.8430000000000002E-4,4.3999999999999992E-5,7.4657329999999996E-3,0,0.52271961919723087,9932969,5192821,115545500,21.709341022602807,9926665,51895260000,4.3835753873999992E-5,18.886850116513163,null,0,0,null,5.3806216666667049E-5]
[186,3.879E-4,7.4723999999999997E-3,5119193,9925261,51158750000,9925261,51158750000,4.8000000000000001E-5,1.6141865000000172E-4,21.688848963433625,{"$f":"0","v":0},0,18.870577861953045,{"$f":"0","v":0},0,{"$f":"0","v":0},0,4.7820662400000004E-5,null,183,0.99961480000000003,3.8519999999999998E-4,4.4999999999999996E-5,7.4673999999999999E-3,0,0.52085978474493233,9932652,5174414,115109700,21.704272680281605,9926314,51711140000,4.4831983499999999E-5,18.882828321778121,null,0,0,null,8.0709325000000859E-5]
[187,3.8880000000000002E-4,7.474067E-3,5100786,9924910,50974620000,9924910,50974620000,4.9000000000000012E-5,1.8832175833333553E-4,21.683633512560611,{"$f":"0","v":0},0,18.866424229993338,{"$f":"0","v":0},0,{"$f":"0","v":0},0,4.8816885358500009E-5,null,184,0.99961390000000006,3.8610000000000001E-4,4.6000000000000007E-5,7.4690659999999999E-3,0,0.51900656757666708,9932336,5156007,114673900,21.699168149888081,9925963,51527010000,4.5828211482000005E-5,18.878777313755222,null,0,0,null,1.0761243333333467E-4]
[188,3.8969999999999999E-4,7.475733E-3,5082379,9924559,50790490000,9924559,50790490000,4.9999999999999996E-5,2.1522486666666877E-4,21.678380283787046,{"$f":"0","v":0},0,18.862239903114471,{"$f":"0","v":0},0,{"$f":"0","v":0},0,4.9813106674999996E-5,null,185,0.99961299999999997,3.8699999999999997E-4,4.699999999999999E-5,7.4707330000000002E-3,0,0.51715994414816313,9932019,5137600,114238100,21.694027042458217,9925612,51342880000,4.6824437774499991E-5,18.874696850756994,null,0,0,null,1.3451554166666791E-4]
[189,3.9060000000000001E-4,7.4774000000000004E-3,5063972,9924208,50606370000,9924208,50606370000,5.1000000000000006E-5,2.4212797500000258E-4,21.673088865156966,{"$f":"0","v":0},0,18.858015679303069,{"$f":"0","v":0},0,{"$f":"0","v":0},0,5.0809326300000008E-5,null,186,0.9996121,3.879E-4,4.8000000000000001E-5,7.4723999999999997E-3,0,0.51531989099891917,9931702,5119193,113802300,21.688848963433625,9925261,51158750000,4.7820662400000004E-5,18.870577861953045,null,0,0,null,1.6141865000000172E-4]
[190,3.9149999999999998E-4,7.4790660000000004E-3,5045566,9923857,50422240000,9923857,50422240000,5.200000000000001E-5,2.6903108333333641E-4,21.667754436932018,{"$f":"0","v":0},0,18.85375547329906,{"$f":"0","v":0},0,{"$f":"0","v":0},0,5.1805544284000014E-5,null,187,0.99961120000000003,3.8880000000000002E-4,4.9000000000000012E-5,7.474067E-3,0,0.513486384751906,9931386,5100786,113366500,21.683633512560611,9924910,50974620000,4.8816885358500009E-5,18.866424229993338,null,0,0,null,1.8832175833333553E-4]
[191,3.924E-4,7.4807329999999998E-3,5027159,9923506,50238110000,9923506,50238110000,5.3000000000000001E-5,2.959341916666696E-4,21.662385363515789,{"$f":"0","v":0},0,18.84945895866284,{"$f":"0","v":0},0,{"$f":"0","v":0},0,5.2801760575499999E-5,null,188,0.99961029999999995,3.8969999999999999E-4,4.9999999999999996E-5,7.475733E-3,0,0.51165940211326999,9931069,5082379,112930700,21.678380283787046,9924559,50790490000,4.9813106674999996E-5,18.862239903114471,null,0,0,null,2.1522486666666877E-4]
[192,{"$f":"W197","v":3.9330000000000002E-4},{"$f":"Y197","v":7.4824000000000002E-3},{"$f":"AC197","v":5008752},{"$f":"AF197","v":9923155},{"$f":"AG197","v":50053980000},{"$f":"E194","v":9923155},{"$f":"F194","v":50053980000},{"$f":"X197","v":5.4000000000000005E-5},{"$f":"AN197","v":3.2283730000000344E-4},{"$f":"AE197","v":21.656976827760687},{"$f":"0","v":0},{"$f":"AL197","v":0},{"$f":"AI197","v":18.845125396745708},{"$f":"0","v":0},{"$f":"AK197","v":0},{"$f":"0","v":0},{"$f":"Z197","v":0},{"$f":"AH197","v":5.3797975200000004E-5},null,189,0.99960939999999998,3.9060000000000001E-4,5.1000000000000006E-5,7.4774000000000004E-3,0,0.50983891987203689,9930753,5063972,112494900,21.673088865156966,9924208,50606370000,5.0809326300000008E-5,18.858015679303069,null,0,0,null,2.4212797500000258E-4]
[193,3.9419999999999999E-4,7.4841990000000004E-3,4991118,9922785,49877550000,9922785,49877550000,5.4999999999999988E-5,3.9223875000000258E-4,21.651777768027124,{"$f":"0","v":0},0,18.841004933991027,{"$f":"0","v":0},0,{"$f":"0","v":0},0,5.4794184527499987E-5,null,190,0.99960850000000001,3.9149999999999998E-4,5.200000000000001E-5,7.4790660000000004E-3,0,0.50802491489981716,9930436,5045566,112059100,21.667754436932018,9923857,50422240000,5.1805544284000014E-5,18.85375547329906,null,0,0,null,2.6903108333333641E-4]
[194,3.9510000000000001E-4,7.4859999999999996E-3,4973484,9922416,49701110000,9922416,49701110000,5.6000000000000019E-5,4.6164020000000465E-4,21.646541840689544,{"$f":"0","v":0},0,18.836846155415138,{"$f":"0","v":0},0,{"$f":"0","v":0},0,5.5790392000000019E-5,null,191,0.99960760000000004,3.924E-4,5.3000000000000001E-5,7.4807329999999998E-3,0,0.50621736415051155,9930120,5027159,111623300,21.662385363515789,9923506,50238110000,5.2801760575499999E-5,18.84945895866284,null,0,0,null,2.959341916666696E-4]
[195,3.9599999999999998E-4,7.4878000000000002E-3,4955850,9922046,49524680000,9922046,49524680000,5.7000000000000003E-5,5.310416500000038E-4,21.641268652198914,{"$f":"0","v":0},0,18.832652964834796,{"$f":"0","v":0},0,{"$f":"0","v":0},0,5.6786597700000002E-5,null,192,0.99960669999999996,3.9330000000000002E-4,5.4000000000000005E-5,7.4824000000000002E-3,0,0.50441624466001922,9929803,5008752,111187500,21.656976827760687,9923155,50053980000,5.3797975200000004E-5,18.845125396745708,null,0,0,null,3.2283730000000344E-4]
[196,3.969E-4,7.4895999999999999E-3,4938217,9921676,49348240000,9921676,49348240000,5.7999999999999994E-5,6.0044310000000295E-4,21.635953312366251,{"$f":"0","v":0},0,18.828424933360008,{"$f":"0","v":0},0,{"$f":"0","v":0},0,5.7782801599999991E-5,null,193,0.99960579999999999,3.9419999999999999E-4,5.4999999999999988E-5,7.4841990000000004E-3,0,0.50262153354594541,9929478,4991118,110770100,21.651777768027124,9922785,49877550000,5.4794184527499987E-5,18.841004933991027,null,0,0,null,3.9223875000000258E-4]
[197,3.9780000000000002E-4,7.4913999999999996E-3,4920583,9921306,49171810000,9921306,49171810000,5.9000000000000018E-5,6.6984455000000502E-4,21.63060438332883,{"$f":"0","v":0},0,18.824166036095257,{"$f":"0","v":0},0,{"$f":"0","v":0},0,5.8779003700000017E-5,null,194,0.99960490000000002,3.9510000000000001E-4,5.6000000000000019E-5,7.4859999999999996E-3,0,0.50083320800731068,9929152,4973484,110352700,21.646541840689544,9922416,49701110000,5.5790392000000019E-5,18.836846155415138,null,0,0,null,4.6164020000000465E-4]
[198,3.9869999999999999E-4,7.4932000000000002E-3,4902949,9920936,48995380000,9920936,48995380000,6.0000000000000008E-5,7.3924600000000416E-4,21.625216978258049,{"$f":"0","v":0},0,18.819867024879972,{"$f":"0","v":0},0,{"$f":"0","v":0},0,5.9775204000000008E-5,null,195,0.99960400000000005,3.9599999999999998E-4,5.7000000000000003E-5,7.4878000000000002E-3,0,0.49905124532426148,9928827,4955850,109935300,21.641268652198914,9922046,49524680000,5.6786597700000002E-5,18.832652964834796,null,0,0,null,5.310416500000038E-4]
[199,3.9960000000000001E-4,7.4949999999999999E-3,4885315,9920567,48818940000,9920567,48818940000,6.0999999999999992E-5,8.0864745000000331E-4,21.619790680505417,{"$f":"0","v":0},0,18.815531842693929,{"$f":"0","v":0},0,{"$f":"0","v":0},0,6.0771402499999989E-5,null,196,0.99960309999999997,3.969E-4,5.7999999999999994E-5,7.4895999999999999E-3,0,0.49727562285778143,9928501,4938217,109517900,21.635953312366251,9921676,49348240000,5.7782801599999991E-5,18.828424933360008,null,0,0,null,6.0044310000000295E-4]
[200,4.0049999999999998E-4,7.4967999999999996E-3,4867682,9920197,48642510000,9920197,48642510000,6.2000000000000016E-5,8.7804890000000538E-4,21.614341059392675,{"$f":"0","v":0},0,18.811164495166601,{"$f":"0","v":0},0,{"$f":"0","v":0},0,6.1767599200000022E-5,null,197,0.9996022,3.9780000000000002E-4,5.9000000000000018E-5,7.4913999999999996E-3,0,0.49550631804940359,9928176,4920583,109100500,21.63060438332883,9921306,49171810000,5.8779003700000017E-5,18.824166036095257,null,0,0,null,6.6984455000000502E-4]
[201,4.014E-4,7.4986000000000002E-3,4850048,9919827,48466070000,9919827,48466070000,6.3E-5,9.4745035000000453E-4,21.608835761350541,{"$f":"0","v":0},0,18.806755605884447,{"$f":"0","v":0},0,{"$f":"0","v":0},0,6.2763794099999999E-5,null,198,0.99960130000000003,3.9869999999999999E-4,6.0000000000000008E-5,7.4932000000000002E-3,0,0.49374330842092418,9927850,4902949,108683100,21.625216978258049,9920936,48995380000,5.9775204000000008E-5,18.819867024879972,null,0,0,null,7.3924600000000416E-4]
[202,4.0230000000000002E-4,7.5003999999999999E-3,4832414,9919458,48289640000,9919458,48289640000,6.3999999999999984E-5,1.0168518000000038E-3,21.603290284455483,{"$f":"0","v":0},0,18.802309146977798,{"$f":"0","v":0},0,{"$f":"0","v":0},0,6.375998719999998E-5,null,199,0.99960039999999994,3.9960000000000001E-4,6.0999999999999992E-5,7.4949999999999999E-3,0,0.49198657157411652,9927525,4885315,108265700,21.619790680505417,9920567,48818940000,6.0771402499999989E-5,18.815531842693929,null,0,0,null,8.0864745000000331E-4]
[203,4.0319999999999999E-4,7.5021999999999997E-3,4814780,9919088,48113200000,9919088,48113200000,6.5000000000000021E-5,1.0862532500000056E-3,21.597704187245661,{"$f":"0","v":0},0,18.797824636176795,{"$f":"0","v":0},0,{"$f":"0","v":0},0,6.475617850000002E-5,null,200,0.99959949999999997,4.0049999999999998E-4,6.2000000000000016E-5,7.4967999999999996E-3,0,0.49023608519044687,9927200,4867682,107848400,21.614341059392675,9920197,48642510000,6.1767599200000022E-5,18.811164495166601,null,0,0,null,8.7804890000000538E-4]
[204,4.0410000000000001E-4,7.5040000000000003E-3,4797147,9918718,47936770000,9918718,47936770000,6.6000000000000005E-5,1.1556547000000049E-3,21.592072407829068,{"$f":"0","v":0},0,18.793306119526452,{"$f":"0","v":0},0,{"$f":"0","v":0},0,6.575236800000001E-5,null,201,0.9995986,4.014E-4,6.3E-5,7.4986000000000002E-3,0,0.48849182703079069,9926874,4850048,107431000,21.608835761350541,9919827,48466070000,6.2763794099999999E-5,18.806755605884447,null,0,0,null,9.4745035000000453E-4]
[205,4.0515000000000001E-4,7.5059330000000002E-3,4780254,9918330,47767710000,9918330,47767710000,6.6999999999999989E-5,1.2232397333333373E-3,21.586655384839382,{"$f":"0","v":0},0,18.789000042093026,{"$f":"0","v":0},0,{"$f":"0","v":0},1.0816777508333203E-2,6.674855124449999E-5,null,202,0.99959770000000003,4.0230000000000002E-4,6.3999999999999984E-5,7.5003999999999999E-3,0,0.48675377493515032,9926549,4832414,107013600,21.603290284455483,9919458,48289640000,6.375998719999998E-5,18.802309146977798,null,0,0,null,1.0168518000000038E-3]
[206,4.0620000000000001E-4,7.5078669999999997E-3,4763361,9917941,47598650000,9917941,47598650000,6.8000000000000013E-5,1.2908247666666727E-3,21.5811999394965,{"$f":"0","v":0},0,18.784663037894948,{"$f":"0","v":0},0,{"$f":"0","v":0},2.1633555016666868E-2,6.7744732522000015E-5,null,203,0.99959679999999995,4.0319999999999999E-4,6.5000000000000021E-5,7.5021999999999997E-3,0,0.48502190682237312,9926223,4814780,106596200,21.597704187245661,9919088,48113200000,6.475617850000002E-5,18.797824636176795,null,0,0,null,1.0862532500000056E-3]
[207,4.0725000000000001E-4,7.5097999999999996E-3,4746468,9917553,47429590000,9917553,47429590000,6.8999999999999997E-5,1.3584098000000051E-3,21.575726729854704,{"$f":"0","v":0},0,18.780287915564255,{"$f":"0","v":0},0,{"$f":"0","v":0},3.245033252500007E-2,6.8740911899999992E-5,null,204,0.99959589999999998,4.0410000000000001E-4,6.6000000000000005E-5,7.5040000000000003E-3,0,0.48329620068987128,9925898,4797147,106178800,21.592072407829068,9918718,47936770000,6.575236800000001E-5,18.793306119526452,null,0,0,null,1.1556547000000049E-3]
[208,4.083E-4,7.5117329999999996E-3,4729575,9917165,47260530000,9917165,47260530000,6.999999999999998E-5,1.4259948333333375E-3,21.570193278465823,{"$f":"0","v":0},0,18.775881033362886,{"$f":"0","v":0},0,{"$f":"0","v":0},4.3267110033333271E-2,6.9737089344999972E-5,null,205,0.99959489999999995,4.0515000000000001E-4,6.6999999999999989E-5,7.5059330000000002E-3,1.0816777508333203E-2,0.48157663461334171,9925564,4780254,105779000,21.586655384839382,9918330,47767710000,6.674855124449999E-5,18.789000042093026,null,0,0,null,1.2232397333333373E-3]
[209,4.0935E-4,7.5136669999999999E-3,4712682,9916776,47091470000,9916776,47091470000,7.1000000000000005E-5,1.493579866666673E-3,21.564641376184515,{"$f":"0","v":0},0,18.771430343083818,{"$f":"0","v":0},0,{"$f":"0","v":0},5.4083887541666938E-2,7.0733264821500004E-5,null,206,0.99959379999999998,4.0620000000000001E-4,6.8000000000000013E-5,7.5078669999999997E-3,2.1633555016666868E-2,0.47986318674648848,9925230,4763361,105379200,21.5811999394965,9917941,47598650000,6.7744732522000015E-5,18.784663037894948,null,0,0,null,1.2908247666666727E-3]
[210,4.104E-4,7.5155999999999999E-3,4695789,9916388,46922410000,9916388,46922410000,7.1999999999999988E-5,1.5611649000000054E-3,21.559028232529187,{"$f":"0","v":0},0,18.766946991148085,{"$f":"0","v":0},0,{"$f":"0","v":0},6.4900665050000139E-2,7.1729438399999981E-5,null,207,0.9995927,4.0725000000000001E-4,6.8999999999999997E-5,7.5097999999999996E-3,3.245033252500007E-2,0.47815583532074435,9924895,4746468,104979500,21.575726729854704,9917553,47429590000,6.8740911899999992E-5,18.780287915564255,null,0,0,null,1.3584098000000051E-3]
[211,4.1145E-4,7.5175329999999999E-3,4678896,9916000,46753350000,9916000,46753350000,7.2999999999999985E-5,1.6287499333333378E-3,21.55337455673304,{"$f":"0","v":0},0,18.762421236290322,{"$f":"0","v":0},0,{"$f":"0","v":0},7.5717442558333348E-2,7.2725610045499989E-5,null,208,0.99959169999999997,4.083E-4,6.999999999999998E-5,7.5117329999999996E-3,4.3267110033333271E-2,0.47645455864499453,9924561,4729575,104579700,21.570193278465823,9917165,47260530000,6.9737089344999972E-5,18.775881033362886,null,0,0,null,1.4259948333333375E-3]
[212,4.125E-4,7.5194670000000002E-3,4662003,9915611,46584300000,9915611,46584300000,7.400000000000001E-5,1.6963349666666732E-3,21.547701358193034,{"$f":"0","v":0},0,18.757861906962322,{"$f":"0","v":0},0,{"$f":"0","v":0},8.6534220066667E-2,7.3721779721000013E-5,null,209,0.9995906,4.0935E-4,7.1000000000000005E-5,7.5136669999999999E-3,5.4083887541666938E-2,0.47475933510530133,9924227,4712682,104180000,21.564641376184515,9916776,47091470000,7.0733264821500004E-5,18.771430343083818,null,0,0,null,1.493579866666673E-3]
[213,4.1355E-4,7.5214000000000001E-3,4645110,9915223,46415230000,9915223,46415230000,7.4999999999999993E-5,1.7639200000000056E-3,21.541965367881492,{"$f":"0","v":0},0,18.753261607941138,{"$f":"0","v":0},0,{"$f":"0","v":0},9.7350997575000209E-2,7.4717947499999991E-5,null,210,0.99958959999999997,4.104E-4,7.1999999999999988E-5,7.5155999999999999E-3,6.4900665050000139E-2,0.47307014316462931,9923892,4695789,103780200,21.559028232529187,9916388,46922410000,7.1729438399999981E-5,18.766946991148085,null,0,0,null,1.5611649000000054E-3]
[214,4.1459999999999999E-4,7.5233330000000001E-3,4628217,9914835,46246170000,9914835,46246170000,7.5999999999999977E-5,1.831505033333338E-3,21.536209111413747,{"$f":"0","v":0},0,18.748626810472079,{"$f":"0","v":0},0,{"$f":"0","v":0},0.10816777508333342,7.5714113345999972E-5,null,211,0.99958849999999999,4.1145E-4,7.2999999999999985E-5,7.5175329999999999E-3,7.5717442558333348E-2,0.47138696136257152,9923558,4678896,103380400,21.55337455673304,9916000,46753350000,7.2725610045499989E-5,18.762421236290322,null,0,0,null,1.6287499333333378E-3]
[215,4.1564999999999999E-4,7.5252670000000004E-3,4611324,9914446,46077120000,9914446,46077120000,7.7000000000000001E-5,1.8990900666666735E-3,21.530388994570757,{"$f":"0","v":0},0,18.743945135053195,{"$f":"0","v":0},0,{"$f":"0","v":0},0.11898455259166707,7.6710277220500003E-5,null,212,0.99958749999999996,4.125E-4,7.400000000000001E-5,7.5194670000000002E-3,8.6534220066667E-2,0.46970976831507733,9923224,4662003,102980700,21.547701358193034,9915611,46584300000,7.3721779721000013E-5,18.757861906962322,null,0,0,null,1.6963349666666732E-3]
[216,4.1669999999999999E-4,7.5272000000000004E-3,4594431,9914058,45908060000,9914058,45908060000,7.7999999999999985E-5,1.9666751000000059E-3,21.524526078419722,{"$f":"0","v":0},0,18.739227962533135,{"$f":"0","v":0},0,{"$f":"0","v":0},0.12980133010000028,7.7706439199999982E-5,null,213,0.99958650000000004,4.1355E-4,7.4999999999999993E-5,7.5214000000000001E-3,9.7350997575000209E-2,0.46803854271418044,9922890,4645110,102580900,21.541965367881492,9915223,46415230000,7.4717947499999991E-5,18.753261607941138,null,0,0,null,1.7639200000000056E-3]
[217,4.1797500000000001E-4,7.529333E-3,4578248,9913650,45270520000,9913650,45270520000,7.9499999999999967E-5,2.0324437166666714E-3,21.518911965159305,{"$f":"0","v":0},0,18.734738573750345,{"$f":"0","v":0},0,{"$f":"0","v":0},0.13033889130833359,7.9200709013249967E-5,null,214,0.99958539999999996,4.1459999999999999E-4,7.5999999999999977E-5,7.5233330000000001E-3,0.10816777508333342,0.46637326332772799,9922556,4628217,102181200,21.536209111413747,9914835,46246170000,7.5714113345999972E-5,18.748626810472079,null,0,0,null,1.831505033333338E-3]
[218,4.1925000000000003E-4,7.531467E-3,4562064,9913241,44632970000,9913241,44632970000,8.1000000000000004E-5,2.0982123333333396E-3,21.513240936558539,{"$f":"0","v":0},0,18.73021215742731,{"$f":"0","v":0},0,{"$f":"0","v":0},0.13087645251666691,8.069497558650001E-5,null,215,0.99958440000000004,4.1564999999999999E-4,7.7000000000000001E-5,7.5252670000000004E-3,0.11898455259166707,0.46471390899911136,9922221,4611324,101781400,21.530388994570757,9914446,46077120000,7.6710277220500003E-5,18.743945135053195,null,0,0,null,1.8990900666666735E-3]
[219,4.2052499999999999E-4,7.5335999999999997E-3,4545880,9912832,43995420000,9912832,43995420000,8.2499999999999986E-5,2.1639809500000051E-3,21.507529528569457,{"$f":"0","v":0},0,18.725648253573961,{"$f":"0","v":0},0,{"$f":"0","v":0},0.13141401372500022,8.2189238999999989E-5,{"$f":"U221/12","v":18},216,0.99958329999999995,4.1669999999999999E-4,7.7999999999999985E-5,7.5272000000000004E-3,0.12980133010000028,0.46306045864699685,9921887,4594431,101381600,21.524526078419722,9914058,45908060000,7.7706439199999982E-5,18.739227962533135,null,0,0,null,1.9666751000000059E-3]
[220,4.2180000000000001E-4,7.5357330000000002E-3,4529697,9912424,43357880000,9912424,43357880000,8.3999999999999968E-5,2.2297495666666707E-3,21.501781272566355,{"$f":"0","v":0},0,18.721043886139253,{"$f":"0","v":0},0,{"$f":"0","v":0},0.13195157493333354,8.3683499213999964E-5,null,217,0.99958210000000003,4.1797500000000001E-4,7.9499999999999967E-5,7.529333E-3,0.13033889130833359,0.46141289126505808,9921542,4578248,100998800,21.518911965159305,9913650,45270520000,7.9200709013249967E-5,18.734738573750345,null,0,0,null,2.0324437166666714E-3]
[221,4.2307500000000002E-4,7.5378670000000002E-3,4513513,9912016,42720340000,9912016,42720340000,8.5500000000000018E-5,2.2955181833333388E-3,21.49599667893575,{"$f":"0","v":0},0,18.716403586017705,{"$f":"0","v":0},0,{"$f":"0","v":0},0.13248913614166685,8.5177756185750018E-5,null,218,0.99958069999999999,4.1925000000000003E-4,8.1000000000000004E-5,7.531467E-3,0.13087645251666691,0.45977118592170918,9921198,4562064,100615900,21.513240936558539,9913241,44632970000,8.069497558650001E-5,18.73021215742731,null,0,0,null,2.0982123333333396E-3]
[222,4.2434999999999999E-4,7.5399999999999998E-3,4497329,9911607,42082790000,9911607,42082790000,8.7000000000000001E-5,2.3612868000000044E-3,21.490168229112584,{"$f":"0","v":0},0,18.711726712355215,{"$f":"0","v":0},0,{"$f":"0","v":0},0.13302669735000017,8.667201E-5,null,219,0.99957949999999995,4.2052499999999999E-4,8.2499999999999986E-5,7.5335999999999997E-3,0.13141401372500022,0.45813532175983879,9920854,4545880,100233000,21.507529528569457,9912832,43995420000,8.2189238999999989E-5,18.725648253573961,null,0,0,null,2.1639809500000051E-3]
[223,4.2562500000000001E-4,7.5421330000000003E-3,4481146,9911198,41445240000,9911198,41445240000,8.8499999999999969E-5,2.4270554166666699E-3,21.484292764246764,{"$f":"0","v":0},0,18.707010641145121,{"$f":"0","v":0},0,{"$f":"0","v":0},0.13356425855833348,8.8166260614749964E-5,null,220,0.99957819999999997,4.2180000000000001E-4,8.3999999999999968E-5,7.5357330000000002E-3,0.13195157493333354,0.45650527799654489,9920509,4529697,99850140,21.501781272566355,9912424,43357880000,8.3683499213999964E-5,18.721043886139253,null,0,0,null,2.2297495666666707E-3]
[224,4.2690000000000002E-4,7.5442670000000003E-3,4464962,9910790,40807700000,9910790,40807700000,9.0000000000000019E-5,2.4928240333333381E-3,21.478379640558344,{"$f":"0","v":0},0,18.702249584213373,{"$f":"0","v":0},0,{"$f":"0","v":0},0.1341018197666668,8.9660507985000017E-5,null,221,0.99957689999999999,4.2307500000000002E-4,8.5500000000000018E-5,7.5378670000000002E-3,0.13248913614166685,0.45488103392287127,9920164,4513513,99467280,21.49599667893575,9912016,42720340000,8.5177756185750018E-5,18.716403586017705,null,0,0,null,2.2955181833333388E-3]
[225,4.2817499999999999E-4,7.5464E-3,4448778,9910382,40170160000,9910382,40170160000,9.1500000000000001E-5,2.5585926500000036E-3,21.472423494721472,{"$f":"0","v":0},0,18.697450653477819,{"$f":"0","v":0},0,{"$f":"0","v":0},0.13463938097500011,9.1154752200000002E-5,null,222,0.99957569999999996,4.2434999999999999E-4,8.7000000000000001E-5,7.5399999999999998E-3,0.13302669735000017,0.45326256890354377,9919820,4497329,99084410,21.490168229112584,9911607,42082790000,8.667201E-5,18.711726712355215,null,0,0,null,2.3612868000000044E-3]
[226,4.2945E-4,7.5485329999999996E-3,4432595,9909973,39532610000,9909973,39532610000,9.2999999999999984E-5,2.6243612666666692E-3,21.466418890439272,{"$f":"0","v":0},0,18.69261079179493,{"$f":"0","v":0},0,{"$f":"0","v":0},0.13517694218333343,9.2648993215499982E-5,null,223,0.99957439999999997,4.2562500000000001E-4,8.8499999999999969E-5,7.5421330000000003E-3,0.13356425855833348,0.45164986237670873,9919476,4481146,98701540,21.484292764246764,9911198,41445240000,8.8166260614749964E-5,18.707010641145121,null,0,0,null,2.4270554166666699E-3]
[227,4.3072500000000002E-4,7.5506669999999996E-3,4416411,9909564,38895070000,9909564,38895070000,9.450000000000002E-5,2.6901298833333373E-3,21.460375262854836,{"$f":"0","v":0},0,18.68772947326077,{"$f":"0","v":0},0,{"$f":"0","v":0},0.13571450339166674,9.414323098425002E-5,null,224,0.99957309999999999,4.2690000000000002E-4,9.0000000000000019E-5,7.5442670000000003E-3,0.1341018197666668,0.45004289385367136,9919131,4464962,98318670,21.478379640558344,9910790,40807700000,8.9660507985000017E-5,18.702249584213373,null,0,0,null,2.4928240333333381E-3]
[228,4.3199999999999998E-4,7.5528000000000001E-3,4400227,9909156,38257520000,9909156,38257520000,9.6000000000000002E-5,2.7558985000000029E-3,21.454287178441778,{"$f":"0","v":0},0,18.682806162923168,{"$f":"0","v":0},0,{"$f":"0","v":0},0.13625206460000006,9.5637465600000008E-5,null,225,0.99957180000000001,4.2817499999999999E-4,9.1500000000000001E-5,7.5464E-3,0.13463938097500011,0.44844164291863547,9918786,4448778,97935800,21.472423494721472,9910382,40170160000,9.1154752200000002E-5,18.697450653477819,null,0,0,null,2.5585926500000036E-3]
[229,4.3342499999999998E-4,7.5550000000000001E-3,4384722,9908720,37706440000,9908720,37706440000,9.7499999999999985E-5,2.819850700000002E-3,21.448438977431181,{"$f":"0","v":0},0,18.678126465530717,{"$f":"0","v":0},0,{"$f":"0","v":0},0.13663105984166674,9.7131693749999981E-5,null,226,0.99957050000000003,4.2945E-4,9.2999999999999984E-5,7.5485329999999996E-3,0.13517694218333343,0.44684608922844449,9918442,4432595,97552930,21.466418890439272,9909973,39532610000,9.2648993215499982E-5,18.69261079179493,null,0,0,null,2.6243612666666692E-3]
[230,4.3485000000000003E-4,7.5572E-3,4369217,9908284,37155360000,9908284,37155360000,9.9000000000000021E-5,2.8838029000000038E-3,21.4425515582464,{"$f":"0","v":0},0,18.673405738863952,{"$f":"0","v":0},0,{"$f":"0","v":0},0.13701005508333342,9.862591860000002E-5,null,227,0.99956929999999999,4.3072500000000002E-4,9.450000000000002E-5,7.5506669999999996E-3,0.13571450339166674,0.44525621251232228,9918098,4416411,97170060,21.460375262854836,9909564,38895070000,9.414323098425002E-5,18.68772947326077,null,0,0,null,2.6901298833333373E-3]
[231,4.3627500000000002E-4,7.5594E-3,4353712,9907849,36604280000,9907849,36604280000,1.005E-4,2.9477551000000029E-3,21.436622204990439,{"$f":"0","v":0},0,18.668645896216574,{"$f":"0","v":0},0,{"$f":"0","v":0},0.13738905032500009,1.0012014015E-4,null,228,0.99956800000000001,4.3199999999999998E-4,9.6000000000000002E-5,7.5528000000000001E-3,0.13625206460000006,0.4436719925716166,9917753,4400227,96787190,21.454287178441778,9909156,38257520000,9.5637465600000008E-5,18.682806162923168,null,0,0,null,2.7558985000000029E-3]
[232,4.3770000000000001E-4,7.5615999999999999E-3,4338207,9907413,36053200000,9907413,36053200000,1.0199999999999999E-4,3.011707300000002E-3,21.430648162939203,{"$f":"0","v":0},0,18.663848877720582,{"$f":"0","v":0},0,{"$f":"0","v":0},0.13776804556666677,1.0161435839999998E-4,null,229,0.99956659999999997,4.3342499999999998E-4,9.7499999999999985E-5,7.5550000000000001E-3,0.13663105984166674,0.44209340927954155,9917396,4384722,96420500,21.448438977431181,9908720,37706440000,9.7131693749999981E-5,18.678126465530717,null,0,0,null,2.819850700000002E-3]
[233,4.3912500000000001E-4,7.5637999999999999E-3,4322702,9906977,35502120000,9906977,35502120000,1.0350000000000002E-4,3.0756595000000038E-3,21.424633577948853,{"$f":"0","v":0},0,18.659006690303915,{"$f":"0","v":0},0,{"$f":"0","v":0},0.13814704080833345,1.0310857335000002E-4,null,230,0.99956509999999998,4.3485000000000003E-4,9.9000000000000021E-5,7.5572E-3,0.13701005508333342,0.44052044258092238,9917039,4369217,96053820,21.4425515582464,9908284,37155360000,9.862591860000002E-5,18.673405738863952,null,0,0,null,2.8838029000000038E-3]
[234,4.4055E-4,7.5659999999999998E-3,4307197,9906542,34951040000,9906542,34951040000,1.05E-4,3.1396117000000029E-3,21.418573368790266,{"$f":"0","v":0},0,18.654131641707959,{"$f":"0","v":0},0,{"$f":"0","v":0},0.13852603605000013,1.0460278500000001E-4,null,231,0.9995638,4.3627500000000002E-4,1.005E-4,7.5594E-3,0.13738905032500009,0.43895307249194038,9916682,4353712,95687140,21.436622204990439,9907849,36604280000,1.0012014015E-4,18.668645896216574,null,0,0,null,2.9477551000000029E-3]
[235,4.41975E-4,7.5681999999999998E-3,4291692,9906106,34399960000,9906106,34399960000,1.0649999999999999E-4,3.203563900000002E-3,21.412469371054584,{"$f":"0","v":0},0,18.649210388723212,{"$f":"0","v":0},0,{"$f":"0","v":0},0.13890503129166681,1.0609699334999999E-4,null,232,0.99956230000000001,4.3770000000000001E-4,1.0199999999999999E-4,7.5615999999999999E-3,0.13776804556666677,0.43739127909987963,9916325,4338207,95320450,21.430648162939203,9907413,36053200000,1.0161435839999998E-4,18.663848877720582,null,0,0,null,3.011707300000002E-3]
[236,4.4339999999999999E-4,7.5703999999999997E-3,4276187,9905670,33848880000,9905670,33848880000,1.0800000000000002E-4,3.2675161000000038E-3,21.406323446955586,{"$f":"0","v":0},0,18.644244813050193,{"$f":"0","v":0},0,{"$f":"0","v":0},0.13928402653333349,1.0759119840000002E-4,null,233,0.99956089999999997,4.3912500000000001E-4,1.0350000000000002E-4,7.5637999999999999E-3,0.13814704080833345,0.43583504256287314,9915968,4322702,94953770,21.424633577948853,9906977,35502120000,1.0310857335000002E-4,18.659006690303915,null,0,0,null,3.0756595000000038E-3]
[237,4.4482499999999998E-4,7.5725999999999996E-3,4260682,9905234,33297800000,9905234,33297800000,1.0950000000000001E-4,3.3314683000000029E-3,21.400130444687804,{"$f":"0","v":0},0,18.639244904875472,{"$f":"0","v":0},0,{"$f":"0","v":0},0.13966302177500017,1.0908540015E-4,null,234,0.99955950000000005,4.4055E-4,1.05E-4,7.5659999999999998E-3,0.13852603605000013,0.43428434310965147,9915610,4307197,94587080,21.418573368790266,9906542,34951040000,1.0460278500000001E-4,18.654131641707959,null,0,0,null,3.1396117000000029E-3]
[238,4.4624999999999998E-4,7.5747999999999996E-3,4245177,9904798,32746710000,9904798,32746710000,1.1099999999999999E-4,3.395420500000002E-3,21.393894559637914,{"$f":"0","v":0},0,18.634197139377175,{"$f":"0","v":0},0,{"$f":"0","v":0},0.14004201701666685,1.1057959859999998E-4,null,235,0.99955799999999995,4.41975E-4,1.0649999999999999E-4,7.5681999999999998E-3,0.13890503129166681,0.43273916103929111,9915253,4291692,94220390,21.412469371054584,9906106,34399960000,1.0609699334999999E-4,18.649210388723212,null,0,0,null,3.203563900000002E-3]
[239,4.4767500000000003E-4,7.5770000000000004E-3,4229672,9904363,32195630000,9904363,32195630000,1.1250000000000002E-4,3.4593727000000038E-3,21.387612955961281,{"$f":"0","v":0},0,18.629106114218036,{"$f":"0","v":0},0,{"$f":"0","v":0},0.14042101225833353,1.1207379375000002E-4,null,236,0.99955660000000002,4.4339999999999999E-4,1.0800000000000002E-4,7.5703999999999997E-3,0.13928402653333349,0.43119947672096459,9914896,4276187,93853710,21.406323446955586,9905670,33848880000,1.0759119840000002E-4,18.644244813050193,null,0,0,null,3.2675161000000038E-3]
[240,4.4910000000000002E-4,7.5792000000000003E-3,4214167,9903927,31644550000,9903927,31644550000,1.1400000000000001E-4,3.5233249000000029E-3,21.38128275607809,{"$f":"0","v":0},0,18.623973771948613,{"$f":"0","v":0},0,{"$f":"0","v":0},0.14080000750000021,1.1356798560000002E-4,null,237,0.99955519999999998,4.4482499999999998E-4,1.0950000000000001E-4,7.5725999999999996E-3,0.13966302177500017,0.42966527059369058,9914539,4260682,93487020,21.400130444687804,9905234,33297800000,1.0908540015E-4,18.639244904875472,null,0,0,null,3.3314683000000029E-3]
[241,4.506E-4,7.5816670000000003E-3,4199312,9903463,31177170000,9903463,31177170000,1.1599999999999997E-4,3.5854606833333352E-3,21.375206859282343,{"$f":"0","v":0},0,18.619088801369021,{"$f":"0","v":0},0,{"$f":"0","v":0},0.14103665317500022,1.1556026331399997E-4,null,238,0.99955369999999999,4.4624999999999998E-4,1.1099999999999999E-4,7.5747999999999996E-3,0.14004201701666685,0.42813652316608591,9914182,4245177,93120340,21.393894559637914,9904798,32746710000,1.1057959859999998E-4,18.634197139377175,null,0,0,null,3.395420500000002E-3]
[242,4.5209999999999998E-4,7.5841329999999998E-3,4184456,9902998,30709780000,9902998,30709780000,1.1800000000000004E-4,3.6475964666666705E-3,21.36909305932878,{"$f":"0","v":0},0,18.614166019663397,{"$f":"0","v":0},0,{"$f":"0","v":0},0.1412732988500002,1.1755253615300004E-4,null,239,0.99955229999999995,4.4767500000000003E-4,1.1250000000000002E-4,7.5770000000000004E-3,0.14042101225833353,0.42661321501611743,9913825,4229672,92753660,21.387612955961281,9904363,32195630000,1.1207379375000002E-4,18.629106114218036,null,0,0,null,3.4593727000000038E-3]
[243,4.5360000000000002E-4,7.5865999999999998E-3,4169601,9902534,30242390000,9902534,30242390000,1.2E-4,3.7097322500000028E-3,21.362928041556014,{"$f":"0","v":0},0,18.60920518711352,{"$f":"0","v":0},0,{"$f":"0","v":0},0.14150994452500021,1.1954480400000001E-4,null,240,0.99955090000000002,4.4910000000000002E-4,1.1400000000000001E-4,7.5792000000000003E-3,0.14080000750000021,0.42509532679085571,9913468,4214167,92386970,21.38128275607809,9903927,31644550000,1.1356798560000002E-4,18.623973771948613,null,0,0,null,3.5233249000000029E-3]
[244,4.551E-4,7.5890660000000002E-3,4154746,9902069,29775010000,9902069,29775010000,1.2199999999999997E-4,3.7718680333333351E-3,21.356723752386628,{"$f":"0","v":0},0,18.604197743018805,{"$f":"0","v":0},0,{"$f":"0","v":0},0.14174659020000022,1.2153706697399997E-4,null,241,0.99954940000000003,4.506E-4,1.1599999999999997E-4,7.5816670000000003E-3,0.14103665317500022,0.4235828392062288,9913097,4199312,92035790,21.375206859282343,9903463,31177170000,1.1556026331399997E-4,18.619088801369021,null,0,0,null,3.5854606833333352E-3]
[245,4.5659999999999999E-4,7.5915330000000001E-3,4139891,9901605,29307630000,9901605,29307630000,1.2400000000000003E-4,3.8340038166666704E-3,21.350472522505221,{"$f":"0","v":0},0,18.599153771409913,{"$f":"0","v":0},0,{"$f":"0","v":0},0.1419832358750002,1.2352932495400003E-4,null,242,0.99954790000000004,4.5209999999999998E-4,1.1800000000000004E-4,7.5841329999999998E-3,0.1412732988500002,0.42207573304677765,9912726,4184456,91684610,21.36909305932878,9902998,30709780000,1.1755253615300004E-4,18.614166019663397,null,0,0,null,3.6475964666666705E-3]
[246,4.5810000000000002E-4,7.5940000000000001E-3,4125036,9901140,28840240000,9901140,28840240000,1.26E-4,3.8961396000000027E-3,21.344176269007107,{"$f":"0","v":0},0,18.594067454950135,{"$f":"0","v":0},0,{"$f":"0","v":0},0.1422198815500002,1.2552157799999999E-4,null,243,0.99954639999999995,4.5360000000000002E-4,1.2E-4,7.5865999999999998E-3,0.14150994452500021,0.42057398916541133,9912355,4169601,91333420,21.362928041556014,9902534,30242390000,1.1954480400000001E-4,18.60920518711352,null,0,0,null,3.7097322500000028E-3]
[247,4.596E-4,7.596467E-3,4110181,9900676,28372850000,9900676,28372850000,1.2799999999999997E-4,3.9582753833333354E-3,21.337832070736866,{"$f":"0","v":0},0,18.58893007467238,{"$f":"0","v":0},0,{"$f":"0","v":0},0.14245652722500021,1.2751382611199996E-4,null,244,0.99954489999999996,4.551E-4,1.2199999999999997E-4,7.5890660000000002E-3,0.14174659020000022,0.41907758848316479,9911984,4154746,90982250,21.356723752386628,9902069,29775010000,1.2153706697399997E-4,18.604197743018805,null,0,0,null,3.7718680333333351E-3]
[248,4.6109999999999999E-4,7.5989330000000004E-3,4095326,9900212,27905470000,9900212,27905470000,1.3000000000000002E-4,4.0204111666666698E-3,21.331446731387601,{"$f":"0","v":0},0,18.583757419808887,{"$f":"0","v":0},0,{"$f":"0","v":0},0.14269317290000019,1.2950606935500003E-4,null,245,0.99954339999999997,4.5659999999999999E-4,1.2400000000000003E-4,7.5915330000000001E-3,0.1419832358750002,0.41758651198895519,9911613,4139891,90631070,21.350472522505221,9901605,29307630000,1.2352932495400003E-4,18.599153771409913,null,0,0,null,3.8340038166666704E-3]
[249,4.6260000000000002E-4,7.6014000000000003E-3,4080471,9899747,27438080000,9899747,27438080000,1.3200000000000001E-4,4.0825469500000025E-3,21.325012449543202,{"$f":"0","v":0},0,18.578535368988749,{"$f":"0","v":0},0,{"$f":"0","v":0},0.1429298185750002,1.3149830760000002E-4,null,246,0.99954189999999998,4.5810000000000002E-4,1.26E-4,7.5940000000000001E-3,0.1422198815500002,0.41610074073934172,9911242,4125036,90279890,21.344176269007107,9901140,28840240000,1.2552157799999999E-4,18.594067454950135,null,0,0,null,3.8961396000000027E-3]
[250,4.6410000000000001E-4,7.6038670000000003E-3,4065615,9899283,26970700000,9899283,26970700000,1.3399999999999998E-4,4.1446827333333353E-3,21.318536525224349,{"$f":"0","v":0},0,18.573274171289906,{"$f":"0","v":0},0,{"$f":"0","v":0},0.14316646425000021,1.3349054091099996E-4,null,247,0.9995404,4.596E-4,1.2799999999999997E-4,7.596467E-3,0.14245652722500021,0.4146202558582836,9910871,4110181,89928700,21.337832070736866,9900676,28372850000,1.2751382611199996E-4,18.58893007467238,null,0,0,null,3.9582753833333354E-3]
[251,4.6559999999999999E-4,7.6063329999999998E-3,4050760,9898818,26503310000,9898818,26503310000,1.3600000000000003E-4,4.2068185166666697E-3,21.312005236877358,{"$f":"0","v":0},0,18.567965000830554,{"$f":"0","v":0},0,{"$f":"0","v":0},0.14340310992500019,1.3548276935600002E-4,null,248,0.99953890000000001,4.6109999999999999E-4,1.3000000000000002E-4,7.5989330000000004E-3,0.14269317290000019,0.41314503853690143,9910500,4095326,89577530,21.331446731387601,9900212,27905470000,1.2950606935500003E-4,18.583757419808887,null,0,0,null,4.0204111666666698E-3]
[252,4.6710000000000002E-4,7.6087999999999998E-3,4035905,9898354,26035930000,9898354,26035930000,1.3799999999999999E-4,4.2689543000000024E-3,21.305430824478442,{"$f":"0","v":0},0,18.562607494944508,{"$f":"0","v":0},0,{"$f":"0","v":0},0.1436397556000002,1.3747499279999998E-4,null,249,0.99953740000000002,4.6260000000000002E-4,1.3200000000000001E-4,7.6014000000000003E-3,0.1429298185750002,0.41167507003323756,9910129,4080471,89226350,21.325012449543202,9899747,27438080000,1.3149830760000002E-4,18.578535368988749,null,0,0,null,4.0825469500000025E-3]
[253,4.6882500000000003E-4,7.6113999999999999E-3,4021673,9897855,25645410000,9897855,25645410000,1.3999999999999996E-4,4.3292736666666687E-3,21.299114520665071,{"$f":"0","v":0},0,18.557519475270364,{"$f":"0","v":0},0,{"$f":"0","v":0},0.14374956290833352,1.3946720199999995E-4,null,250,0.99953590000000003,4.6410000000000001E-4,1.3399999999999998E-4,7.6038670000000003E-3,0.14316646425000021,0.4102103316720182,9909758,4065615,88875170,21.318536525224349,9899283,26970700000,1.3349054091099996E-4,18.573274171289906,null,0,0,null,4.1446827333333353E-3]
[254,4.7055000000000003E-4,7.6140000000000001E-3,4007440,9897357,25254890000,9897357,25254890000,1.4200000000000004E-4,4.3895930333333368E-3,21.292761297320315,{"$f":"0","v":0},0,18.552389421858344,{"$f":"0","v":0},0,{"$f":"0","v":0},0.14385937021666684,1.4145940600000003E-4,null,251,0.99953440000000005,4.6559999999999999E-4,1.3600000000000003E-4,7.6063329999999998E-3,0.14340310992500019,0.40875080484441589,9909387,4050760,88523980,21.312005236877358,9898818,26503310000,1.3548276935600002E-4,18.567965000830554,null,0,0,null,4.2068185166666697E-3]
[255,4.7227499999999997E-4,7.6166000000000003E-3,3993207,9896858,24864360000,9896858,24864360000,1.44E-4,4.4499124000000031E-3,21.286360280095671,{"$f":"0","v":0},0,18.547214170956774,{"$f":"0","v":0},0,{"$f":"0","v":0},0.14396917752500016,1.4345160480000002E-4,null,252,0.99953289999999995,4.6710000000000002E-4,1.3799999999999999E-4,7.6087999999999998E-3,0.1436397556000002,0.40729647100781369,9909016,4035905,88172810,21.305430824478442,9898354,26035930000,1.3747499279999998E-4,18.562607494944508,null,0,0,null,4.2689543000000024E-3]
[256,{"$f":"W261","v":4.7399999999999997E-4},{"$f":"Y261","v":7.6191999999999996E-3},{"$f":"AC261","v":3978975},{"$f":"AF261","v":9896359},{"$f":"AG261","v":24473840000},{"$f":"E258","v":9896359},{"$f":"F258","v":24473840000},{"$f":"X261","v":1.4599999999999997E-4},{"$f":"AN261","v":4.5102317666666693E-3},{"$f":"AE261","v":21.279907985096663},{"$f":"0","v":0},{"$f":"AL261","v":0},{"$f":"AI261","v":18.54199554522361},{"$f":"0","v":0},{"$f":"AK261","v":0},{"$f":"0","v":0},{"$f":"Z261","v":0.14407898483333348},{"$f":"AH261","v":1.4544379839999999E-4},null,253,0.99953110000000001,4.6882500000000003E-4,1.3999999999999996E-4,7.6113999999999999E-3,0.14374956290833352,0.40584731168556887,9908630,4021673,87836480,21.299114520665071,9897855,25645410000,1.3946720199999995E-4,18.557519475270364,null,0,0,null,4.3292736666666687E-3]
[257,4.7572499999999998E-4,7.6217999999999998E-3,3964742,9895861,24083320000,9895861,24083320000,1.4800000000000002E-4,4.5705511333333374E-3,21.27341739176639,{"$f":"0","v":0},0,18.536739125297135,{"$f":"0","v":0},0,{"$f":"0","v":0},0.1441887921416668,1.4743598680000002E-4,null,254,0.99952940000000001,4.7055000000000003E-4,1.4200000000000004E-4,7.6140000000000001E-3,0.14385937021666684,0.40440330846677885,9908244,4007440,87500160,21.292761297320315,9897357,25254890000,1.4145940600000003E-4,18.552389421858344,null,0,0,null,4.3895930333333368E-3]
[258,4.7744999999999998E-4,7.6243999999999999E-3,3950510,9895362,23692800000,9895362,23692800000,1.5000000000000001E-4,4.6308705000000037E-3,21.266874509029634,{"$f":"0","v":0},0,18.53142999747573,{"$f":"0","v":0},0,{"$f":"0","v":0},0.14429859945000012,1.4942817E-4,null,255,0.99952779999999997,4.7227499999999997E-4,1.44E-4,7.6166000000000003E-3,0.14396917752500016,0.40296444300604661,9907859,3993207,87163830,21.286360280095671,9896858,24864360000,1.4345160480000002E-4,18.547214170956774,null,0,0,null,4.4499124000000031E-3]
[259,4.7917499999999998E-4,7.6270000000000001E-3,3936277,9894863,23302280000,9894863,23302280000,1.5199999999999998E-4,4.69118986666667E-3,21.260287311673778,{"$f":"0","v":0},0,18.526081720944752,{"$f":"0","v":0},0,{"$f":"0","v":0},0.14440840675833344,1.5142034799999998E-4,null,256,0.99952600000000003,4.7399999999999997E-4,1.4599999999999997E-4,7.6191999999999996E-3,0.14407898483333348,0.40153069702324828,9907473,3978975,86827500,21.279907985096663,9896359,24473840000,1.4544379839999999E-4,18.54199554522361,null,0,0,null,4.5102317666666693E-3]
[260,4.8089999999999998E-4,7.6295989999999999E-3,3922044,9894365,22911760000,9894365,22911760000,1.5400000000000003E-4,4.751509233333338E-3,21.253654854458542,{"$f":"0","v":0},0,18.520688137760274,{"$f":"0","v":0},0,{"$f":"0","v":0},0.14451821406666676,1.5341252087700005E-4,null,257,0.99952430000000003,4.7572499999999998E-4,1.4800000000000002E-4,7.6217999999999998E-3,0.1441887921416668,0.40010205230330048,9907087,3964742,86491180,21.27341739176639,9895861,24083320000,1.4743598680000002E-4,18.536739125297135,null,0,0,null,4.5705511333333374E-3]
[261,4.8262499999999998E-4,7.6321999999999996E-3,3907812,9893866,22521240000,9893866,22521240000,1.56E-4,4.8118286000000043E-3,21.246965949231946,{"$f":"0","v":0},0,18.515242991608414,{"$f":"0","v":0},0,{"$f":"0","v":0},0.14462802137500008,1.554046884E-4,null,258,0.99952260000000004,4.7744999999999998E-4,1.5000000000000001E-4,7.6243999999999999E-3,0.14429859945000012,0.39867849069592903,9906702,3950510,86154860,21.266874509029634,9895362,23692800000,1.4942817E-4,18.53142999747573,null,0,0,null,4.6308705000000037E-3]
[262,4.8434999999999998E-4,7.6347990000000003E-3,3893579,9893367,22130710000,9893367,22130710000,1.5799999999999999E-4,4.8721479666666706E-3,21.24023373910396,{"$f":"0","v":0},0,18.509757028156312,{"$f":"0","v":0},0,{"$f":"0","v":0},0.1447378286833334,1.5739685087899998E-4,null,259,0.99952079999999999,4.7917499999999998E-4,1.5199999999999998E-4,7.6270000000000001E-3,0.14440840675833344,0.39725999411543844,9906316,3936277,85818530,21.260287311673778,9894863,23302280000,1.5142034799999998E-4,18.526081720944752,null,0,0,null,4.69118986666667E-3]
[263,4.8607499999999998E-4,7.6373999999999999E-3,3879347,9892869,21740190000,9892869,21740190000,1.6000000000000004E-4,4.9324673333333386E-3,21.23344909379508,{"$f":"0","v":0},0,18.504218269990915,{"$f":"0","v":0},0,{"$f":"0","v":0},0.14484763599166672,1.5938900800000004E-4,null,260,0.99951909999999999,4.8089999999999998E-4,1.5400000000000003E-4,7.6295989999999999E-3,0.14451821406666676,0.3958465445404819,9905930,3922044,85482210,21.253654854458542,9894365,22911760000,1.5341252087700005E-4,18.520688137760274,null,0,0,null,4.751509233333338E-3]
[264,4.8779999999999998E-4,7.6400000000000001E-3,3865114,9892370,21349670000,9892370,21349670000,1.6200000000000001E-4,4.9927867000000049E-3,21.226617528831834,{"$f":"0","v":0},0,18.498640550918424,{"$f":"0","v":0},0,{"$f":"0","v":0},0.14495744330000004,1.6138116E-4,null,261,0.9995174,4.8262499999999998E-4,1.56E-4,7.6321999999999996E-3,0.14462802137500008,0.3944381240138326,9905544,3907812,85145880,21.246965949231946,9893866,22521240000,1.554046884E-4,18.515242991608414,null,0,0,null,4.8118286000000043E-3]
[265,4.8959999999999997E-4,7.6428659999999999E-3,3851477,9891835,21027130000,9891835,21027130000,1.6449999999999996E-4,5.0512896500000039E-3,21.220065261110651,{"$f":"0","v":0},0,18.493332742383053,{"$f":"0","v":0},0,{"$f":"0","v":0},0.14495521824166671,1.6387137427149994E-4,null,262,0.99951570000000001,4.8434999999999998E-4,1.5799999999999999E-4,7.6347990000000003E-3,0.1447378286833334,0.39303471464215545,9905158,3893579,84809550,21.24023373910396,9893367,22130710000,1.5739685087899998E-4,18.509757028156312,null,0,0,null,4.8721479666666706E-3]
[266,4.9140000000000002E-4,7.645733E-3,3837841,9891300,20704590000,9891300,20704590000,1.6700000000000005E-4,5.1097926000000056E-3,21.213460760446651,{"$f":"0","v":0},0,18.487984101944257,{"$f":"0","v":0},0,{"$f":"0","v":0},0.14495299318333341,1.6636158129450004E-4,null,263,0.99951389999999996,4.8607499999999998E-4,1.6000000000000004E-4,7.6373999999999999E-3,0.14484763599166672,0.39163629859577981,9904773,3879347,84473230,21.23344909379508,9892869,21740190000,1.5938900800000004E-4,18.504218269990915,null,0,0,null,4.9324673333333386E-3]
[267,4.9319999999999995E-4,7.6485989999999998E-3,3824204,9890764,20382050000,9890764,20382050000,1.695E-4,5.1682955500000046E-3,21.20681223247156,{"$f":"0","v":0},0,18.482591065550409,{"$f":"0","v":0},0,{"$f":"0","v":0},0.14495076812500007,1.6885178123475001E-4,null,264,0.99951219999999996,4.8779999999999998E-4,1.6200000000000001E-4,7.6400000000000001E-3,0.14495744330000004,0.39024285810847292,9904387,3865114,84136900,21.226617528831834,9892370,21349670000,1.6138116E-4,18.498640550918424,null,0,0,null,4.9927867000000049E-3]
[268,4.95E-4,7.651466E-3,3810568,9890229,20059510000,9890229,20059510000,1.7199999999999998E-4,5.2267985000000036E-3,21.200115660797373,{"$f":"0","v":0},0,18.477150009737066,{"$f":"0","v":0},0,{"$f":"0","v":0},0.14494854306666674,1.7134197392399997E-4,null,265,0.99951040000000002,4.8959999999999997E-4,1.6449999999999996E-4,7.6428659999999999E-3,0.14495521824166671,0.38885437547721413,9903984,3851477,83814810,21.220065261110651,9891835,21027130000,1.6387137427149994E-4,18.493332742383053,null,0,0,null,5.0512896500000039E-3]
[269,4.9680000000000004E-4,7.6543330000000001E-3,3796931,9889694,19736970000,9889694,19736970000,1.7450000000000004E-4,5.2853014500000052E-3,21.193371447009877,{"$f":"0","v":0},0,18.471672352591423,{"$f":"0","v":0},0,{"$f":"0","v":0},0.14494631800833344,1.7383215944575005E-4,null,266,0.99950859999999997,4.9140000000000002E-4,1.6700000000000005E-4,7.645733E-3,0.14495299318333341,0.38747083306197017,9903582,3837841,83492720,21.213460760446651,9891300,20704590000,1.6636158129450004E-4,18.487984101944257,null,0,0,null,5.1097926000000056E-3]
[270,4.9859999999999998E-4,7.6572000000000003E-3,3783294,9889159,19414430000,9889159,19414430000,1.7700000000000002E-4,5.3438044000000042E-3,21.186581256968132,{"$f":"0","v":0},0,18.46614277056435,{"$f":"0","v":0},0,{"$f":"0","v":0},0.1449440929500001,1.7632233780000002E-4,null,267,0.99950680000000003,4.9319999999999995E-4,1.695E-4,7.6485989999999998E-3,0.14495076812500007,0.386092213285471,9903179,3824204,83170620,21.20681223247156,9890764,20382050000,1.6885178123475001E-4,18.482591065550409,null,0,0,null,5.1682955500000046E-3]
[271,5.0040000000000002E-4,7.6600660000000001E-3,3769658,9888624,19091890000,9888624,19091890000,1.7949999999999997E-4,5.4023073500000032E-3,21.179736176774302,{"$f":"0","v":0},0,18.46056651587169,{"$f":"0","v":0},0,{"$f":"0","v":0},0.14494186789166677,1.7881250907649998E-4,null,268,0.99950499999999998,4.95E-4,1.7199999999999998E-4,7.651466E-3,0.14494854306666674,0.38471849863298624,9902777,3810568,82848540,21.200115660797373,9890229,20059510000,1.7134197392399997E-4,18.477150009737066,null,0,0,null,5.2267985000000036E-3]
[272,5.0219999999999996E-4,7.6629330000000002E-3,3756021,9888089,18769350000,9888089,18769350000,1.8200000000000003E-4,5.4608103000000048E-3,21.172844514181364,{"$f":"0","v":0},0,18.454942995095216,{"$f":"0","v":0},0,{"$f":"0","v":0},0.14493964283333347,1.8130267309700003E-4,null,269,0.99950320000000004,4.9680000000000004E-4,1.7450000000000004E-4,7.6543330000000001E-3,0.14494631800833344,0.3833496716521031,9902374,3796931,82526440,21.193371447009877,9889694,19736970000,1.7383215944575005E-4,18.471672352591423,null,0,0,null,5.2853014500000052E-3]
[273,5.04E-4,7.6658000000000004E-3,3742384,9887554,18446810000,9887554,18446810000,1.8450000000000001E-4,5.5193132500000039E-3,21.165905298155756,{"$f":"0","v":0},0,18.449268471011003,{"$f":"0","v":0},0,{"$f":"0","v":0},0.14493741777500013,1.8379282995000001E-4,null,270,0.99950139999999998,4.9859999999999998E-4,1.7700000000000002E-4,7.6572000000000003E-3,0.1449440929500001,0.38198571495250411,9901972,3783294,82204350,21.186581256968132,9889159,19414430000,1.7632233780000002E-4,18.46614277056435,null,0,0,null,5.3438044000000042E-3]
[274,5.0580000000000004E-4,7.6686669999999997E-3,3728748,9887018,18124270000,9887018,18124270000,1.8699999999999996E-4,5.5778162000000029E-3,21.158909505281663,{"$f":"0","v":0},0,18.443548583790371,{"$f":"0","v":0},0,{"$f":"0","v":0},0.1449351927166668,1.8628297963549996E-4,null,271,0.99949960000000004,5.0040000000000002E-4,1.7949999999999997E-4,7.6600660000000001E-3,0.14494186789166677,0.38062661120574676,9901569,3769658,81882260,21.179736176774302,9888624,19091890000,1.7881250907649998E-4,18.46056651587169,null,0,0,null,5.4023073500000032E-3]
[275,5.0759999999999998E-4,7.6715330000000003E-3,3715111,9886483,17801730000,9886483,17801730000,1.8950000000000005E-4,5.6363191500000045E-3,21.151868196760024,{"$f":"0","v":0},0,18.437779588630114,{"$f":"0","v":0},0,{"$f":"0","v":0},0.14493296765833349,1.8877312224825006E-4,null,272,0.99949779999999999,5.0219999999999996E-4,1.8200000000000003E-4,7.6629330000000002E-3,0.14493964283333347,0.37927234314504299,9901166,3756021,81560160,21.172844514181364,9888089,18769350000,1.8130267309700003E-4,18.454942995095216,null,0,0,null,5.4608103000000048E-3]
[276,5.0940000000000002E-4,7.6743999999999996E-3,3701474,9885948,17479190000,9885948,17479190000,1.92E-4,5.6948221000000035E-3,21.144772303322046,{"$f":"0","v":0},0,18.431957676147995,{"$f":"0","v":0},0,{"$f":"0","v":0},0.14493074260000016,1.9126325760000001E-4,null,273,0.99949600000000005,5.04E-4,1.8450000000000001E-4,7.6658000000000004E-3,0.14493741777500013,0.37792289356503983,9900764,3742384,81238070,21.165905298155756,9887554,18446810000,1.8379282995000001E-4,18.449268471011003,null,0,0,null,5.5193132500000039E-3]
[277,5.1135000000000004E-4,7.6774670000000003E-3,3688409,9885371,17215100000,9885371,17215100000,1.9449999999999996E-4,5.7515086333333361E-3,21.137962680295669,{"$f":"0","v":0},0,18.42643284363535,{"$f":"0","v":0},0,{"$f":"0","v":0},0.14483058597500018,1.9375336633424998E-4,null,274,0.9994942,5.0580000000000004E-4,1.8699999999999996E-4,7.6686669999999997E-3,0.1449351927166668,0.376578245321601,9900361,3728748,80915980,21.158909505281663,9887018,18124270000,1.8628297963549996E-4,18.443548583790371,null,0,0,null,5.5778162000000029E-3]
[278,5.1329999999999995E-4,7.6805329999999998E-3,3675343,9884794,16951010000,9884794,16951010000,1.9700000000000005E-4,5.8081951666666713E-3,21.131107819959478,{"$f":"0","v":0},0,18.420856240837264,{"$f":"0","v":0},0,{"$f":"0","v":0},0.14473042935000016,1.9624346749950005E-4,null,275,0.99949239999999995,5.0759999999999998E-4,1.8950000000000005E-4,7.6715330000000003E-3,0.14493296765833349,0.37523838133158893,9899959,3715111,80593890,21.151868196760024,9886483,17801730000,1.8877312224825006E-4,18.437779588630114,null,0,0,null,5.6363191500000045E-3]
[279,5.1524999999999997E-4,7.6835999999999996E-3,3662277,9884216,16686910000,9884216,16686910000,1.995E-4,5.8648817000000039E-3,21.12420404709966,{"$f":"0","v":0},0,18.415239412812081,{"$f":"0","v":0},0,{"$f":"0","v":0},0.14463027272500018,1.9873356089999999E-4,null,276,0.99949060000000001,5.0940000000000002E-4,1.92E-4,7.6743999999999996E-3,0.14493074260000016,0.37390328457264771,9899556,3701474,80271790,21.144772303322046,9885948,17479190000,1.9126325760000001E-4,18.431957676147995,null,0,0,null,5.6948221000000035E-3]
[280,5.1719999999999999E-4,7.686666E-3,3649212,9883639,16422820000,9883639,16422820000,2.0199999999999995E-4,5.9215682333333365E-3,21.117247641408611,{"$f":"0","v":0},0,18.409575734926786,{"$f":"0","v":0},0,{"$f":"0","v":0},0.14453011610000019,2.0122364673399995E-4,null,277,0.99948870000000001,5.1135000000000004E-4,1.9449999999999996E-4,7.6774670000000003E-3,0.14483058597500018,0.37257293808298708,9899136,3688409,79963340,21.137962680295669,9885371,17215100000,1.9375336633424998E-4,18.42643284363535,null,0,0,null,5.7515086333333361E-3]
[281,5.1915000000000002E-4,7.6897329999999998E-3,3636146,9883062,16158730000,9883062,16158730000,2.0450000000000004E-4,5.9782547666666717E-3,21.110244450213678,{"$f":"0","v":0},0,18.40385847888933,{"$f":"0","v":0},0,{"$f":"0","v":0},0.14442995947500017,2.0371372480075002E-4,null,278,0.99948669999999995,5.1329999999999995E-4,1.9700000000000005E-4,7.6805329999999998E-3,0.14473042935000016,0.37124732496116675,9898716,3675343,79654880,21.131107819959478,9884794,16951010000,1.9624346749950005E-4,18.420856240837264,null,0,0,null,5.8081951666666713E-3]
[282,5.2110000000000004E-4,7.6927999999999996E-3,3623080,9882484,15894640000,9882484,15894640000,2.0699999999999999E-4,6.0349413000000043E-3,21.103193507549744,{"$f":"0","v":0},0,18.398099301588665,{"$f":"0","v":0},0,{"$f":"0","v":0},0.14432980285000019,2.062037952E-4,null,279,0.99948479999999995,5.1524999999999997E-4,1.995E-4,7.6835999999999996E-3,0.14463027272500018,0.36992642836588152,9898295,3662277,79346420,21.12420404709966,9884216,16686910000,1.9873356089999999E-4,18.415239412812081,null,0,0,null,5.8648817000000039E-3]
[283,5.2304999999999995E-4,7.695866E-3,3610014,9881907,15630550000,9881907,15630550000,2.0949999999999994E-4,6.0916278333333369E-3,21.09608598470809,{"$f":"0","v":0},0,18.392285290728143,{"$f":"0","v":0},0,{"$f":"0","v":0},0.1442296462250002,2.0869385803649995E-4,null,280,0.9994828,5.1719999999999999E-4,2.0199999999999995E-4,7.686666E-3,0.14453011610000019,0.36861023151574762,9897875,3649212,79037970,21.117247641408611,9883639,16422820000,2.0122364673399995E-4,18.409575734926786,null,0,0,null,5.9215682333333365E-3]
[284,5.2499999999999997E-4,7.6989329999999998E-3,3596949,9881330,15366460000,9881330,15366460000,2.1200000000000003E-4,6.1483143666666721E-3,21.08892637204475,{"$f":"0","v":0},0,18.386428178534459,{"$f":"0","v":0},0,{"$f":"0","v":0},0.14412948960000019,2.1118391310200003E-4,null,281,0.99948079999999995,5.1915000000000002E-4,2.0450000000000004E-4,7.6897329999999998E-3,0.14442995947500017,0.36729871768908934,9897455,3636146,78729510,21.110244450213678,9883062,16158730000,2.0371372480075002E-4,18.40385847888933,null,0,0,null,5.9782547666666717E-3]
[285,5.2694999999999999E-4,7.7019999999999996E-3,3583883,9880753,15102370000,9880753,15102370000,2.1449999999999998E-4,6.2050009000000047E-3,21.081717802078543,{"$f":"0","v":0},0,18.380521171885135,{"$f":"0","v":0},0,{"$f":"0","v":0},0.1440293329750002,2.1367396049999998E-4,null,282,0.99947889999999995,5.2110000000000004E-4,2.0699999999999999E-4,7.6927999999999996E-3,0.14432980285000019,0.36599187022372676,9897034,3623080,78421060,21.103193507549744,9882484,15894640000,2.062037952E-4,18.398099301588665,null,0,0,null,6.0349413000000043E-3]
[286,5.2890000000000001E-4,7.705066E-3,3570817,9880176,14838280000,9880176,14838280000,2.1699999999999993E-4,6.2616874333333373E-3,21.074456478260668,{"$f":"0","v":0},0,18.374557369219112,{"$f":"0","v":0},0,{"$f":"0","v":0},0.14392917635000022,2.1616400033899993E-4,null,283,0.99947699999999995,5.2304999999999995E-4,2.0949999999999994E-4,7.695866E-3,0.1442296462250002,0.36468967251676371,9896614,3610014,78112590,21.09608598470809,9881907,15630550000,2.0869385803649995E-4,18.392285290728143,null,0,0,null,6.0916278333333369E-3]
[287,5.3085000000000003E-4,7.7081329999999998E-3,3557752,9879598,14574180000,9879598,14574180000,2.1950000000000002E-4,6.3183739666666724E-3,21.067138556406778,{"$f":"0","v":0},0,18.368548616933126,{"$f":"0","v":0},0,{"$f":"0","v":0},0.1438290197250002,2.1865403240325002E-4,null,284,0.999475,5.2499999999999997E-4,2.1200000000000003E-4,7.6989329999999998E-3,0.14412948960000019,0.36339210802437721,9896194,3596949,77804140,21.08892637204475,9881330,15366460000,2.1118391310200003E-4,18.386428178534459,null,0,0,null,6.1483143666666721E-3]
[288,5.3280000000000005E-4,7.7111999999999997E-3,3544686,9879021,14310090000,9879021,14310090000,2.2199999999999998E-4,6.375060500000005E-3,21.059769962699093,{"$f":"0","v":0},0,18.362488015927202,{"$f":"0","v":0},0,{"$f":"0","v":0},0.14372886310000021,2.2114405679999997E-4,null,285,0.99947299999999994,5.2694999999999999E-4,2.1449999999999998E-4,7.7019999999999996E-3,0.1440293329750002,0.36209916026160716,9895774,3583883,77495680,21.081717802078543,9880753,15102370000,2.1367396049999998E-4,18.380521171885135,null,0,0,null,6.2050009000000047E-3]
[289,5.3460010000000002E-4,7.7144659999999997E-3,3532167,9878400,14095200000,9878400,14095200000,2.2549999999999992E-4,6.4299306166666704E-3,21.052703021969233,{"$f":"0","v":0},0,18.356727567325958,{"$f":"0","v":0},0,{"$f":"0","v":0},0.14354417050833354,2.2463019395849995E-4,null,286,0.99947109999999995,5.2890000000000001E-4,2.1699999999999993E-4,7.705066E-3,0.14392917635000022,0.36081081280214672,9895354,3570817,77187220,21.074456478260668,9880176,14838280000,2.1616400033899993E-4,18.374557369219112,null,0,0,null,6.2616874333333373E-3]
[290,5.3640000000000003E-4,7.7177330000000001E-3,3519648,9877780,13880310000,9877780,13880310000,2.2900000000000004E-4,6.4848007333333391E-3,21.045585808580856,{"$f":"0","v":0},0,18.350919436632044,{"$f":"0","v":0},0,{"$f":"0","v":0},0.14335947791666684,2.2811631957150004E-4,null,287,0.99946919999999995,5.3085000000000003E-4,2.1950000000000002E-4,7.7081329999999998E-3,0.1438290197250002,0.35952704927813395,9894933,3557752,76878770,21.067138556406778,9879598,14574180000,2.1865403240325002E-4,18.368548616933126,null,0,0,null,6.3183739666666724E-3]
[291,5.3819999999999996E-4,7.7210000000000004E-3,3507129,9877159,13665420000,9877159,13665420000,2.3249999999999999E-4,6.5396708500000044E-3,21.038417784176172,{"$f":"0","v":0},0,18.345069413435848,{"$f":"0","v":0},0,{"$f":"0","v":0},0.14317478532500016,2.3160243374999997E-4,null,288,0.9994672,5.3280000000000005E-4,2.2199999999999998E-4,7.7111999999999997E-3,0.14372886310000021,0.35824785337994369,9894513,3544686,76570310,21.059769962699093,9879021,14310090000,2.2114405679999997E-4,18.362488015927202,null,0,0,null,6.375060500000005E-3]
[292,5.4000000000000001E-4,7.7242659999999996E-3,3494610,9876538,13450530000,9876538,13450530000,2.3599999999999994E-4,6.5945409666666698E-3,21.031195541133343,{"$f":"0","v":0},0,18.339164149791895,{"$f":"0","v":0},0,{"$f":"0","v":0},0.14299009273333349,2.3508853661199992E-4,null,289,0.99946539999999995,5.3460010000000002E-4,2.2549999999999992E-4,7.7144659999999997E-3,0.14354417050833354,0.35697320885598033,9894074,3532167,76274920,21.052703021969233,9878400,14095200000,2.2463019395849995E-4,18.356727567325958,null,0,0,null,6.4299306166666704E-3]
[293,5.4180000000000005E-4,7.727533E-3,3482091,9875918,13235650000,9875918,13235650000,2.3950000000000005E-4,6.6494110833333385E-3,21.023924238338399,{"$f":"0","v":0},0,18.333212799312658,{"$f":"0","v":0},0,{"$f":"0","v":0},0.14280540014166679,2.3857462792325004E-4,null,290,0.99946360000000001,5.3640000000000003E-4,2.2900000000000004E-4,7.7177330000000001E-3,0.14335947791666684,0.35570309951247125,9893634,3519648,75979530,21.045585808580856,9877780,13880310000,2.2811631957150004E-4,18.350919436632044,null,0,0,null,6.4848007333333391E-3]
[294,5.4359999999999999E-4,7.7308000000000003E-3,3469573,9875297,13020760000,9875297,13020760000,2.43E-4,6.7042812000000038E-3,21.016597131212784,{"$f":"0","v":0},0,18.327214392972433,{"$f":"0","v":0},0,{"$f":"0","v":0},0.14262070755000011,2.420607078E-4,null,291,0.99946179999999996,5.3819999999999996E-4,2.3249999999999999E-4,7.7210000000000004E-3,0.14317478532500016,0.3544375092132615,9893195,3507129,75684140,21.038417784176172,9877159,13665420000,2.3160243374999997E-4,18.345069413435848,null,0,0,null,6.5396708500000044E-3]
[295,5.4540000000000003E-4,7.7340669999999999E-3,3457054,9874676,12805870000,9874676,12805870000,2.4649999999999997E-4,6.7591513166666692E-3,21.009220302411627,{"$f":"0","v":0},0,18.321158797683324,{"$f":"0","v":0},0,{"$f":"0","v":0},0.14243601495833344,2.4554677624224997E-4,null,292,0.99946000000000002,5.4000000000000001E-4,2.3599999999999994E-4,7.7242659999999996E-3,0.14299009273333349,0.35317642187960829,9892756,3494610,75388740,21.031195541133343,9876538,13450530000,2.3508853661199992E-4,18.339164149791895,null,0,0,null,6.5945409666666698E-3]
[296,5.4719999999999997E-4,7.7373329999999999E-3,3444535,9874056,12590980000,9874056,12590980000,2.5000000000000006E-4,6.8140214333333379E-3,21.001786948988276,{"$f":"0","v":0},0,18.315051800760781,{"$f":"0","v":0},0,{"$f":"0","v":0},0.14225132236666674,2.4903283337500008E-4,null,293,0.99945819999999996,5.4180000000000005E-4,2.3950000000000005E-4,7.727533E-3,0.14280540014166679,0.35191982148997691,9892316,3482091,75093350,21.023924238338399,9875918,13235650000,2.3857462792325004E-4,18.333212799312658,null,0,0,null,6.6494110833333385E-3]
[297,5.4900000000000001E-4,7.7406000000000003E-3,3432016,9873435,12376090000,9873435,12376090000,2.5350000000000004E-4,6.8688915500000032E-3,20.99430227986505,{"$f":"0","v":0},0,18.308899279759174,{"$f":"0","v":0},0,{"$f":"0","v":0},0.14206662977500006,2.5251887895000005E-4,null,294,0.99945640000000002,5.4359999999999999E-4,2.43E-4,7.7308000000000003E-3,0.14262070755000011,0.35066769207983745,9891877,3469573,74797970,21.016597131212784,9875297,13020760000,2.420607078E-4,18.327214392972433,null,0,0,null,6.7042812000000038E-3]
[298,5.5080000000000005E-4,7.7438669999999998E-3,3419497,9872814,12161200000,9872814,12161200000,2.5699999999999996E-4,6.9237616666666685E-3,20.986762807024931,{"$f":"0","v":0},0,18.302691003833573,{"$f":"0","v":0},0,{"$f":"0","v":0},0.14188193718333339,2.5600491309049996E-4,null,295,0.99945459999999997,5.4540000000000003E-4,2.4649999999999997E-4,7.7340669999999999E-3,0.14243601495833344,0.34942001774146142,9891438,3457054,74502580,21.009220302411627,9874676,12805870000,2.4554677624224997E-4,18.321158797683324,null,0,0,null,6.7591513166666692E-3]
[299,5.5259999999999999E-4,7.7471340000000001E-3,3406978,9872194,11946310000,9872194,11946310000,2.6050000000000004E-4,6.9786317833333373E-3,20.979167926336281,{"$f":"0","v":0},0,18.296432440830205,{"$f":"0","v":0},0,{"$f":"0","v":0},0.14169724459166669,2.5949093579650005E-4,null,296,0.99945280000000003,5.4719999999999997E-4,2.5000000000000006E-4,7.7373329999999999E-3,0.14225132236666674,0.3481767826237202,9890998,3444535,74207180,21.001786948988276,9874056,12590980000,2.4903283337500008E-4,18.315051800760781,null,0,0,null,6.8140214333333379E-3]
[300,5.5440000000000003E-4,7.7504000000000002E-3,3394459,9871573,11731420000,9871573,11731420000,2.6400000000000002E-4,7.0335019000000026E-3,20.971517024755148,{"$f":"0","v":0},0,18.29011321858313,{"$f":"0","v":0},0,{"$f":"0","v":0},0.14151255200000001,2.6297694720000002E-4,null,297,0.99945099999999998,5.4900000000000001E-4,2.5350000000000004E-4,7.7406000000000003E-3,0.14206662977500006,0.34693797093188339,9890559,3432016,73911790,20.99430227986505,9873435,12376090000,2.5251887895000005E-4,18.308899279759174,null,0,0,null,6.8688915500000032E-3]
[301,5.5612499999999998E-4,7.7539339999999997E-3,3382465,9870901,11557270000,9870901,11557270000,2.6749999999999994E-4,7.0865556000000015E-3,20.964170053003748,{"$f":"0","v":0},0,18.284113387514267,{"$f":"0","v":0},0,{"$f":"0","v":0},0.14125601384166672,2.6646291132749998E-4,null,298,0.99944920000000004,5.5080000000000005E-4,2.5699999999999996E-4,7.7438669999999998E-3,0.14188193718333339,0.34570356692741805,9890120,3419497,73616400,20.986762807024931,9872814,12161200000,2.5600491309049996E-4,18.302691003833573,null,0,0,null,6.9237616666666685E-3]
[302,5.5785000000000003E-4,7.7574669999999997E-3,3370471,9870228,11383130000,9870228,11383130000,2.7100000000000008E-4,7.1396093000000039E-3,20.956773759018645,{"$f":"0","v":0},0,18.278070519252662,{"$f":"0","v":0},0,{"$f":"0","v":0},0.1409994756833334,2.6994886322150008E-4,null,299,0.99944739999999999,5.5259999999999999E-4,2.6050000000000004E-4,7.7471340000000001E-3,0.14169724459166669,0.34447355492778908,9889680,3406978,73321010,20.979167926336281,9872194,11946310000,2.5949093579650005E-4,18.296432440830205,null,0,0,null,6.9786317833333373E-3]
[303,5.5957499999999998E-4,7.7609999999999997E-3,3358477,9869556,11208990000,9869556,11208990000,2.745E-4,7.1926630000000028E-3,20.949324636831911,{"$f":"0","v":0},0,18.271973826035069,{"$f":"0","v":0},0,{"$f":"0","v":0},0.14074293752500011,2.7343480275000002E-4,null,300,0.99944560000000005,5.5440000000000003E-4,2.6400000000000002E-4,7.7504000000000002E-3,0.14151255200000001,0.3432479193062597,9889241,3394459,73025620,20.971517024755148,9871573,11731420000,2.6297694720000002E-4,18.29011321858313,null,0,0,null,7.0335019000000026E-3]
[304,5.6130000000000004E-4,7.764534E-3,3346482,9868883,11034850000,9868883,11034850000,2.7799999999999998E-4,7.2457167000000017E-3,20.941828538148417,{"$f":"0","v":0},0,18.265823059166323,{"$f":"0","v":0},0,{"$f":"0","v":0},0.14048639936666682,2.7692072977399996E-4,null,301,0.99944390000000005,5.5612499999999998E-4,2.6749999999999994E-4,7.7539339999999997E-3,0.14125601384166672,0.34202664449169284,9888784,3382465,72742740,20.964170053003748,9870901,11557270000,2.6646291132749998E-4,18.284113387514267,null,0,0,null,7.0865556000000015E-3]
[305,5.6302499999999998E-4,7.768067E-3,3334488,9868211,10860700000,9868211,10860700000,2.8150000000000007E-4,7.298770400000004E-3,20.93427206815559,{"$f":"0","v":0},0,18.25962744094188,{"$f":"0","v":0},0,{"$f":"0","v":0},0.1402298612083335,2.8040664456975008E-4,null,302,0.99944219999999995,5.5785000000000003E-4,2.7100000000000008E-4,7.7574669999999997E-3,0.1409994756833334,0.34080971496835377,9888327,3370471,72459870,20.956773759018645,9870228,11383130000,2.6994886322150008E-4,18.278070519252662,null,0,0,null,7.1396093000000039E-3]
[306,5.6474990000000001E-4,7.7716E-3,3322494,9867538,10686560000,9867538,10686560000,2.8499999999999999E-4,7.3518241000000029E-3,20.926658031587113,{"$f":"0","v":0},0,18.253369264150308,{"$f":"0","v":0},0,{"$f":"0","v":0},0.13997332305000021,2.8389254699999998E-4,null,303,0.99944040000000001,5.5957499999999998E-4,2.745E-4,7.7609999999999997E-3,0.14074293752500011,0.33959711527571246,9887870,3358477,72177000,20.949324636831911,9869556,11208990000,2.7343480275000002E-4,18.271973826035069,null,0,0,null,7.1926630000000028E-3]
[307,5.6647499999999999E-4,7.775133E-3,3310500,9866866,10512420000,9866866,10512420000,2.8849999999999997E-4,7.4048778000000018E-3,20.918991844132304,{"$f":"0","v":0},0,18.247068559000855,{"$f":"0","v":0},0,{"$f":"0","v":0},0.13971678489166692,2.8737843706474998E-4,null,304,0.99943870000000001,5.6130000000000004E-4,2.7799999999999998E-4,7.764534E-3,0.14048639936666682,0.33838883000824743,9887414,3346482,71894130,20.941828538148417,9868883,11034850000,2.7692072977399996E-4,18.265823059166323,null,0,0,null,7.2457167000000017E-3]
[308,5.6820000000000004E-4,7.7786660000000001E-3,3298506,9866194,10338270000,9866194,10338270000,2.9200000000000005E-4,7.4579315000000042E-3,20.911269905223758,{"$f":"0","v":0},0,18.240714326172533,{"$f":"0","v":0},0,{"$f":"0","v":0},0.1394602467333336,2.9086431476400002E-4,null,305,0.99943700000000002,5.6302499999999998E-4,2.8150000000000007E-4,7.768067E-3,0.1402298612083335,0.33718484381525005,9886957,3334488,71611260,20.93427206815559,9868211,10860700000,2.8040664456975008E-4,18.25962744094188,null,0,0,null,7.298770400000004E-3]
[309,5.6992489999999995E-4,7.7822000000000004E-3,3286512,9865521,10164130000,9865521,10164130000,2.9550000000000003E-4,7.5109852000000031E-3,20.903491604473068,{"$f":"0","v":0},0,18.234299034250462,{"$f":"0","v":0},0,{"$f":"0","v":0},0.13920370857500031,2.9435017995000002E-4,null,306,0.99943519999999997,5.6474990000000001E-4,2.8499999999999999E-4,7.7716E-3,0.13997332305000021,0.33598514140062946,9886500,3322494,71328380,20.926658031587113,9867538,10686560000,2.8389254699999998E-4,18.253369264150308,null,0,0,null,7.3518241000000029E-3]
[310,5.7165000000000004E-4,7.7857330000000004E-3,3274517,9864849,9989986000,9864849,9989986000,2.9899999999999995E-4,7.564038900000002E-3,20.895662869261837,{"$f":"0","v":0},0,18.227831990303084,{"$f":"0","v":0},0,{"$f":"0","v":0},0.13894717041666702,2.9783603291649993E-4,null,307,0.99943349999999997,5.6647499999999999E-4,2.8849999999999997E-4,7.775133E-3,0.13971678489166692,0.33478970752271819,9886043,3310500,71045510,20.918991844132304,9866866,10512420000,2.8737843706474998E-4,18.247068559000855,null,0,0,null,7.4048778000000018E-3]
[311,5.7337499999999999E-4,7.7892660000000004E-3,3262523,9864176,9815844000,9864176,9815844000,3.0250000000000003E-4,7.6170926000000035E-3,20.887766934261204,{"$f":"0","v":0},0,18.221306073615199,{"$f":"0","v":0},0,{"$f":"0","v":0},0.1386906322583337,3.0132187351750004E-4,null,308,0.99943179999999998,5.6820000000000004E-4,2.9200000000000005E-4,7.7786660000000001E-3,0.1394602467333336,0.33359852699407855,9885586,3298506,70762640,20.911269905223758,9866194,10338270000,2.9086431476400002E-4,18.240714326172533,null,0,0,null,7.4579315000000042E-3]
[312,5.7510000000000005E-4,7.7927999999999999E-3,3250529,9863504,9641700000,9863504,9641700000,3.0600000000000001E-4,7.6701463000000032E-3,20.879815805878572,{"$f":"0","v":0},0,18.214730690471335,{"$f":"0","v":0},0,{"$f":"0","v":0},0.1384340941000004,3.0480770159999998E-4,null,309,0.99943009999999999,5.6992489999999995E-4,2.9550000000000003E-4,7.7822000000000004E-3,0.13920370857500031,0.33241158468130966,9885130,3286512,70479770,20.903491604473068,9865521,10164130000,2.9435017995000002E-4,18.234299034250462,null,0,0,null,7.5109852000000031E-3]
[313,5.7660000000000003E-4,7.7966670000000002E-3,3239038,9862781,9500903000,9862781,9500903000,3.0949999999999999E-4,7.7213835833333357E-3,20.872182136589114,{"$f":"0","v":0},0,18.208484006289751,{"$f":"0","v":0},0,{"$f":"0","v":0},0.13811769557500039,3.0829346578174999E-4,null,310,0.99942830000000005,5.7165000000000004E-4,2.9899999999999995E-4,7.7857330000000004E-3,0.13894717041666702,0.33122886550485547,9884673,3274517,70196900,20.895662869261837,9864849,9989986000,2.9783603291649993E-4,18.227831990303084,null,0,0,null,7.564038900000002E-3]
[314,5.7810000000000001E-4,7.8005330000000001E-3,3227547,9862058,9360108000,9862058,9360108000,3.1300000000000007E-4,7.7726208666666699E-3,20.864497209490676,{"$f":"0","v":0},0,18.202189255594874,{"$f":"0","v":0},0,{"$f":"0","v":0},0.13780129705000035,3.1177921658550006E-4,null,311,0.99942660000000005,5.7337499999999999E-4,3.0250000000000003E-4,7.7892660000000004E-3,0.1386906322583337,0.33005035443881253,9884216,3262523,69914020,20.887766934261204,9864176,9815844000,3.0132187351750004E-4,18.221306073615199,null,0,0,null,7.6170926000000035E-3]
[315,5.7959999999999999E-4,7.8044000000000004E-3,3216056,9861334,9219311000,9861334,9219311000,3.165E-4,7.8238581500000015E-3,20.856754256352087,{"$f":"0","v":0},0,18.195838358623398,{"$f":"0","v":0},0,{"$f":"0","v":0},0.13748489852500034,3.1526495369999999E-4,null,312,0.99942489999999995,5.7510000000000005E-4,3.0600000000000001E-4,7.7927999999999999E-3,0.1384340941000004,0.32887603651073993,9883759,3250529,69631150,20.879815805878572,9863504,9641700000,3.0480770159999998E-4,18.214730690471335,null,0,0,null,7.6701463000000032E-3]
[316,5.8109999999999998E-4,7.8082669999999998E-3,3204565,9860611,9078514000,9860611,9078514000,3.1999999999999997E-4,7.8750954333333349E-3,20.848955773508521,{"$f":"0","v":0},0,18.189438122047953,{"$f":"0","v":0},0,{"$f":"0","v":0},0.13716850000000033,3.1875067728000001E-4,null,313,0.99942339999999996,5.7660000000000003E-4,3.0949999999999999E-4,7.7966670000000002E-3,0.13811769557500039,0.32770589680146822,9883285,3239038,69360270,20.872182136589114,9862781,9500903000,3.0829346578174999E-4,18.208484006289751,null,0,0,null,7.7213835833333357E-3]
[317,5.8259999999999996E-4,7.8121329999999998E-3,3193074,9859888,8937718000,9859888,8937718000,3.2350000000000006E-4,7.9263327166666699E-3,20.841101161451316,{"$f":"0","v":0},0,18.182984153388141,{"$f":"0","v":0},0,{"$f":"0","v":0},0.13685210147500029,3.2223638748725007E-4,null,314,0.99942189999999997,5.7810000000000001E-4,3.1300000000000007E-4,7.8005330000000001E-3,0.13780129705000035,0.3265399204449107,9882812,3227547,69089400,20.864497209490676,9862058,9360108000,3.1177921658550006E-4,18.202189255594874,null,0,0,null,7.7726208666666699E-3]
[318,5.8410000000000005E-4,7.816E-3,3181583,9859164,8796921000,9859164,8796921000,3.2700000000000003E-4,7.9775700000000015E-3,20.833192955100234,{"$f":"0","v":0},0,18.176471986100033,{"$f":"0","v":0},0,{"$f":"0","v":0},0.13653570295000028,3.2572208400000001E-4,null,315,0.99942039999999999,5.7959999999999999E-4,3.165E-4,7.8044000000000004E-3,0.13748489852500034,0.32537809262787393,9882338,3216056,68818520,20.856754256352087,9861334,9219311000,3.1526495369999999E-4,18.195838358623398,null,0,0,null,7.8238581500000015E-3]
[319,5.8560000000000003E-4,7.8198669999999994E-3,3170092,9858441,8656125000,9858441,8656125000,3.3049999999999996E-4,8.0288072833333331E-3,20.825224262681754,{"$f":"0","v":0},0,18.169908487234281,{"$f":"0","v":0},0,{"$f":"0","v":0},0.13621930442500027,3.2920776697824993E-4,null,316,0.9994189,5.8109999999999998E-4,3.1999999999999997E-4,7.8082669999999998E-3,0.13716850000000033,0.32422039858986967,9881864,3204565,68547640,20.848955773508521,9860611,9078514000,3.1875067728000001E-4,18.189438122047953,null,0,0,null,7.8750954333333349E-3]
[320,{"$f":"W325","v":5.8710000000000001E-4},{"$f":"Y325","v":7.8237340000000006E-3},{"$f":"AC325","v":3158601},{"$f":"AF325","v":9857718},{"$f":"AG325","v":8515328000},{"$f":"E322","v":9857718},{"$f":"F322","v":8515328000},{"$f":"X325","v":3.3400000000000004E-4},{"$f":"AN325","v":8.0800445666666682E-3},{"$f":"AE325","v":20.817197590008995},{"$f":"0","v":0},{"$f":"AL325","v":0},{"$f":"AI325","v":18.163292507521046},{"$f":"0","v":0},{"$f":"AK325","v":0},{"$f":"0","v":0},{"$f":"Z325","v":0.13590290590000023},{"$f":"AH325","v":3.3269343642200005E-4},null,317,0.99941740000000001,5.8259999999999996E-4,3.2350000000000006E-4,7.8121329999999998E-3,0.13685210147500029,0.32306682362292766,9881391,3193074,68276760,20.841101161451316,9859888,8937718000,3.2223638748725007E-4,18.182984153388141,null,0,0,null,7.9263327166666699E-3]
[321,5.886E-4,7.8276000000000005E-3,3147111,9856995,8374532000,9856995,8374532000,3.3750000000000002E-4,8.1312818500000016E-3,20.809108695244621,{"$f":"0","v":0},0,18.156616694563898,{"$f":"0","v":0},0,{"$f":"0","v":0},0.13558650737500022,3.3617909250000004E-4,null,318,0.99941590000000002,5.8410000000000005E-4,3.2700000000000003E-4,7.816E-3,0.13653570295000028,0.32191735307140851,9880917,3181583,68005890,20.833192955100234,9859164,8796921000,3.2572208400000001E-4,18.176471986100033,null,0,0,null,7.9775700000000015E-3]
[322,5.9009999999999998E-4,7.8314660000000005E-3,3135620,9856272,8233735000,9856272,8233735000,3.4099999999999994E-4,8.1825191333333332E-3,20.800964136810794,{"$f":"0","v":0},0,18.149879782429018,{"$f":"0","v":0},0,{"$f":"0","v":0},0.13527010885000021,3.3966473504699993E-4,null,319,0.99941440000000004,5.8560000000000003E-4,3.3049999999999996E-4,7.8198669999999994E-3,0.13621930442500027,0.32077197233181737,9880443,3170092,67735010,20.825224262681754,9858441,8656125000,3.2920776697824993E-4,18.169908487234281,null,0,0,null,8.0288072833333331E-3]
[323,5.9159999999999996E-4,7.8353329999999999E-3,3124129,9855548,8092938000,9855548,8092938000,3.4450000000000008E-4,8.2337564166666682E-3,20.792759664640393,{"$f":"0","v":0},0,18.143088718980735,{"$f":"0","v":0},0,{"$f":"0","v":0},0.13495371032500017,3.4315036389075007E-4,null,320,0.99941290000000005,5.8710000000000001E-4,3.3400000000000004E-4,7.8237340000000006E-3,0.13590290590000023,0.31963066685261865,9879970,3158601,67464130,20.817197590008995,9857718,8515328000,3.3269343642200005E-4,18.163292507521046,null,0,0,null,8.0800445666666682E-3]
[324,5.9310000000000005E-4,7.8391999999999993E-3,3112638,9854825,7952142000,9854825,7952142000,3.48E-4,8.2849936999999998E-3,20.784494615178506,{"$f":"0","v":0},0,18.13623891633431,{"$f":"0","v":0},0,{"$f":"0","v":0},0.13463731180000016,3.4663597919999998E-4,null,321,0.99941139999999995,5.886E-4,3.3750000000000002E-4,7.8276000000000005E-3,0.13558650737500022,0.31849342213405124,9879496,3147111,67193260,20.809108695244621,9856995,8374532000,3.3617909250000004E-4,18.156616694563898,null,0,0,null,8.1312818500000016E-3]
[325,5.9429999999999997E-4,7.8433329999999992E-3,3101630,9854053,7838393000,9854053,7838393000,3.5199999999999994E-4,8.334414566666665E-3,20.776553108096923,{"$f":"0","v":0},0,18.12973443913685,{"$f":"0","v":0},0,{"$f":"0","v":0},0.13427233290833351,3.5061957339199994E-4,null,322,0.99940989999999996,5.9009999999999998E-4,3.4099999999999994E-4,7.8314660000000005E-3,0.13527010885000021,0.31736022372794392,9879022,3135620,66922380,20.800964136810794,9856272,8233735000,3.3966473504699993E-4,18.149879782429018,null,0,0,null,8.1825191333333332E-3]
[326,5.9550010000000003E-4,7.8474670000000003E-3,3090622,9853282,7724645000,9853282,7724645000,3.5600000000000003E-4,8.3838354333333337E-3,20.768558265402021,{"$f":"0","v":0},0,18.123187216336312,{"$f":"0","v":0},0,{"$f":"0","v":0},0.13390735401666681,3.5460315087400003E-4,null,323,0.99940839999999997,5.9159999999999996E-4,3.4450000000000008E-4,7.8353329999999999E-3,0.13495371032500017,0.31623105723753203,9878549,3124129,66651500,20.792759664640393,9855548,8092938000,3.4315036389075007E-4,18.143088718980735,null,0,0,null,8.2337564166666682E-3]
[327,5.9670000000000003E-4,7.8516000000000002E-3,3079614,9852510,7610896000,9852510,7610896000,3.5999999999999997E-4,8.4332563000000006E-3,20.760503020833131,{"$f":"0","v":0},0,18.116578092129583,{"$f":"0","v":0},0,{"$f":"0","v":0},0.13354237512500017,3.5858671199999996E-4,null,324,0.99940689999999999,5.9310000000000005E-4,3.48E-4,7.8391999999999993E-3,0.13463731180000016,0.31510590831727464,9878075,3112638,66380620,20.784494615178506,9854825,7952142000,3.4663597919999998E-4,18.13623891633431,null,0,0,null,8.2849936999999998E-3]
[328,5.9789999999999995E-4,7.8557330000000002E-3,3068606,9851738,7497148000,9851738,7497148000,3.6399999999999996E-4,8.4826771666666658E-3,20.752389983160647,{"$f":"0","v":0},0,18.109921033403136,{"$f":"0","v":0},0,{"$f":"0","v":0},0.13317739623333352,3.6257025659399995E-4,null,325,0.99940569999999995,5.9429999999999997E-4,3.5199999999999994E-4,7.8433329999999992E-3,0.13427233290833351,0.31398476267267206,9877587,3101630,66121230,20.776553108096923,9854053,7838393000,3.5061957339199994E-4,18.12973443913685,null,0,0,null,8.334414566666665E-3]
[329,5.9909999999999998E-4,7.8598660000000001E-3,3057598,9850966,7383400000,9850966,7383400000,3.6800000000000005E-4,8.5320980333333345E-3,20.744221798723483,{"$f":"0","v":0},0,18.103196668462363,{"$f":"0","v":0},0,{"$f":"0","v":0},0.13281241734166682,3.6655378465600004E-4,null,326,0.99940450000000003,5.9550010000000003E-4,3.5600000000000003E-4,7.8474670000000003E-3,0.13390735401666681,0.31286760606008462,9877098,3090622,65861850,20.768558265402021,9853282,7724645000,3.5460315087400003E-4,18.123187216336312,null,0,0,null,8.3838354333333337E-3]
[330,6.0030000000000001E-4,7.8639999999999995E-3,3046590,9850194,7269651000,9850194,7269651000,3.7199999999999999E-4,8.5815188999999997E-3,20.73599130503284,{"$f":"0","v":0},0,18.096419545566629,{"$f":"0","v":0},0,{"$f":"0","v":0},0.13244743845000018,3.7053729599999995E-4,null,327,0.99940329999999999,5.9670000000000003E-4,3.5999999999999997E-4,7.8516000000000002E-3,0.13354237512500017,0.3117544242865512,9876610,3079614,65602460,20.760503020833131,9852510,7610896000,3.5858671199999996E-4,18.116578092129583,null,0,0,null,8.4332563000000006E-3]
[331,6.0150000000000004E-4,7.8681329999999994E-3,3035582,9849423,7155903000,9849423,7155903000,3.7599999999999992E-4,8.6309397666666648E-3,20.727701118489524,{"$f":"0","v":0},0,18.089592447091032,{"$f":"0","v":0},0,{"$f":"0","v":0},0.13208245955833353,3.7452079099599991E-4,null,328,0.99940209999999996,5.9789999999999995E-4,3.6399999999999996E-4,7.8557330000000002E-3,0.13317739623333352,0.31064520320960937,9876122,3068606,65343070,20.752389983160647,9851738,7497148000,3.6257025659399995E-4,18.109921033403136,null,0,0,null,8.4826771666666658E-3]
[332,6.0269999999999996E-4,7.8722670000000005E-3,3024574,9848651,7042154000,9848651,7042154000,3.8000000000000002E-4,8.6803606333333335E-3,20.719353893584131,{"$f":"0","v":0},0,18.082699761838185,{"$f":"0","v":0},0,{"$f":"0","v":0},0.13171748066666683,3.7850426927000001E-4,null,329,0.99940090000000004,5.9909999999999998E-4,3.6800000000000005E-4,7.8598660000000001E-3,0.13281241734166682,0.30953992873711533,9875634,3057598,65083690,20.744221798723483,9850966,7383400000,3.6655378465600004E-4,18.103196668462363,null,0,0,null,8.5320980333333345E-3]
[333,6.0390010000000002E-4,7.8764000000000004E-3,3013566,9847879,6928407000,9847879,6928407000,3.8400000000000001E-4,8.7297814999999987E-3,20.71094236860915,{"$f":"0","v":0},0,18.075755680650552,{"$f":"0","v":0},0,{"$f":"0","v":0},0.13135250177500019,3.824877312E-4,null,330,0.9993997,6.0030000000000001E-4,3.7199999999999999E-4,7.8639999999999995E-3,0.13244743845000018,0.30843858682706526,9875146,3046590,64824300,20.73599130503284,9850194,7269651000,3.7053729599999995E-4,18.096419545566629,null,0,0,null,8.5815188999999997E-3]
[334,6.0510000000000002E-4,7.8805330000000003E-3,3002558,9847108,6814658000,9847108,6814658000,3.8799999999999994E-4,8.7792023666666656E-3,20.702469166845958,{"$f":"0","v":0},0,18.068740399152144,{"$f":"0","v":0},0,{"$f":"0","v":0},0.13098752288333354,3.8647117659799994E-4,null,331,0.99939849999999997,6.0150000000000004E-4,3.7599999999999992E-4,7.8681329999999994E-3,0.13208245955833353,0.3073411634874168,9874657,3035582,64564910,20.727701118489524,9849423,7155903000,3.7452079099599991E-4,18.089592447091032,null,0,0,null,8.6309397666666648E-3]
[335,6.0630000000000005E-4,7.8846660000000002E-3,2991550,9846336,6700910000,9846336,6700910000,3.9200000000000004E-4,8.8286232333333343E-3,20.693936950187471,{"$f":"0","v":0},0,18.061676285668202,{"$f":"0","v":0},0,{"$f":"0","v":0},0.13062254399166684,3.9045460546400005E-4,null,332,0.99939730000000004,6.0269999999999996E-4,3.8000000000000002E-4,7.8722670000000005E-3,0.13171748066666683,0.30624764477591099,9874169,3024574,64305530,20.719353893584131,9848651,7042154000,3.7850426927000001E-4,18.082699761838185,null,0,0,null,8.6803606333333335E-3]
[336,6.0749999999999997E-4,7.8887999999999996E-3,2980542,9845564,6587161000,9845564,6587161000,3.9599999999999998E-4,8.8780440999999995E-3,20.685338354567726,{"$f":"0","v":0},0,18.054543409117102,{"$f":"0","v":0},0,{"$f":"0","v":0},0.13025756510000019,3.9443801760000001E-4,null,333,0.99939610000000001,6.0390010000000002E-4,3.8400000000000001E-4,7.8764000000000004E-3,0.13135250177500019,0.3051580167998954,9873681,3013566,64046140,20.71094236860915,9847879,6928407000,3.824877312E-4,18.075755680650552,null,0,0,null,8.7297814999999987E-3]
[337,6.0840000000000004E-4,7.8932659999999995E-3,2969997,9844742,6495210000,9844742,6495210000,4.0099999999999994E-4,8.9256485499999982E-3,20.677075305126568,{"$f":"0","v":0},0,18.047781010853832,{"$f":"0","v":0},0,{"$f":"0","v":0},0.12985458064166688,3.9941740016699996E-4,null,334,0.99939489999999997,6.0510000000000002E-4,3.8799999999999994E-4,7.8805330000000003E-3,0.13098752288333354,0.30407226571614782,9873192,3002558,63786750,20.702469166845958,9847108,6814658000,3.8647117659799994E-4,18.068740399152144,null,0,0,null,8.7792023666666656E-3]
[338,6.0930000000000001E-4,7.8977330000000005E-3,2959453,9843920,6403260000,9843920,6403260000,4.0600000000000006E-4,8.9732530000000005E-3,20.668746203549553,{"$f":"0","v":0},0,18.040958319836761,{"$f":"0","v":0},0,{"$f":"0","v":0},0.12945159618333352,4.0439676020100003E-4,null,335,0.99939370000000005,6.0630000000000005E-4,3.9200000000000004E-4,7.8846660000000002E-3,0.13062254399166684,0.30299037773070003,9872704,2991550,63527370,20.693936950187471,9846336,6700910000,3.9045460546400005E-4,18.061676285668202,null,0,0,null,8.8286232333333343E-3]
[339,6.1019999999999998E-4,7.9021990000000004E-3,2948909,9843098,6311309000,9843098,6311309000,4.1100000000000002E-4,9.0208574499999993E-3,20.660357539573674,{"$f":"0","v":0},0,18.034082858259008,{"$f":"0","v":0},0,{"$f":"0","v":0},0.12904861172500021,4.0937609810549999E-4,null,336,0.99939250000000002,6.0749999999999997E-4,3.9599999999999998E-4,7.8887999999999996E-3,0.13025756510000019,0.30191233909866266,9872216,2980542,63267980,20.685338354567726,9845564,6587161000,3.9443801760000001E-4,18.054543409117102,null,0,0,null,8.8780440999999995E-3]
[340,6.1109999999999995E-4,7.9066659999999997E-3,2938365,9842276,6219358000,9842276,6219358000,4.1599999999999992E-4,9.0684618999999998E-3,20.651908671999564,{"$f":"0","v":0},0,18.027157523976143,{"$f":"0","v":0},0,{"$f":"0","v":0},0.1286456272666669,4.143554134719999E-4,null,337,0.99939160000000005,6.0840000000000004E-4,4.0099999999999994E-4,7.8932659999999995E-3,0.12985458064166688,0.30083813612405069,9871716,2969997,63019600,20.677075305126568,9844742,6495210000,3.9941740016699996E-4,18.047781010853832,null,0,0,null,8.9256485499999982E-3]
[341,6.1200000000000002E-4,7.9111330000000007E-3,2927820,9841454,6127408000,9841454,6127408000,4.2100000000000004E-4,9.116066350000002E-3,20.643409601683164,{"$f":"0","v":0},0,18.020166186970201,{"$f":"0","v":0},0,{"$f":"0","v":0},0.12824264280833353,4.1933470650350007E-4,null,338,0.99939069999999997,6.0930000000000001E-4,4.0600000000000006E-4,7.8977330000000005E-3,0.12945159618333352,0.29976775515960935,9871216,2959453,62771220,20.668746203549553,9843920,6403260000,4.0439676020100003E-4,18.040958319836761,null,0,0,null,8.9732530000000005E-3]
[342,6.1289999999999999E-4,7.9155990000000006E-3,2917276,9840632,6035457000,9840632,6035457000,4.26E-4,9.1636708000000008E-3,20.634838401760181,{"$f":"0","v":0},0,18.013115795536248,{"$f":"0","v":0},0,{"$f":"0","v":0},0.12783965835000022,4.2431397741300004E-4,null,339,0.99938979999999999,6.1019999999999998E-4,4.1100000000000002E-4,7.9021990000000004E-3,0.12904861172500021,0.29870118260664064,9870717,2948909,62522840,20.660357539573674,9843098,6311309000,4.0937609810549999E-4,18.034082858259008,null,0,0,null,9.0208574499999993E-3]
[343,6.1379999999999996E-4,7.9200669999999994E-3,2906732,9839809,5943506000,9839809,5943506000,4.3099999999999996E-4,9.2112752499999995E-3,20.626205018786273,{"$f":"0","v":0},0,18.006005598269358,{"$f":"0","v":0},0,{"$f":"0","v":0},0.12743667389166691,4.292932255615E-4,null,340,0.99938890000000002,6.1109999999999995E-4,4.1599999999999992E-4,7.9066659999999997E-3,0.1286456272666669,0.29763840491483085,9870217,2938365,62274460,20.651908671999564,9842276,6219358000,4.143554134719999E-4,18.027157523976143,null,0,0,null,9.0684618999999998E-3]
[344,6.1470000000000003E-4,7.9245329999999992E-3,2896188,9838987,5851556000,9838987,5851556000,4.3600000000000008E-4,9.2588797000000018E-3,20.617508773601713,{"$f":"0","v":0},0,17.998834830962526,{"$f":"0","v":0},0,{"$f":"0","v":0},0.12703368943333354,4.3427245180600009E-4,null,341,0.99938800000000005,6.1200000000000002E-4,4.2100000000000004E-4,7.9111330000000007E-3,0.12824264280833353,0.29657940858207815,9869717,2927820,62026090,20.643409601683164,9841454,6127408000,4.1933470650350007E-4,18.020166186970201,null,0,0,null,9.116066350000002E-3]
[345,6.156E-4,7.9290000000000003E-3,2885643,9838165,5759605000,9838165,5759605000,4.4099999999999999E-4,9.3064841500000023E-3,20.608756306653316,{"$f":"0","v":0},0,17.991602716332871,{"$f":"0","v":0},0,{"$f":"0","v":0},0.12663070497500023,4.3925165549999997E-4,null,342,0.99938709999999997,6.1289999999999999E-4,4.26E-4,7.9155990000000006E-3,0.12783965835000022,0.29552418015432108,9869218,2917276,61777710,20.634838401760181,9840632,6035457000,4.2431397741300004E-4,18.013115795536248,null,0,0,null,9.1636708000000008E-3]
[346,6.1649999999999997E-4,7.9334669999999996E-3,2875099,9837343,5667654000,9837343,5667654000,4.4599999999999994E-4,9.3540886000000011E-3,20.599932283491221,{"$f":"0","v":0},0,17.98430846374076,{"$f":"0","v":0},0,{"$f":"0","v":0},0.12622772051666692,4.4423083685899995E-4,null,343,0.9993862,6.1379999999999996E-4,4.3099999999999996E-4,7.9200669999999994E-3,0.12743667389166691,0.29447270622536781,9868718,2906732,61529330,20.626205018786273,9839809,5943506000,4.292932255615E-4,18.006005598269358,null,0,0,null,9.2112752499999995E-3]
[347,6.1740000000000005E-4,7.9379329999999994E-3,2864555,9836521,5575704000,9836521,5575704000,4.5100000000000012E-4,9.4016930500000033E-3,20.591046791444626,{"$f":"0","v":0},0,17.976946987784689,{"$f":"0","v":0},0,{"$f":"0","v":0},0.12582473605833355,4.492099961085001E-4,null,344,0.99938530000000003,6.1470000000000003E-4,4.3600000000000008E-4,7.9245329999999992E-3,0.12703368943333354,0.29342497343672563,9868218,2896188,61280950,20.617508773601713,9838987,5851556000,4.3427245180600009E-4,17.998834830962526,null,0,0,null,9.2588797000000018E-3]
[348,6.1830000000000001E-4,7.9424000000000005E-3,2854011,9835699,5483753000,9835699,5483753000,4.5600000000000003E-4,9.4492975000000021E-3,20.582092141550959,{"$f":"0","v":0},0,17.969526013922611,{"$f":"0","v":0},0,{"$f":"0","v":0},0.12542175160000024,4.5418913280000003E-4,null,345,0.99938439999999995,6.156E-4,4.4099999999999999E-4,7.9290000000000003E-3,0.12663070497500023,0.29238096847743128,9867718,2885643,61032570,20.608756306653316,9838165,5759605000,4.3925165549999997E-4,17.991602716332871,null,0,0,null,9.3064841500000023E-3]
[349,6.1882500000000004E-4,7.9471999999999998E-3,2843912,9834820,5409293000,9834820,5409293000,4.6199999999999995E-4,9.4950855333333344E-3,20.573473323600261,{"$f":"0","v":0},0,17.962493863795029,{"$f":"0","v":0},0,{"$f":"0","v":0},0.12499063117500024,4.6016419679999996E-4,null,346,0.99938349999999998,6.1649999999999997E-4,4.4599999999999994E-4,7.9334669999999996E-3,0.12622772051666692,0.29134067808388181,9867218,2875099,60784190,20.599932283491221,9837343,5667654000,4.4423083685899995E-4,17.98430846374076,null,0,0,null,9.3540886000000011E-3]
[350,6.1934999999999996E-4,7.9520000000000007E-3,2833813,9833941,5334833000,9833941,5334833000,4.680000000000001E-4,9.5408735666666685E-3,20.564796603845537,{"$f":"0","v":0},0,17.955398903543092,{"$f":"0","v":0},0,{"$f":"0","v":0},0.12455951075000023,4.6613923200000012E-4,null,347,0.99938260000000001,6.1740000000000005E-4,4.5100000000000012E-4,7.9379329999999994E-3,0.12582473605833355,0.2903040890396662,9866719,2864555,60535820,20.591046791444626,9836521,5575704000,4.492099961085001E-4,17.976946987784689,null,0,0,null,9.4016930500000033E-3]
[351,6.1987499999999998E-4,7.9568E-3,2823713,9833062,5260374000,9833062,5260374000,4.7400000000000003E-4,9.5866616000000009E-3,20.556065291219987,{"$f":"0","v":0},0,17.948249053508118,{"$f":"0","v":0},0,{"$f":"0","v":0},0.12412839032500023,4.7211423840000003E-4,null,348,0.99938170000000004,6.1830000000000001E-4,4.5600000000000003E-4,7.9424000000000005E-3,0.12542175160000024,0.28927118817539738,9866219,2854011,60287440,20.582092141550959,9835699,5483753000,4.5418913280000003E-4,17.969526013922611,null,0,0,null,9.4492975000000021E-3]
[352,6.2040000000000001E-4,7.9615999999999992E-3,2813614,9832183,5185913000,9832183,5185913000,4.7999999999999996E-4,9.632449633333335E-3,20.547260243705544,{"$f":"0","v":0},0,17.941039251534818,{"$f":"0","v":0},0,{"$f":"0","v":0},0.12369726990000023,4.7808921599999996E-4,null,349,0.99938119999999997,6.1882500000000004E-4,4.6199999999999995E-4,7.9471999999999998E-3,0.12499063117500024,0.28824196236854488,9865711,2843912,60049600,20.573473323600261,9834820,5409293000,4.6016419679999996E-4,17.962493863795029,null,0,0,null,9.4950855333333344E-3]
[353,6.2092500000000004E-4,7.9664000000000002E-3,2803515,9831304,5111454000,9831304,5111454000,4.860000000000001E-4,9.678237666666669E-3,20.538391759987014,{"$f":"0","v":0},0,17.933764350217526,{"$f":"0","v":0},0,{"$f":"0","v":0},0.12326614947500021,4.8406416480000012E-4,null,350,0.99938059999999995,6.1934999999999996E-4,4.680000000000001E-4,7.9520000000000007E-3,0.12455951075000023,0.28721639854326808,9865202,2833813,59811770,20.564796603845537,9833941,5334833000,4.6613923200000012E-4,17.955398903543092,null,0,0,null,9.5408735666666685E-3]
[354,6.2144999999999995E-4,7.971199E-3,2793416,9830425,5036994000,9830425,5036994000,4.9200000000000003E-4,9.7240257000000014E-3,20.529462731890511,{"$f":"0","v":0},0,17.926432341322414,{"$f":"0","v":0},0,{"$f":"0","v":0},0.12283502905000021,4.9003908504600003E-4,null,351,0.99938009999999999,6.1987499999999998E-4,4.7400000000000003E-4,7.9568E-3,0.12412839032500023,0.2861944836702503,9864694,2823713,59573940,20.556065291219987,9833062,5260374000,4.7211423840000003E-4,17.948249053508118,null,0,0,null,9.5866616000000009E-3]
[355,6.2197499999999998E-4,7.9759989999999992E-3,2783317,9829546,4962534000,9829546,4962534000,4.9799999999999996E-4,9.7698137333333337E-3,20.520468907542092,{"$f":"0","v":0},0,17.919038069963619,{"$f":"0","v":0},0,{"$f":"0","v":0},0.12240390862500021,4.9601397624899994E-4,null,352,0.99937960000000003,6.2040000000000001E-4,4.7999999999999996E-4,7.9615999999999992E-3,0.12369726990000023,0.28517620476653299,9864186,2813614,59336100,20.547260243705544,9832183,5185913000,4.7808921599999996E-4,17.941039251534818,null,0,0,null,9.632449633333335E-3]
[356,6.2250000000000001E-4,7.9807990000000002E-3,2773218,9828667,4888074000,9828667,4888074000,5.0400000000000011E-4,9.8156017666666678E-3,20.511405973133016,{"$f":"0","v":0},0,17.911576293332729,{"$f":"0","v":0},0,{"$f":"0","v":0},0.1219727882000002,5.0198883865200015E-4,null,353,0.99937909999999996,6.2092500000000004E-4,4.860000000000001E-4,7.9664000000000002E-3,0.12326614947500021,0.28416154889535095,9863677,2803515,59098260,20.538391759987014,9831304,5111454000,4.8406416480000012E-4,17.933764350217526,null,0,0,null,9.678237666666669E-3]
[357,6.2302500000000003E-4,7.9855989999999995E-3,2763119,9827788,4813614000,9827788,4813614000,5.1000000000000004E-4,9.8613898000000019E-3,20.5022804090836,{"$f":"0","v":0},0,17.904055074956613,{"$f":"0","v":0},0,{"$f":"0","v":0},0.1215416677750002,5.079636722550001E-4,null,354,0.99937860000000001,6.2144999999999995E-4,4.9200000000000003E-4,7.971199E-3,0.12283502905000021,0.28315050316596796,9863169,2793416,58860430,20.529462731890511,9830425,5036994000,4.9003908504600003E-4,17.926432341322414,null,0,0,null,9.7240257000000014E-3]
[358,6.2354999999999995E-4,7.9903990000000005E-3,2753020,9826909,4739154000,9826909,4739154000,5.1599999999999997E-4,9.9071778333333343E-3,20.493087893779677,{"$f":"0","v":0},0,17.896469163324529,{"$f":"0","v":0},0,{"$f":"0","v":0},0.12111054735000019,5.139384770579999E-4,null,355,0.99937799999999999,6.2197499999999998E-4,4.9799999999999996E-4,7.9759989999999992E-3,0.12240390862500021,0.28214305473351292,9862661,2783317,58622600,20.520468907542092,9829546,4962534000,4.9601397624899994E-4,17.919038069963619,null,0,0,null,9.7698137333333337E-3]
[359,6.2407499999999998E-4,7.9951989999999997E-3,2742921,9826030,4664694000,9826030,4664694000,5.2200000000000011E-4,9.9529658666666684E-3,20.483824041961107,{"$f":"0","v":0},0,17.888804915193571,{"$f":"0","v":0},0,{"$f":"0","v":0},0.12067942692500018,5.199132530610001E-4,null,356,0.99937750000000003,6.2250000000000001E-4,5.0400000000000011E-4,7.9807990000000002E-3,0.1219727882000002,0.281139190798817,9862152,2773218,58384760,20.511405973133016,9828667,4888074000,5.0198883865200015E-4,17.911576293332729,null,0,0,null,9.8156017666666678E-3]
[360,6.246E-4,7.9999990000000007E-3,2732822,9825151,4590235000,9825151,4590235000,5.2800000000000004E-4,9.9987539000000007E-3,20.474495381209117,{"$f":"0","v":0},0,17.881087035584493,{"$f":"0","v":0},0,{"$f":"0","v":0},0.12024830650000018,5.2588800026400005E-4,null,357,0.99937699999999996,6.2302500000000003E-4,5.1000000000000004E-4,7.9855989999999995E-3,0.1215416677750002,0.28013889860825036,9861644,2763119,58146930,20.5022804090836,9827788,4813614000,5.079636722550001E-4,17.904055074956613,null,0,0,null,9.8613898000000019E-3]
[361,6.2497500000000005E-4,8.0052000000000005E-3,2723150,9824209,4529776000,9824209,4529776000,5.3299999999999995E-4,1.0042725516666667E-2,20.4655088469848,{"$f":"0","v":0},0,17.873776774245123,{"$f":"0","v":0},0,{"$f":"0","v":0},0.11979821450833354,5.3086661419999995E-4,null,358,0.9993765,6.2354999999999995E-4,5.1599999999999997E-4,7.9903990000000005E-3,0.12111054735000019,0.27914216545356085,9861136,2753020,57909100,20.493087893779677,9826909,4739154000,5.139384770579999E-4,17.896469163324529,null,0,0,null,9.9071778333333343E-3]
[362,6.2534999999999999E-4,8.0104000000000009E-3,2713479,9823267,4469318000,9823267,4469318000,5.3800000000000007E-4,1.0086697133333334E-2,20.456454195886533,{"$f":"0","v":0},0,17.866401093763539,{"$f":"0","v":0},0,{"$f":"0","v":0},0.11934812251666689,5.3584520240000004E-4,null,359,0.99937589999999998,6.2407499999999998E-4,5.2200000000000011E-4,7.9951989999999997E-3,0.12067942692500018,0.27814897867171201,9860627,2742921,57671260,20.483824041961107,9826030,4664694000,5.199132530610001E-4,17.888804915193571,null,0,0,null,9.9529658666666684E-3]
[363,6.2572500000000004E-4,8.015599E-3,2703807,9822325,4408859000,9822325,4408859000,5.4300000000000008E-4,1.0130668750000002E-2,20.44733883557517,{"$f":"0","v":0},0,17.858959906349927,{"$f":"0","v":0},0,{"$f":"0","v":0},0.11889803052500025,5.4082376487150008E-4,null,360,0.99937540000000002,6.246E-4,5.2800000000000004E-4,7.9999990000000007E-3,0.12024830650000018,0.27715932564472268,9860119,2732822,57433430,20.474495381209117,9825151,4590235000,5.2588800026400005E-4,17.881087035584493,null,0,0,null,9.9987539000000007E-3]
[364,6.2609999999999999E-4,8.0207999999999998E-3,2694135,9821383,4348400000,9821383,4348400000,5.4799999999999998E-4,1.0174640366666668E-2,20.438161738368713,{"$f":"0","v":0},0,17.851464717639775,{"$f":"0","v":0},0,{"$f":"0","v":0},0.11844793853333362,5.458023008E-4,null,361,0.99937500000000001,6.2497500000000005E-4,5.3299999999999995E-4,8.0052000000000005E-3,0.11979821450833354,0.27617319379950611,9859606,2723150,57205690,20.4655088469848,9824209,4529776000,5.3086661419999995E-4,17.873776774245123,null,0,0,null,1.0042725516666667E-2]
[365,6.2647500000000004E-4,8.0260000000000001E-3,2684464,9820441,4287942000,9820441,4287942000,5.5300000000000011E-4,1.0218611983333336E-2,20.428906974849852,{"$f":"0","v":0},0,17.843897850430828,{"$f":"0","v":0},0,{"$f":"0","v":0},0.11799784654166696,5.5078081100000007E-4,null,362,0.9993746,6.2534999999999999E-4,5.3800000000000007E-4,8.0104000000000009E-3,0.11934812251666689,0.27519057060771079,9859092,2713479,56977960,20.456454195886533,9823267,4469318000,5.3584520240000004E-4,17.866401093763539,null,0,0,null,1.0086697133333334E-2]
[366,6.2684999999999998E-4,8.0312000000000005E-3,2674792,9819499,4227483000,9819499,4227483000,5.5800000000000001E-4,1.0262583600000002E-2,20.419596863357349,{"$f":"0","v":0},0,17.836270815475594,{"$f":"0","v":0},0,{"$f":"0","v":0},0.11754775455000033,5.5575929520000004E-4,null,363,0.99937430000000005,6.2572500000000004E-4,5.4300000000000008E-4,8.015599E-3,0.11889803052500025,0.27421144358556088,9858579,2703807,56750220,20.44733883557517,9822325,4408859000,5.4082376487150008E-4,17.858959906349927,null,0,0,null,1.0130668750000002E-2]
[367,6.2722500000000003E-4,8.0363989999999996E-3,2665120,9818557,4167024000,9818557,4167024000,5.6299999999999992E-4,1.0306555216666667E-2,20.410215424946468,{"$f":"0","v":0},0,17.828575036927003,{"$f":"0","v":0},0,{"$f":"0","v":0},0.11709766255833369,5.6073775368149987E-4,null,364,0.99937390000000004,6.2609999999999999E-4,5.4799999999999998E-4,8.0207999999999998E-3,0.11844793853333362,0.27323580029369804,9858066,2694135,56522490,20.438161738368713,9821383,4348400000,5.458023008E-4,17.851464717639775,null,0,0,null,1.0174640366666668E-2]
[368,6.2759999999999997E-4,8.0415999999999994E-3,2655449,9817615,4106566000,9817615,4106566000,5.6800000000000004E-4,1.0350526833333335E-2,20.400757759484993,{"$f":"0","v":0},0,17.820817469149922,{"$f":"0","v":0},0,{"$f":"0","v":0},0.11664757056666704,5.6571618559999996E-4,null,365,0.99937350000000003,6.2647500000000004E-4,5.5300000000000011E-4,8.0260000000000001E-3,0.11799784654166696,0.27226362833702267,9857553,2684464,56294750,20.428906974849852,9820441,4287942000,5.5078081100000007E-4,17.843897850430828,null,0,0,null,1.0218611983333336E-2]
[369,6.2797500000000002E-4,8.0467999999999998E-3,2645777,9816673,4046107000,9816673,4046107000,5.7299999999999994E-4,1.0394498450000001E-2,20.391242645040251,{"$f":"0","v":0},0,17.812998079444654,{"$f":"0","v":0},0,{"$f":"0","v":0},0.1161974785750004,5.7069459179999991E-4,null,366,0.99937310000000001,6.2684999999999998E-4,5.5800000000000001E-4,8.0312000000000005E-3,0.11754775455000033,0.27129491536453731,9857040,2674792,56067020,20.419596863357349,9819499,4227483000,5.5575929520000004E-4,17.836270815475594,null,0,0,null,1.0262583600000002E-2]
[370,6.2834999999999996E-4,8.0520000000000001E-3,2636105,9815731,3985649000,9815731,3985649000,5.7799999999999995E-4,1.0438470066666669E-2,20.381657707741788,{"$f":"0","v":0},0,17.805102694471678,{"$f":"0","v":0},0,{"$f":"0","v":0},0.11574738658333376,5.7567297199999997E-4,null,367,0.99937279999999995,6.2722500000000003E-4,5.6299999999999992E-4,8.0363989999999996E-3,0.11709766255833369,0.27032964906918905,9856526,2665120,55839280,20.410215424946468,9818557,4167024000,5.6073775368149987E-4,17.828575036927003,null,0,0,null,1.0306555216666667E-2]
[371,6.2872500000000001E-4,8.0571989999999993E-3,2626434,9814789,3925190000,9814789,3925190000,5.8300000000000008E-4,1.0482441683333336E-2,20.371990406002968,{"$f":"0","v":0},0,17.79714771991344,{"$f":"0","v":0},0,{"$f":"0","v":0},0.11529729459166711,5.8065132649150002E-4,null,368,0.99937240000000005,6.2759999999999997E-4,5.6800000000000004E-4,8.0415999999999994E-3,0.11664757056666704,0.26936781718771358,9856013,2655449,55611540,20.400757759484993,9817615,4106566000,5.6571618559999996E-4,17.820817469149922,null,0,0,null,1.0350526833333335E-2]
[372,6.2909999999999995E-4,8.0624000000000008E-3,2616762,9813847,3864731000,9813847,3864731000,5.8799999999999998E-4,1.0526413300000002E-2,20.36225963614574,{"$f":"0","v":0},0,17.789110160584752,{"$f":"0","v":0},0,{"$f":"0","v":0},0.11484720260000048,5.8562965439999995E-4,null,369,0.99937200000000004,6.2797500000000002E-4,5.7299999999999994E-4,8.0467999999999998E-3,0.1161974785750004,0.26840940750047909,9855500,2645777,55383810,20.391242645040251,9816673,4046107000,5.7069459179999991E-4,17.812998079444654,null,0,0,null,1.0394498450000001E-2]
[373,6.2917500000000005E-4,8.0680000000000005E-3,2607500,9812854,3815476000,9812854,3815476000,5.9399999999999991E-4,1.0568568500000002E-2,20.3528836689038,{"$f":"0","v":0},0,17.781508916884228,{"$f":"0","v":0},0,{"$f":"0","v":0},0.11438659824166716,5.9160380399999994E-4,null,370,0.99937160000000003,6.2834999999999996E-4,5.7799999999999995E-4,8.0520000000000001E-3,0.11574738658333376,0.26745440783133134,9854986,2636105,55156080,20.381657707741788,9815731,3985649000,5.7567297199999997E-4,17.805102694471678,null,0,0,null,1.0438470066666669E-2]
[374,6.2925000000000003E-4,8.0736000000000002E-3,2598239,9811860,3766220000,9811860,3766220000,6.0000000000000006E-4,1.0610723700000003E-2,20.343432818022769,{"$f":"0","v":0},0,17.773839519846767,{"$f":"0","v":0},0,{"$f":"0","v":0},0.11392599388333383,5.9757792000000008E-4,null,371,0.99937129999999996,6.2872500000000001E-4,5.8300000000000008E-4,8.0571989999999993E-3,0.11529729459166711,0.26650280604743859,9854473,2626434,54928340,20.371990406002968,9814789,3925190000,5.8065132649150002E-4,17.79714771991344,null,0,0,null,1.0482441683333336E-2]
[375,6.2932500000000002E-4,8.0791999999999999E-3,2588977,9810867,3716964000,9810867,3716964000,6.0599999999999998E-4,1.0652878900000003E-2,20.333922417361503,{"$f":"0","v":0},0,17.766105932837071,{"$f":"0","v":0},0,{"$f":"0","v":0},0.11346538952500052,6.0355200239999994E-4,null,372,0.99937089999999995,6.2909999999999995E-4,5.8799999999999998E-4,8.0624000000000008E-3,0.11484720260000048,0.26555459005913801,9853960,2616762,54700600,20.36225963614574,9813847,3864731000,5.8562965439999995E-4,17.789110160584752,null,0,0,null,1.0526413300000002E-2]
[376,6.2940000000000001E-4,8.0847999999999996E-3,2579715,9809873,3667709000,9809873,3667709000,6.1199999999999991E-4,1.0695034100000002E-2,20.324339849557024,{"$f":"0","v":0},0,17.758307346599633,{"$f":"0","v":0},0,{"$f":"0","v":0},0.1130047851666672,6.0952605119999996E-4,null,373,0.9993708,6.2917500000000005E-4,5.9399999999999991E-4,8.0680000000000005E-3,0.11438659824166716,0.2646097478197813,9853443,2607500,54482540,20.3528836689038,9812854,3815476000,5.9160380399999994E-4,17.781508916884228,null,0,0,null,1.0568568500000002E-2]
[377,6.29475E-4,8.0903999999999993E-3,2570453,9808880,3618453000,9808880,3618453000,6.1800000000000006E-4,1.0737189300000003E-2,20.314692115228976,{"$f":"0","v":0},0,17.750442938218267,{"$f":"0","v":0},0,{"$f":"0","v":0},0.11254418080833387,6.1550006640000003E-4,null,374,0.9993708,6.2925000000000003E-4,6.0000000000000006E-4,8.0736000000000002E-3,0.11392599388333383,0.26366826732558252,9852927,2598239,54264480,20.343432818022769,9811860,3766220000,5.9757792000000008E-4,17.773839519846767,null,0,0,null,1.0610723700000003E-2]
[378,6.2954999999999999E-4,8.0960000000000008E-3,2561191,9807886,3569198000,9807886,3569198000,6.2399999999999999E-4,1.0779344500000003E-2,20.304970698527885,{"$f":"0","v":0},0,17.742511870826664,{"$f":"0","v":0},0,{"$f":"0","v":0},0.11208357645000055,6.2147404799999992E-4,null,375,0.99937069999999995,6.2932500000000002E-4,6.0599999999999998E-4,8.0791999999999999E-3,0.11346538952500052,0.26273013661546474,9852410,2588977,54046420,20.333922417361503,9810867,3716964000,6.0355200239999994E-4,17.766105932837071,null,0,0,null,1.0652878900000003E-2]
[379,6.2962499999999998E-4,8.1015989999999993E-3,2551929,9806893,3519942000,9806893,3519942000,6.2999999999999992E-4,1.0821499700000002E-2,20.295182634391473,{"$f":"0","v":0},0,17.734518194342542,{"$f":"0","v":0},0,{"$f":"0","v":0},0.11162297209166724,6.2744799631499995E-4,null,376,0.9993706,6.2940000000000001E-4,6.1199999999999991E-4,8.0847999999999996E-3,0.1130047851666672,0.26179534377090896,9851894,2579715,53828350,20.324339849557024,9809873,3667709000,6.0952605119999996E-4,17.758307346599633,null,0,0,null,1.0695034100000002E-2]
[380,6.2969999999999996E-4,8.1071990000000007E-3,2542668,9805900,3470686000,9805900,3470686000,6.3600000000000006E-4,1.0863654900000004E-2,20.285315070626602,{"$f":"0","v":0},0,17.726451261987275,{"$f":"0","v":0},0,{"$f":"0","v":0},0.11116236773333391,6.3342191071800004E-4,null,377,0.99937050000000005,6.29475E-4,6.1800000000000006E-4,8.0903999999999993E-3,0.11254418080833387,0.26086387691580176,9851377,2570453,53610290,20.314692115228976,9808880,3618453000,6.1550006640000003E-4,17.750442938218267,null,0,0,null,1.0737189300000003E-2]
[381,6.2977499999999995E-4,8.1127990000000004E-3,2533406,9804906,3421431000,9804906,3421431000,6.4199999999999999E-4,1.0905810100000003E-2,20.275379633847344,{"$f":"0","v":0},0,17.718315073494942,{"$f":"0","v":0},0,{"$f":"0","v":0},0.11070176337500059,6.3939579152099996E-4,null,378,0.99937050000000005,6.2954999999999999E-4,6.2399999999999999E-4,8.0960000000000008E-3,0.11208357645000055,0.2599357242162853,9850860,2561191,53392220,20.304970698527885,9807886,3569198000,6.2147404799999992E-4,17.742511870826664,null,0,0,null,1.0779344500000003E-2]
[382,6.2985000000000005E-4,8.1183990000000001E-3,2524144,9803913,3372175000,9803913,3372175000,6.4799999999999992E-4,1.0947965300000003E-2,20.265375245363707,{"$f":"0","v":0},0,17.710113697572648,{"$f":"0","v":0},0,{"$f":"0","v":0},0.11024115901666728,6.4536963872399993E-4,null,379,0.99937039999999999,6.2962499999999998E-4,6.2999999999999992E-4,8.1015989999999993E-3,0.11162297209166724,0.25901087388060617,9850344,2551929,53174160,20.295182634391473,9806893,3519942000,6.2744799631499995E-4,17.734518194342542,null,0,0,null,1.0821499700000002E-2]
[383,6.2992500000000004E-4,8.1239989999999998E-3,2514882,9802919,3322919000,9802919,3322919000,6.5400000000000007E-4,1.0990120500000004E-2,20.255297167024139,{"$f":"0","v":0},0,17.701836315656777,{"$f":"0","v":0},0,{"$f":"0","v":0},0.10978055465833395,6.5134345232700005E-4,null,380,0.99937030000000004,6.2969999999999996E-4,6.3600000000000006E-4,8.1071990000000007E-3,0.11116236773333391,0.25808931415896635,9849827,2542668,52956100,20.285315070626602,9805900,3470686000,6.3342191071800004E-4,17.726451261987275,null,0,0,null,1.0863654900000004E-2]
[384,{"$f":"W389","v":6.3000000000000003E-4},{"$f":"Y389","v":8.1296000000000007E-3},{"$f":"AC389","v":2505620},{"$f":"AF389","v":9801926},{"$f":"AG389","v":3273663000},{"$f":"E386","v":9801926},{"$f":"F386","v":3273663000},{"$f":"X389","v":6.6E-4},{"$f":"AN389","v":1.1032275700000004E-2},{"$f":"AE389","v":20.245140590618956},{"$f":"0","v":0},{"$f":"AL389","v":0},{"$f":"AI389","v":17.693486943783579},{"$f":"0","v":0},{"$f":"AK389","v":0},{"$f":"0","v":0},{"$f":"Z389","v":0.10931995030000063},{"$f":"AH389","v":6.5731723199999998E-4},null,381,0.99937019999999999,6.2977499999999995E-4,6.4199999999999999E-4,8.1127990000000004E-3,0.11070176337500059,0.25717103334337332,9849311,2533406,52738030,20.275379633847344,9804906,3421431000,6.3939579152099996E-4,17.718315073494942,null,0,0,null,1.0905810100000003E-2]
[385,6.3007500000000001E-4,8.1355999999999998E-3,2496752,9800874,3233367000,9800874,3233367000,6.6700000000000017E-4,1.1072614483333338E-2,20.235342824063689,{"$f":"0","v":0},0,17.685584964170115,{"$f":"0","v":0},0,{"$f":"0","v":0},0.10885658757500064,6.6428677740000021E-4,null,382,0.99937019999999999,6.2985000000000005E-4,6.4799999999999992E-4,8.1183990000000001E-3,0.11024115901666728,0.25625601976749163,9848794,2524144,52519970,20.265375245363707,9803913,3372175000,6.4536963872399993E-4,17.710113697572648,null,0,0,null,1.0947965300000003E-2]
[386,6.3015E-4,8.1416000000000006E-3,2487883,9799823,3193071000,9799823,3193071000,6.7399999999999979E-4,1.111295326666667E-2,20.225483557037581,{"$f":"0","v":0},0,17.677611988217425,{"$f":"0","v":0},0,{"$f":"0","v":0},0.10839322485000066,6.7125628079999975E-4,null,383,0.99937010000000004,6.2992500000000004E-4,6.5400000000000007E-4,8.1239989999999998E-3,0.10978055465833395,0.25534426180649444,9848278,2514882,52301910,20.255297167024139,9802919,3322919000,6.5134345232700005E-4,17.701836315656777,null,0,0,null,1.0990120500000004E-2]
[387,6.3022489999999996E-4,8.1475990000000002E-3,2479015,9798772,3152774000,9798772,3152774000,6.8099999999999996E-4,1.1153292050000003E-2,20.215545371179008,{"$f":"0","v":0},0,17.669577264526051,{"$f":"0","v":0},0,{"$f":"0","v":0},0.10792986212500066,6.7822574254049997E-4,null,384,0.99936999999999998,6.3000000000000003E-4,6.6E-4,8.1296000000000007E-3,0.10931995030000063,0.25443574787691642,9847761,2505620,52083840,20.245140590618956,9801926,3273663000,6.5731723199999998E-4,17.693486943783579,null,0,0,null,1.1032275700000004E-2]
[388,6.3029999999999998E-4,8.1536000000000004E-3,2470146,9797720,3112477000,9797720,3112477000,6.8800000000000024E-4,1.1193630833333338E-2,20.205544226940432,{"$f":"0","v":0},0,17.661474921725066,{"$f":"0","v":0},0,{"$f":"0","v":0},0.10746649940000066,6.851951616000003E-4,null,385,0.99936990000000003,6.3007500000000001E-4,6.6700000000000017E-4,8.1355999999999998E-3,0.10885658757500064,0.25353046643650567,9847244,2496752,51875040,20.235342824063689,9800874,3233367000,6.6428677740000021E-4,17.685584964170115,null,0,0,null,1.1072614483333338E-2]
[389,6.3037499999999997E-4,8.1595999999999995E-3,2461277,9796668,3072181000,9796668,3072181000,6.9499999999999976E-4,1.1233969616666669E-2,20.195466943243961,{"$f":"0","v":0},0,17.653298989200675,{"$f":"0","v":0},0,{"$f":"0","v":0},0.10700313667500069,6.9216453899999979E-4,null,386,0.99936990000000003,6.3015E-4,6.7399999999999979E-4,8.1416000000000006E-3,0.10839322485000066,0.25262840598407793,9846727,2487883,51666240,20.225483557037581,9799823,3193071000,6.7125628079999975E-4,17.677611988217425,null,0,0,null,1.111295326666667E-2]
[390,6.3044999999999996E-4,8.1656000000000003E-3,2452409,9795617,3031885000,9795617,3031885000,7.0199999999999993E-4,1.1274308400000004E-2,20.185312397592188,{"$f":"0","v":0},0,17.645058800280513,{"$f":"0","v":0},0,{"$f":"0","v":0},0.10653977395000069,6.9913387439999989E-4,null,387,0.99936979999999997,6.3022489999999996E-4,6.8099999999999996E-4,8.1475990000000002E-3,0.10792986212500066,0.25172955505937,9846210,2479015,51457440,20.215545371179008,9798772,3152774000,6.7822574254049997E-4,17.669577264526051,null,0,0,null,1.1153292050000003E-2]
[391,6.3052490000000002E-4,8.1715989999999999E-3,2443540,9794566,2991588000,9794566,2991588000,7.0900000000000021E-4,1.1314647183333339E-2,20.175092625180408,{"$f":"0","v":0},0,17.636757751032512,{"$f":"0","v":0},0,{"$f":"0","v":0},0.10607641122500069,7.0610316815450022E-4,null,388,0.99936970000000003,6.3029999999999998E-4,6.8800000000000024E-4,8.1536000000000004E-3,0.10746649940000066,0.25083390224289415,9845693,2470146,51248640,20.205544226940432,9797720,3112477000,6.851951616000003E-4,17.661474921725066,null,0,0,null,1.1193630833333338E-2]
[392,6.3060000000000004E-4,8.1776000000000001E-3,2434671,9793514,2951292000,9793514,2951292000,7.1599999999999984E-4,1.135498596666667E-2,20.164798395758606,{"$f":"0","v":0},0,17.628371047215374,{"$f":"0","v":0},0,{"$f":"0","v":0},0.10561304850000072,7.1307241919999983E-4,null,389,0.99936959999999997,6.3037499999999997E-4,6.9499999999999976E-4,8.1595999999999995E-3,0.10700313667500069,0.24994143615579331,9845176,2461277,51039830,20.195466943243961,9796668,3072181000,6.9216453899999979E-4,17.653298989200675,null,0,0,null,1.1233969616666669E-2]
[393,6.3067500000000003E-4,8.1835999999999992E-3,2425803,9792462,2910995000,9792462,2910995000,7.2300000000000001E-4,1.1395324750000005E-2,20.154416238664062,{"$f":"0","v":0},0,17.619917446430769,{"$f":"0","v":0},0,{"$f":"0","v":0},0.10514968577500072,7.200416286E-4,null,390,0.99936959999999997,6.3044999999999996E-4,7.0199999999999993E-4,8.1656000000000003E-3,0.10653977395000069,0.24905214545969623,9844659,2452409,50831030,20.185312397592188,9795617,3031885000,6.9913387439999989E-4,17.645058800280513,null,0,0,null,1.1274308400000004E-2]
[394,6.3075000000000002E-4,8.1896E-3,2416934,9791411,2870698000,9791411,2870698000,7.3000000000000018E-4,1.1435663533333338E-2,20.143970591115298,{"$f":"0","v":0},0,17.611390858540638,{"$f":"0","v":0},0,{"$f":"0","v":0},0.10468632305000072,7.2701079600000023E-4,null,391,0.99936950000000002,6.3052490000000002E-4,7.0900000000000021E-4,8.1715989999999999E-3,0.10607641122500069,0.24816601885657363,9844142,2443540,50622230,20.175092625180408,9794566,2991588000,7.0610316815450022E-4,17.636757751032512,null,0,0,null,1.1314647183333339E-2]
[395,6.3082489999999997E-4,8.1956000000000008E-3,2408066,9790360,2830402000,9790360,2830402000,7.3699999999999981E-4,1.1476002316666669E-2,20.133439414312839,{"$f":"0","v":0},0,17.60278508778833,{"$f":"0","v":0},0,{"$f":"0","v":0},0.10422296032500075,7.3397992139999976E-4,null,392,0.99936939999999996,6.3060000000000004E-4,7.1599999999999984E-4,8.1776000000000001E-3,0.10561304850000072,0.24728304508859447,9843625,2434671,50413430,20.164798395758606,9793514,2951292000,7.1307241919999983E-4,17.628371047215374,null,0,0,null,1.135498596666667E-2]
[396,6.3089999999999999E-4,8.2015999999999999E-3,2399197,9789308,2790106000,9789308,2790106000,7.4399999999999998E-4,1.1516341100000004E-2,20.122838999187366,{"$f":"0","v":0},0,17.59410963829308,{"$f":"0","v":0},0,{"$f":"0","v":0},0.10375959760000075,7.4094900479999999E-4,null,393,0.99936930000000002,6.3067500000000003E-4,7.2300000000000001E-4,8.1835999999999992E-3,0.10514968577500072,0.24640321293798312,9843108,2425803,50204620,20.154416238664062,9792462,2910995000,7.200416286E-4,17.619917446430769,null,0,0,null,1.1395324750000005E-2]
[397,6.3097499999999998E-4,8.2081329999999994E-3,2390705,9788189,2756982000,9788189,2756982000,7.5150000000000021E-4,1.1554863466666673E-2,20.112613137826148,{"$f":"0","v":0},0,17.585892285127414,{"$f":"0","v":0},0,{"$f":"0","v":0},0.10330052530833406,7.4841579402525028E-4,null,394,0.99936930000000002,6.3075000000000002E-4,7.3000000000000018E-4,8.1896E-3,0.10468632305000072,0.24552651122687674,9842591,2416934,49995820,20.143970591115298,9791411,2870698000,7.2701079600000023E-4,17.611390858540638,null,0,0,null,1.1435663533333338E-2]
[398,6.3104999999999997E-4,8.2146670000000001E-3,2382213,9787070,2723857000,9787070,2723857000,7.589999999999998E-4,1.1593385833333336E-2,20.102310173355615,{"$f":"0","v":0},0,17.577615888861317,{"$f":"0","v":0},0,{"$f":"0","v":0},0.10284145301666742,7.5588253387349981E-4,null,395,0.99936919999999996,6.3082489999999997E-4,7.3699999999999981E-4,8.1956000000000008E-3,0.10422296032500075,0.24465292881718323,9842074,2408066,49787020,20.133439414312839,9790360,2830402000,7.3397992139999976E-4,17.60278508778833,null,0,0,null,1.1476002316666669E-2]
[399,6.3112490000000003E-4,8.2211999999999997E-3,2373721,9785950,2690734000,9785950,2690734000,7.6650000000000004E-4,1.1631908200000004E-2,20.091937703855393,{"$f":"0","v":0},0,17.569260366395351,{"$f":"0","v":0},0,{"$f":"0","v":0},0.10238238072500072,7.6334922510000003E-4,null,396,0.99936910000000001,6.3089999999999999E-4,7.4399999999999998E-4,8.2015999999999999E-3,0.10375959760000075,0.24378245461043985,9841557,2399197,49578220,20.122838999187366,9789308,2790106000,7.4094900479999999E-4,17.59410963829308,null,0,0,null,1.1516341100000004E-2]
[400,6.3119999999999995E-4,8.2277329999999992E-3,2365228,9784831,2657609000,9784831,2657609000,7.7400000000000017E-4,1.1670430566666673E-2,20.081499472073446,{"$f":"0","v":0},0,17.560844129865583,{"$f":"0","v":0},0,{"$f":"0","v":0},0.10192330843333403,7.7081586732900018E-4,null,397,0.99936899999999995,6.3097499999999998E-4,7.5150000000000021E-4,8.2081329999999994E-3,0.10330052530833406,0.24291507754767211,9841040,2390705,49378290,20.112613137826148,9788189,2756982000,7.4841579402525028E-4,17.585892285127414,null,0,0,null,1.1554863466666673E-2]
[401,6.3127500000000004E-4,8.2342660000000005E-3,2356736,9783712,2624485000,9783712,2624485000,7.8149999999999975E-4,1.1708952933333336E-2,20.07097301804982,{"$f":"0","v":0},0,17.552346922962684,{"$f":"0","v":0},0,{"$f":"0","v":0},0.10146423614166739,7.7828246056049972E-4,null,398,0.99936899999999995,6.3104999999999997E-4,7.589999999999998E-4,8.2146670000000001E-3,0.10284145301666742,0.24205078660925328,9840522,2382213,49178350,20.102310173355615,9787070,2723857000,7.5588253387349981E-4,17.577615888861317,null,0,0,null,1.1593385833333336E-2]
[402,6.3135000000000003E-4,8.2407999999999995E-3,2348244,9782593,2591362000,9782593,2591362000,7.8899999999999999E-4,1.1747475300000004E-2,20.060374688490633,{"$f":"0","v":0},0,17.543787272599879,{"$f":"0","v":0},0,{"$f":"0","v":0},0.10100516385000069,7.8574900439999998E-4,null,399,0.99936879999999995,6.3112490000000003E-4,7.6650000000000004E-4,8.2211999999999997E-3,0.10238238072500072,0.24118957081476444,9840005,2373721,48978420,20.091937703855393,9785950,2690734000,7.6334922510000003E-4,17.569260366395351,null,0,0,null,1.1631908200000004E-2]
[403,6.3142489999999999E-4,8.2473340000000003E-3,2339752,9781474,2558237000,9781474,2558237000,7.9650000000000022E-4,1.1785997666666673E-2,20.04969942683384,{"$f":"0","v":0},0,17.535154555574486,{"$f":"0","v":0},0,{"$f":"0","v":0},0.10054609155833399,7.932154992345002E-4,null,400,0.99936879999999995,6.3119999999999995E-4,7.7400000000000017E-4,8.2277329999999992E-3,0.10192330843333403,0.24033141922285506,9839487,2365228,48778490,20.081499472073446,9784831,2657609000,7.7081586732900018E-4,17.560844129865583,null,0,0,null,1.1670430566666673E-2]
[404,6.3150000000000001E-4,8.2538669999999998E-3,2331260,9780355,2525113000,9780355,2525113000,8.0399999999999981E-4,1.1824520033333336E-2,20.03894210283995,{"$f":"0","v":0},0,17.526437985294603,{"$f":"0","v":0},0,{"$f":"0","v":0},0.10008701926666735,8.0068194546599979E-4,null,401,0.9993687,6.3127500000000004E-4,7.8149999999999975E-4,8.2342660000000005E-3,0.10146423614166739,0.23947632093110371,9838970,2356736,48578550,20.07097301804982,9783712,2624485000,7.7828246056049972E-4,17.552346922962684,null,0,0,null,1.1708952933333336E-2]
[405,6.31575E-4,8.2603999999999993E-3,2322768,9779236,2491989000,9779236,2491989000,8.1149999999999994E-4,1.1863042400000004E-2,20.028110426870008,{"$f":"0","v":0},0,17.517656262457692,{"$f":"0","v":0},0,{"$f":"0","v":0},9.9627946975000659E-2,8.0814834269999996E-4,null,402,0.9993687,6.3135000000000003E-4,7.8899999999999999E-4,8.2407999999999995E-3,0.10100516385000069,0.23862426507588,9838452,2348244,48378620,20.060374688490633,9782593,2591362000,7.8574900439999998E-4,17.543787272599879,null,0,0,null,1.1747475300000004E-2]
[406,6.3164999999999998E-4,8.2669330000000006E-3,2314276,9778116,2458865000,9778116,2458865000,8.1900000000000017E-4,1.1901564766666673E-2,20.01719925943722,{"$f":"0","v":0},0,17.508788682608518,{"$f":"0","v":0},0,{"$f":"0","v":0},9.9168874683333963E-2,8.1561469093650017E-4,null,403,0.99936849999999999,6.3142489999999999E-4,7.9650000000000022E-4,8.2473340000000003E-3,0.10054609155833399,0.23777524083220591,9837935,2339752,48178690,20.04969942683384,9781474,2558237000,7.932154992345002E-4,17.535154555574486,null,0,0,null,1.1785997666666673E-2]
[407,6.3172490000000005E-4,8.2734660000000002E-3,2305784,9776997,2425741000,9776997,2425741000,8.2649999999999976E-4,1.1940087133333336E-2,20.006203385341674,{"$f":"0","v":0},0,17.499859584266371,{"$f":"0","v":0},0,{"$f":"0","v":0},9.8709802391667323E-2,8.2308099017549977E-4,null,404,0.99936849999999999,6.3150000000000001E-4,8.0399999999999981E-4,8.2538669999999998E-3,0.10008701926666735,0.23692923741361901,9837418,2331260,47978750,20.03894210283995,9780355,2525113000,8.0068194546599979E-4,17.526437985294603,null,0,0,null,1.1824520033333336E-2]
[408,6.3179999999999996E-4,8.2799999999999992E-3,2297291,9775878,2392617000,9775878,2392617000,8.34E-4,1.1978609500000004E-2,19.995139510696148,{"$f":"0","v":0},0,17.490837059578521,{"$f":"0","v":0},0,{"$f":"0","v":0},9.8250730100000627E-2,8.3054723999999996E-4,null,405,0.99936840000000005,6.31575E-4,8.1149999999999994E-4,8.2603999999999993E-3,9.9627946975000659E-2,0.23608624407203491,9836900,2322768,47778820,20.028110426870008,9779236,2491989000,8.0814834269999996E-4,17.517656262457692,null,0,0,null,1.1863042400000004E-2]
[409,6.3195000000000005E-4,8.2869999999999992E-3,2289160,9774687,2365247000,9774687,2365247000,8.4300000000000022E-4,1.2015315450000006E-2,19.984456452730839,{"$f":"0","v":0},0,17.482308535163686,{"$f":"0","v":0},0,{"$f":"0","v":0},9.7802291841667277E-2,8.3950702950000029E-4,null,406,0.99936840000000005,6.3164999999999998E-4,8.1900000000000017E-4,8.2669330000000006E-3,9.9168874683333963E-2,0.23524625009761083,9836383,2314276,47578890,20.01719925943722,9778116,2458865000,8.1561469093650017E-4,17.508788682608518,null,0,0,null,1.1901564766666673E-2]
[410,6.3210000000000002E-4,8.2939989999999998E-3,2281028,9773495,2337878000,9773495,2337878000,8.5199999999999968E-4,1.2052021400000003E-2,19.973706226607767,{"$f":"0","v":0},0,17.473714215368879,{"$f":"0","v":0},0,{"$f":"0","v":0},9.7353853583333982E-2,8.4846675642599972E-4,null,407,0.99936829999999999,6.3172490000000005E-4,8.2649999999999976E-4,8.2734660000000002E-3,9.8709802391667323E-2,0.2344092448186097,9835865,2305784,47378950,20.006203385341674,9776997,2425741000,8.2308099017549977E-4,17.499859584266371,null,0,0,null,1.1940087133333336E-2]
[411,6.3225E-4,8.3009999999999994E-3,2272897,9772304,2310508000,9772304,2310508000,8.61E-4,1.2088727350000005E-2,19.962870054530992,{"$f":"0","v":0},0,17.465042040784162,{"$f":"0","v":0},0,{"$f":"0","v":0},9.6905415325000632E-2,8.5742641950000006E-4,null,408,0.99936820000000004,6.3179999999999996E-4,8.34E-4,8.2799999999999992E-3,9.8250730100000627E-2,0.23357521760126429,9835348,2297291,47179020,19.995139510696148,9775878,2392617000,8.3054723999999996E-4,17.490837059578521,null,0,0,null,1.1978609500000004E-2]
[412,6.3239999999999998E-4,8.3079999999999994E-3,2264765,9771113,2283139000,9771113,2283139000,8.7000000000000022E-4,1.2125433300000007E-2,19.951965122945058,{"$f":"0","v":0},0,17.456286515908882,{"$f":"0","v":0},0,{"$f":"0","v":0},9.6456977066667282E-2,8.6638602000000027E-4,null,409,0.99936809999999998,6.3195000000000005E-4,8.4300000000000022E-4,8.2869999999999992E-3,9.7802291841667277E-2,0.23274415784964236,9834830,2289160,46987580,19.984456452730839,9774687,2365247000,8.3950702950000029E-4,17.482308535163686,null,0,0,null,1.2015315450000006E-2]
[413,6.3254999999999995E-4,8.3149999999999995E-3,2256634,9769921,2255769000,9769921,2255769000,8.7899999999999968E-4,1.2162139250000004E-2,19.94097252072482,{"$f":"0","v":0},0,17.447472631181576,{"$f":"0","v":0},0,{"$f":"0","v":0},9.6008538808333987E-2,8.7534555749999964E-4,null,410,0.99936789999999998,6.3210000000000002E-4,8.5199999999999968E-4,8.2939989999999998E-3,9.7353853583333982E-2,0.23191605500551207,9834312,2281028,46796140,19.973706226607767,9773495,2337878000,8.4846675642599972E-4,17.473714215368879,null,0,0,null,1.2052021400000003E-2]
[414,6.3270000000000004E-4,8.3220010000000007E-3,2248502,9768730,2228399000,9768730,2228399000,8.879999999999999E-4,1.2198845200000006E-2,19.9299095205015,{"$f":"0","v":0},0,17.438578028431184,{"$f":"0","v":0},0,{"$f":"0","v":0},9.5560100550000637E-2,8.8430503155599994E-4,null,411,0.99936780000000003,6.3225E-4,8.61E-4,8.3009999999999994E-3,9.6905415325000632E-2,0.23109089854820747,9833794,2272897,46604700,19.962870054530992,9772304,2310508000,8.5742641950000006E-4,17.465042040784162,null,0,0,null,1.2088727350000005E-2]
[415,6.3285000000000001E-4,8.3289999999999996E-3,2240370,9767539,2201029000,9767539,2201029000,8.9700000000000023E-4,1.2235551150000008E-2,19.918766208260241,{"$f":"0","v":0},0,17.429613094388255,{"$f":"0","v":0},0,{"$f":"0","v":0},9.5111662291667287E-2,8.9326444350000024E-4,null,412,0.99936760000000002,6.3239999999999998E-4,8.7000000000000022E-4,8.3079999999999994E-3,9.6456977066667282E-2,0.2302686779944953,9833277,2264765,46413260,19.951965122945058,9771113,2283139000,8.6638602000000027E-4,17.456286515908882,null,0,0,null,1.2125433300000007E-2]
[416,6.3299999999999999E-4,8.3359999999999997E-3,2232239,9766347,2173660000,9766347,2173660000,9.0599999999999969E-4,1.2272257100000005E-2,19.907532545424868,{"$f":"0","v":0},0,17.420555150251268,{"$f":"0","v":0},0,{"$f":"0","v":0},9.4663224033333992E-2,9.0222379199999972E-4,null,413,0.99936749999999996,6.3254999999999995E-4,8.7899999999999968E-4,8.3149999999999995E-3,9.6008538808333987E-2,0.22944938289844155,9832759,2256634,46221820,19.94097252072482,9769921,2255769000,8.7534555749999964E-4,17.447472631181576,null,0,0,null,1.2162139250000004E-2]
[417,6.3314999999999997E-4,8.3429999999999997E-3,2224107,9765156,2146290000,9765156,2146290000,9.1499999999999991E-4,1.2308963050000007E-2,19.896225934723464,{"$f":"0","v":0},0,17.41143521166595,{"$f":"0","v":0},0,{"$f":"0","v":0},9.4214785775000642E-2,9.1118307749999989E-4,null,414,0.99936729999999996,6.3270000000000004E-4,8.879999999999999E-4,8.3220010000000007E-3,9.5560100550000637E-2,0.2286330028512788,9832241,2248502,46030380,19.9299095205015,9768730,2228399000,8.8430503155599994E-4,17.438578028431184,null,0,0,null,1.2198845200000006E-2]
[418,6.3330000000000005E-4,8.3499999999999998E-3,2215976,9763965,2118920000,9763965,2118920000,9.2400000000000013E-4,1.2345669000000009E-2,19.884822609390472,{"$f":"0","v":0},0,17.402230506497833,{"$f":"0","v":0},0,{"$f":"0","v":0},9.3766347516667292E-2,9.2014230000000009E-4,null,415,0.99936720000000001,6.3285000000000001E-4,8.9700000000000023E-4,8.3289999999999996E-3,9.5111662291667287E-2,0.22781952748127393,9831723,2240370,45838940,19.918766208260241,9767539,2201029000,8.9326444350000024E-4,17.429613094388255,null,0,0,null,1.2235551150000008E-2]
[419,6.3345000000000003E-4,8.3570009999999993E-3,2207844,9762773,2091551000,9762773,2091551000,9.3299999999999969E-4,1.2382374950000006E-2,19.873349068140683,{"$f":"0","v":0},0,17.392951549337017,{"$f":"0","v":0},0,{"$f":"0","v":0},9.3317909258333998E-2,9.2910145903349968E-4,null,416,0.99936700000000001,6.3299999999999999E-4,9.0599999999999969E-4,8.3359999999999997E-3,9.4663224033333992E-2,0.22700894645359657,9831205,2232239,45647500,19.907532545424868,9766347,2173660000,9.0222379199999972E-4,17.420555150251268,null,0,0,null,1.2272257100000005E-2]
[420,6.3360000000000001E-4,8.3639999999999999E-3,2199713,9761582,2064181000,9761582,2064181000,9.4199999999999991E-4,1.2419080900000008E-2,19.861781419515484,{"$f":"0","v":0},0,17.383575235356375,{"$f":"0","v":0},0,{"$f":"0","v":0},9.2869471000000647E-2,9.3806055599999995E-4,null,417,0.99936689999999995,6.3314999999999997E-4,9.1499999999999991E-4,8.3429999999999997E-3,9.4214785775000642E-2,0.22620124947018744,9830688,2224107,45456060,19.896225934723464,9765156,2146290000,9.1118307749999989E-4,17.41143521166595,null,0,0,null,1.2308963050000007E-2]
[421,6.3472500000000005E-4,8.3715999999999999E-3,2191926,9760304,2041438000,9760304,2041438000,9.4950000000000015E-4,1.2453970433333341E-2,19.850636723137551,{"$f":"0","v":0},0,17.374726288903357,{"$f":"0","v":0},0,{"$f":"0","v":0},9.243730517500065E-2,9.4552558290000009E-4,null,418,0.99936670000000005,6.3330000000000005E-4,9.2400000000000013E-4,8.3499999999999998E-3,9.3766347516667292E-2,0.22539642626962783,9830170,2215976,45264610,19.884822609390472,9763965,2118920000,9.2014230000000009E-4,17.402230506497833,null,0,0,null,1.2345669000000009E-2]
[422,6.3584999999999998E-4,8.3791999999999998E-3,2184140,9759025,2018694000,9759025,2018694000,9.5699999999999973E-4,1.2488859966666674E-2,19.839403228120297,{"$f":"0","v":0},0,17.365792612120639,{"$f":"0","v":0},0,{"$f":"0","v":0},9.2005139350000709E-2,9.529905527999997E-4,null,419,0.99936650000000005,6.3345000000000003E-4,9.3299999999999969E-4,8.3570009999999993E-3,9.3317909258333998E-2,0.22459446662700908,9829652,2207844,45073170,19.873349068140683,9762773,2091551000,9.2910145903349968E-4,17.392951549337017,null,0,0,null,1.2382374950000006E-2]
[423,6.3697500000000002E-4,8.3867999999999998E-3,2176353,9757746,1995951000,9757746,1995951000,9.6449999999999986E-4,1.2523749500000007E-2,19.828098716063064,{"$f":"0","v":0},0,17.356794304498109,{"$f":"0","v":0},0,{"$f":"0","v":0},9.1572973525000712E-2,9.6045546569999986E-4,null,420,0.99936639999999999,6.3360000000000001E-4,9.4199999999999991E-4,8.3639999999999999E-3,9.2869471000000647E-2,0.22379536035380285,9829134,2199713,44881730,19.861781419515484,9761582,2064181000,9.3806055599999995E-4,17.383575235356375,null,0,0,null,1.2419080900000008E-2]
[424,6.3809999999999995E-4,8.3944009999999993E-3,2168567,9756468,1973208000,9756468,1973208000,9.720000000000001E-4,1.2558639033333341E-2,19.816708241740589,{"$f":"0","v":0},0,17.347709298031248,{"$f":"0","v":0},0,{"$f":"0","v":0},9.1140807700000714E-2,9.6792032111400002E-4,null,421,0.99936530000000001,6.3472500000000005E-4,9.4950000000000015E-4,8.3715999999999999E-3,9.243730517500065E-2,0.22299909729773126,9828615,2191926,44698420,19.850636723137551,9760304,2041438000,9.4552558290000009E-4,17.374726288903357,null,0,0,null,1.2453970433333341E-2]
[425,6.3922499999999999E-4,8.4019999999999997E-3,2160780,9755190,1950464000,9755190,1950464000,9.7949999999999969E-4,1.2593528566666673E-2,19.805235840761206,{"$f":"0","v":0},0,17.338557816330539,{"$f":"0","v":0},0,{"$f":"0","v":0},9.0708641875000773E-2,9.7538512049999968E-4,null,422,0.99936409999999998,6.3584999999999998E-4,9.5699999999999973E-4,8.3791999999999998E-3,9.2005139350000709E-2,0.2222056673426385,9828096,2184140,44515110,19.839403228120297,9759025,2018694000,9.529905527999997E-4,17.365792612120639,null,0,0,null,1.2488859966666674E-2]
[426,6.4035000000000003E-4,8.4096009999999992E-3,2152994,9753911,1927721000,9753911,1927721000,9.8700000000000003E-4,1.2628418100000007E-2,19.793680296678328,{"$f":"0","v":0},0,17.329317601371582,{"$f":"0","v":0},0,{"$f":"0","v":0},9.0276476050000776E-2,9.828498619065E-4,null,423,0.999363,6.3697500000000002E-4,9.6449999999999986E-4,8.3867999999999998E-3,9.1572973525000712E-2,0.22141506040836179,9827577,2176353,44331800,19.828098716063064,9757746,1995951000,9.6045546569999986E-4,17.356794304498109,null,0,0,null,1.2523749500000007E-2]
[427,6.4147499999999997E-4,8.4171999999999997E-3,2145207,9752632,1904977000,9752632,1904977000,9.9450000000000016E-4,1.2663307633333341E-2,19.782045683703249,{"$f":"0","v":0},0,17.32000900179635,{"$f":"0","v":0},0,{"$f":"0","v":0},8.9844310225000779E-2,9.9031454730000019E-4,null,424,0.99936190000000003,6.3809999999999995E-4,9.720000000000001E-4,8.3944009999999993E-3,9.1140807700000714E-2,0.22062726645060363,9827058,2168567,44148500,19.816708241740589,9756468,1973208000,9.6792032111400002E-4,17.347709298031248,null,0,0,null,1.2558639033333341E-2]
[428,6.4260000000000001E-4,8.4247999999999997E-3,2137421,9751354,1882234000,9751354,1882234000,1.0019999999999996E-3,1.2698197166666673E-2,19.770316793774676,{"$f":"0","v":0},0,17.310603529437564,{"$f":"0","v":0},0,{"$f":"0","v":0},8.9412144400000837E-2,9.9777917519999954E-4,null,425,0.99936080000000005,6.3922499999999999E-4,9.7949999999999969E-4,8.4019999999999997E-3,9.0708641875000773E-2,0.21984227546080415,9826539,2160780,43965180,19.805235840761206,9755190,1950464000,9.7538512049999968E-4,17.338557816330539,null,0,0,null,1.2593528566666673E-2]
[429,6.4372500000000005E-4,8.4323999999999996E-3,2129634,9750076,1859491000,9750076,1859491000,1.0095E-3,1.2733086700000007E-2,19.75851167383691,{"$f":"0","v":0},0,17.301133705568471,{"$f":"0","v":0},0,{"$f":"0","v":0},8.897997857500084E-2,1.0052437461E-3,null,426,0.99935969999999996,6.4035000000000003E-4,9.8700000000000003E-4,8.4096009999999992E-3,9.0276476050000776E-2,0.21906007746601369,9826020,2152994,43781880,19.793680296678328,9753911,1927721000,9.828498619065E-4,17.329317601371582,null,0,0,null,1.2628418100000007E-2]
[430,6.4484999999999998E-4,8.4399999999999996E-3,2121848,9748797,1836747000,9748797,1836747000,1.0170000000000001E-3,1.2767976233333341E-2,19.746610344693242,{"$f":"0","v":0},0,17.29157087026163,{"$f":"0","v":0},0,{"$f":"0","v":0},8.8547812750000843E-2,1.01270826E-3,null,427,0.99935850000000004,6.4147499999999997E-4,9.9450000000000016E-4,8.4171999999999997E-3,8.9844310225000779E-2,0.21828066252876652,9825501,2145207,43598570,19.782045683703249,9752632,1904977000,9.9031454730000019E-4,17.32000900179635,null,0,0,null,1.2663307633333341E-2]
[431,6.4597500000000002E-4,8.4476010000000008E-3,2114061,9747518,1814004000,9747518,1814004000,1.0244999999999998E-3,1.2802865766666673E-2,19.734630942531933,{"$f":"0","v":0},0,17.281935624851194,{"$f":"0","v":0},0,{"$f":"0","v":0},8.8115646925000901E-2,1.0201727163877499E-3,null,428,0.99935739999999995,6.4260000000000001E-4,1.0019999999999996E-3,8.4247999999999997E-3,8.9412144400000837E-2,0.21750402074695432,9824982,2137421,43415260,19.770316793774676,9751354,1882234000,9.9777917519999954E-4,17.310603529437564,null,0,0,null,1.2698197166666673E-2]
[432,6.4709999999999995E-4,8.4551999999999995E-3,2106275,9746240,1791261000,9746240,1791261000,1.0319999999999999E-3,1.2837755300000007E-2,19.722553342591382,{"$f":"0","v":0},0,17.272205118362123,{"$f":"0","v":0},0,{"$f":"0","v":0},8.7683481100000904E-2,1.0276371167999999E-3,null,429,0.99935629999999998,6.4372500000000005E-4,1.0095E-3,8.4323999999999996E-3,8.897997857500084E-2,0.21673014225370041,9824463,2129634,43231950,19.75851167383691,9750076,1859491000,1.0052437461E-3,17.301133705568471,null,0,0,null,1.2733086700000007E-2]
[433,6.4935000000000004E-4,8.463333E-3,2098817,9744880,1772251000,9744880,1772251000,1.0415000000000001E-3,1.2870828416666674E-2,19.710932773875314,{"$f":"0","v":0},0,17.263020182831742,{"$f":"0","v":0},0,{"$f":"0","v":0},8.7272520908334178E-2,1.0370927193402502E-3,null,430,0.99935510000000005,6.4484999999999998E-4,1.0170000000000001E-3,8.4399999999999996E-3,8.8547812750000843E-2,0.2159590172172344,9823944,2121848,43048640,19.746610344693242,9748797,1836747000,1.01270826E-3,17.29157087026163,null,0,0,null,1.2767976233333341E-2]
[434,6.5160000000000001E-4,8.4714669999999999E-3,2091358,9743520,1753242000,9743520,1753242000,1.0509999999999996E-3,1.290390153333334E-2,19.699239003237768,{"$f":"0","v":0},0,17.253751913570113,{"$f":"0","v":0},0,{"$f":"0","v":0},8.686156071666748E-2,1.0465482440914996E-3,null,431,0.99935399999999996,6.4597500000000002E-4,1.0244999999999998E-3,8.4476010000000008E-3,8.8115646925000901E-2,0.21519063584076728,9823425,2114061,42865330,19.734630942531933,9747518,1814004000,1.0201727163877499E-3,17.281935624851194,null,0,0,null,1.2802865766666673E-2]
[435,6.5384999999999998E-4,8.4796000000000003E-3,2083900,9742159,1734233000,9742159,1734233000,1.0604999999999998E-3,1.2936974650000007E-2,19.687447014412079,{"$f":"0","v":0},0,17.244405476063857,{"$f":"0","v":0},0,{"$f":"0","v":0},8.6450600525000754E-2,1.0560036920999997E-3,null,432,0.99935289999999999,6.4709999999999995E-4,1.0319999999999999E-3,8.4551999999999995E-3,8.7683481100000904E-2,0.21442498836236712,9822906,2106275,42682020,19.722553342591382,9746240,1791261000,1.0276371167999999E-3,17.272205118362123,null,0,0,null,1.2837755300000007E-2]
[436,6.5609999999999996E-4,8.4877330000000008E-3,2076442,9740799,1715224000,9740799,1715224000,1.0700000000000002E-3,1.2970047766666675E-2,19.675575134452746,{"$f":"0","v":0},0,17.234979877222951,{"$f":"0","v":0},0,{"$f":"0","v":0},8.6039640333334028E-2,1.0654590628450002E-3,null,433,0.99935070000000004,6.4935000000000004E-4,1.0415000000000001E-3,8.463333E-3,8.7272520908334178E-2,0.21366206505483468,9822376,2098817,42506500,19.710932773875314,9744880,1772251000,1.0370927193402502E-3,17.263020182831742,null,0,0,null,1.2870828416666674E-2]
[437,6.5835000000000004E-4,8.4958659999999995E-3,2068984,9739439,1696215000,9739439,1696215000,1.0794999999999997E-3,1.300312088333334E-2,19.663617666126626,{"$f":"0","v":0},0,17.225480379703825,{"$f":"0","v":0},0,{"$f":"0","v":0},8.5628680141667329E-2,1.0749143563264997E-3,null,434,0.99934840000000003,6.5160000000000001E-4,1.0509999999999996E-3,8.4714669999999999E-3,8.686156071666748E-2,0.21290185622558033,9821846,2091358,42330980,19.699239003237768,9743520,1753242000,1.0465482440914996E-3,17.253751913570113,null,0,0,null,1.290390153333334E-2]
[438,6.6060000000000001E-4,8.5039999999999994E-3,2061526,9738078,1677205000,9738078,1677205000,1.0889999999999999E-3,1.3036194000000008E-2,19.651568829756854,{"$f":"0","v":0},0,17.215893437777897,{"$f":"0","v":0},0,{"$f":"0","v":0},8.5217719950000603E-2,1.0843695719999998E-3,null,435,0.99934610000000001,6.5384999999999998E-4,1.0604999999999998E-3,8.4796000000000003E-3,8.6450600525000754E-2,0.21214435221650044,9821317,2083900,42155450,19.687447014412079,9742159,1734233000,1.0560036920999997E-3,17.244405476063857,null,0,0,null,1.2936974650000007E-2]
[439,6.6284999999999998E-4,8.5121339999999993E-3,2054068,9736718,1658196000,9736718,1658196000,1.0985000000000001E-3,1.3069267116666675E-2,19.639437366890157,{"$f":"0","v":0},0,17.206224252661588,{"$f":"0","v":0},0,{"$f":"0","v":0},8.4806759758333877E-2,1.0938247104005001E-3,null,436,0.99934389999999995,6.5609999999999996E-4,1.0700000000000002E-3,8.4877330000000008E-3,8.6039640333334028E-2,0.21138954340385491,9820787,2076442,41979930,19.675575134452746,9740799,1715224000,1.0654590628450002E-3,17.234979877222951,null,0,0,null,1.2970047766666675E-2]
[440,6.6509999999999996E-4,8.5202669999999998E-3,2046610,9735358,1639187000,9735358,1639187000,1.1079999999999996E-3,1.3102340233333341E-2,19.627217488106346,{"$f":"0","v":0},0,17.196478115194775,{"$f":"0","v":0},0,{"$f":"0","v":0},8.4395799566667179E-2,1.1032797720819997E-3,null,437,0.9993417,6.5835000000000004E-4,1.0794999999999997E-3,8.4958659999999995E-3,8.5628680141667329E-2,0.21063742019814488,9820257,2068984,41804410,19.663617666126626,9739439,1696215000,1.0749143563264997E-3,17.225480379703825,null,0,0,null,1.300312088333334E-2]
[441,6.6735000000000004E-4,8.5284000000000002E-3,2039152,9733998,1620178000,9733998,1620178000,1.1175E-3,1.3135413350000008E-2,19.614908223287589,{"$f":"0","v":0},0,17.186641264199483,{"$f":"0","v":0},0,{"$f":"0","v":0},8.3984839375000453E-2,1.1127347565E-3,null,438,0.99933939999999999,6.6060000000000001E-4,1.0889999999999999E-3,8.5039999999999994E-3,8.5217719950000603E-2,0.20988797304399104,9819728,2061526,41628880,19.651568829756854,9738078,1677205000,1.0843695719999998E-3,17.215893437777897,null,0,0,null,1.3036194000000008E-2]
[442,6.6960000000000001E-4,8.5365330000000007E-3,2031694,9732638,1601168000,9732638,1601168000,1.1270000000000002E-3,1.3168486466666676E-2,19.602503666070447,{"$f":"0","v":0},0,17.176718926078433,{"$f":"0","v":0},0,{"$f":"0","v":0},8.3573879183333727E-2,1.1221896636545003E-3,null,439,0.99933709999999998,6.6284999999999998E-4,1.0985000000000001E-3,8.5121339999999993E-3,8.4806759758333877E-2,0.20914119242001175,9819198,2054068,41453360,19.639437366890157,9736718,1658196000,1.0938247104005001E-3,17.206224252661588,null,0,0,null,1.3069267116666675E-2]
[443,6.7184999999999999E-4,8.5446670000000006E-3,2024236,9731277,1582159000,9731277,1582159000,1.1364999999999997E-3,1.3201559583333342E-2,19.590012643453299,{"$f":"0","v":0},0,17.166709981579761,{"$f":"0","v":0},0,{"$f":"0","v":0},8.3162918991667029E-2,1.1316444929772497E-3,null,440,0.99933490000000003,6.6509999999999996E-4,1.1079999999999996E-3,8.5202669999999998E-3,8.4395799566667179E-2,0.20839706883870274,9818668,2046610,41277840,19.627217488106346,9735358,1639187000,1.1032797720819997E-3,17.196478115194775,null,0,0,null,1.3102340233333341E-2]
[444,6.7409999999999996E-4,8.5527999999999993E-3,2016778,9729917,1563150000,9729917,1563150000,1.1459999999999999E-3,1.3234632700000009E-2,19.577429237790838,{"$f":"0","v":0},0,17.156619756933555,{"$f":"0","v":0},0,{"$f":"0","v":0},8.2751958800000303E-2,1.1410992456E-3,null,441,0.99933269999999996,6.6735000000000004E-4,1.1175E-3,8.5284000000000002E-3,8.3984839375000453E-2,0.2076555928463161,9818138,2039152,41102320,19.614908223287589,9733998,1620178000,1.1127347565E-3,17.186641264199483,null,0,0,null,1.3135413350000008E-2]
[445,6.7762499999999995E-4,8.5616000000000008E-3,2009633,9728445,1547160000,9728445,1547160000,1.1565000000000002E-3,1.326588940000001E-2,19.565327993552387,{"$f":"0","v":0},0,17.147080807870957,{"$f":"0","v":0},0,{"$f":"0","v":0},8.236643224166694E-2,1.1515492548000003E-3,null,442,0.99933039999999995,6.6960000000000001E-4,1.1270000000000002E-3,8.5365330000000007E-3,8.3573879183333727E-2,0.20691675502274035,9817608,2031694,40926790,19.602503666070447,9732638,1601168000,1.1221896636545003E-3,17.176718926078433,null,0,0,null,1.3168486466666676E-2]
[446,6.8115000000000005E-4,8.5704000000000006E-3,2002487,9726973,1531170000,9726973,1531170000,1.1669999999999996E-3,1.3297146100000006E-2,19.553155422065991,{"$f":"0","v":0},0,17.137461597404542,{"$f":"0","v":0},0,{"$f":"0","v":0},8.1980905683333619E-2,1.1619991715999995E-3,null,443,0.99932810000000005,6.7184999999999999E-4,1.1364999999999997E-3,8.5446670000000006E-3,8.3162918991667029E-2,0.20618054598138066,9817079,2024236,40751270,19.590012643453299,9731277,1582159000,1.1316444929772497E-3,17.166709981579761,null,0,0,null,1.3201559583333342E-2]
[447,6.8467500000000004E-4,8.5792000000000004E-3,1995342,9725502,1515180000,9725502,1515180000,1.1774999999999999E-3,1.3328402800000007E-2,19.540880585884523,{"$f":"0","v":0},0,17.127779223585097,{"$f":"0","v":0},0,{"$f":"0","v":0},8.1595379125000256E-2,1.1724489959999999E-3,null,444,0.99932589999999999,6.7409999999999996E-4,1.1459999999999999E-3,8.5527999999999993E-3,8.2751958800000303E-2,0.20544695636903978,9816549,2016778,40575750,19.577429237790838,9729917,1563150000,1.1410992456E-3,17.156619756933555,null,0,0,null,1.3234632700000009E-2]
[448,{"$f":"W453","v":6.8820000000000003E-4},{"$f":"Y453","v":8.5880000000000001E-3},{"$f":"AC453","v":1988196},{"$f":"AF453","v":9724030},{"$f":"AG453","v":1499190000},{"$f":"E450","v":9724030},{"$f":"F450","v":1499190000},{"$f":"X453","v":1.1880000000000003E-3},{"$f":"AN453","v":1.3359659500000008E-2},{"$f":"AE453","v":19.528532649698519},{"$f":"0","v":0},{"$f":"AL453","v":0},{"$f":"AI453","v":17.117996491671004},{"$f":"0","v":0},{"$f":"AK453","v":0},{"$f":"0","v":0},{"$f":"Z453","v":8.1209852566666893E-2},{"$f":"AH453","v":1.1828987280000003E-3},null,445,0.99932240000000006,6.7762499999999995E-4,1.1565000000000002E-3,8.5616000000000008E-3,8.236643224166694E-2,0.20471597686579901,9815998,2009633,40407680,19.565327993552387,9728445,1547160000,1.1515492548000003E-3,17.147080807870957,null,0,0,null,1.326588940000001E-2]
[449,6.9172500000000002E-4,8.5967999999999999E-3,1981051,9722558,1483200000,9722558,1483200000,1.1984999999999997E-3,1.3390916200000004E-2,19.516080458470444,{"$f":"0","v":0},0,17.108130394935881,{"$f":"0","v":0},0,{"$f":"0","v":0},8.0824326008333572E-2,1.1933483675999996E-3,null,446,0.99931879999999995,6.8115000000000005E-4,1.1669999999999996E-3,8.5704000000000006E-3,8.1980905683333619E-2,0.20398759818489998,9815446,2002487,40239620,19.553155422065991,9726973,1531170000,1.1619991715999995E-3,17.137461597404542,null,0,0,null,1.3297146100000006E-2]
[450,6.9525000000000001E-4,8.6055990000000002E-3,1973905,9721086,1467209000,9721086,1467209000,1.209E-3,1.3422172900000005E-2,19.503553341388432,{"$f":"0","v":0},0,17.098179863213719,{"$f":"0","v":0},0,{"$f":"0","v":0},8.0438799450000209E-2,1.2037979154045E-3,null,447,0.99931530000000002,6.8467500000000004E-4,1.1774999999999999E-3,8.5792000000000004E-3,8.1595379125000256E-2,0.20326181107262639,9814894,1995342,40071550,19.540880585884523,9725502,1515180000,1.1724489959999999E-3,17.127779223585097,null,0,0,null,1.3328402800000007E-2]
[451,6.98775E-4,8.614399E-3,1966760,9719614,1451219000,9719614,1451219000,1.2195000000000001E-3,1.3453429600000006E-2,19.490925006948821,{"$f":"0","v":0},0,17.088162208287383,{"$f":"0","v":0},0,{"$f":"0","v":0},8.0053272891666846E-2,1.2142473702097501E-3,null,448,0.99931179999999997,6.8820000000000003E-4,1.1880000000000003E-3,8.5880000000000001E-3,8.1209852566666893E-2,0.20253860630818685,9814343,1988196,39903490,19.528532649698519,9724030,1499190000,1.1828987280000003E-3,17.117996491671004,null,0,0,null,1.3359659500000008E-2]
[452,7.0229999999999999E-4,8.6231999999999993E-3,1959614,9718142,1435229000,9718142,1435229000,1.2299999999999995E-3,1.3484686300000003E-2,19.478209696739594,{"$f":"0","v":0},0,17.078039594757854,{"$f":"0","v":0},0,{"$f":"0","v":0},7.9667746333333525E-2,1.2246967319999996E-3,null,449,0.99930830000000004,6.9172500000000002E-4,1.1984999999999997E-3,8.5967999999999999E-3,8.0824326008333572E-2,0.20181797470359744,9813792,1981051,39735420,19.516080458470444,9722558,1483200000,1.1933483675999996E-3,17.108130394935881,null,0,0,null,1.3390916200000004E-2]
[453,7.0582499999999999E-4,8.6320000000000008E-3,1952469,9716670,1419239000,9716670,1419239000,1.2404999999999998E-3,1.3515943000000002E-2,19.465396185547633,{"$f":"0","v":0},0,17.067829224340571,{"$f":"0","v":0},0,{"$f":"0","v":0},7.9282219775000162E-2,1.2351460019999999E-3,null,450,0.99930479999999999,6.9525000000000001E-4,1.209E-3,8.6055990000000002E-3,8.0438799450000209E-2,0.20109990710356496,9813240,1973905,39567360,19.503553341388432,9721086,1467209000,1.2037979154045E-3,17.098179863213719,null,0,0,null,1.3422172900000005E-2]
[454,7.0934999999999998E-4,8.6408000000000006E-3,1945323,9715199,1403249000,9715199,1403249000,1.2510000000000002E-3,1.3547199700000002E-2,19.452493686138496,{"$f":"0","v":0},0,17.057536697446803,{"$f":"0","v":0},0,{"$f":"0","v":0},7.8896693216666799E-2,1.2455951796000002E-3,null,451,0.99930129999999995,6.98775E-4,1.2195000000000001E-3,8.614399E-3,8.0053272891666846E-2,0.20038439438537078,9812688,1966760,39399300,19.490925006948821,9719614,1451219000,1.2142473702097501E-3,17.088162208287383,null,0,0,null,1.3453429600000006E-2]
[455,7.1287499999999997E-4,8.6496000000000003E-3,1938178,9713727,1387259000,9713727,1387259000,1.2614999999999996E-3,1.3578456400000001E-2,19.439490894713142,{"$f":"0","v":0},0,17.047147384208124,{"$f":"0","v":0},0,{"$f":"0","v":0},7.8511166658333478E-2,1.2560442647999996E-3,null,452,0.99929769999999996,7.0229999999999999E-4,1.2299999999999995E-3,8.6231999999999993E-3,7.9667746333333525E-2,0.19967142745875491,9812137,1959614,39231230,19.478209696739594,9718142,1435229000,1.2246967319999996E-3,17.078039594757854,null,0,0,null,1.3484686300000003E-2]
[456,7.1639999999999996E-4,8.6584000000000001E-3,1931032,9712255,1371269000,9712255,1371269000,1.2719999999999999E-3,1.36097131E-2,19.426397042272388,{"$f":"0","v":0},0,17.03667877879608,{"$f":"0","v":0},0,{"$f":"0","v":0},7.8125640100000115E-2,1.2664932576E-3,null,453,0.99929420000000002,7.0582499999999999E-4,1.2404999999999998E-3,8.6320000000000008E-3,7.9282219775000162E-2,0.19896099726580038,9811586,1952469,39063170,19.465396185547633,9716670,1419239000,1.2351460019999999E-3,17.067829224340571,null,0,0,null,1.3515943000000002E-2]
[457,7.2150000000000003E-4,8.6679329999999992E-3,1924184,9710650,1357731000,9710650,1357731000,1.2830000000000003E-3,1.3639153383333335E-2,19.41383135223381,{"$f":"0","v":0},0,17.026786788264495,{"$f":"0","v":0},0,{"$f":"0","v":0},7.7769069975000132E-2,1.2774395209805003E-3,null,454,0.99929060000000003,7.0934999999999998E-4,1.2510000000000002E-3,8.6408000000000006E-3,7.8896693216666799E-2,0.19825309478081835,9811034,1945323,38895100,19.452493686138496,9715199,1403249000,1.2455951796000002E-3,17.057536697446803,null,0,0,null,1.3547199700000002E-2]
[458,7.2659999999999999E-4,8.6774669999999995E-3,1917336,9709045,1344192000,9709045,1344192000,1.2939999999999996E-3,1.3668593666666666E-2,19.401181117967845,{"$f":"0","v":0},0,17.016823451319031,{"$f":"0","v":0},0,{"$f":"0","v":0},7.7412499850000177E-2,1.2883856788509995E-3,null,455,0.99928709999999998,7.1287499999999997E-4,1.2614999999999996E-3,8.6496000000000003E-3,7.8511166658333478E-2,0.19754771101023325,9810482,1938178,38727040,19.439490894713142,9713727,1387259000,1.2560442647999996E-3,17.047147384208124,null,0,0,null,1.3578456400000001E-2]
[459,7.3169999999999995E-4,8.6870000000000003E-3,1910488,9707440,1330653000,9707440,1330653000,1.305E-3,1.3698033950000001E-2,19.388434961817783,{"$f":"0","v":0},0,17.006756759085228,{"$f":"0","v":0},0,{"$f":"0","v":0},7.7055929725000194E-2,1.2993317324999998E-3,null,456,0.99928360000000005,7.1639999999999996E-4,1.2719999999999999E-3,8.6584000000000001E-3,7.8125640100000115E-2,0.19684483699246866,9809931,1931032,38558970,19.426397042272388,9712255,1371269000,1.2664932576E-3,17.03667877879608,null,0,0,null,1.36097131E-2]
[460,7.3680000000000002E-4,8.6965329999999993E-3,1903640,9705836,1317115000,9705836,1317115000,1.3160000000000003E-3,1.3727474233333335E-2,19.375597101692897,{"$f":"0","v":0},0,16.996623535969626,{"$f":"0","v":0},0,{"$f":"0","v":0},7.6699359600000211E-2,1.3102776812860004E-3,null,457,0.99927849999999996,7.2150000000000003E-4,1.2830000000000003E-3,8.6679329999999992E-3,7.7769069975000132E-2,0.19614446379783343,9809345,1924184,38398050,19.41383135223381,9710650,1357731000,1.2774395209805003E-3,17.026786788264495,null,0,0,null,1.3639153383333335E-2]
[461,7.4189999999999998E-4,8.7060669999999996E-3,1896791,9704231,1303576000,9704231,1303576000,1.3269999999999996E-3,1.3756914516666666E-2,19.362677038043024,{"$f":"0","v":0},0,16.98638463826989,{"$f":"0","v":0},0,{"$f":"0","v":0},7.6342789475000256E-2,1.3212235245454995E-3,null,458,0.99927339999999998,7.2659999999999999E-4,1.2939999999999996E-3,8.6774669999999995E-3,7.7412499850000177E-2,0.19544658252840821,9808760,1917336,38237140,19.401181117967845,9709045,1344192000,1.2883856788509995E-3,17.016823451319031,null,0,0,null,1.3668593666666666E-2]
[462,7.4700000000000005E-4,8.7156000000000004E-3,1889943,9702626,1290038000,9702626,1290038000,1.338E-3,1.3786354800000001E-2,19.349652806989415,{"$f":"0","v":0},0,16.976077148042322,{"$f":"0","v":0},0,{"$f":"0","v":0},7.5986219350000272E-2,1.3321692636000001E-3,null,459,0.9992683,7.3169999999999995E-4,1.305E-3,8.6870000000000003E-3,7.7055929725000194E-2,0.19475118431793245,9808174,1910488,38076220,19.388434961817783,9707440,1330653000,1.2993317324999998E-3,17.006756759085228,null,0,0,null,1.3698033950000001E-2]
[463,7.5210000000000001E-4,8.7251329999999995E-3,1883095,9701021,1276499000,9701021,1276499000,1.3490000000000004E-3,1.3815795083333336E-2,19.336533848973808,{"$f":"0","v":0},0,16.965668597497491,{"$f":"0","v":0},0,{"$f":"0","v":0},7.5629649225000289E-2,1.3431148977915003E-3,null,460,0.99926320000000002,7.3680000000000002E-4,1.3160000000000003E-3,8.6965329999999993E-3,7.6699359600000211E-2,0.19405826033169171,9807588,1903640,37915300,19.375597101692897,9705836,1317115000,1.3102776812860004E-3,16.996623535969626,null,0,0,null,1.3727474233333335E-2]
[464,7.5719999999999997E-4,8.7346669999999998E-3,1876247,9699416,1262961000,9699416,1262961000,1.3599999999999997E-3,1.3845235366666667E-2,19.323319126781637,{"$f":"0","v":0},0,16.955175296287479,{"$f":"0","v":0},0,{"$f":"0","v":0},7.5273079100000334E-2,1.3540604264399997E-3,null,461,0.99925810000000004,7.4189999999999998E-4,1.3269999999999996E-3,8.7060669999999996E-3,7.6342789475000256E-2,0.19336780176640525,9807003,1896791,37754380,19.362677038043024,9704231,1303576000,1.3212235245454995E-3,16.98638463826989,null,0,0,null,1.3756914516666666E-2]
[465,7.6230000000000004E-4,8.7442000000000006E-3,1869399,9697812,1249422000,9697812,1249422000,1.371E-3,1.3874675650000001E-2,19.310007588000207,{"$f":"0","v":0},0,16.944597895302099,{"$f":"0","v":0},0,{"$f":"0","v":0},7.4916508975000351E-2,1.3650058509000001E-3,null,462,0.99925299999999995,7.4700000000000005E-4,1.338E-3,8.7156000000000004E-3,7.5986219350000272E-2,0.19267979985011469,9806417,1889943,37593460,19.349652806989415,9702626,1290038000,1.3321692636000001E-3,16.976077148042322,null,0,0,null,1.3786354800000001E-2]
[466,7.674E-4,8.7537329999999997E-3,1862550,9696207,1235883000,9696207,1235883000,1.3820000000000004E-3,1.3904115933333336E-2,19.296608815870712,{"$f":"0","v":0},0,16.933915778405819,{"$f":"0","v":0},0,{"$f":"0","v":0},7.4559938850000368E-2,1.3759511704970005E-3,null,463,0.99924789999999997,7.5210000000000001E-4,1.3490000000000004E-3,8.7251329999999995E-3,7.5629649225000289E-2,0.191994245842072,9805831,1883095,37432540,19.336533848973808,9701021,1276499000,1.3431148977915003E-3,16.965668597497491,null,0,0,null,1.3815795083333336E-2]
[467,7.7249999999999997E-4,8.7632669999999999E-3,1855702,9694602,1222345000,9694602,1222345000,1.3929999999999997E-3,1.3933556216666667E-2,19.283100456502893,{"$f":"0","v":0},0,16.923145376496276,{"$f":"0","v":0},0,{"$f":"0","v":0},7.4203368725000413E-2,1.3868963845344998E-3,null,464,0.99924279999999999,7.5719999999999997E-4,1.3599999999999997E-3,8.7346669999999998E-3,7.5273079100000334E-2,0.19131113103262878,9805246,1876247,37271620,19.323319126781637,9699416,1262961000,1.3540604264399997E-3,16.955175296287479,null,0,0,null,1.3845235366666667E-2]
[468,7.7760000000000004E-4,8.7728000000000007E-3,1848854,9692997,1208806000,9692997,1208806000,1.4040000000000001E-3,1.3962996500000002E-2,19.269492029476996,{"$f":"0","v":0},0,16.912274818670273,{"$f":"0","v":0},0,{"$f":"0","v":0},7.384679860000043E-2,1.3978414944E-3,null,465,0.99923770000000001,7.6230000000000004E-4,1.371E-3,8.7442000000000006E-3,7.4916508975000351E-2,0.19063044674312554,9804660,1869399,37110700,19.310007588000207,9697812,1249422000,1.3650058509000001E-3,16.944597895302099,null,0,0,null,1.3874675650000001E-2]
[469,7.8427499999999997E-4,8.7829999999999991E-3,1842288,9691240,1197267000,9691240,1197267000,1.4165000000000004E-3,1.399062036666667E-2,19.256470215297497,{"$f":"0","v":0},0,16.902023615675219,{"$f":"0","v":0},0,{"$f":"0","v":0},7.3522002508333809E-2,1.4102794402500005E-3,null,466,0.99923260000000003,7.674E-4,1.3820000000000004E-3,8.7537329999999997E-3,7.4559938850000368E-2,0.18995218432578145,9804074,1862550,36949780,19.296608815870712,9696207,1235883000,1.3759511704970005E-3,16.933915778405819,null,0,0,null,1.3904115933333336E-2]
[470,7.9095000000000001E-4,8.7931989999999998E-3,1835722,9689482,1185727000,9689482,1185727000,1.4289999999999997E-3,1.4018244233333334E-2,19.243355248416336,{"$f":"0","v":0},0,16.891685791058549,{"$f":"0","v":0},0,{"$f":"0","v":0},7.3197206416667202E-2,1.4227172593144996E-3,null,467,0.99922750000000005,7.7249999999999997E-4,1.3929999999999997E-3,8.7632669999999999E-3,7.4203368725000413E-2,0.18927633516358436,9803489,1855702,36788860,19.283100456502893,9694602,1222345000,1.3868963845344998E-3,16.923145376496276,null,0,0,null,1.3933556216666667E-2]
[471,7.9762500000000005E-4,8.8033989999999999E-3,1829157,9687725,1174187000,9687725,1174187000,1.4415000000000001E-3,1.4045868100000001E-2,19.230135316432651,{"$f":"0","v":0},0,16.881272885200648,{"$f":"0","v":0},0,{"$f":"0","v":0},7.2872410325000581E-2,1.4351549501707501E-3,null,468,0.99922239999999996,7.7760000000000004E-4,1.4040000000000001E-3,8.7728000000000007E-3,7.384679860000043E-2,0.18860289067018146,9802903,1848854,36627940,19.269492029476996,9692997,1208806000,1.3978414944E-3,16.912274818670273,null,0,0,null,1.3962996500000002E-2]
[472,8.0429999999999998E-4,8.8135999999999996E-3,1822591,9685968,1162648000,9685968,1162648000,1.4540000000000004E-3,1.4073491966666669E-2,19.216830988594442,{"$f":"0","v":0},0,16.870751249611033,{"$f":"0","v":0},0,{"$f":"0","v":0},7.254761423333396E-2,1.4475925128000003E-3,null,469,0.99921570000000004,7.8427499999999997E-4,1.4165000000000004E-3,8.7829999999999991E-3,7.3522002508333809E-2,0.18793184228977022,9802268,1842288,36473870,19.256470215297497,9691240,1197267000,1.4102794402500005E-3,16.902023615675219,null,0,0,null,1.399062036666667E-2]
[473,8.1097500000000002E-4,8.8237999999999997E-3,1816025,9684211,1151108000,9684211,1151108000,1.4664999999999997E-3,1.4101115833333334E-2,19.203430454793665,{"$f":"0","v":0},0,16.860146884468449,{"$f":"0","v":0},0,{"$f":"0","v":0},7.2222818141667353E-2,1.4600299486499998E-3,null,470,0.99920900000000001,7.9095000000000001E-4,1.4289999999999997E-3,8.7931989999999998E-3,7.3197206416667202E-2,0.18726318149698953,9801632,1835722,36319800,19.243355248416336,9689482,1185727000,1.4227172593144996E-3,16.891685791058549,null,0,0,null,1.4018244233333334E-2]
[474,8.1764999999999995E-4,8.8339999999999998E-3,1809459,9682454,1139569000,9682454,1139569000,1.4789999999999998E-3,1.4128739700000002E-2,19.189932667720019,{"$f":"0","v":0},0,16.849451373101569,{"$f":"0","v":0},0,{"$f":"0","v":0},7.1898022050000732E-2,1.4724672569999999E-3,null,471,0.99920240000000005,7.9762500000000005E-4,1.4415000000000001E-3,8.8033989999999999E-3,7.2872410325000581E-2,0.18659689979681154,9800997,1829157,36165730,19.230135316432651,9687725,1174187000,1.4351549501707501E-3,16.881272885200648,null,0,0,null,1.4045868100000001E-2]
[475,8.2432499999999999E-4,8.8442E-3,1802893,9680696,1128029000,9680696,1128029000,1.4915000000000002E-3,1.415636356666667E-2,19.176331018165431,{"$f":"0","v":0},0,16.838663535313717,{"$f":"0","v":0},0,{"$f":"0","v":0},7.1573225958334111E-2,1.4849044378500002E-3,null,472,0.99919570000000002,8.0429999999999998E-4,1.4540000000000004E-3,8.8135999999999996E-3,7.254761423333396E-2,0.18593298872443367,9800362,1822591,36011660,19.216830988594442,9685968,1162648000,1.4475925128000003E-3,16.870751249611033,null,0,0,null,1.4073491966666669E-2]
[476,8.3100000000000003E-4,8.8543990000000006E-3,1796328,9678939,1116489000,9678939,1116489000,1.5039999999999995E-3,1.4183987433333335E-2,19.162624531822694,{"$f":"0","v":0},0,16.827782170444358,{"$f":"0","v":0},0,{"$f":"0","v":0},7.1248429866667504E-2,1.4973414919519994E-3,null,473,0.99918899999999999,8.1097500000000002E-4,1.4664999999999997E-3,8.8237999999999997E-3,7.2222818141667353E-2,0.18527143984517103,9799727,1816025,35857590,19.203430454793665,9684211,1151108000,1.4600299486499998E-3,16.860146884468449,null,0,0,null,1.4101115833333334E-2]
[477,8.3767490000000004E-4,8.8646000000000003E-3,1789762,9677182,1104950000,9677182,1104950000,1.5164999999999998E-3,1.4211611300000003E-2,19.148828494142425,{"$f":"0","v":0},0,16.816806056923642,{"$f":"0","v":0},0,{"$f":"0","v":0},7.0923633775000883E-2,1.5097784170499998E-3,null,474,0.99918229999999997,8.1764999999999995E-4,1.4789999999999998E-3,8.8339999999999998E-3,7.1898022050000732E-2,0.18461224475434937,9799092,1809459,35703520,19.189932667720019,9682454,1139569000,1.4724672569999999E-3,16.849451373101569,null,0,0,null,1.4128739700000002E-2]
[478,8.4435000000000001E-4,8.8748000000000004E-3,1783196,9675424,1093410000,9675424,1093410000,1.5290000000000002E-3,1.4239235166666669E-2,19.134930858226838,{"$f":"0","v":0},0,16.805746925287526,{"$f":"0","v":0},0,{"$f":"0","v":0},7.0598837683334262E-2,1.5222152154000001E-3,null,475,0.9991757,8.2432499999999999E-4,1.4915000000000002E-3,8.8442E-3,7.1573225958334111E-2,0.18395539507719819,9798456,1802893,35549440,19.176331018165431,9680696,1128029000,1.4849044378500002E-3,16.838663535313717,null,0,0,null,1.415636356666667E-2]
[479,8.5102490000000001E-4,8.8850000000000005E-3,1776630,9673667,1081870000,9673667,1081870000,1.5414999999999995E-3,1.4266859033333334E-2,19.12093049762753,{"$f":"0","v":0},0,16.794577612408549,{"$f":"0","v":0},0,{"$f":"0","v":0},7.0274041591667655E-2,1.5346518862499995E-3,null,476,0.99916899999999997,8.3100000000000003E-4,1.5039999999999995E-3,8.8543990000000006E-3,7.1248429866667504E-2,0.1833008824687444,9797821,1796328,35395370,19.162624531822694,9678939,1116489000,1.4973414919519994E-3,16.827782170444358,null,0,0,null,1.4183987433333335E-2]
[480,8.5769999999999998E-4,8.8952000000000007E-3,1770064,9671910,1070331000,9671910,1070331000,1.5539999999999998E-3,1.4294482900000002E-2,19.10682626918198,{"$f":"0","v":0},0,16.783302211827429,{"$f":"0","v":0},0,{"$f":"0","v":0},6.9949245500001034E-2,1.5470884295999997E-3,null,477,0.99916229999999995,8.3767490000000004E-4,1.5164999999999998E-3,8.8646000000000003E-3,7.0923633775000883E-2,0.18264869861370636,9797186,1789762,35241300,19.148828494142425,9677182,1104950000,1.5097784170499998E-3,16.816806056923642,null,0,0,null,1.4211611300000003E-2]
[481,8.6609999999999996E-4,8.9062670000000007E-3,1763767,9669972,1060427000,9669972,1060427000,1.5675000000000003E-3,1.4320290350000002E-2,19.093341812344448,{"$f":"0","v":0},0,16.77268065476461,{"$f":"0","v":0},0,{"$f":"0","v":0},6.9658335841667654E-2,1.5605197132387504E-3,null,478,0.99915560000000003,8.4435000000000001E-4,1.5290000000000002E-3,8.8748000000000004E-3,7.0598837683334262E-2,0.18199883522638804,9796550,1783196,35087230,19.134930858226838,9675424,1093410000,1.5222152154000001E-3,16.805746925287526,null,0,0,null,1.4239235166666669E-2]
[482,8.7449999999999995E-4,8.9173340000000007E-3,1757470,9668034,1050524000,9668034,1050524000,1.5809999999999995E-3,1.4346097800000002E-2,19.079766416117106,{"$f":"0","v":0},0,16.761969135323415,{"$f":"0","v":0},0,{"$f":"0","v":0},6.9367426183334288E-2,1.5739508474729995E-3,null,479,0.99914899999999995,8.5102490000000001E-4,1.5414999999999995E-3,8.8850000000000005E-3,7.0274041591667655E-2,0.18135128405057402,9795915,1776630,34933160,19.12093049762753,9673667,1081870000,1.5346518862499995E-3,16.794577612408549,null,0,0,null,1.4266859033333334E-2]
[483,8.8290000000000005E-4,8.9283999999999995E-3,1751172,9666095,1040620000,9666095,1040620000,1.5945E-3,1.4371905250000002E-2,19.066098875495953,{"$f":"0","v":0},0,16.751158864832043,{"$f":"0","v":0},0,{"$f":"0","v":0},6.9076516525000908E-2,1.5873818330999999E-3,null,480,0.99914230000000004,8.5769999999999998E-4,1.5539999999999998E-3,8.8952000000000007E-3,6.9949245500001034E-2,0.18070603685942441,9795280,1770064,34779090,19.10682626918198,9671910,1070331000,1.5470884295999997E-3,16.783302211827429,null,0,0,null,1.4294482900000002E-2]
[484,8.9130000000000003E-4,8.9394660000000001E-3,1744875,9664157,1030717000,9664157,1030717000,1.6080000000000003E-3,1.4397712700000002E-2,19.052327172433554,{"$f":"0","v":0},0,16.740263924975661,{"$f":"0","v":0},0,{"$f":"0","v":0},6.8785606866667529E-2,1.6008126693360003E-3,null,481,0.99913390000000002,8.6609999999999996E-4,1.5675000000000003E-3,8.9062670000000007E-3,6.9658335841667654E-2,0.18006308545537031,9794580,1763767,34631580,19.093341812344448,9669972,1060427000,1.5605197132387504E-3,16.77268065476461,null,0,0,null,1.4320290350000002E-2]
[485,8.9970000000000002E-4,8.9505330000000001E-3,1738578,9662219,1020813000,9662219,1020813000,1.6214999999999995E-3,1.4423520150000002E-2,19.038449957378962,{"$f":"0","v":0},0,16.729267813381419,{"$f":"0","v":0},0,{"$f":"0","v":0},6.8494697208334163E-2,1.6142433553702495E-3,null,482,0.9991255,8.7449999999999995E-4,1.5809999999999995E-3,8.9173340000000007E-3,6.9367426183334288E-2,0.17942242167000991,9793880,1757470,34484080,19.079766416117106,9668034,1050524000,1.5739508474729995E-3,16.761969135323415,null,0,0,null,1.4346097800000002E-2]
[486,9.0809989999999998E-4,8.9615990000000006E-3,1732280,9660280,1010909000,9660280,1010909000,1.635E-3,1.4449327600000002E-2,19.02448892018996,{"$f":"0","v":0},0,16.718198060244688,{"$f":"0","v":0},0,{"$f":"0","v":0},6.8203787550000783E-2,1.6276738928174999E-3,null,483,0.99911709999999998,8.8290000000000005E-4,1.5945E-3,8.9283999999999995E-3,6.9076516525000908E-2,0.17878403736400433,9793180,1751172,34336570,19.066098875495953,9666095,1040620000,1.5873818330999999E-3,16.751158864832043,null,0,0,null,1.4371905250000002E-2]
[487,9.1649989999999996E-4,8.9726660000000007E-3,1725983,9658342,1001006000,9658342,1001006000,1.6485000000000004E-3,1.4475135050000002E-2,19.010408875212946,{"$f":"0","v":0},0,16.707019095412544,{"$f":"0","v":0},0,{"$f":"0","v":0},6.7912877891667403E-2,1.6411042800495005E-3,null,484,0.99910869999999996,8.9130000000000003E-4,1.6080000000000003E-3,8.9394660000000001E-3,6.8785606866667529E-2,0.17814792442697466,9792479,1744875,34189070,19.052327172433554,9664157,1030717000,1.6008126693360003E-3,16.740263924975661,null,0,0,null,1.4397712700000002E-2]
[488,9.2489989999999995E-4,8.9837330000000007E-3,1719686,9656404,991102300,9656404,991102300,1.6619999999999996E-3,1.4500942500000003E-2,18.996231531027561,{"$f":"0","v":0},0,16.695735171541934,{"$f":"0","v":0},0,{"$f":"0","v":0},6.7621968233334037E-2,1.6545345178769996E-3,null,485,0.99910030000000005,8.9970000000000002E-4,1.6214999999999995E-3,8.9505330000000001E-3,6.8494697208334163E-2,0.1775140747773985,9791779,1738578,34041560,19.038449957378962,9662219,1020813000,1.6142433553702495E-3,16.729267813381419,null,0,0,null,1.4423520150000002E-2]
[489,9.3329990000000005E-4,8.9948000000000007E-3,1713388,9654466,981198700,9654466,981198700,1.6754999999999999E-3,1.4526749950000003E-2,18.981955536827229,{"$f":"0","v":0},0,16.684360596330695,{"$f":"0","v":0},0,{"$f":"0","v":0},6.7331058575000657E-2,1.6679646062999999E-3,null,486,0.99909190000000003,9.0809989999999998E-4,1.635E-3,8.9615990000000006E-3,6.8203787550000783E-2,0.17688248036250759,9791079,1732280,33894060,19.02448892018996,9660280,1010909000,1.6276738928174999E-3,16.718198060244688,null,0,0,null,1.4449327600000002E-2]
[490,9.4169999999999996E-4,9.0058670000000007E-3,1707091,9652528,971295100,9652528,971295100,1.6890000000000004E-3,1.4552557400000003E-2,18.967568634790606,{"$f":"0","v":0},0,16.672878427045752,{"$f":"0","v":0},0,{"$f":"0","v":0},6.7040148916667278E-2,1.6813945453185005E-3,null,487,0.99908350000000001,9.1649989999999996E-4,1.6485000000000004E-3,8.9726660000000007E-3,6.7912877891667403E-2,0.17625313315818525,9790379,1725983,33746550,19.010408875212946,9658342,1001006000,1.6411042800495005E-3,16.707019095412544,null,0,0,null,1.4475135050000002E-2]
[491,9.5009999999999995E-4,9.0169329999999995E-3,1700794,9650589,961391600,9650589,961391600,1.7024999999999996E-3,1.4578364850000003E-2,18.953069321348341,{"$f":"0","v":0},0,16.66130306256623,{"$f":"0","v":0},0,{"$f":"0","v":0},6.6749239258333912E-2,1.6948243357837495E-3,null,488,0.99907509999999999,9.2489989999999995E-4,1.6619999999999996E-3,8.9837330000000007E-3,6.7621968233334037E-2,0.1756260251688648,9789679,1719686,33599050,18.996231531027561,9656404,991102300,1.6545345178769996E-3,16.695735171541934,null,0,0,null,1.4500942500000003E-2]
[492,9.5850000000000004E-4,9.0279999999999996E-3,1694496,9648651,951488000,9648651,951488000,1.7160000000000001E-3,1.4604172300000003E-2,18.938479642324324,{"$f":"0","v":0},0,16.649625321539808,{"$f":"0","v":0},0,{"$f":"0","v":0},6.6458329600000532E-2,1.7082539760000001E-3,null,489,0.99906669999999997,9.3329990000000005E-4,1.6754999999999999E-3,8.9948000000000007E-3,6.7331058575000657E-2,0.17500114842742753,9788978,1713388,33451540,18.981955536827229,9654466,981198700,1.6679646062999999E-3,16.684360596330695,null,0,0,null,1.4526749950000003E-2]
[493,9.6869999999999996E-4,9.039867E-3,1688454,9646507,942930000,9646507,942930000,1.7305000000000005E-3,1.4628163333333336E-2,18.924555095963527,{"$f":"0","v":0},0,16.638620210666065,{"$f":"0","v":0},0,{"$f":"0","v":0},6.6202713575000544E-2,1.7226782550782505E-3,null,490,0.99905829999999995,9.4169999999999996E-4,1.6890000000000004E-3,9.0058670000000007E-3,6.7040148916667278E-2,0.17437849499510186,9788278,1707091,33304040,18.967568634790606,9652528,971295100,1.6813945453185005E-3,16.672878427045752,null,0,0,null,1.4552557400000003E-2]
[494,9.789E-4,9.0517329999999993E-3,1682412,9644362,934372100,9644362,934372100,1.7449999999999996E-3,1.4652154366666668E-2,18.910530535921044,{"$f":"0","v":0},0,16.62752164894982,{"$f":"0","v":0},0,{"$f":"0","v":0},6.5947097550000583E-2,1.7371023629574997E-3,null,491,0.99904990000000005,9.5009999999999995E-4,1.7024999999999996E-3,9.0169329999999995E-3,6.6749239258333912E-2,0.17375805696136223,9787578,1700794,33156530,18.953069321348341,9650589,961391600,1.6948243357837495E-3,16.66130306256623,null,0,0,null,1.4578364850000003E-2]
[495,9.8909999999999992E-4,9.0635999999999998E-3,1676370,9642218,925814100,9642218,925814100,1.7595E-3,1.4676145400000003E-2,18.896404880784075,{"$f":"0","v":0},0,16.61632844099692,{"$f":"0","v":0},0,{"$f":"0","v":0},6.5691481525000595E-2,1.7515262979E-3,null,492,0.99904150000000003,9.5850000000000004E-4,1.7160000000000001E-3,9.0279999999999996E-3,6.6458329600000532E-2,0.17313982644382883,9786878,1694496,33009030,18.938479642324324,9648651,951488000,1.7082539760000001E-3,16.649625321539808,null,0,0,null,1.4604172300000003E-2]
[496,9.9929990000000002E-4,9.0754670000000003E-3,1670328,9640074,917256200,9640074,917256200,1.7740000000000004E-3,1.4700136433333337E-2,18.882183020340914,{"$f":"0","v":0},0,16.60503937093775,{"$f":"0","v":0},0,{"$f":"0","v":0},6.5435865500000606E-2,1.7659500607710005E-3,null,493,0.99903129999999996,9.6869999999999996E-4,1.7305000000000005E-3,9.039867E-3,6.6202713575000544E-2,0.17252379558816716,9786096,1688454,32867820,18.924555095963527,9646507,942930000,1.7226782550782505E-3,16.638620210666065,null,0,0,null,1.4628163333333336E-2]
[497,1.0095E-3,9.0873329999999995E-3,1664286,9637930,908698200,9637930,908698200,1.7884999999999997E-3,1.4724127466666669E-2,18.867851889639159,{"$f":"0","v":0},0,16.593661317802908,{"$f":"0","v":0},0,{"$f":"0","v":0},6.5180249475000646E-2,1.7803736524647496E-3,null,494,0.9990211,9.789E-4,1.7449999999999996E-3,9.0517329999999993E-3,6.5947097550000583E-2,0.17190995656798858,9785314,1682412,32726610,18.910530535921044,9644362,934372100,1.7371023629574997E-3,16.62752164894982,null,0,0,null,1.4652154366666668E-2]
[498,1.0196999999999999E-3,9.0992E-3,1658244,9635786,900140300,9635786,900140300,1.8029999999999999E-3,1.4748118500000003E-2,18.853416324738699,{"$f":"0","v":0},0,16.582176826861133,{"$f":"0","v":0},0,{"$f":"0","v":0},6.4924633450000657E-2,1.7947970711999998E-3,null,495,0.99901090000000003,9.8909999999999992E-4,1.7595E-3,9.0635999999999998E-3,6.5691481525000595E-2,0.17129830158475051,9784533,1676370,32585400,18.896404880784075,9642218,925814100,1.7515262979E-3,16.61632844099692,null,0,0,null,1.4676145400000003E-2]
[499,1.0299E-3,9.1110659999999993E-3,1652202,9633641,891582400,9633641,891582400,1.8175000000000005E-3,1.4772109533333336E-2,18.838875179911415,{"$f":"0","v":0},0,16.570592699195455,{"$f":"0","v":0},0,{"$f":"0","v":0},6.4669017425000669E-2,1.8092203187725006E-3,null,496,0.99900069999999996,9.9929990000000002E-4,1.7740000000000004E-3,9.0754670000000003E-3,6.5435865500000606E-2,0.1706888228676578,9783751,1670328,32444200,18.882183020340914,9640074,917256200,1.7659500607710005E-3,16.60503937093775,null,0,0,null,1.4700136433333337E-2]
[500,1.0401E-3,9.1229329999999997E-3,1646160,9631497,883024400,9631497,883024400,1.8319999999999996E-3,1.4796100566666668E-2,18.824227292608249,{"$f":"0","v":0},0,16.558907632519777,{"$f":"0","v":0},0,{"$f":"0","v":0},6.4413401400000708E-2,1.8236433933719997E-3,null,497,0.9989905,1.0095E-3,1.7884999999999997E-3,9.0873329999999995E-3,6.5180249475000646E-2,0.17008151267356356,9782969,1664286,32302990,18.867851889639159,9637930,908698200,1.7803736524647496E-3,16.593661317802908,null,0,0,null,1.4724127466666669E-2]
[501,1.0503000000000001E-3,9.1348000000000002E-3,1640118,9629353,874466500,9629353,874466500,1.8465000000000001E-3,1.4820091600000002E-2,18.809477580271661,{"$f":"0","v":0},0,16.547120301753584,{"$f":"0","v":0},0,{"$f":"0","v":0},6.415778537500072E-2,1.8380662959E-3,null,498,0.99898030000000004,1.0196999999999999E-3,1.8029999999999999E-3,9.0992E-3,6.4924633450000657E-2,0.1694763632868711,9782188,1658244,32161780,18.853416324738699,9635786,900140300,1.7947970711999998E-3,16.582176826861133,null,0,0,null,1.4748118500000003E-2]
[502,1.0605E-3,9.1466659999999995E-3,1634075,9627208,865908500,9627208,865908500,1.8610000000000005E-3,1.4844082633333337E-2,18.79462450723906,{"$f":"0","v":0},0,16.53522935852105,{"$f":"0","v":0},0,{"$f":"0","v":0},6.3902169350000732E-2,1.8524890272870005E-3,null,499,0.99897009999999997,1.0299E-3,1.8175000000000005E-3,9.1110659999999993E-3,6.4669017425000669E-2,0.16887336701943567,9781406,1652202,32020570,18.838875179911415,9633641,891582400,1.8092203187725006E-3,16.570592699195455,null,0,0,null,1.4772109533333336E-2]
[503,1.0707E-3,9.158533E-3,1628033,9625064,857350600,9625064,857350600,1.8754999999999996E-3,1.4868073666666669E-2,18.779649301744293,{"$f":"0","v":0},0,16.523241761415388,{"$f":"0","v":0},0,{"$f":"0","v":0},6.3646553325000771E-2,1.8669115856792496E-3,null,500,0.99895990000000001,1.0401E-3,1.8319999999999996E-3,9.1229329999999997E-3,6.4413401400000708E-2,0.16827251621046715,9780624,1646160,31879360,18.824227292608249,9631497,883024400,1.8236433933719997E-3,16.558907632519777,null,0,0,null,1.4796100566666668E-2]
[504,1.0809000000000001E-3,9.1704000000000004E-3,1621991,9622920,848792600,9622920,848792600,1.89E-3,1.4892064700000002E-2,18.764562529426282,{"$f":"0","v":0},0,16.511139489295875,{"$f":"0","v":0},0,{"$f":"0","v":0},6.3390937300000783E-2,1.881333972E-3,null,501,0.99894970000000005,1.0503000000000001E-3,1.8465000000000001E-3,9.1348000000000002E-3,6.415778537500072E-2,0.16767380322643222,9779842,1640118,31738160,18.809477580271661,9629353,874466500,1.8380662959E-3,16.547120301753584,null,0,0,null,1.4820091600000002E-2]
[505,1.0929749999999999E-3,9.1832670000000002E-3,1616192,9620545,841346900,9620545,841346900,1.9055000000000003E-3,1.491423931666667E-2,18.750205833630325,{"$f":"0","v":0},0,16.499745943499178,{"$f":"0","v":0},0,{"$f":"0","v":0},6.3171316908334108E-2,1.8967506423657502E-3,null,502,0.99893949999999998,1.0605E-3,1.8610000000000005E-3,9.1466659999999995E-3,6.3902169350000732E-2,0.1670772204609578,9779060,1634075,31596950,18.79462450723906,9627208,865908500,1.8524890272870005E-3,16.53522935852105,null,0,0,null,1.4844082633333337E-2]
[506,1.10505E-3,9.1961330000000004E-3,1610392,9618169,833901200,9618169,833901200,1.9209999999999995E-3,1.4936413933333335E-2,18.735751502325726,{"$f":"0","v":0},0,16.488255382584839,{"$f":"0","v":0},0,{"$f":"0","v":0},6.2951696516667432E-2,1.9121671142534994E-3,null,503,0.99892930000000002,1.0707E-3,1.8754999999999996E-3,9.158533E-3,6.3646553325000771E-2,0.16648276033473416,9778279,1628033,31455740,18.779649301744293,9625064,857350600,1.8669115856792496E-3,16.523241761415388,null,0,0,null,1.4868073666666669E-2]
[507,1.1171250000000001E-3,9.2090000000000002E-3,1604593,9615794,826455600,9615794,826455600,1.9364999999999999E-3,1.4958588550000002E-2,18.721180672191224,{"$f":"0","v":0},0,16.476666562141045,{"$f":"0","v":0},0,{"$f":"0","v":0},6.2732076125000757E-2,1.9275833857499997E-3,null,504,0.99891909999999995,1.0809000000000001E-3,1.89E-3,9.1704000000000004E-3,6.3390937300000783E-2,0.16589041529541881,9777497,1621991,31314530,18.764562529426282,9622920,848792600,1.881333972E-3,16.511139489295875,null,0,0,null,1.4892064700000002E-2]
[508,1.1291999999999999E-3,9.2218669999999999E-3,1598794,9613418,819009900,9613418,819009900,1.9520000000000004E-3,1.4980763166666671E-2,18.706510396794915,{"$f":"0","v":0},0,16.464963741286418,{"$f":"0","v":0},0,{"$f":"0","v":0},6.2512455733334082E-2,1.9429994578080004E-3,null,505,0.99890699999999999,1.0929749999999999E-3,1.9055000000000003E-3,9.1832670000000002E-3,6.3171316908334108E-2,0.16530017781754042,9776616,1616192,31179370,18.750205833630325,9620545,841346900,1.8967506423657502E-3,16.499745943499178,null,0,0,null,1.491423931666667E-2]
[509,1.141275E-3,9.2347339999999997E-3,1592994,9611043,811564200,9611043,811564200,1.9674999999999996E-3,1.5002937783333337E-2,18.691739108872977,{"$f":"0","v":0},0,16.453174530244034,{"$f":"0","v":0},0,{"$f":"0","v":0},6.2292835341667414E-2,1.9584153304274994E-3,null,506,0.99889490000000003,1.10505E-3,1.9209999999999995E-3,9.1961330000000004E-3,6.2951696516667432E-2,0.16471204040240334,9775736,1610392,31044200,18.735751502325726,9618169,833901200,1.9121671142534994E-3,16.488255382584839,null,0,0,null,1.4936413933333335E-2]
[510,1.15335E-3,9.2475999999999999E-3,1587195,9608668,804118500,9608668,804118500,1.983E-3,1.5025112400000004E-2,18.676854056999925,{"$f":"0","v":0},0,16.441283195970694,{"$f":"0","v":0},0,{"$f":"0","v":0},6.2073214950000732E-2,1.9738310046000002E-3,null,507,0.99888290000000002,1.1171250000000001E-3,1.9364999999999999E-3,9.2090000000000002E-3,6.2732076125000757E-2,0.16412599557799204,9774855,1604593,30909030,18.721180672191224,9615794,826455600,1.9275833857499997E-3,16.476666562141045,null,0,0,null,1.4958588550000002E-2]
[511,1.1654250000000001E-3,9.2604660000000002E-3,1581395,9606292,796672800,9606292,796672800,1.9985000000000003E-3,1.5047287016666671E-2,18.661865657641933,{"$f":"0","v":0},0,16.429288405740866,{"$f":"0","v":0},0,{"$f":"0","v":0},6.185359455833405E-2,1.9892464793495003E-3,null,508,0.99887079999999995,1.1291999999999999E-3,1.9520000000000004E-3,9.2218669999999999E-3,6.2512455733334082E-2,0.16354203589887667,9773974,1598794,30773870,18.706510396794915,9613418,819009900,1.9429994578080004E-3,16.464963741286418,null,0,0,null,1.4980763166666671E-2]
[512,{"$f":"W517","v":1.1774999999999999E-3},{"$f":"Y517","v":9.2733329999999999E-3},{"$f":"AC517","v":1575596},{"$f":"AF517","v":9603917},{"$f":"AG517","v":789227100},{"$f":"E514","v":9603917},{"$f":"F514","v":789227100},{"$f":"X517","v":2.0139999999999993E-3},{"$f":"AN517","v":1.5069461633333336E-2},{"$f":"AE517","v":18.646754730696614},{"$f":"0","v":0},{"$f":"AL517","v":0},{"$f":"AI517","v":16.417188803537972},{"$f":"0","v":0},{"$f":"AK517","v":0},{"$f":"0","v":0},{"$f":"Z517","v":6.1633974166667389E-2},{"$f":"AH517","v":2.0046617536689992E-3},null,509,0.99885869999999999,1.141275E-3,1.9674999999999996E-3,9.2347339999999997E-3,6.2292835341667414E-2,0.16296015394611796,9773094,1592994,30638700,18.691739108872977,9611043,811564200,1.9584153304274994E-3,16.453174530244034,null,0,0,null,1.5002937783333337E-2]
[513,1.189575E-3,9.2862009999999991E-3,1569796,9601541,781781400,9601541,781781400,2.0294999999999996E-3,1.5091636250000005E-2,18.631550745022494,{"$f":"0","v":0},0,16.404983009543358,{"$f":"0","v":0},0,{"$f":"0","v":0},6.1414353775000707E-2,2.0200768275352495E-3,null,510,0.99884669999999998,1.15335E-3,1.983E-3,9.2475999999999999E-3,6.2073214950000732E-2,0.16238034232717341,9772213,1587195,30503540,18.676854056999925,9608668,804118500,1.9738310046000002E-3,16.441283195970694,null,0,0,null,1.5025112400000004E-2]
[514,1.2016500000000001E-3,9.2990669999999994E-3,1563997,9599166,774335700,9599166,774335700,2.0450000000000004E-3,1.5113810866666673E-2,18.616215349731061,{"$f":"0","v":0},0,16.392669619611748,{"$f":"0","v":0},0,{"$f":"0","v":0},6.1194733383334025E-2,2.0354917039925005E-3,null,511,0.99883460000000002,1.1654250000000001E-3,1.9985000000000003E-3,9.2604660000000002E-3,6.185359455833405E-2,0.16180259367580291,9771332,1581395,30368370,18.661865657641933,9606292,796672800,1.9892464793495003E-3,16.429288405740866,null,0,0,null,1.5047287016666671E-2]
[515,1.2137249999999999E-3,9.3119329999999997E-3,1558198,9596790,766890000,9596790,766890000,2.0604999999999994E-3,1.5135985483333338E-2,18.600772227491841,{"$f":"0","v":0},0,16.380241130619339,{"$f":"0","v":0},0,{"$f":"0","v":0},6.0975112991667364E-2,2.0509063810267496E-3,null,512,0.99882249999999995,1.1774999999999999E-3,2.0139999999999993E-3,9.2733329999999999E-3,6.1633974166667389E-2,0.16122690065197562,9770452,1575596,30233200,18.646754730696614,9603917,789227100,2.0046617536689992E-3,16.417188803537972,null,0,0,null,1.5069461633333336E-2]
[516,1.2258E-3,9.3247999999999994E-3,1552398,9594415,759444300,9594415,759444300,2.0759999999999997E-3,1.5158160100000005E-2,18.585219608631292,{"$f":"0","v":0},0,16.367708220401205,{"$f":"0","v":0},0,{"$f":"0","v":0},6.0755492600000682E-2,2.0663208575999997E-3,null,513,0.99881039999999999,1.189575E-3,2.0294999999999996E-3,9.2862009999999991E-3,6.1414353775000707E-2,0.1606532559417764,9769571,1569796,30098040,18.631550745022494,9601541,781781400,2.0200768275352495E-3,16.404983009543358,null,0,0,null,1.5091636250000005E-2]
[517,1.239675E-3,9.3386670000000001E-3,1546830,9591783,752922900,9591783,752922900,2.0935000000000003E-3,1.5178518300000006E-2,18.570433564127924,{"$f":"0","v":0},0,16.355920095444887,{"$f":"0","v":0},0,{"$f":"0","v":0},6.057186464166734E-2,2.0837247503177505E-3,null,514,0.99879839999999998,1.2016500000000001E-3,2.0450000000000004E-3,9.2990669999999994E-3,6.1194733383334025E-2,0.160081652257313,9768690,1563997,29962870,18.616215349731061,9599166,774335700,2.0354917039925005E-3,16.392669619611748,null,0,0,null,1.5113810866666673E-2]
[518,1.25355E-3,9.3525329999999997E-3,1541261,9589151,746401500,9589151,746401500,2.1109999999999992E-3,1.5198876500000005E-2,18.555559565619753,{"$f":"0","v":0},0,16.34402516673719,{"$f":"0","v":0},0,{"$f":"0","v":0},6.0388236683334005E-2,2.1011284014184994E-3,null,515,0.99878630000000002,1.2137249999999999E-3,2.0604999999999994E-3,9.3119329999999997E-3,6.0975112991667364E-2,0.15951208233662351,9767810,1558198,29827710,18.600772227491841,9596790,766890000,2.0509063810267496E-3,16.380241130619339,null,0,0,null,1.5135985483333338E-2]
[519,1.267425E-3,9.3664009999999999E-3,1535693,9586518,739880100,9586518,739880100,2.1284999999999997E-3,1.5219234700000004E-2,18.540558752085648,{"$f":"0","v":0},0,16.332019301188591,{"$f":"0","v":0},0,{"$f":"0","v":0},6.0204608725000663E-2,2.1185318077357497E-3,null,516,0.99877419999999995,1.2258E-3,2.0759999999999997E-3,9.3247999999999994E-3,6.0755492600000682E-2,0.15894453894358399,9766929,1552398,29692540,18.585219608631292,9594415,759444300,2.0663208575999997E-3,16.367708220401205,null,0,0,null,1.5158160100000005E-2]
[520,1.2813E-3,9.3802669999999994E-3,1530124,9583886,733358700,9583886,733358700,2.1460000000000003E-3,1.5239592900000005E-2,18.525461226236128,{"$f":"0","v":0},0,16.319918997690941,{"$f":"0","v":0},0,{"$f":"0","v":0},6.0020980766667321E-2,2.1359349735090003E-3,null,517,0.99876030000000005,1.239675E-3,2.0935000000000003E-3,9.3386670000000001E-3,6.057186464166734E-2,0.15837901486781666,9765931,1546830,29563170,18.570433564127924,9591783,752922900,2.0837247503177505E-3,16.355920095444887,null,0,0,null,1.5178518300000006E-2]
[521,1.295175E-3,9.3941330000000007E-3,1524555,9581254,726837400,9581254,726837400,2.1634999999999992E-3,1.5259951100000004E-2,18.510259961103404,{"$f":"0","v":0},0,16.307729198671364,{"$f":"0","v":0},0,{"$f":"0","v":0},5.9837352808333986E-2,2.153337896627249E-3,null,518,0.99874649999999998,1.25355E-3,2.1109999999999992E-3,9.3525329999999997E-3,6.0388236683334005E-2,0.15781550292459817,9764934,1541261,29433810,18.555559565619753,9589151,746401500,2.1011284014184994E-3,16.34402516673719,null,0,0,null,1.5198876500000005E-2]
[522,1.30905E-3,9.4079999999999997E-3,1518987,9578622,720316000,9578622,720316000,2.1809999999999998E-3,1.5280309300000005E-2,18.494928116567159,{"$f":"0","v":0},0,16.295409205781016,{"$f":"0","v":0},0,{"$f":"0","v":0},5.9653724850000645E-2,2.1707405759999999E-3,null,519,0.99873259999999997,1.267425E-3,2.1284999999999997E-3,9.3664009999999999E-3,6.0204608725000663E-2,0.15725399595476847,9763936,1535693,29304440,18.540558752085648,9586518,739880100,2.1185318077357497E-3,16.332019301188591,null,0,0,null,1.5219234700000004E-2]
[523,1.322925E-3,9.4218659999999992E-3,1513418,9575990,713794600,9575990,713794600,2.1985000000000004E-3,1.5300667500000005E-2,18.4795026335531,{"$f":"0","v":0},0,16.282990797898947,{"$f":"0","v":0},0,{"$f":"0","v":0},5.9470096891667303E-2,2.1881430137995002E-3,null,520,0.99871869999999996,1.2813E-3,2.1460000000000003E-3,9.3802669999999994E-3,6.0020980766667321E-2,0.15669448682463971,9762938,1530124,29175070,18.525461226236128,9583886,733358700,2.1359349735090003E-3,16.319918997690941,null,0,0,null,1.5239592900000005E-2]
[524,1.3368E-3,9.435733E-3,1507850,9573358,707273200,9573358,707273200,2.2159999999999992E-3,1.5321025700000004E-2,18.46394397099623,{"$f":"0","v":0},0,16.270469772941251,{"$f":"0","v":0},0,{"$f":"0","v":0},5.9286468933333968E-2,2.2055452078359994E-3,null,521,0.99870490000000001,1.295175E-3,2.1634999999999992E-3,9.3941330000000007E-3,5.9837352808333986E-2,0.15613696842590569,9761940,1524555,29045710,18.510259961103404,9581254,726837400,2.153337896627249E-3,16.307729198671364,null,0,0,null,1.5259951100000004E-2]
[525,1.350675E-3,9.4495989999999995E-3,1502281,9570726,700751800,9570726,700751800,2.2334999999999998E-3,1.5341383900000005E-2,18.448282617122452,{"$f":"0","v":0},0,16.257832280003406,{"$f":"0","v":0},0,{"$f":"0","v":0},5.9102840975000626E-2,2.2229471603167497E-3,null,522,0.998691,1.30905E-3,2.1809999999999998E-3,9.4079999999999997E-3,5.9653724850000645E-2,0.15558143367555158,9760942,1518987,28916340,18.494928116567159,9578622,720316000,2.1707405759999999E-3,16.295409205781016,null,0,0,null,1.5280309300000005E-2]
[526,1.36455E-3,9.4634669999999997E-3,1496713,9568093,694230400,9568093,694230400,2.2510000000000004E-3,1.5361742100000004E-2,18.432498721086361,{"$f":"0","v":0},0,16.245073851953705,{"$f":"0","v":0},0,{"$f":"0","v":0},5.8919213016667284E-2,2.2403488678915005E-3,null,523,0.99867709999999998,1.322925E-3,2.1985000000000004E-3,9.4218659999999992E-3,5.9470096891667303E-2,0.15502787551576383,9759945,1513418,28786980,18.4795026335531,9575990,713794600,2.1881430137995002E-3,16.282990797898947,null,0,0,null,1.5300667500000005E-2]
[527,1.378425E-3,9.4773329999999992E-3,1491144,9565461,687709100,9565461,687709100,2.2684999999999992E-3,1.5382100300000003E-2,18.416602957192598,{"$f":"0","v":0},0,16.232226874390228,{"$f":"0","v":0},0,{"$f":"0","v":0},5.8735585058333949E-2,2.2577503350447491E-3,null,524,0.99866319999999997,1.3368E-3,2.2159999999999992E-3,9.435733E-3,5.9286468933333968E-2,0.15447628691384058,9758947,1507850,28657610,18.46394397099623,9573358,707273200,2.2055452078359994E-3,16.270469772941251,null,0,0,null,1.5321025700000004E-2]
[528,1.3923E-3,9.4912E-3,1485575,9562829,681187600,9562829,681187600,2.2859999999999998E-3,1.5402458500000004E-2,18.400588015863665,{"$f":"0","v":0},0,16.2192497120569,{"$f":"0","v":0},0,{"$f":"0","v":0},5.8551957100000607E-2,2.2751515583999998E-3,null,525,0.99864929999999996,1.350675E-3,2.2334999999999998E-3,9.4495989999999995E-3,5.9102840975000626E-2,0.15392666086210233,9757949,1502281,28528240,18.448282617122452,9570726,700751800,2.2229471603167497E-3,16.257832280003406,null,0,0,null,1.5341383900000005E-2]
[529,1.4076749999999999E-3,9.5061329999999999E-3,1480227,9559906,675438500,9559906,675438500,2.3040000000000005E-3,1.5421000283333338E-2,18.385396547286327,{"$f":"0","v":0},0,16.207040340023511,{"$f":"0","v":0},0,{"$f":"0","v":0},5.840361317500057E-2,2.2930489347840004E-3,null,526,0.99863550000000001,1.36455E-3,2.2510000000000004E-3,9.4634669999999997E-3,5.8919213016667284E-2,0.15337899037780281,9756952,1496713,28398880,18.432498721086361,9568093,694230400,2.2403488678915005E-3,16.245073851953705,null,0,0,null,1.5361742100000004E-2]
[530,1.4230499999999999E-3,9.5210659999999999E-3,1474878,9556984,669689300,9556984,669689300,2.3219999999999994E-3,1.5439542066666669E-2,18.370100950722701,{"$f":"0","v":0},0,16.194732694978072,{"$f":"0","v":0},0,{"$f":"0","v":0},5.825526925000054E-2,2.3109460423739992E-3,null,527,0.9986216,1.378425E-3,2.2684999999999992E-3,9.4773329999999992E-3,5.8735585058333949E-2,0.15283326850304044,9755954,1491144,28269510,18.416602957192598,9565461,687709100,2.2577503350447491E-3,16.232226874390228,null,0,0,null,1.5382100300000003E-2]
[531,1.4384249999999999E-3,9.5359999999999993E-3,1469530,9554061,663940200,9554061,663940200,2.3400000000000001E-3,1.5458083850000004E-2,18.354681145218766,{"$f":"0","v":0},0,16.182312824873264,{"$f":"0","v":0},0,{"$f":"0","v":0},5.8106925325000502E-2,2.3288428800000002E-3,null,528,0.99860769999999999,1.3923E-3,2.2859999999999998E-3,9.4912E-3,5.8551957100000607E-2,0.15228948830466973,9754956,1485575,28140140,18.400588015863665,9562829,681187600,2.2751515583999998E-3,16.2192497120569,null,0,0,null,1.5402458500000004E-2]
[532,1.4538000000000001E-3,9.5509329999999993E-3,1464181,9551139,658191000,9551139,658191000,2.3580000000000003E-3,1.5476625633333338E-2,18.339161591588287,{"$f":"0","v":0},0,16.169801436870372,{"$f":"0","v":0},0,{"$f":"0","v":0},5.7958581400000465E-2,2.3467394499930004E-3,null,529,0.99859229999999999,1.4076749999999999E-3,2.3040000000000005E-3,9.5061329999999999E-3,5.840361317500057E-2,0.15174764287421333,9753824,1480227,28016350,18.385396547286327,9559906,675438500,2.2930489347840004E-3,16.207040340023511,null,0,0,null,1.5421000283333338E-2]
[533,1.4691750000000001E-3,9.5658670000000005E-3,1458832,9548216,652441900,9548216,652441900,2.3759999999999992E-3,1.5495167416666669E-2,18.323528228975874,{"$f":"0","v":0},0,16.15718146093586,{"$f":"0","v":0},0,{"$f":"0","v":0},5.7810237475000435E-2,2.3646357500039989E-3,null,530,0.99857689999999999,1.4230499999999999E-3,2.3219999999999994E-3,9.5210659999999999E-3,5.825526925000054E-2,0.15120772532777424,9752692,1474878,27892550,18.370100950722701,9556984,669689300,2.3109460423739992E-3,16.194732694978072,null,0,0,null,1.5439542066666669E-2]
[534,1.4845500000000001E-3,9.5808000000000004E-3,1453484,9545294,646692700,9545294,646692700,2.3939999999999999E-3,1.5513709200000003E-2,18.307773712449993,{"$f":"0","v":0},0,16.144435577365922,{"$f":"0","v":0},0,{"$f":"0","v":0},5.7661893550000398E-2,2.3825317824000001E-3,null,531,0.99856160000000005,1.4384249999999999E-3,2.3400000000000001E-3,9.5359999999999993E-3,5.8106925325000502E-2,0.15066972880594834,9751560,1469530,27768750,18.354681145218766,9554061,663940200,2.3288428800000002E-3,16.182312824873264,null,0,0,null,1.5458083850000004E-2]
[535,1.499925E-3,9.5957330000000004E-3,1448135,9542371,640943600,9542371,640943600,2.4120000000000005E-3,1.5532250983333338E-2,18.291908932293374,{"$f":"0","v":0},0,16.131594083891294,{"$f":"0","v":0},0,{"$f":"0","v":0},5.7513549625000361E-2,2.4004275460020002E-3,null,532,0.99854620000000005,1.4538000000000001E-3,2.3580000000000003E-3,9.5509329999999993E-3,5.7958581400000465E-2,0.1501336464737372,9750429,1464181,27644950,18.339161591588287,9551139,658191000,2.3467394499930004E-3,16.169801436870372,null,0,0,null,1.5476625633333338E-2]
[536,1.5153E-3,9.6106669999999998E-3,1442787,9539448,635194400,9539448,635194400,2.4299999999999994E-3,1.5550792766666668E-2,18.275913475100619,{"$f":"0","v":0},0,16.118623652596085,{"$f":"0","v":0},0,{"$f":"0","v":0},5.7365205700000331E-2,2.4183230395949996E-3,null,533,0.99853080000000005,1.4691750000000001E-3,2.3759999999999992E-3,9.5658670000000005E-3,5.7810237475000435E-2,0.14959947152046135,9749297,1458832,27521150,18.323528228975874,9548216,652441900,2.3646357500039989E-3,16.15718146093586,null,0,0,null,1.5495167416666669E-2]
[537,1.530675E-3,9.6255999999999998E-3,1437438,9536526,629445200,9536526,629445200,2.4479999999999997E-3,1.5569334550000003E-2,18.259812075372988,{"$f":"0","v":0},0,16.105554759015146,{"$f":"0","v":0},0,{"$f":"0","v":0},5.7216861775000294E-2,2.4362182655999999E-3,null,534,0.99851540000000005,1.4845500000000001E-3,2.3939999999999999E-3,9.5808000000000004E-3,5.7661893550000398E-2,0.14906719715967365,9748165,1453484,27397360,18.307773712449993,9545294,646692700,2.3825317824000001E-3,16.144435577365922,null,0,0,null,1.5513709200000003E-2]
[538,1.54605E-3,9.6405329999999997E-3,1432089,9533603,623696100,9533603,623696100,2.4660000000000003E-3,1.5587876333333337E-2,18.243590394870708,{"$f":"0","v":0},0,16.092353791925436,{"$f":"0","v":0},0,{"$f":"0","v":0},5.7068517850000257E-2,2.4541132228110005E-3,null,535,0.99850000000000005,1.499925E-3,2.4120000000000005E-3,9.5957330000000004E-3,5.7513549625000361E-2,0.14853681662907314,9747033,1448135,27273560,18.291908932293374,9542371,640943600,2.4004275460020002E-3,16.131594083891294,null,0,0,null,1.5532250983333338E-2]
[539,1.561425E-3,9.6554659999999997E-3,1426741,9530681,617946900,9530681,617946900,2.4839999999999992E-3,1.5606418116666668E-2,18.227240934642889,{"$f":"0","v":0},0,16.079041664474925,{"$f":"0","v":0},0,{"$f":"0","v":0},5.6920173925000227E-2,2.4720079112279993E-3,null,536,0.9984847,1.5153E-3,2.4299999999999994E-3,9.6106669999999998E-3,5.7365205700000331E-2,0.14800832319041907,9745901,1442787,27149760,18.275913475100619,9539448,635194400,2.4183230395949996E-3,16.118623652596085,null,0,0,null,1.5550792766666668E-2]
[540,1.5767999999999999E-3,9.6703999999999991E-3,1421392,9527758,612197800,9527758,612197800,2.5019999999999999E-3,1.5624959900000002E-2,18.210774602174016,{"$f":"0","v":0},0,16.065620164747568,{"$f":"0","v":0},0,{"$f":"0","v":0},5.677183000000019E-2,2.4899023295999996E-3,null,537,0.99846939999999995,1.530675E-3,2.4479999999999997E-3,9.6255999999999998E-3,5.7216861775000294E-2,0.14748171012944536,9744770,1437438,27025960,18.259812075372988,9536526,629445200,2.4362182655999999E-3,16.105554759015146,null,0,0,null,1.5569334550000003E-2]
[541,1.5934499999999999E-3,9.6864659999999995E-3,1416254,9524529,607099100,9524529,607099100,2.5220000000000004E-3,1.564168526666667E-2,18.195170087192455,{"$f":"0","v":0},0,16.053007549397158,{"$f":"0","v":0},0,{"$f":"0","v":0},5.6657356508333589E-2,2.5097853663740002E-3,null,538,0.99845399999999995,1.54605E-3,2.4660000000000003E-3,9.6405329999999997E-3,5.7068517850000257E-2,0.14695697075577524,9743638,1432089,26902160,18.243590394870708,9533603,623696100,2.4541132228110005E-3,16.092353791925436,null,0,0,null,1.5587876333333337E-2]
[542,1.6100999999999999E-3,9.7025329999999993E-3,1411115,9521300,602000600,9521300,602000600,2.5419999999999996E-3,1.5658410633333335E-2,18.17946520422975,{"$f":"0","v":0},0,16.040276651093755,{"$f":"0","v":0},0,{"$f":"0","v":0},5.6542883016666989E-2,2.5296680805569995E-3,null,539,0.99843859999999995,1.561425E-3,2.4839999999999992E-3,9.6554659999999997E-3,5.6920173925000227E-2,0.1464340984028363,9742506,1426741,26778370,18.227240934642889,9530681,617946900,2.4720079112279993E-3,16.079041664474925,null,0,0,null,1.5606418116666668E-2]
[543,1.6267499999999999E-3,9.7186000000000008E-3,1405977,9518071,596902000,9518071,596902000,2.562E-3,1.5675136000000003E-2,18.16363221091099,{"$f":"0","v":0},0,16.027435849530978,{"$f":"0","v":0},0,{"$f":"0","v":0},5.6428409525000389E-2,2.5495504734E-3,null,540,0.99842319999999996,1.5767999999999999E-3,2.5019999999999999E-3,9.6703999999999991E-3,5.677183000000019E-2,0.14591308642777573,9741374,1421392,26654570,18.210774602174016,9527758,612197800,2.4899023295999996E-3,16.065620164747568,null,0,0,null,1.5624959900000002E-2]
[544,1.6433999999999999E-3,9.7346670000000007E-3,1400838,9514842,591803300,9514842,591803300,2.5820000000000005E-3,1.5691861366666671E-2,18.147696414574703,{"$f":"0","v":0},0,16.0144837153805,{"$f":"0","v":0},0,{"$f":"0","v":0},5.6313936033333789E-2,2.5694325449030003E-3,null,541,0.99840649999999997,1.5934499999999999E-3,2.5220000000000004E-3,9.6864659999999995E-3,5.6657356508333589E-2,0.14539392821137601,9740094,1416254,26536120,18.195170087192455,9524529,607099100,2.5097853663740002E-3,16.053007549397158,null,0,0,null,1.564168526666667E-2]
[545,1.6600499999999999E-3,9.7507329999999993E-3,1395700,9511613,586704800,9511613,586704800,2.6019999999999993E-3,1.5708586733333335E-2,18.131629887033984,{"$f":"0","v":0},0,16.001428792091442,{"$f":"0","v":0},0,{"$f":"0","v":0},5.6199462541667189E-2,2.5893142963669992E-3,null,542,0.99838990000000005,1.6100999999999999E-3,2.5419999999999996E-3,9.7025329999999993E-3,5.6542883016666989E-2,0.14487661715797073,9738814,1411115,26417670,18.17946520422975,9521300,602000600,2.5296680805569995E-3,16.040276651093755,null,0,0,null,1.5658410633333335E-2]
[546,1.6766999999999999E-3,9.7668000000000008E-3,1390561,9508384,581606100,9508384,581606100,2.6220000000000002E-3,1.5725312100000003E-2,18.115458047747154,{"$f":"0","v":0},0,15.988251308217604,{"$f":"0","v":0},0,{"$f":"0","v":0},5.6084989050000589E-2,2.6091957252000002E-3,null,543,0.99837330000000002,1.6267499999999999E-3,2.562E-3,9.7186000000000008E-3,5.6428409525000389E-2,0.14436114669536088,9737534,1405977,26299220,18.16363221091099,9518071,596902000,2.5495504734E-3,16.027435849530978,null,0,0,null,1.5675136000000003E-2]
[547,1.6933499999999999E-3,9.7828670000000006E-3,1385423,9505156,576507500,9505156,576507500,2.6420000000000007E-3,1.5742037466666671E-2,18.099152779812854,{"$f":"0","v":0},0,15.974958064504415,{"$f":"0","v":0},0,{"$f":"0","v":0},5.5970515558333989E-2,2.6290768326930006E-3,null,544,0.99835660000000004,1.6433999999999999E-3,2.5820000000000005E-3,9.7346670000000007E-3,5.6313936033333789E-2,0.14384751027473125,9736254,1400838,26180770,18.147696414574703,9514842,591803300,2.5694325449030003E-3,16.0144837153805,null,0,0,null,1.5691861366666671E-2]
[548,1.7099999999999999E-3,9.7989329999999993E-3,1380285,9501927,571409000,9501927,571409000,2.6619999999999994E-3,1.5758762833333335E-2,18.082726121779196,{"$f":"0","v":0},0,15.961559330620927,{"$f":"0","v":0},0,{"$f":"0","v":0},5.5856042066667388E-2,2.6489576201769996E-3,null,545,0.99834000000000001,1.6600499999999999E-3,2.6019999999999993E-3,9.7507329999999993E-3,5.6199462541667189E-2,0.14333570137056736,9734974,1395700,26062320,18.131629887033984,9511613,586704800,2.5893142963669992E-3,16.001428792091442,null,0,0,null,1.5708586733333335E-2]
[549,1.7266499999999999E-3,9.8150000000000008E-3,1375146,9498698,566310300,9498698,566310300,2.6819999999999999E-3,1.5775488200000003E-2,18.066197516481886,{"$f":"0","v":0},0,15.948028316893781,{"$f":"0","v":0},0,{"$f":"0","v":0},5.5741568575000788E-2,2.6688380849999999E-3,null,546,0.99832330000000002,1.6766999999999999E-3,2.6220000000000002E-3,9.7668000000000008E-3,5.6084989050000589E-2,0.14282571348057244,9733694,1390561,25943870,18.115458047747154,9508384,581606100,2.6091957252000002E-3,15.988251308217604,null,0,0,null,1.5725312100000003E-2]
[550,1.7432999999999999E-3,9.8310659999999994E-3,1370008,9495469,561211700,9495469,561211700,2.7020000000000004E-3,1.5792213566666671E-2,18.049524041708757,{"$f":"0","v":0},0,15.934380221015923,{"$f":"0","v":0},0,{"$f":"0","v":0},5.5627095083334188E-2,2.6887182298340005E-3,null,547,0.99830660000000004,1.6933499999999999E-3,2.6420000000000007E-3,9.7828670000000006E-3,5.5970515558333989E-2,0.14231754012558487,9732414,1385423,25825420,18.099152779812854,9505156,576507500,2.6290768326930006E-3,15.974958064504415,null,0,0,null,1.5742037466666671E-2]
[551,1.7599499999999999E-3,9.8471329999999992E-3,1364869,9492240,556113200,9492240,556113200,2.7219999999999996E-3,1.5808938933333336E-2,18.032738642560812,{"$f":"0","v":0},0,15.920606704182228,{"$f":"0","v":0},0,{"$f":"0","v":0},5.5512621591667588E-2,2.7085980519869993E-3,null,548,0.99829000000000001,1.7099999999999999E-3,2.6619999999999994E-3,9.7989329999999993E-3,5.5856042066667388E-2,0.14181117484949593,9731134,1380285,25706970,18.082726121779196,9501927,571409000,2.6489576201769996E-3,15.961559330620927,null,0,0,null,1.5758762833333335E-2]
[552,1.7765999999999999E-3,9.8632000000000008E-3,1359731,9489011,551014500,9489011,551014500,2.7420000000000001E-3,1.5825664300000004E-2,18.015812717123215,{"$f":"0","v":0},0,15.906721485587019,{"$f":"0","v":0},0,{"$f":"0","v":0},5.5398148100000988E-2,2.7284775527999998E-3,null,549,0.99827339999999998,1.7266499999999999E-3,2.6819999999999999E-3,9.8150000000000008E-3,5.5741568575000788E-2,0.14130661121916754,9729854,1375146,25588530,18.066197516481886,9498698,566310300,2.6688380849999999E-3,15.948028316893781,null,0,0,null,1.5775488200000003E-2]
[553,1.794375E-3,9.8805999999999998E-3,1354793,9485449,546467500,9485449,546467500,2.7640000000000008E-3,1.5840573250000003E-2,17.999815316189753,{"$f":"0","v":0},0,15.893670578086569,{"$f":"0","v":0},0,{"$f":"0","v":0},5.531542624166759E-2,2.7503450108000006E-3,null,550,0.9982567,1.7432999999999999E-3,2.7020000000000004E-3,9.8310659999999994E-3,5.5627095083334188E-2,0.14080384282435093,9728574,1370008,25470080,18.049524041708757,9495469,561211700,2.6887182298340005E-3,15.934380221015923,null,0,0,null,1.5792213566666671E-2]
[554,1.81215E-3,9.8979989999999993E-3,1349856,9481886,541920400,9481886,541920400,2.7859999999999994E-3,1.5855482200000003E-2,17.98368714885143,{"$f":"0","v":0},0,15.880515768536069,{"$f":"0","v":0},0,{"$f":"0","v":0},5.5232704383334205E-2,2.7722120873929991E-3,null,551,0.99824009999999996,1.7599499999999999E-3,2.7219999999999996E-3,9.8471329999999992E-3,5.5512621591667588E-2,0.1403028632776048,9727294,1364869,25351630,18.032738642560812,9492240,556113200,2.7085980519869993E-3,15.920606704182228,null,0,0,null,1.5808938933333336E-2]
[555,1.829925E-3,9.9153999999999996E-3,1344919,9478324,537373300,9478324,537373300,2.8079999999999997E-3,1.5870391150000003E-2,17.967433137856876,{"$f":"0","v":0},0,15.867246978750318,{"$f":"0","v":0},0,{"$f":"0","v":0},5.5149982525000807E-2,2.7940787784E-3,null,552,0.99822339999999998,1.7765999999999999E-3,2.7420000000000001E-3,9.8632000000000008E-3,5.5398148100000988E-2,0.13980366621421439,9726014,1359731,25233180,18.015812717123215,9489011,551014500,2.7284775527999998E-3,15.906721485587019,null,0,0,null,1.5825664300000004E-2]
[556,1.8477000000000001E-3,9.9328000000000003E-3,1339982,9474762,532826200,9474762,532826200,2.8300000000000005E-3,1.5885300100000006E-2,17.951066817812976,{"$f":"0","v":0},0,15.853864441033329,{"$f":"0","v":0},0,{"$f":"0","v":0},5.5067260666667409E-2,2.8159450880000003E-3,null,553,0.99820560000000003,1.794375E-3,2.7640000000000008E-3,9.8805999999999998E-3,5.531542624166759E-2,0.13930624529211058,9724574,1354793,25119870,17.999815316189753,9485449,546467500,2.7503450108000006E-3,15.893670578086569,null,0,0,null,1.5840573250000003E-2]
[557,1.8654749999999999E-3,9.9501999999999993E-3,1335045,9471199,528279200,9471199,528279200,2.8519999999999991E-3,1.5900209050000006E-2,17.93457945237801,{"$f":"0","v":0},0,15.84035267010365,{"$f":"0","v":0},0,{"$f":"0","v":0},5.4984538808334024E-2,2.8378110147999989E-3,null,554,0.99818779999999996,1.81215E-3,2.7859999999999994E-3,9.8979989999999993E-3,5.5232704383334205E-2,0.13881059419178934,9723134,1349856,25006560,17.98368714885143,9481886,541920400,2.7722120873929991E-3,15.880515768536069,null,0,0,null,1.5855482200000003E-2]
[558,1.8832499999999999E-3,9.9676000000000001E-3,1330107,9467637,523732100,9467637,523732100,2.8739999999999998E-3,1.5915118000000006E-2,17.917983571998342,{"$f":"0","v":0},0,15.826732867953845,{"$f":"0","v":0},0,{"$f":"0","v":0},5.4901816950000626E-2,2.8596765588E-3,null,555,0.99817009999999995,1.829925E-3,2.8079999999999997E-3,9.9153999999999996E-3,5.5149982525000807E-2,0.13831670661623136,9721694,1344919,24893240,17.967433137856876,9478324,537373300,2.7940787784E-3,15.867246978750318,null,0,0,null,1.5870391150000003E-2]
[559,1.901025E-3,9.9850000000000008E-3,1325170,9464075,519185000,9464075,519185000,2.8960000000000006E-3,1.5930026950000006E-2,17.901250091183268,{"$f":"0","v":0},0,15.812994714096645,{"$f":"0","v":0},0,{"$f":"0","v":0},5.4819095091667228E-2,2.8815417200000006E-3,null,556,0.99815229999999999,1.8477000000000001E-3,2.8300000000000005E-3,9.9328000000000003E-3,5.5067260666667409E-2,0.13782457629082215,9720254,1339982,24779930,17.951066817812976,9474762,532826200,2.8159450880000003E-3,15.853864441033329,null,0,0,null,1.5885300100000006E-2]
[560,1.9188E-3,1.00024E-2,1320233,9460512,514638000,9460512,514638000,2.9179999999999992E-3,1.5944935900000005E-2,17.884391460951715,{"$f":"0","v":0},0,15.799133142338247,{"$f":"0","v":0},0,{"$f":"0","v":0},5.4736373233333843E-2,2.9034064983999991E-3,null,557,0.99813459999999998,1.8654749999999999E-3,2.8519999999999991E-3,9.9501999999999993E-3,5.4984538808334024E-2,0.13733419696327218,9718814,1335045,24666620,17.93457945237801,9471199,528279200,2.8378110147999989E-3,15.84035267010365,null,0,0,null,1.5900209050000006E-2]
[561,1.9365750000000001E-3,1.0019800000000001E-2,1315296,9456950,510090900,9456950,510090900,2.9399999999999999E-3,1.5959844850000009E-2,17.867406272048267,{"$f":"0","v":0},0,15.785148261306341,{"$f":"0","v":0},0,{"$f":"0","v":0},5.4653651375000445E-2,2.9252708939999997E-3,null,558,0.99811669999999997,1.8832499999999999E-3,2.8739999999999998E-3,9.9676000000000001E-3,5.4901816950000626E-2,0.13684556240353768,9717374,1330107,24553310,17.917983571998342,9467637,523732100,2.8596765588E-3,15.826732867953845,null,0,0,null,1.5915118000000006E-2]
[562,1.9543500000000001E-3,1.00372E-2,1310358,9453388,505543800,9453388,505543800,2.9620000000000002E-3,1.5974753800000008E-2,17.850307129807273,{"$f":"0","v":0},0,15.77102764557304,{"$f":"0","v":0},0,{"$f":"0","v":0},5.4570929516667047E-2,2.9471349068000002E-3,null,559,0.99809899999999996,1.901025E-3,2.8960000000000006E-3,9.9850000000000008E-3,5.4819095091667228E-2,0.13635866640374122,9715935,1325170,24440000,17.901250091183268,9464075,519185000,2.8815417200000006E-3,15.812994714096645,null,0,0,null,1.5930026950000006E-2]
[563,1.9721249999999999E-3,1.00546E-2,1305421,9449825,500996700,9449825,500996700,2.9839999999999988E-3,1.5989662750000008E-2,17.833064550312375,{"$f":"0","v":0},0,15.756792873400679,{"$f":"0","v":0},0,{"$f":"0","v":0},5.4488207658333662E-2,2.968998536799999E-3,null,560,0.9980812,1.9188E-3,2.9179999999999992E-3,1.00024E-2,5.4736373233333843E-2,0.13587350277809307,9714495,1320233,24326690,17.884391460951715,9460512,514638000,2.9034064983999991E-3,15.799133142338247,null,0,0,null,1.5944935900000005E-2]
[564,1.9899000000000002E-3,1.0071999999999999E-2,1300484,9446263,496449700,9446263,496449700,3.0059999999999996E-3,1.6004571700000008E-2,17.815691055535218,{"$f":"0","v":0},0,15.742427986332592,{"$f":"0","v":0},0,{"$f":"0","v":0},5.4405485800000264E-2,2.9908617839999995E-3,null,561,0.99806340000000004,1.9365750000000001E-3,2.9399999999999999E-3,1.0019800000000001E-2,5.4653651375000445E-2,0.13539006536281248,9713055,1315296,24213380,17.867406272048267,9456950,510090900,2.9252708939999997E-3,15.785148261306341,null,0,0,null,1.5959844850000009E-2]
[565,2.0085749999999999E-3,1.0090729999999999E-2,1295740,9442342,492374200,9442342,492374200,3.0295000000000001E-3,1.6017664233333343E-2,17.79925821023765,{"$f":"0","v":0},0,15.728944705565342,{"$f":"0","v":0},0,{"$f":"0","v":0},5.435169157500034E-2,3.0142150667325004E-3,null,562,0.99804559999999998,1.9543500000000001E-3,2.9620000000000002E-3,1.00372E-2,5.4570929516667047E-2,0.1349083480160494,9711615,1310358,24100070,17.850307129807273,9453388,505543800,2.9471349068000002E-3,15.77102764557304,null,0,0,null,1.5974753800000008E-2]
[566,2.02725E-3,1.0109470000000001E-2,1290995,9438422,488298800,9438422,488298800,3.0529999999999989E-3,1.6030756766666675E-2,17.782726533926674,{"$f":"0","v":0},0,15.715355608908594,{"$f":"0","v":0},0,{"$f":"0","v":0},5.4297897350000422E-2,3.0375678940449988E-3,null,563,0.99802789999999997,1.9721249999999999E-3,2.9839999999999988E-3,1.00546E-2,5.4488207658333662E-2,0.13442834461780648,9710175,1305421,23986760,17.833064550312375,9449825,500996700,2.968998536799999E-3,15.756792873400679,null,0,0,null,1.5989662750000008E-2]
[567,2.0459250000000001E-3,1.01282E-2,1286251,9434501,484223300,9434501,484223300,3.0764999999999994E-3,1.604384930000001E-2,17.766050878353706,{"$f":"0","v":0},0,15.701637292381482,{"$f":"0","v":0},0,{"$f":"0","v":0},5.4244103125000498E-2,3.0609202963499992E-3,null,564,0.99801010000000001,1.9899000000000002E-3,3.0059999999999996E-3,1.0071999999999999E-2,5.4405485800000264E-2,0.13395004906986127,9708735,1300484,23873450,17.815691055535218,9446263,496449700,2.9908617839999995E-3,15.742427986332592,null,0,0,null,1.6004571700000008E-2]
[568,2.0646000000000002E-3,1.014693E-2,1281507,9430580,480147800,9430580,480147800,3.1000000000000003E-3,1.6056941833333341E-2,17.74925956315494,{"$f":"0","v":0},0,15.687811976966239,{"$f":"0","v":0},0,{"$f":"0","v":0},5.4190308900000574E-2,3.0842722585000004E-3,null,565,0.99799139999999997,2.0085749999999999E-3,3.0295000000000001E-3,1.0090729999999999E-2,5.435169157500034E-2,0.1334734552956888,9707125,1295740,23765070,17.79925821023765,9442342,492374200,3.0142150667325004E-3,15.728944705565342,null,0,0,null,1.6017664233333343E-2]
[569,2.0832749999999999E-3,1.016567E-2,1276763,9426659,476072400,9426659,476072400,3.1234999999999991E-3,1.6070034366666673E-2,17.732343466772349,{"$f":"0","v":0},0,15.673852430559799,{"$f":"0","v":0},0,{"$f":"0","v":0},5.4136514675000656E-2,3.1076237648774993E-3,null,566,0.99797270000000005,2.02725E-3,3.0529999999999989E-3,1.0109470000000001E-2,5.4297897350000422E-2,0.1329985572403844,9705515,1290995,23656700,17.782726533926674,9438422,488298800,3.0375678940449988E-3,15.715355608908594,null,0,0,null,1.6030756766666675E-2]
[570,2.10195E-3,1.01844E-2,1272018,9422738,471996900,9422738,471996900,3.1469999999999996E-3,1.6083126900000008E-2,17.715307684325222,{"$f":"0","v":0},0,15.659781005289565,{"$f":"0","v":0},0,{"$f":"0","v":0},5.4082720450000732E-2,3.1309748465999996E-3,null,567,0.99795409999999996,2.0459250000000001E-3,3.0764999999999994E-3,1.01282E-2,5.4244103125000498E-2,0.13252534887058656,9703905,1286251,23548320,17.766050878353706,9434501,484223300,3.0609202963499992E-3,15.701637292381482,null,0,0,null,1.604384930000001E-2]
[571,2.1206250000000001E-3,1.0203129999999999E-2,1267274,9418818,467921500,9418818,467921500,3.1705000000000001E-3,1.6096219433333343E-2,17.698137827073438,{"$f":"0","v":0},0,15.645573802280607,{"$f":"0","v":0},0,{"$f":"0","v":0},5.4028926225000808E-2,3.1543254881674998E-3,null,568,0.99793540000000003,2.0646000000000002E-3,3.1000000000000003E-3,1.014693E-2,5.4190308900000574E-2,0.13205382417440065,9702295,1281507,23439950,17.74925956315494,9430580,480147800,3.0842722585000004E-3,15.687811976966239,null,0,0,null,1.6056941833333341E-2]
[572,2.1392999999999998E-3,1.0221869999999999E-2,1262530,9414897,463846000,9414897,463846000,3.1939999999999989E-3,1.6109311966666675E-2,17.680838937160569,{"$f":"0","v":0},0,15.631251523370759,{"$f":"0","v":0},0,{"$f":"0","v":0},5.397513200000089E-2,3.177675673609999E-3,null,569,0.99791669999999999,2.0832749999999999E-3,3.1234999999999991E-3,1.016567E-2,5.4136514675000656E-2,0.13158397716132222,9700685,1276763,23331580,17.732343466772349,9426659,476072400,3.1076237648774993E-3,15.673852430559799,null,0,0,null,1.6070034366666673E-2]
[573,2.1579749999999999E-3,1.0240600000000001E-2,1257786,9410976,459770600,9410976,459770600,3.2174999999999999E-3,1.6122404500000007E-2,17.663401604088453,{"$f":"0","v":0},0,15.616791840380069,{"$f":"0","v":0},0,{"$f":"0","v":0},5.3921337775000966E-2,3.20102543475E-3,null,570,0.99789799999999995,2.10195E-3,3.1469999999999996E-3,1.01844E-2,5.4082720450000732E-2,0.13111580186216107,9699076,1272018,23223200,17.715307684325222,9422738,471996900,3.1309748465999996E-3,15.659781005289565,null,0,0,null,1.6083126900000008E-2]
[574,2.17665E-3,1.0259330000000001E-2,1253041,9407056,455695100,9407056,455695100,3.2410000000000004E-3,1.6135497033333342E-2,17.645854731276415,{"$f":"0","v":0},0,15.60221194696854,{"$f":"0","v":0},0,{"$f":"0","v":0},5.3867543550001042E-2,3.2243747557350005E-3,null,571,0.99787939999999997,2.1206250000000001E-3,3.1705000000000001E-3,1.0203129999999999E-2,5.4028926225000808E-2,0.13064929232896527,9697466,1267274,23114830,17.698137827073438,9418818,467921500,3.1543254881674998E-3,15.645573802280607,null,0,0,null,1.6096219433333343E-2]
[575,2.1953250000000001E-3,1.027807E-2,1248297,9403135,451619700,9403135,451619700,3.2644999999999992E-3,1.6148589566666673E-2,17.628159905054645,{"$f":"0","v":0},0,15.587489245963036,{"$f":"0","v":0},0,{"$f":"0","v":0},5.3813749325001124E-2,3.247723620242499E-3,null,572,0.99786070000000004,2.1392999999999998E-3,3.1939999999999989E-3,1.0221869999999999E-2,5.397513200000089E-2,0.13018444263494577,9695856,1262530,23006460,17.680838937160569,9414897,463846000,3.177675673609999E-3,15.631251523370759,null,0,0,null,1.6109311966666675E-2]
[576,{"$f":"W581","v":2.2139999999999998E-3},{"$f":"Y581","v":1.02968E-2},{"$f":"AC581","v":1243553},{"$f":"AF581","v":9399214},{"$f":"AG581","v":447544200},{"$f":"E578","v":9399214},{"$f":"F578","v":447544200},{"$f":"X581","v":3.2879999999999997E-3},{"$f":"AN581","v":1.6161682100000008E-2},{"$f":"AE581","v":17.610322030236478},{"$f":"0","v":0},{"$f":"AL581","v":0},{"$f":"AI581","v":15.572646565313756},{"$f":"0","v":0},{"$f":"AK581","v":0},{"$f":"0","v":0},{"$f":"Z581","v":5.37599551000012E-2},{"$f":"AH581","v":3.2710720607999995E-3},null,573,0.99784200000000001,2.1579749999999999E-3,3.2174999999999999E-3,1.0240600000000001E-2,5.3921337775000966E-2,0.12972124687440098,9694246,1257786,22898080,17.663401604088453,9410976,459770600,3.20102543475E-3,15.616791840380069,null,0,0,null,1.6122404500000007E-2]
[577,2.2335749999999998E-3,1.031693E-2,1238994,9394918,443876200,9394918,443876200,3.3145000000000006E-3,1.6172958216666675E-2,17.593473616498546,{"$f":"0","v":0},0,15.558721975667977,{"$f":"0","v":0},0,{"$f":"0","v":0},5.3731559308334363E-2,3.2974022677575007E-3,null,574,0.99782340000000003,2.17665E-3,3.2410000000000004E-3,1.0259330000000001E-2,5.3867543550001042E-2,0.12925969916264179,9692636,1253041,22789710,17.645854731276415,9407056,455695100,3.2243747557350005E-3,15.60221194696854,null,0,0,null,1.6135497033333342E-2]
[578,2.2531500000000002E-3,1.033707E-2,1234435,9390622,440208100,9390622,440208100,3.3409999999999989E-3,1.6184234333333339E-2,17.576500754056173,{"$f":"0","v":0},0,15.544687834202294,{"$f":"0","v":0},0,{"$f":"0","v":0},5.3703163516667519E-2,3.3237319245649987E-3,null,575,0.99780469999999999,2.1953250000000001E-3,3.2644999999999992E-3,1.027807E-2,5.3813749325001124E-2,0.12879979363591673,9691026,1248297,22681340,17.628159905054645,9403135,451619700,3.247723620242499E-3,15.587489245963036,null,0,0,null,1.6148589566666673E-2]
[579,2.2727250000000002E-3,1.03572E-2,1229876,9386325,436540000,9386325,436540000,3.3674999999999998E-3,1.6195510450000006E-2,17.559402058960956,{"$f":"0","v":0},0,15.530517618517687,{"$f":"0","v":0},0,{"$f":"0","v":0},5.3674767725000683E-2,3.3500610644999996E-3,null,576,0.99778599999999995,2.2139999999999998E-3,3.2879999999999997E-3,1.02968E-2,5.37599551000012E-2,0.12834152445133765,9689416,1243553,22572960,17.610322030236478,9399214,447544200,3.2710720607999995E-3,15.572646565313756,null,0,0,null,1.6161682100000008E-2]
[580,2.2923000000000002E-3,1.0377330000000001E-2,1225317,9382029,432871900,9382029,432871900,3.3940000000000003E-3,1.6206786566666673E-2,17.542176126667627,{"$f":"0","v":0},0,15.516236610581396,{"$f":"0","v":0},0,{"$f":"0","v":0},5.3646371933333846E-2,3.3763896709900001E-3,null,577,0.99776640000000005,2.2335749999999998E-3,3.3145000000000006E-3,1.031693E-2,5.3731559308334363E-2,0.12788488578680526,9687628,1238994,22469330,17.593473616498546,9394918,443876200,3.2974022677575007E-3,15.558721975667977,null,0,0,null,1.6172958216666675E-2]
[581,2.3118750000000001E-3,1.0397470000000001E-2,1220759,9377733,429203800,9377733,429203800,3.4204999999999991E-3,1.6218062683333336E-2,17.524806732259737,{"$f":"0","v":0},0,15.501818036207579,{"$f":"0","v":0},0,{"$f":"0","v":0},5.3617976141667002E-2,3.402717726932499E-3,null,578,0.99774680000000004,2.2531500000000002E-3,3.3409999999999989E-3,1.033707E-2,5.3703163516667519E-2,0.12742987184093535,9685840,1234435,22365700,17.576500754056173,9390622,440208100,3.3237319245649987E-3,15.544687834202294,null,0,0,null,1.6184234333333339E-2]
[582,2.3314500000000001E-3,1.0417600000000001E-2,1216200,9373436,425535700,9373436,425535700,3.4469999999999995E-3,1.6229338800000003E-2,17.507321986515375,{"$f":"0","v":0},0,15.487283598006846,{"$f":"0","v":0},0,{"$f":"0","v":0},5.3589580350000166E-2,3.4290452663999996E-3,null,579,0.99772729999999998,2.2727250000000002E-3,3.3674999999999998E-3,1.03572E-2,5.3674767725000683E-2,0.12697647683298496,9684053,1229876,22262070,17.559402058960956,9386325,436540000,3.3500610644999996E-3,15.530517618517687,null,0,0,null,1.6195510450000006E-2]
[583,2.3510250000000001E-3,1.0437729999999999E-2,1211641,9369140,421867700,9369140,421867700,3.4735000000000005E-3,1.624061491666667E-2,17.489705662265745,{"$f":"0","v":0},0,15.472608117010685,{"$f":"0","v":0},0,{"$f":"0","v":0},5.3561184558333329E-2,3.4553722724225003E-3,null,580,0.99770769999999998,2.2923000000000002E-3,3.3940000000000003E-3,1.0377330000000001E-2,5.3646371933333846E-2,0.12652469500277905,9682265,1225317,22158440,17.542176126667627,9382029,432871900,3.3763896709900001E-3,15.516236610581396,null,0,0,null,1.6206786566666673E-2]
[584,2.3706000000000001E-3,1.0457869999999999E-2,1207082,9364844,418199600,9364844,418199600,3.4999999999999992E-3,1.6251891033333334E-2,17.471956268643442,{"$f":"0","v":0},0,15.457813443080029,{"$f":"0","v":0},0,{"$f":"0","v":0},5.3532788766666485E-2,3.4816987274999991E-3,null,581,0.99768809999999997,2.3118750000000001E-3,3.4204999999999991E-3,1.0397470000000001E-2,5.3617976141667002E-2,0.1260745206106372,9680477,1220759,22054810,17.524806732259737,9377733,429203800,3.402717726932499E-3,15.501818036207579,null,0,0,null,1.6218062683333336E-2]
[585,2.390175E-3,1.0477999999999999E-2,1202523,9360548,414531500,9360548,414531500,3.5264999999999997E-3,1.6263167150000001E-2,17.454080608021634,{"$f":"0","v":0},0,15.442874126574491,{"$f":"0","v":0},0,{"$f":"0","v":0},5.3504392974999648E-2,3.5080246664999995E-3,null,582,0.99766860000000002,2.3314500000000001E-3,3.4469999999999995E-3,1.0417600000000001E-2,5.3589580350000166E-2,0.12562594793730084,9678690,1216200,21951180,17.507321986515375,9373436,425535700,3.4290452663999996E-3,15.487283598006846,null,0,0,null,1.6229338800000003E-2]
[586,2.40975E-3,1.049813E-2,1197964,9356252,410863500,9356252,410863500,3.5530000000000006E-3,1.6274443266666667E-2,17.436060543833815,{"$f":"0","v":0},0,15.427810252990477,{"$f":"0","v":0},0,{"$f":"0","v":0},5.3475997183332812E-2,3.5343500720550008E-3,null,583,0.99764900000000001,2.3510250000000001E-3,3.4735000000000005E-3,1.0437729999999999E-2,5.3561184558333329E-2,0.12517897128386041,9676902,1211641,21847550,17.489705662265745,9369140,421867700,3.4553722724225003E-3,15.472608117010685,null,0,0,null,1.624061491666667E-2]
[587,2.429325E-3,1.051827E-2,1193406,9351955,407195400,9351955,407195400,3.5794999999999989E-3,1.6285719383333331E-2,17.417887751527978,{"$f":"0","v":0},0,15.412599913827357,{"$f":"0","v":0},0,{"$f":"0","v":0},5.3447601391665968E-2,3.5606749262674991E-3,null,584,0.9976294,2.3706000000000001E-3,3.4999999999999992E-3,1.0457869999999999E-2,5.3532788766666485E-2,0.12473358497168305,9675114,1207082,21743920,17.471956268643442,9364844,418199600,3.4816987274999991E-3,15.457813443080029,null,0,0,null,1.6251891033333334E-2]
[588,2.4488999999999999E-3,1.05384E-2,1188847,9347659,403527300,9347659,403527300,3.6059999999999998E-3,1.6296995499999998E-2,17.399590702868689,{"$f":"0","v":0},0,15.397263350533423,{"$f":"0","v":0},0,{"$f":"0","v":0},5.3419205599999131E-2,3.5869992648000001E-3,null,585,0.99760990000000005,2.390175E-3,3.5264999999999997E-3,1.0477999999999999E-2,5.3504392974999648E-2,0.12428978334234053,9673326,1202523,21640300,17.454080608021634,9360548,414531500,3.5080246664999995E-3,15.442874126574491,null,0,0,null,1.6263167150000001E-2]
[589,2.4693750000000002E-3,1.05602E-2,1184466,9342957,400214100,9342957,400214100,3.6330000000000008E-3,1.6306455199999997E-2,17.382309200939495,{"$f":"0","v":0},0,15.382884555557942,{"$f":"0","v":0},0,{"$f":"0","v":0},5.341197384166585E-2,3.6138173967000006E-3,null,586,0.99759019999999998,2.40975E-3,3.5530000000000006E-3,1.049813E-2,5.3475997183332812E-2,0.12384756075753722,9671538,1197964,21536670,17.436060543833815,9356252,410863500,3.5343500720550008E-3,15.427810252990477,null,0,0,null,1.6274443266666667E-2]
[590,2.48985E-3,1.0581999999999999E-2,1180086,9338255,396900900,9338255,396900900,3.6599999999999992E-3,1.6315914899999999E-2,17.364875737869951,{"$f":"0","v":0},0,15.368394265642404,{"$f":"0","v":0},0,{"$f":"0","v":0},5.3404742083332568E-2,3.6406349399999991E-3,null,587,0.99757070000000003,2.429325E-3,3.5794999999999989E-3,1.051827E-2,5.3447601391665968E-2,0.12340691159903858,9669751,1193406,21433040,17.417887751527978,9351955,407195400,3.5606749262674991E-3,15.412599913827357,null,0,0,null,1.6285719383333331E-2]
[591,2.5103249999999999E-3,1.06038E-2,1175705,9333554,393587700,9333554,393587700,3.6870000000000002E-3,1.6325374599999998E-2,17.347336101884967,{"$f":"0","v":0},0,15.353774870586992,{"$f":"0","v":0},0,{"$f":"0","v":0},5.3397510324999287E-2,3.6674518947000002E-3,null,588,0.99755110000000002,2.4488999999999999E-3,3.6059999999999998E-3,1.05384E-2,5.3419205599999131E-2,0.12296783026859968,9667963,1188847,21329410,17.399590702868689,9347659,403527300,3.5869992648000001E-3,15.397263350533423,null,0,0,null,1.6296995499999998E-2]
[592,2.5308000000000002E-3,1.0625600000000001E-2,1171325,9328852,390274500,9328852,390274500,3.7140000000000007E-3,1.6334834299999997E-2,17.329650004624391,{"$f":"0","v":0},0,15.339014323459692,{"$f":"0","v":0},0,{"$f":"0","v":0},5.3390278566666005E-2,3.6942682608000006E-3,null,589,0.99753060000000005,2.4693750000000002E-3,3.6330000000000008E-3,1.05602E-2,5.341197384166585E-2,0.12253031118789412,9665990,1184466,21230340,17.382309200939495,9342957,400214100,3.6138173967000006E-3,15.382884555557942,null,0,0,null,1.6306455199999997E-2]
[593,2.551275E-3,1.06474E-2,1166944,9324150,386961300,9324150,386961300,3.7409999999999991E-3,1.6344293999999999E-2,17.311846441074579,{"$f":"0","v":0},0,15.324135455823054,{"$f":"0","v":0},0,{"$f":"0","v":0},5.3383046808332724E-2,3.721084038299999E-3,null,590,0.99751009999999996,2.48985E-3,3.6599999999999992E-3,1.0581999999999999E-2,5.3404742083332568E-2,0.12209434879844321,9664017,1180086,21131260,17.364875737869951,9338255,396900900,3.6406349399999991E-3,15.368394265642404,null,0,0,null,1.6315914899999999E-2]
[594,2.5717499999999998E-3,1.06692E-2,1162563,9319448,383648100,9319448,383648100,3.7680000000000001E-3,1.6353753699999998E-2,17.293908695700789,{"$f":"0","v":0},0,15.309126248318316,{"$f":"0","v":0},0,{"$f":"0","v":0},5.3375815049999442E-2,3.7478992272000004E-3,null,591,0.99748970000000003,2.5103249999999999E-3,3.6870000000000002E-3,1.06038E-2,5.3397510324999287E-2,0.12165993756154528,9662044,1175705,21032190,17.347336101884967,9333554,393587700,3.6674518947000002E-3,15.353774870586992,null,0,0,null,1.6325374599999998E-2]
[595,2.5922250000000001E-3,1.0691000000000001E-2,1158183,9314746,380334900,9314746,380334900,3.7950000000000011E-3,1.6363213399999996E-2,17.275819861800766,{"$f":"0","v":0},0,15.293981001701285,{"$f":"0","v":0},0,{"$f":"0","v":0},5.3368583291666161E-2,3.7747138275000011E-3,null,592,0.99746919999999994,2.5308000000000002E-3,3.7140000000000007E-3,1.0625600000000001E-2,5.3390278566666005E-2,0.12122707195820531,9660071,1171325,20933120,17.329650004624391,9328852,390274500,3.6942682608000006E-3,15.339014323459692,null,0,0,null,1.6334834299999997E-2]
[596,2.6126999999999999E-3,1.07128E-2,1153802,9310044,377021700,9310044,377021700,3.8219999999999994E-3,1.6372673099999999E-2,17.257609118953397,{"$f":"0","v":0},0,15.27868735219481,{"$f":"0","v":0},0,{"$f":"0","v":0},5.3361351533332879E-2,3.8015278391999993E-3,null,593,0.99744869999999997,2.551275E-3,3.7409999999999991E-3,1.06474E-2,5.3383046808332724E-2,0.12079574648906492,9658098,1166944,20834050,17.311846441074579,9324150,386961300,3.721084038299999E-3,15.324135455823054,null,0,0,null,1.6344293999999999E-2]
[597,2.6331750000000002E-3,1.07346E-2,1149422,9305342,373708500,9305342,373708500,3.849E-3,1.6382132799999997E-2,17.239244086738086,{"$f":"0","v":0},0,15.263268444879955,{"$f":"0","v":0},0,{"$f":"0","v":0},5.3354119774999598E-2,3.8283412623000002E-3,null,594,0.99742819999999999,2.5717499999999998E-3,3.7680000000000001E-3,1.06692E-2,5.3375815049999442E-2,0.12036595567433238,9656125,1162563,20734980,17.293908695700789,9319448,383648100,3.7478992272000004E-3,15.309126248318316,null,0,0,null,1.6353753699999998E-2]
[598,2.65365E-3,1.0756399999999999E-2,1145041,9300641,370395300,9300641,370395300,3.876000000000001E-3,1.6391592499999996E-2,17.220754067612717,{"$f":"0","v":0},0,15.247709946197032,{"$f":"0","v":0},0,{"$f":"0","v":0},5.3346888016666316E-2,3.8551540968000011E-3,null,595,0.99740779999999996,2.5922250000000001E-3,3.7950000000000011E-3,1.0691000000000001E-2,5.3368583291666161E-2,0.11993769405371299,9654152,1158183,20635910,17.275819861800766,9314746,380334900,3.7747138275000011E-3,15.293981001701285,null,0,0,null,1.6363213399999996E-2]
[599,2.6741249999999999E-3,1.07782E-2,1140661,9295939,367082100,9295939,367082100,3.9029999999999994E-3,1.6401052199999998E-2,17.202106461370498,{"$f":"0","v":0},0,15.23199726187535,{"$f":"0","v":0},0,{"$f":"0","v":0},5.3339656258333035E-2,3.8819663426999992E-3,null,596,0.99738729999999998,2.6126999999999999E-3,3.8219999999999994E-3,1.07128E-2,5.3361351533332879E-2,0.11951095618633983,9652179,1153802,20536840,17.257609118953397,9310044,377021700,3.8015278391999993E-3,15.27868735219481,null,0,0,null,1.6372673099999999E-2]
[600,2.6946000000000001E-3,1.0800000000000001E-2,1136280,9291237,363768900,9291237,363768900,3.9300000000000003E-3,1.6410511899999997E-2,17.183330693139013,{"$f":"0","v":0},0,15.216153774928575,{"$f":"0","v":0},0,{"$f":"0","v":0},5.3332424499999753E-2,3.9087780000000008E-3,null,597,0.9973668,2.6331750000000002E-3,3.849E-3,1.07346E-2,5.3354119774999598E-2,0.11908573665070459,9650206,1149422,20437770,17.239244086738086,9305342,373708500,3.8283412623000002E-3,15.263268444879955,null,0,0,null,1.6382132799999997E-2]
[601,2.7159749999999998E-3,1.082347E-2,1132071,9286124,360769100,9286124,360769100,3.9605000000000013E-3,1.6418155183333331E-2,17.165588443657686,{"$f":"0","v":0},0,15.20132622100661,{"$f":"0","v":0},0,{"$f":"0","v":0},5.3341417174999815E-2,3.9390668235325015E-3,null,598,0.99734630000000002,2.65365E-3,3.876000000000001E-3,1.0756399999999999E-2,5.3346888016666316E-2,0.11866203004458854,9648233,1145041,20338700,17.220754067612717,9300641,370395300,3.8551540968000011E-3,15.247709946197032,null,0,0,null,1.6391592499999996E-2]
[602,2.7373499999999999E-3,1.0846929999999999E-2,1127862,9281012,357769200,9281012,357769200,3.9909999999999998E-3,1.6425798466666666E-2,17.147713771720298,{"$f":"0","v":0},0,15.186368489223657,{"$f":"0","v":0},0,{"$f":"0","v":0},5.3350409849999871E-2,3.9693549511849993E-3,null,599,0.99732589999999999,2.6741249999999999E-3,3.9029999999999994E-3,1.07782E-2,5.3339656258333035E-2,0.11823983098499417,9646260,1140661,20239630,17.202106461370498,9295939,367082100,3.8819663426999992E-3,15.23199726187535,null,0,0,null,1.6401052199999998E-2]
[603,2.7587250000000001E-3,1.0870400000000001E-2,1123653,9275899,354769400,9275899,354769400,4.0214999999999999E-3,1.643344175E-2,17.129705189235466,{"$f":"0","v":0},0,15.171278857684813,{"$f":"0","v":0},0,{"$f":"0","v":0},5.3359402524999933E-2,3.9996423432E-3,null,600,0.99730540000000001,2.6946000000000001E-3,3.9300000000000003E-3,1.0800000000000001E-2,5.3332424499999753E-2,0.11781913410807657,9644287,1136280,20140560,17.183330693139013,9291237,363768900,3.9087780000000008E-3,15.216153774928575,null,0,0,null,1.6410511899999997E-2]
[604,2.7801000000000002E-3,1.089387E-2,1119443,9270786,351769500,9270786,351769500,4.0520000000000009E-3,1.6441085033333334E-2,17.111576955384656,{"$f":"0","v":0},0,15.156055573992775,{"$f":"0","v":0},0,{"$f":"0","v":0},5.3368395199999995E-2,4.0299290193800009E-3,null,601,0.99728410000000001,2.7159749999999998E-3,3.9605000000000013E-3,1.082347E-2,5.3341417174999815E-2,0.11739993406907537,9642121,1132071,20045870,17.165588443657686,9286124,360769100,3.9390668235325015E-3,15.20132622100661,null,0,0,null,1.6418155183333331E-2]
[605,2.8014749999999999E-3,1.0917329999999999E-2,1115234,9265673,348769700,9265673,348769700,4.0824999999999993E-3,1.6448728316666668E-2,17.093296040711337,{"$f":"0","v":0},0,15.14069685456943,{"$f":"0","v":0},0,{"$f":"0","v":0},5.337738787500005E-2,4.0602150001374992E-3,null,602,0.99726269999999995,2.7373499999999999E-3,3.9909999999999998E-3,1.0846929999999999E-2,5.3350409849999871E-2,0.11698222554224687,9639956,1127862,19951180,17.147713771720298,9281012,357769200,3.9693549511849993E-3,15.186368489223657,null,0,0,null,1.6425798466666666E-2]
[606,2.82285E-3,1.0940800000000001E-2,1111025,9260560,345769800,9260560,345769800,4.1130000000000003E-3,1.6456371600000002E-2,17.074876615437695,{"$f":"0","v":0},0,15.125200883959232,{"$f":"0","v":0},0,{"$f":"0","v":0},5.3386380550000112E-2,4.0905002448000001E-3,null,603,0.9972413,2.7587250000000001E-3,4.0214999999999999E-3,1.0870400000000001E-2,5.3359402524999933E-2,0.11656600322079633,9637790,1123653,19856490,17.129705189235466,9275899,354769400,3.9996423432E-3,15.171278857684813,null,0,0,null,1.643344175E-2]
[607,2.8442250000000001E-3,1.096427E-2,1106816,9255448,342770000,9255448,342770000,4.1435000000000005E-3,1.6464014883333336E-2,17.05631709937936,{"$f":"0","v":0},0,15.109565814113848,{"$f":"0","v":0},0,{"$f":"0","v":0},5.3395373225000174E-2,4.1207847736275003E-3,null,604,0.99721990000000005,2.7801000000000002E-3,4.0520000000000009E-3,1.089387E-2,5.3368395199999995E-2,0.11615126181681054,9635624,1119443,19761800,17.111576955384656,9270786,351769500,4.0299290193800009E-3,15.156055573992775,null,0,0,null,1.6441085033333334E-2]
[608,2.8655999999999998E-3,1.0987729999999999E-2,1102607,9250335,339770100,9250335,339770100,4.1739999999999989E-3,1.647165816666667E-2,17.037615888223698,{"$f":"0","v":0},0,15.093789763657433,{"$f":"0","v":0},0,{"$f":"0","v":0},5.3404365900000229E-2,4.1510686074899984E-3,null,605,0.99719849999999999,2.8014749999999999E-3,4.0824999999999993E-3,1.0917329999999999E-2,5.337738787500005E-2,0.11573799606119074,9633459,1115234,19667110,17.093296040711337,9265673,348769700,4.0602150001374992E-3,15.14069685456943,null,0,0,null,1.6448728316666668E-2]
[609,2.886975E-3,1.1011200000000001E-2,1098397,9245222,336770200,9245222,336770200,4.2044999999999999E-3,1.6479301450000004E-2,17.018787340399992,{"$f":"0","v":0},0,15.077868744795788,{"$f":"0","v":0},0,{"$f":"0","v":0},5.3413358575000291E-2,4.1813517048000003E-3,null,606,0.99717710000000004,2.82285E-3,4.1130000000000003E-3,1.0940800000000001E-2,5.3386380550000112E-2,0.11532620070358551,9631293,1111025,19572420,17.074876615437695,9260560,345769800,4.0905002448000001E-3,15.125200883959232,null,0,0,null,1.6456371600000002E-2]
[610,2.9083500000000001E-3,1.103467E-2,1094188,9240110,333770400,9240110,333770400,4.2350000000000009E-3,1.6486944733333338E-2,16.999797871420022,{"$f":"0","v":0},0,15.061804944598597,{"$f":"0","v":0},0,{"$f":"0","v":0},5.3422351250000354E-2,4.2116340862750007E-3,null,607,0.99715580000000004,2.8442250000000001E-3,4.1435000000000005E-3,1.096427E-2,5.3395373225000174E-2,0.11491587051232426,9629127,1106816,19477730,17.05631709937936,9255448,342770000,4.1207847736275003E-3,15.109565814113848,null,0,0,null,1.6464014883333336E-2]
[611,2.9297250000000002E-3,1.1058129999999999E-2,1089979,9234997,330770500,9234997,330770500,4.2654999999999985E-3,1.6494588016666673E-2,16.980661745165119,{"$f":"0","v":0},0,15.045594312000322,{"$f":"0","v":0},0,{"$f":"0","v":0},5.3431343925000409E-2,4.2419157732424984E-3,null,608,0.99713439999999998,2.8655999999999998E-3,4.1739999999999989E-3,1.0987729999999999E-2,5.3404365900000229E-2,0.11450700027435058,9626962,1102607,19383040,17.037615888223698,9250335,339770100,4.1510686074899984E-3,15.093789763657433,null,0,0,null,1.647165816666667E-2]
[612,2.9510999999999999E-3,1.10816E-2,1085770,9229884,327770700,9229884,327770700,4.2959999999999995E-3,1.6502231300000007E-2,16.961377256079402,{"$f":"0","v":0},0,15.029234824558536,{"$f":"0","v":0},0,{"$f":"0","v":0},5.3440336600000471E-2,4.2721967231999997E-3,null,609,0.99711300000000003,2.886975E-3,4.2044999999999999E-3,1.1011200000000001E-2,5.3413358575000291E-2,0.11409958479515611,9624796,1098397,19288350,17.018787340399992,9245222,336770200,4.1813517048000003E-3,15.077868744795788,null,0,0,null,1.6479301450000004E-2]
[613,2.9733749999999999E-3,1.1106929999999999E-2,1081726,9224328,325049500,9224328,325049500,4.3300000000000005E-3,1.6508058166666673E-2,16.943167755358871,{"$f":"0","v":0},0,15.013951032248485,{"$f":"0","v":0},0,{"$f":"0","v":0},5.3459908908333853E-2,4.3059534965500003E-3,null,610,0.99709170000000003,2.9083500000000001E-3,4.2350000000000009E-3,1.103467E-2,5.3422351250000354E-2,0.11369361889871459,9622630,1094188,19193660,16.999797871420022,9240110,333770400,4.2116340862750007E-3,15.061804944598597,null,0,0,null,1.6486944733333338E-2]
[614,2.9956499999999999E-3,1.113227E-2,1077681,9218772,322328400,9218772,322328400,4.363999999999999E-3,1.6513885033333339E-2,16.924837799868421,{"$f":"0","v":0},0,14.998516678155118,{"$f":"0","v":0},0,{"$f":"0","v":0},5.3479481216667235E-2,4.3397093868599987E-3,null,611,0.99707029999999996,2.9297250000000002E-3,4.2654999999999985E-3,1.1058129999999999E-2,5.3431343925000409E-2,0.11328909742741594,9620465,1089979,19098970,16.980661745165119,9234997,330770500,4.2419157732424984E-3,15.045594312000322,null,0,0,null,1.6494588016666673E-2]
[615,3.0179249999999999E-3,1.11576E-2,1073637,9213216,319607200,9213216,319607200,4.3979999999999991E-3,1.6519711900000005E-2,16.906353474218939,{"$f":"0","v":0},0,14.98294762761453,{"$f":"0","v":0},0,{"$f":"0","v":0},5.3499053525000617E-2,4.3734644375999993E-3,null,612,0.99704890000000002,2.9510999999999999E-3,4.2959999999999995E-3,1.10816E-2,5.3440336600000471E-2,0.11288601524200098,9618299,1085770,19004280,16.961377256079402,9229884,327770700,4.2721967231999997E-3,15.029234824558536,null,0,0,null,1.6502231300000007E-2]
[616,3.0401999999999998E-3,1.1182930000000001E-2,1069593,9207661,316886100,9207661,316886100,4.4320000000000002E-3,1.652553876666667E-2,16.887729374631284,{"$f":"0","v":0},0,14.967251518809196,{"$f":"0","v":0},0,{"$f":"0","v":0},5.3518625833333999E-2,4.4072186271200001E-3,null,613,0.99702659999999999,2.9733749999999999E-3,4.3300000000000005E-3,1.1106929999999999E-2,5.3459908908333853E-2,0.11248436722149585,9615934,1081726,18913800,16.943167755358871,9224328,325049500,4.3059534965500003E-3,15.013951032248485,null,0,0,null,1.6508058166666673E-2]
[617,3.0624749999999998E-3,1.1208269999999999E-2,1065548,9202105,314164900,9202105,314164900,4.4659999999999986E-3,1.6531365633333336E-2,16.868980249286437,{"$f":"0","v":0},0,14.951403412502374,{"$f":"0","v":0},0,{"$f":"0","v":0},5.3538198141667381E-2,4.4409719330899987E-3,null,614,0.99700429999999995,2.9956499999999999E-3,4.363999999999999E-3,1.113227E-2,5.3479481216667235E-2,0.11208414826314719,9613568,1077681,18823320,16.924837799868421,9218772,322328400,4.3397093868599987E-3,14.998516678155118,null,0,0,null,1.6513885033333339E-2]
[618,3.0847499999999998E-3,1.12336E-2,1061504,9196549,311443800,9196549,311443800,4.4999999999999997E-3,1.6537192500000002E-2,16.850071847743074,{"$f":"0","v":0},0,14.935412928854715,{"$f":"0","v":0},0,{"$f":"0","v":0},5.3557770450000763E-2,4.4747243999999995E-3,null,615,0.99698209999999998,3.0179249999999999E-3,4.3979999999999991E-3,1.11576E-2,5.3499053525000617E-2,0.11168535328235715,9611203,1073637,18732840,16.906353474218939,9213216,319607200,4.3734644375999993E-3,14.98294762761453,null,0,0,null,1.6519711900000005E-2]
[619,3.1070249999999998E-3,1.125893E-2,1057460,9190993,308722600,9190993,308722600,4.5340000000000007E-3,1.6543019366666668E-2,16.831018824983133,{"$f":"0","v":0},0,14.919289870491996,{"$f":"0","v":0},0,{"$f":"0","v":0},5.3577342758334146E-2,4.5084760056900005E-3,null,616,0.99695979999999995,3.0401999999999998E-3,4.4320000000000002E-3,1.1182930000000001E-2,5.3518625833333999E-2,0.11128797721261895,9608838,1069593,18642360,16.887729374631284,9207661,316886100,4.4072186271200001E-3,14.967251518809196,null,0,0,null,1.652553876666667E-2]
[620,3.1292999999999998E-3,1.1284270000000001E-2,1053416,9185437,306001500,9185437,306001500,4.5679999999999991E-3,1.6548846233333334E-2,16.811819515430432,{"$f":"0","v":0},0,14.903006718048836,{"$f":"0","v":0},0,{"$f":"0","v":0},5.3596915066667528E-2,4.5422267273199993E-3,null,617,0.99693750000000003,3.0624749999999998E-3,4.4659999999999986E-3,1.1208269999999999E-2,5.3538198141667381E-2,0.11089201500545232,9606472,1065548,18551880,16.868980249286437,9202105,314164900,4.4409719330899987E-3,14.951403412502374,null,0,0,null,1.6531365633333336E-2]
[621,3.1515750000000002E-3,1.13096E-2,1049371,9179882,303280300,9179882,303280300,4.6020000000000002E-3,1.65546731E-2,16.792488746433179,{"$f":"0","v":0},0,14.886591447947795,{"$f":"0","v":0},0,{"$f":"0","v":0},5.361648737500091E-2,4.5759766104000003E-3,null,618,0.9969152,3.0847499999999998E-3,4.4999999999999997E-3,1.12336E-2,5.3557770450000763E-2,0.11049746163033954,9604107,1061504,18461400,16.850071847743074,9196549,311443800,4.4747243999999995E-3,14.935412928854715,null,0,0,null,1.6537192500000002E-2]
[622,3.1738500000000002E-3,1.133493E-2,1045327,9174326,300559200,9174326,300559200,4.6360000000000004E-3,1.6560499966666666E-2,16.772991808623839,{"$f":"0","v":0},0,14.870009773688889,{"$f":"0","v":0},0,{"$f":"0","v":0},5.3636059683334292E-2,4.6097256322599998E-3,null,619,0.99689300000000003,3.1070249999999998E-3,4.5340000000000007E-3,1.125893E-2,5.3577342758334146E-2,0.1101043120746614,9601742,1057460,18370920,16.831018824983133,9190993,308722600,4.5084760056900005E-3,14.919289870491996,null,0,0,null,1.6543019366666668E-2]
[623,3.1961250000000002E-3,1.136027E-2,1041283,9168770,297838000,9168770,297838000,4.6699999999999988E-3,1.6566326833333332E-2,16.753333827915498,{"$f":"0","v":0},0,14.853277889280703,{"$f":"0","v":0},0,{"$f":"0","v":0},5.3655631991667674E-2,4.6434737695499988E-3,null,620,0.9968707,3.1292999999999998E-3,4.5679999999999991E-3,1.1284270000000001E-2,5.3596915066667528E-2,0.10971256134363364,9599376,1053416,18280440,16.811819515430432,9185437,306001500,4.5422267273199993E-3,14.903006718048836,null,0,0,null,1.6548846233333334E-2]
[624,3.2184000000000002E-3,1.1385599999999999E-2,1037238,9163214,295116900,9163214,295116900,4.7039999999999998E-3,1.6572153699999998E-2,16.733548857639228,{"$f":"0","v":0},0,14.836405719771367,{"$f":"0","v":0},0,{"$f":"0","v":0},5.3675204300001056E-2,4.6772210687999992E-3,null,621,0.99684839999999997,3.1515750000000002E-3,4.6020000000000002E-3,1.13096E-2,5.361648737500091E-2,0.10932220446024334,9597011,1049371,18189960,16.792488746433179,9179882,303280300,4.5759766104000003E-3,14.886591447947795,null,0,0,null,1.65546731E-2]
[625,3.2415E-3,1.141287E-2,1033353,9157185,292646300,9157185,292646300,4.7410000000000013E-3,1.6576164149999999E-2,16.714856515634057,{"$f":"0","v":0},0,14.820630352770449,{"$f":"0","v":0},0,{"$f":"0","v":0},5.3699006241667714E-2,4.7139457916650016E-3,null,622,0.9968262,3.1738500000000002E-3,4.6360000000000004E-3,1.133493E-2,5.3636059683334292E-2,0.10893323646518581,9594646,1045327,18099480,16.772991808623839,9174326,300559200,4.6097256322599998E-3,14.870009773688889,null,0,0,null,1.6560499966666666E-2]
[626,3.2645999999999999E-3,1.144013E-2,1029467,9151156,290175800,9151156,290175800,4.7779999999999993E-3,1.6580174599999997E-2,16.696030122059927,{"$f":"0","v":0},0,14.804731508099399,{"$f":"0","v":0},0,{"$f":"0","v":0},5.3722808183334379E-2,4.7506695294299989E-3,null,623,0.99680389999999996,3.1961250000000002E-3,4.6699999999999988E-3,1.136027E-2,5.3655631991667674E-2,0.10854565241680159,9592280,1041283,18008990,16.753333827915498,9168770,297838000,4.6434737695499988E-3,14.853277889280703,null,0,0,null,1.6566326833333332E-2]
[627,3.2877000000000002E-3,1.1467400000000001E-2,1025581,9145126,287705200,9145126,287705200,4.8149999999999998E-3,1.6584185049999998E-2,16.6770610593735,{"$f":"0","v":0},0,14.788676552055197,{"$f":"0","v":0},0,{"$f":"0","v":0},5.3746610125001038E-2,4.7873922344999998E-3,null,624,0.99678160000000005,3.2184000000000002E-3,4.7039999999999998E-3,1.1385599999999999E-2,5.3675204300001056E-2,0.10815944739101356,9589915,1037238,17918510,16.733548857639228,9163214,295116900,4.6772210687999992E-3,14.836405719771367,null,0,0,null,1.6572153699999998E-2]
[628,3.3108E-3,1.149467E-2,1021696,9139097,285234700,9139097,285234700,4.8520000000000013E-3,1.65881955E-2,16.657940652927419,{"$f":"0","v":0},0,14.772492287144924,{"$f":"0","v":0},0,{"$f":"0","v":0},5.3770412066667696E-2,4.8241139305800007E-3,null,625,0.99675849999999999,3.2415E-3,4.7410000000000013E-3,1.141287E-2,5.3699006241667714E-2,0.10777461648126446,9587343,1033353,17832080,16.714856515634057,9157185,292646300,4.7139457916650016E-3,14.820630352770449,null,0,0,null,1.6576164149999999E-2]
[629,3.3338999999999999E-3,1.152193E-2,1017810,9133068,282764100,9133068,282764100,4.8889999999999992E-3,1.6592205949999998E-2,16.638681335416237,{"$f":"0","v":0},0,14.756145719121433,{"$f":"0","v":0},0,{"$f":"0","v":0},5.3794214008334361E-2,4.8608346421149988E-3,null,626,0.99673540000000005,3.2645999999999999E-3,4.7779999999999993E-3,1.144013E-2,5.3722808183334379E-2,0.10739115479845458,9584771,1029467,17745640,16.696030122059927,9151156,290175800,4.7506695294299989E-3,14.804731508099399,null,0,0,null,1.6580174599999997E-2]
[630,3.3570000000000002E-3,1.1549200000000001E-2,1013924,9127039,280293600,9127039,280293600,4.9259999999999998E-3,1.6596216399999999E-2,16.619284252731632,{"$f":"0","v":0},0,14.739666043995516,{"$f":"0","v":0},0,{"$f":"0","v":0},5.3818015950001019E-2,4.8975543204000001E-3,null,627,0.9967123,3.2877000000000002E-3,4.8149999999999998E-3,1.1467400000000001E-2,5.3746610125001038E-2,0.10700905747087958,9582199,1025581,17659200,16.6770610593735,9145126,287705200,4.7873922344999998E-3,14.788676552055197,null,0,0,null,1.6584185049999998E-2]
[631,3.3801E-3,1.157647E-2,1010039,9121010,277823000,9121010,277823000,4.9630000000000013E-3,1.660022685E-2,16.599711042510897,{"$f":"0","v":0},0,14.723024392717111,{"$f":"0","v":0},0,{"$f":"0","v":0},5.3841817891667677E-2,4.9342729896950013E-3,null,628,0.99668920000000005,3.3108E-3,4.8520000000000013E-3,1.149467E-2,5.3770412066667696E-2,0.10662831964416865,9579627,1021696,17572770,16.657940652927419,9139097,285234700,4.8241139305800007E-3,14.772492287144924,null,0,0,null,1.65881955E-2]
[632,3.4031999999999999E-3,1.160373E-2,1006153,9114981,275352400,9114981,275352400,4.9999999999999992E-3,1.6604237299999998E-2,16.580003695594339,{"$f":"0","v":0},0,14.706245725532144,{"$f":"0","v":0},0,{"$f":"0","v":0},5.3865619833334343E-2,4.9709906749999993E-3,null,629,0.9966661,3.3338999999999999E-3,4.8889999999999992E-3,1.152193E-2,5.3794214008334361E-2,0.10624893648122274,9577055,1017810,17486330,16.638681335416237,9133068,282764100,4.8608346421149988E-3,14.756145719121433,null,0,0,null,1.6592205949999998E-2]
[633,3.4263000000000002E-3,1.1631000000000001E-2,1002267,9108952,272881900,9108952,272881900,5.0370000000000007E-3,1.6608247749999999E-2,16.56015350699963,{"$f":"0","v":0},0,14.689313379510573,{"$f":"0","v":0},0,{"$f":"0","v":0},5.3889421775001001E-2,5.0077073265000008E-3,null,630,0.99664299999999995,3.3570000000000002E-3,4.9259999999999998E-3,1.1549200000000001E-2,5.3818015950001019E-2,0.10587090316215331,9574483,1013924,17399900,16.619284252731632,9127039,280293600,4.8975543204000001E-3,14.739666043995516,null,0,0,null,1.6596216399999999E-2]
[634,3.4494E-3,1.165827E-2,998381.8,9102922,270411400,9102922,270411400,5.0740000000000013E-3,1.66122582E-2,16.54012508875195,{"$f":"0","v":0},0,14.672208126048304,{"$f":"0","v":0},0,{"$f":"0","v":0},5.3913223716667659E-2,5.0444229690100014E-3,null,631,0.9966199,3.3801E-3,4.9630000000000013E-3,1.157647E-2,5.3841817891667677E-2,0.10549421488422081,9571911,1010039,17313460,16.599711042510897,9121010,277823000,4.9342729896950013E-3,14.723024392717111,null,0,0,null,1.660022685E-2]
[635,3.4724999999999999E-3,1.168553E-2,994496.1,9096893,267940800,9096893,267940800,5.1109999999999992E-3,1.6616268649999998E-2,16.519948758471752,{"$f":"0","v":0},0,14.654961943427097,{"$f":"0","v":0},0,{"$f":"0","v":0},5.3937025658334324E-2,5.0811376280849993E-3,null,632,0.99659679999999995,3.4031999999999999E-3,4.9999999999999992E-3,1.160373E-2,5.3865619833334343E-2,0.10511886686177398,9569339,1006153,17227020,16.580003695594339,9114981,275352400,4.9709906749999993E-3,14.706245725532144,null,0,0,null,1.6604237299999998E-2]
[636,3.4956000000000002E-3,1.1712800000000001E-2,990610.4,9090864,265470300,9090864,265470300,5.1480000000000007E-3,1.66202791E-2,16.499624238415691,{"$f":"0","v":0},0,14.637540613123285,{"$f":"0","v":0},0,{"$f":"0","v":0},5.3960827600000982E-2,5.1178512528000011E-3,null,633,0.99657370000000001,3.4263000000000002E-3,5.0370000000000007E-3,1.1631000000000001E-2,5.3889421775001001E-2,0.10474485432618874,9566767,1002267,17140590,16.56015350699963,9108952,272881900,5.0077073265000008E-3,14.689313379510573,null,0,0,null,1.6608247749999999E-2]
[637,3.5195249999999999E-3,1.17422E-2,986877.5,9084339,263227500,9084339,263227500,5.187500000000002E-3,1.6622473133333333E-2,16.480435873922211,{"$f":"0","v":0},0,14.621301530277034,{"$f":"0","v":0},0,{"$f":"0","v":0},5.3981803975000853E-2,5.1570436687500016E-3,null,634,0.99655059999999995,3.4494E-3,5.0740000000000013E-3,1.165827E-2,5.3913223716667659E-2,0.10437217252580788,9564195,998381.8,17054150,16.54012508875195,9102922,270411400,5.0444229690100014E-3,14.672208126048304,null,0,0,null,1.66122582E-2]
[638,3.5434500000000001E-3,1.17716E-2,983144.6,9077814,260984700,9077814,260984700,5.226999999999999E-3,1.6624667166666666E-2,16.461101796894035,{"$f":"0","v":0},0,14.604906932213472,{"$f":"0","v":0},0,{"$f":"0","v":0},5.4002780350000723E-2,5.1962349233999989E-3,null,635,0.99652750000000001,3.4724999999999999E-3,5.1109999999999992E-3,1.168553E-2,5.3937025658334324E-2,0.10400081672588046,9561623,994496.1,16967710,16.519948758471752,9096893,267940800,5.0811376280849993E-3,14.654961943427097,null,0,0,null,1.6616268649999998E-2]
[639,3.5673749999999998E-3,1.1801000000000001E-2,979411.8,9071288,258742000,9071288,258742000,5.2665000000000003E-3,1.6626861199999999E-2,16.441618607208937,{"$f":"0","v":0},0,14.588366783350892,{"$f":"0","v":0},0,{"$f":"0","v":0},5.4023756725000593E-2,5.2354250167500008E-3,null,636,0.99650439999999996,3.4956000000000002E-3,5.1480000000000007E-3,1.1712800000000001E-2,5.3960827600000982E-2,0.10363078220850187,9559051,990610.4,16881280,16.499624238415691,9090864,265470300,5.1178512528000011E-3,14.637540613123285,null,0,0,null,1.66202791E-2]
[640,{"$f":"W645","v":3.5913E-3},{"$f":"Y645","v":1.18304E-2},{"$f":"AC645","v":975678.8},{"$f":"AF645","v":9064763},{"$f":"AG645","v":256499200},{"$f":"E642","v":9064763},{"$f":"F642","v":256499200},{"$f":"X645","v":5.3060000000000017E-3},{"$f":"AN645","v":1.6629055233333332E-2},{"$f":"AE645","v":16.421979566089441},{"$f":"0","v":0},{"$f":"AL645","v":0},{"$f":"AI645","v":14.571679946848759},{"$f":"0","v":0},{"$f":"AK645","v":0},{"$f":"0","v":0},{"$f":"Z645","v":5.4044733100000464E-2},{"$f":"AH645","v":5.2746139488000013E-3},null,637,0.99648049999999999,3.5195249999999999E-3,5.187500000000002E-3,1.17422E-2,5.3981803975000853E-2,0.10326206427255372,9556266,986877.5,16798730,16.480435873922211,9084339,263227500,5.1570436687500016E-3,14.621301530277034,null,0,0,null,1.6622473133333333E-2]
[641,3.6152250000000001E-3,1.18598E-2,971945.9,9058238,254256400,9058238,254256400,5.3454999999999987E-3,1.6631249266666665E-2,16.402198213055545,{"$f":"0","v":0},0,14.554842110355501,{"$f":"0","v":0},0,{"$f":"0","v":0},5.4065709475000334E-2,5.3138017195499985E-3,null,638,0.99645660000000003,3.5434500000000001E-3,5.226999999999999E-3,1.17716E-2,5.4002780350000723E-2,0.1028946582336442,9553482,983144.6,16716180,16.461101796894035,9077814,260984700,5.1962349233999989E-3,14.604906932213472,null,0,0,null,1.6624667166666666E-2]
[642,3.6391499999999999E-3,1.1889200000000001E-2,968213,9051712,252013700,9051712,252013700,5.385E-3,1.6633443299999998E-2,16.38226432785623,{"$f":"0","v":0},0,14.537848893443094,{"$f":"0","v":0},0,{"$f":"0","v":0},5.4086685850000205E-2,5.3529883290000004E-3,null,639,0.9964326,3.5673749999999998E-3,5.2665000000000003E-3,1.1801000000000001E-2,5.4023756725000593E-2,0.10252855942404852,9550698,979411.8,16633630,16.441618607208937,9071288,258742000,5.2354250167500008E-3,14.588366783350892,null,0,0,null,1.6626861199999999E-2]
[643,3.663075E-3,1.19186E-2,964480.1,9045187,249770900,9045187,249770900,5.4245000000000014E-3,1.6635637333333331E-2,16.362176139421297,{"$f":"0","v":0},0,14.520702834641781,{"$f":"0","v":0},0,{"$f":"0","v":0},5.4107662225000075E-2,5.3921737771500016E-3,null,640,0.99640870000000004,3.5913E-3,5.3060000000000017E-3,1.18304E-2,5.4044733100000464E-2,0.10216376319264972,9547913,975678.8,16551070,16.421979566089441,9064763,256499200,5.2746139488000013E-3,14.571679946848759,null,0,0,null,1.6629055233333332E-2]
[644,3.6870000000000002E-3,1.1948E-2,960747.2,9038662,247528200,9038662,247528200,5.4639999999999984E-3,1.6637831366666665E-2,16.341931849155184,{"$f":"0","v":0},0,14.503399485354807,{"$f":"0","v":0},0,{"$f":"0","v":0},5.4128638599999945E-2,5.4313580639999979E-3,null,641,0.99638479999999996,3.6152250000000001E-3,5.3454999999999987E-3,1.18598E-2,5.4065709475000334E-2,0.1018002649048794,9545128,971945.9,16468520,16.402198213055545,9058238,254256400,5.3138017195499985E-3,14.554842110355501,null,0,0,null,1.6631249266666665E-2]
[645,3.7109249999999999E-3,1.1977399999999999E-2,957014.3,9032137,245285400,9032137,245285400,5.5034999999999997E-3,1.6640025399999998E-2,16.321529630400157,{"$f":"0","v":0},0,14.485934325745403,{"$f":"0","v":0},0,{"$f":"0","v":0},5.4149614974999816E-2,5.4705411895499996E-3,null,642,0.99636080000000005,3.6391499999999999E-3,5.385E-3,1.1889200000000001E-2,5.4086685850000205E-2,0.10143805994265898,9542344,968213,16385970,16.38226432785623,9051712,252013700,5.3529883290000004E-3,14.537848893443094,null,0,0,null,1.6633443299999998E-2]
[646,3.7348500000000001E-3,1.20068E-2,953281.4,9025612,243042600,9025612,243042600,5.5430000000000011E-3,1.6642219433333331E-2,16.300967627886859,{"$f":"0","v":0},0,14.468309824095455,{"$f":"0","v":0},0,{"$f":"0","v":0},5.4170591349999686E-2,5.5097231538000007E-3,null,643,0.99633689999999997,3.663075E-3,5.4245000000000014E-3,1.19186E-2,5.4107662225000075E-2,0.101077143704341,9539560,964480.1,16303420,16.362176139421297,9045187,249770900,5.3921737771500016E-3,14.520702834641781,null,0,0,null,1.6635637333333331E-2]
[647,3.7587749999999998E-3,1.20362E-2,949548.5,9019086,240799900,9019086,240799900,5.5824999999999981E-3,1.6644413466666664E-2,16.280243957171926,{"$f":"0","v":0},0,14.450521387152113,{"$f":"0","v":0},0,{"$f":"0","v":0},5.4191567724999556E-2,5.5489039567499978E-3,null,644,0.996313,3.6870000000000002E-3,5.4639999999999984E-3,1.1948E-2,5.4128638599999945E-2,0.10071751160465062,9536775,960747.2,16220870,16.341931849155184,9038662,247528200,5.4313580639999979E-3,14.503399485354807,null,0,0,null,1.6637831366666665E-2]
[648,3.7827E-3,1.2065599999999999E-2,945815.6,9012561,238557100,9012561,238557100,5.6219999999999994E-3,1.6646607499999997E-2,16.259356704062256,{"$f":"0","v":0},0,14.432564347025302,{"$f":"0","v":0},0,{"$f":"0","v":0},5.4212544099999427E-2,5.5880835983999995E-3,null,645,0.99628910000000004,3.7109249999999999E-3,5.5034999999999997E-3,1.1977399999999999E-2,5.4149614974999816E-2,0.1003591590746274,9533990,957014.3,16138320,16.321529630400157,9032137,245285400,5.4705411895499996E-3,14.485934325745403,null,0,0,null,1.6640025399999998E-2]
[649,3.807525E-3,1.209733E-2,942229.8,9005523,236523300,9005523,236523300,5.6640000000000006E-3,1.6646985116666665E-2,16.239642945914042,{"$f":"0","v":0},0,14.415831480484652,{"$f":"0","v":0},0,{"$f":"0","v":0},5.4222934508332855E-2,5.6297403614400006E-3,null,646,0.99626519999999996,3.7348500000000001E-3,5.5430000000000011E-3,1.20068E-2,5.4170591349999686E-2,0.10000208156156726,9531206,953281.4,16055770,16.300967627886859,9025612,243042600,5.5097231538000007E-3,14.468309824095455,null,0,0,null,1.6642219433333331E-2]
[650,3.83235E-3,1.212907E-2,938644,8998485,234489500,8998485,234489500,5.7059999999999984E-3,1.664736273333333E-2,16.219778567096078,{"$f":"0","v":0},0,14.398945877110016,{"$f":"0","v":0},0,{"$f":"0","v":0},5.4233324916666291E-2,5.6713957632899981E-3,null,647,0.99624120000000005,3.7587749999999998E-3,5.5824999999999981E-3,1.20362E-2,5.4191567724999556E-2,9.9646274528964587E-2,9528422,949548.5,15973220,16.280243957171926,9019086,240799900,5.5489039567499978E-3,14.450521387152113,null,0,0,null,1.6644413466666664E-2]
[651,3.857175E-3,1.2160799999999999E-2,935058.2,8991448,232455700,8991448,232455700,5.7479999999999996E-3,1.6647740349999999E-2,16.199761834789179,{"$f":"0","v":0},0,14.381909475191721,{"$f":"0","v":0},0,{"$f":"0","v":0},5.4243715324999719E-2,5.7130498607999994E-3,null,648,0.99621729999999997,3.7827E-3,5.6219999999999994E-3,1.2065599999999999E-2,5.4212544099999427E-2,9.9291733456454673E-2,9525637,945815.6,15890670,16.259356704062256,9012561,238557100,5.5880835983999995E-3,14.432564347025302,null,0,0,null,1.6646607499999997E-2]
[652,3.882E-3,1.219253E-2,931472.4,8984410,230422000,8984410,230422000,5.7900000000000009E-3,1.6648117966666667E-2,16.179590989491473,{"$f":"0","v":0},0,14.364719403137073,{"$f":"0","v":0},0,{"$f":"0","v":0},5.4254105733333148E-2,5.754702625650001E-3,null,649,0.99619250000000004,3.807525E-3,5.6640000000000006E-3,1.209733E-2,5.4222934508332855E-2,9.8938453839756246E-2,9522634,942229.8,15811850,16.239642945914042,9005523,236523300,5.6297403614400006E-3,14.415831480484652,null,0,0,null,1.6646985116666665E-2]
[653,3.9068250000000001E-3,1.2224270000000001E-2,927886.6,8977372,228388200,8977372,228388200,5.8319999999999986E-3,1.6648495583333332E-2,16.159275021681886,{"$f":"0","v":0},0,14.347370351641365,{"$f":"0","v":0},0,{"$f":"0","v":0},5.4264496141666584E-2,5.7963540286799986E-3,null,650,0.99616769999999999,3.83235E-3,5.7059999999999984E-3,1.212907E-2,5.4233324916666291E-2,9.8586431190614221E-2,9519632,938644,15733030,16.219778567096078,8998485,234489500,5.6713957632899981E-3,14.398945877110016,null,0,0,null,1.664736273333333E-2]
[654,3.9316500000000001E-3,1.2256E-2,924300.80000000005,8970334,226354400,8970334,226354400,5.8739999999999999E-3,1.6648873200000001E-2,16.138790604386219,{"$f":"0","v":0},0,14.3298641916849,{"$f":"0","v":0},0,{"$f":"0","v":0},5.4274886550000012E-2,5.8380041279999994E-3,null,651,0.99614279999999999,3.857175E-3,5.7479999999999996E-3,1.2160799999999999E-2,5.4243715324999719E-2,9.8235661036742736E-2,9516629,935058.2,15654210,16.199761834789179,8991448,232455700,5.7130498607999994E-3,14.381909475191721,null,0,0,null,1.6647740349999999E-2]
[655,3.9564750000000001E-3,1.228773E-2,920715,8963296,224320600,8963296,224320600,5.9160000000000011E-3,1.6649250816666669E-2,16.118146630607733,{"$f":"0","v":0},0,14.312195490005335,{"$f":"0","v":0},0,{"$f":"0","v":0},5.4285276958333441E-2,5.8796528946600014E-3,null,652,0.99611799999999995,3.882E-3,5.7900000000000009E-3,1.219253E-2,5.4254105733333148E-2,9.7886138921768312E-2,9513626,931472.4,15575390,16.179590989491473,8984410,230422000,5.754702625650001E-3,14.364719403137073,null,0,0,null,1.6648117966666667E-2]
[656,3.9813000000000001E-3,1.2319470000000001E-2,917129.3,8956258,222286800,8956258,222286800,5.9579999999999989E-3,1.6649628433333334E-2,16.097339414591449,{"$f":"0","v":0},0,14.294363636373584,{"$f":"0","v":0},0,{"$f":"0","v":0},5.4295667366666876E-2,5.9213002988699991E-3,null,653,0.99609320000000001,3.9068250000000001E-3,5.8319999999999986E-3,1.2224270000000001E-2,5.4264496141666584E-2,9.7537860405173205E-2,9510623,927886.6,15496580,16.159275021681886,8977372,228388200,5.7963540286799986E-3,14.347370351641365,null,0,0,null,1.6648495583333332E-2]
[657,4.0061250000000001E-3,1.23512E-2,913543.4,8949220,220253000,8949220,220253000,6.0000000000000001E-3,1.6650006050000003E-2,16.076372498194026,{"$f":"0","v":0},0,14.276366360501715,{"$f":"0","v":0},0,{"$f":"0","v":0},5.4306057775000305E-2,5.9629464000000004E-3,null,654,0.99606839999999996,3.9316500000000001E-3,5.8739999999999999E-3,1.2256E-2,5.4274886550000012E-2,9.7190821062239002E-2,9507620,924300.80000000005,15417760,16.138790604386219,8970334,226354400,5.8380041279999994E-3,14.3298641916849,null,0,0,null,1.6648873200000001E-2]
[658,4.0309500000000002E-3,1.238293E-2,909957.6,8942183,218219200,8942183,218219200,6.0420000000000014E-3,1.6650383666666671E-2,16.055249497339215,{"$f":"0","v":0},0,14.258203801263795,{"$f":"0","v":0},0,{"$f":"0","v":0},5.4316448183333733E-2,6.0045911684700011E-3,null,655,0.99604349999999997,3.9564750000000001E-3,5.9160000000000011E-3,1.228773E-2,5.4285276958333441E-2,9.6845016483990465E-2,9504618,920715,15338940,16.118146630607733,8963296,224320600,5.8796528946600014E-3,14.312195490005335,null,0,0,null,1.6649250816666669E-2]
[659,4.0557750000000002E-3,1.2414669999999999E-2,906371.9,8935145,216185400,8935145,216185400,6.0839999999999991E-3,1.6650761283333336E-2,16.033946500511174,{"$f":"0","v":0},0,14.239870372385873,{"$f":"0","v":0},0,{"$f":"0","v":0},5.4326838591667169E-2,6.0462345738599987E-3,null,656,0.99601870000000003,3.9813000000000001E-3,5.9579999999999989E-3,1.2319470000000001E-2,5.4295667366666876E-2,9.6500442277139484E-2,9501615,917129.3,15260120,16.097339414591449,8956258,222286800,5.9213002988699991E-3,14.294363636373584,null,0,0,null,1.6649628433333334E-2]
[660,4.0806000000000002E-3,1.24464E-2,902786.1,8928107,214151600,8928107,214151600,6.1260000000000004E-3,1.6651138900000004E-2,16.012476114220188,{"$f":"0","v":0},0,14.22136279620725,{"$f":"0","v":0},0,{"$f":"0","v":0},5.4337229000000598E-2,6.0878766768000005E-3,null,657,0.99599389999999999,4.0061250000000001E-3,6.0000000000000001E-3,1.23512E-2,5.4306057775000305E-2,9.6157094064029183E-2,9498612,913543.4,15181300,16.076372498194026,8949220,220253000,5.9629464000000004E-3,14.276366360501715,null,0,0,null,1.6650006050000003E-2]
[661,4.1062499999999997E-3,1.24806E-2,899341.9,8920542,212310900,8920542,212310900,6.1750000000000017E-3,1.6649700100000005E-2,15.992223281082905,{"$f":"0","v":0},0,14.20413353578421,{"$f":"0","v":0},0,{"$f":"0","v":0},5.4328567841667397E-2,6.1364661475000019E-3,null,658,0.99596910000000005,4.0309500000000002E-3,6.0420000000000014E-3,1.238293E-2,5.4316448183333733E-2,9.5814967482578464E-2,9495610,909957.6,15102490,16.055249497339215,8942183,218219200,6.0045911684700011E-3,14.258203801263795,null,0,0,null,1.6650383666666671E-2]
[662,4.1319E-3,1.25148E-2,895897.8,8912976,210470200,8912976,210470200,6.2239999999999986E-3,1.6648261300000005E-2,15.971812884237464,{"$f":"0","v":0},0,14.186750088222848,{"$f":"0","v":0},0,{"$f":"0","v":0},5.4319906683334196E-2,6.1850539423999986E-3,null,659,0.99594419999999995,4.0557750000000002E-3,6.0839999999999991E-3,1.2414669999999999E-2,5.4326838591667169E-2,9.5474058186226382E-2,9492607,906371.9,15023670,16.033946500511174,8935145,216185400,6.0462345738599987E-3,14.239870372385873,null,0,0,null,1.6650761283333336E-2]
[663,4.1575500000000003E-3,1.2548999999999999E-2,892453.7,8905411,208629400,8905411,208629400,6.2730000000000008E-3,1.6646822500000005E-2,15.951233749343713,{"$f":"0","v":0},0,14.169208656806452,{"$f":"0","v":0},0,{"$f":"0","v":0},5.4311245525000995E-2,6.2336400615000008E-3,null,660,0.99591940000000001,4.0806000000000002E-3,6.1260000000000004E-3,1.24464E-2,5.4337229000000598E-2,9.5134361843877122E-2,9489604,902786.1,14944850,16.012476114220188,8928107,214151600,6.0878766768000005E-3,14.22136279620725,null,0,0,null,1.6651138900000004E-2]
[664,4.1831999999999998E-3,1.2583199999999999E-2,889009.6,8897845,206788700,8897845,206788700,6.3220000000000021E-3,1.6645383700000002E-2,15.930506412229219,{"$f":"0","v":0},0,14.151505375492821,{"$f":"0","v":0},0,{"$f":"0","v":0},5.4302584366667794E-2,6.2822245048000025E-3,null,661,0.99589380000000005,4.1062499999999997E-3,6.1750000000000017E-3,1.24806E-2,5.4328567841667397E-2,9.4795874139844902E-2,9486377,899341.9,14869620,15.992223281082905,8920542,212310900,6.1364661475000019E-3,14.20413353578421,null,0,0,null,1.6649700100000005E-2]
[665,4.2088500000000001E-3,1.2617400000000001E-2,885565.4,8890280,204948000,8890280,204948000,6.3709999999999991E-3,1.6643944900000002E-2,15.909619709246394,{"$f":"0","v":0},0,14.133639728005692,{"$f":"0","v":0},0,{"$f":"0","v":0},5.4293923208334594E-2,6.3308072722999993E-3,null,662,0.99586810000000003,4.1319E-3,6.2239999999999986E-3,1.25148E-2,5.4319906683334196E-2,9.4458590773799075E-2,9483150,895897.8,14794390,15.971812884237464,8912976,210470200,6.1850539423999986E-3,14.186750088222848,null,0,0,null,1.6648261300000005E-2]
[666,4.2345000000000004E-3,1.2651600000000001E-2,882121.3,8882714,203107200,8882714,203107200,6.4200000000000004E-3,1.6642506100000003E-2,15.888568041417132,{"$f":"0","v":0},0,14.115608670112957,{"$f":"0","v":0},0,{"$f":"0","v":0},5.4285262050001393E-2,6.379388364E-3,null,663,0.99584249999999996,4.1575500000000003E-3,6.2730000000000008E-3,1.2548999999999999E-2,5.4311245525000995E-2,9.4122507460709603E-2,9479923,892453.7,14719150,15.951233749343713,8905411,208629400,6.2336400615000008E-3,14.169208656806452,null,0,0,null,1.6646822500000005E-2]
[667,4.2601499999999999E-3,1.2685800000000001E-2,878677.1,8875149,201266500,8875149,201266500,6.4690000000000017E-3,1.6641067300000003E-2,15.867353211056335,{"$f":"0","v":0},0,14.097415769272928,{"$f":"0","v":0},0,{"$f":"0","v":0},5.4276600891668192E-2,6.4279677799000011E-3,null,664,0.99581679999999995,4.1831999999999998E-3,6.3220000000000021E-3,1.2583199999999999E-2,5.4302584366667794E-2,9.3787619930792543E-2,9476696,889009.6,14643920,15.930506412229219,8897845,206788700,6.2822245048000025E-3,14.151505375492821,null,0,0,null,1.6645383700000002E-2]
[668,4.2858000000000002E-3,1.272E-2,875233,8867584,199425800,8867584,199425800,6.5179999999999986E-3,1.6639628500000003E-2,15.845958114391633,{"$f":"0","v":0},0,14.079049408120985,{"$f":"0","v":0},0,{"$f":"0","v":0},5.4267939733334991E-2,6.4765455199999981E-3,null,665,0.99579110000000004,4.2088500000000001E-3,6.3709999999999991E-3,1.2617400000000001E-2,5.4293923208334594E-2,9.3453923929455826E-2,9473469,885565.4,14568690,15.909619709246394,8890280,204948000,6.3308072722999993E-3,14.133639728005692,null,0,0,null,1.6643944900000002E-2]
[669,4.3114499999999997E-3,1.27542E-2,871788.9,8860018,197585000,8860018,197585000,6.5669999999999999E-3,1.66381897E-2,15.82440544092727,{"$f":"0","v":0},0,14.060513194057389,{"$f":"0","v":0},0,{"$f":"0","v":0},5.425927857500179E-2,6.5251215842999999E-3,null,666,0.99576549999999997,4.2345000000000004E-3,6.4200000000000004E-3,1.2651600000000001E-2,5.4285262050001393E-2,9.3121415217245249E-2,9470242,882121.3,14493460,15.888568041417132,8882714,203107200,6.379388364E-3,14.115608670112957,null,0,0,null,1.6642506100000003E-2]
[670,4.3371E-3,1.27884E-2,868344.8,8852453,195744300,8852453,195744300,6.6160000000000021E-3,1.66367509E-2,15.802681799518654,{"$f":"0","v":0},0,14.041801234576329,{"$f":"0","v":0},0,{"$f":"0","v":0},5.4250617416668589E-2,6.5736959728000021E-3,null,667,0.99573990000000001,4.2601499999999999E-3,6.4690000000000017E-3,1.2685800000000001E-2,5.4276600891668192E-2,9.2790089569790513E-2,9467016,878677.1,14418230,15.867353211056335,8875149,201266500,6.4279677799000011E-3,14.097415769272928,null,0,0,null,1.6641067300000003E-2]
[671,4.3627500000000003E-3,1.28226E-2,864900.6,8844887,193903600,8844887,193903600,6.6649999999999991E-3,1.6635312100000001E-2,15.78078703494945,{"$f":"0","v":0},0,14.022911999434392,{"$f":"0","v":0},0,{"$f":"0","v":0},5.4241956258335389E-2,6.6222686854999994E-3,null,668,0.99571419999999999,4.2858000000000002E-3,6.5179999999999986E-3,1.272E-2,5.4267939733334991E-2,9.2459942777751616E-2,9463789,875233,14342990,15.845958114391633,8867584,199425800,6.4765455199999981E-3,14.079049408120985,null,0,0,null,1.6639628500000003E-2]
[672,4.3883999999999998E-3,1.28568E-2,861456.5,8837322,192062800,8837322,192062800,6.7140000000000003E-3,1.6633873300000001E-2,15.758703694460101,{"$f":"0","v":0},0,14.003844585463971,{"$f":"0","v":0},0,{"$f":"0","v":0},5.4233295100002188E-2,6.6708397224000005E-3,null,669,0.99568860000000003,4.3114499999999997E-3,6.5669999999999999E-3,1.27542E-2,5.425927857500179E-2,9.2130970646765425E-2,9460562,871788.9,14267760,15.82440544092727,8860018,197585000,6.5251215842999999E-3,14.060513194057389,null,0,0,null,1.66381897E-2]
[673,4.4148E-3,1.2893669999999999E-2,858148.9,8829178,190400600,8829178,190400600,6.7655000000000015E-3,1.6630618083333333E-2,15.737885751334451,{"$f":"0","v":0},0,13.986115188862822,{"$f":"0","v":0},0,{"$f":"0","v":0},5.4196411575002136E-2,6.7218839378075015E-3,null,670,0.99566290000000002,4.3371E-3,6.6160000000000021E-3,1.27884E-2,5.4250617416668589E-2,9.1803168997392298E-2,9457335,868344.8,14192530,15.802681799518654,8852453,195744300,6.5736959728000021E-3,14.041801234576329,null,0,0,null,1.66367509E-2]
[674,4.4412000000000002E-3,1.2930530000000001E-2,854841.3,8821033,188738400,8821033,188738400,6.8169999999999984E-3,1.6627362866666669E-2,15.716895010220027,{"$f":"0","v":0},0,13.968224210573618,{"$f":"0","v":0},0,{"$f":"0","v":0},5.4159528050002091E-2,6.7729262884949981E-3,null,671,0.9956372,4.3627500000000003E-3,6.6649999999999991E-3,1.28226E-2,5.4241956258335389E-2,9.147653366506299E-2,9454108,864900.6,14117300,15.78078703494945,8844887,193903600,6.6222686854999994E-3,14.022911999434392,null,0,0,null,1.6635312100000001E-2]
[675,4.4676000000000004E-3,1.29674E-2,851533.6,8812888,187076200,8812888,187076200,6.8685000000000005E-3,1.6624107650000004E-2,15.695743107885976,{"$f":"0","v":0},0,13.950169431556317,{"$f":"0","v":0},0,{"$f":"0","v":0},5.4122644525002039E-2,6.8239667065500007E-3,null,672,0.99561160000000004,4.3883999999999998E-3,6.7140000000000003E-3,1.28568E-2,5.4233295100002188E-2,9.1151060500025874E-2,9450881,861456.5,14042060,15.758703694460101,8837322,192062800,6.6708397224000005E-3,14.003844585463971,null,0,0,null,1.6633873300000001E-2]
[676,4.4939999999999997E-3,1.300427E-2,848226,8804744,185414000,8804744,185414000,6.9200000000000017E-3,1.6620852433333336E-2,15.674424327950335,{"$f":"0","v":0},0,13.931948591951201,{"$f":"0","v":0},0,{"$f":"0","v":0},5.4085761000001988E-2,6.875005225800002E-3,null,673,0.99558519999999995,4.4148E-3,6.7655000000000015E-3,1.2893669999999999E-2,5.4196411575002136E-2,9.0826745367294043E-2,9447425,858148.9,13970280,15.737885751334451,8829178,190400600,6.7218839378075015E-3,13.986115188862822,null,0,0,null,1.6630618083333333E-2]
[677,4.5203999999999999E-3,1.304113E-2,844918.4,8796600,183751800,8796600,183751800,6.9714999999999985E-3,1.6617597216666672E-2,15.652938634863043,{"$f":"0","v":0},0,13.913557582252809,{"$f":"0","v":0},0,{"$f":"0","v":0},5.4048877475001943E-2,6.9260418811024991E-3,null,674,0.99555879999999997,4.4412000000000002E-3,6.8169999999999984E-3,1.2930530000000001E-2,5.4159528050002091E-2,9.0503584146592861E-2,9443969,854841.3,13898490,15.716895010220027,8821033,188738400,6.7729262884949981E-3,13.968224210573618,null,0,0,null,1.6627362866666669E-2]
[678,4.5468000000000001E-3,1.3077999999999999E-2,841610.8,8788455,182089500,8788455,182089500,7.0229999999999997E-3,1.6614342000000004E-2,15.631295942653461,{"$f":"0","v":0},0,13.894997665481972,{"$f":"0","v":0},0,{"$f":"0","v":0},5.4011993950001891E-2,6.9770766030000002E-3,null,675,0.99553239999999998,4.4676000000000004E-3,6.8685000000000005E-3,1.29674E-2,5.4122644525002039E-2,9.0181572732307633E-2,9440512,851533.6,13826700,15.695743107885976,8812888,187076200,6.8239667065500007E-3,13.950169431556317,null,0,0,null,1.6624107650000004E-2]
[679,4.5732000000000004E-3,1.3114870000000001E-2,838303.1,8780310,180427300,8780310,180427300,7.0745000000000018E-3,1.6611086783333336E-2,15.609472461889579,{"$f":"0","v":0},0,13.876264653986279,{"$f":"0","v":0},0,{"$f":"0","v":0},5.3975110425001839E-2,7.0281094260925018E-3,null,676,0.995506,4.4939999999999997E-3,6.9200000000000017E-3,1.300427E-2,5.4085761000001988E-2,8.9860707033431492E-2,9437056,848226,13754910,15.674424327950335,8804744,185414000,6.875005225800002E-3,13.931948591951201,null,0,0,null,1.6620852433333336E-2]
[680,4.5995999999999997E-3,1.315173E-2,834995.4,8772166,178765100,8772166,178765100,7.1259999999999987E-3,1.6607831566666672E-2,15.587476080706553,{"$f":"0","v":0},0,13.857356114929861,{"$f":"0","v":0},0,{"$f":"0","v":0},5.3938226900001794E-2,7.0791403860099985E-3,null,677,0.99547960000000002,4.5203999999999999E-3,6.9714999999999985E-3,1.304113E-2,5.4048877475001943E-2,8.9540982973513206E-2,9433600,844918.4,13683120,15.652938634863043,8796600,183751800,6.9260418811024991E-3,13.913557582252809,null,0,0,null,1.6617597216666672E-2]
[681,4.6259999999999999E-3,1.31886E-2,831687.8,8764022,177102900,8764022,177102900,7.1774999999999999E-3,1.6604576350000004E-2,15.565302799520046,{"$f":"0","v":0},0,13.838269569671107,{"$f":"0","v":0},0,{"$f":"0","v":0},5.3901343375001742E-2,7.1301694117499991E-3,null,678,0.99545320000000004,4.5468000000000001E-3,7.0229999999999997E-3,1.3077999999999999E-2,5.4011993950001891E-2,8.9222396490605677E-2,9430144,841610.8,13611340,15.631295942653461,8788455,182089500,6.9770766030000002E-3,13.894997665481972,null,0,0,null,1.6614342000000004E-2]
[682,4.6524000000000001E-3,1.322547E-2,828380.2,8755877,175440700,8755877,175440700,7.229000000000001E-3,1.660132113333334E-2,15.542952449048558,{"$f":"0","v":0},0,13.819002492679513,{"$f":"0","v":0},0,{"$f":"0","v":0},5.3864459850001691E-2,7.1811965386850011E-3,null,679,0.99542679999999995,4.5732000000000004E-3,7.0745000000000018E-3,1.3114870000000001E-2,5.3975110425001839E-2,8.8904943537214134E-2,9426688,838303.1,13539550,15.609472461889579,8780310,180427300,7.0281094260925018E-3,13.876264653986279,null,0,0,null,1.6611086783333336E-2]
[683,4.6788000000000003E-3,1.3262329999999999E-2,825072.6,8747732,173778500,8747732,173778500,7.2804999999999988E-3,1.6598065916666675E-2,15.520435019900068,{"$f":"0","v":0},0,13.799550450994712,{"$f":"0","v":0},0,{"$f":"0","v":0},5.3827576325001646E-2,7.2322218032174982E-3,null,680,0.99540039999999996,4.5995999999999997E-3,7.1259999999999987E-3,1.315173E-2,5.3938226900001794E-2,8.8588620080244804E-2,9423232,834995.4,13467760,15.587476080706553,8772166,178765100,7.0791403860099985E-3,13.857356114929861,null,0,0,null,1.6607831566666672E-2]
[684,4.7051999999999997E-3,1.3299200000000001E-2,821764.9,8739588,172116300,8739588,172116300,7.332E-3,1.6594810700000007E-2,15.497726108566249,{"$f":"0","v":0},0,13.779914531910583,{"$f":"0","v":0},0,{"$f":"0","v":0},5.3790692800001594E-2,7.2832451328E-3,null,681,0.99537399999999998,4.6259999999999999E-3,7.1774999999999999E-3,1.31886E-2,5.3901343375001742E-2,8.8273422100953639E-2,9419776,831687.8,13395970,15.565302799520046,8764022,177102900,7.1301694117499991E-3,13.838269569671107,null,0,0,null,1.6604576350000004E-2]
[685,4.7325750000000001E-3,1.3338930000000001E-2,818588.9,8730857,170620600,8730857,170620600,7.3940000000000021E-3,1.6589739066666675E-2,15.476300349499811,{"$f":"0","v":0},0,13.761679788326742,{"$f":"0","v":0},0,{"$f":"0","v":0},5.3715710908334824E-2,7.3446859757900019E-3,null,682,0.9953476,4.6524000000000001E-3,7.229000000000001E-3,1.322547E-2,5.3864459850001691E-2,8.7959345594895239E-2,9416319,828380.2,13324180,15.542952449048558,8755877,175440700,7.1811965386850011E-3,13.819002492679513,null,0,0,null,1.660132113333334E-2]
[686,4.7599499999999998E-3,1.337867E-2,815412.9,8722126,169125000,8722126,169125000,7.4559999999999982E-3,1.6584667433333339E-2,15.454707685517361,{"$f":"0","v":0},0,13.743272961636224,{"$f":"0","v":0},0,{"$f":"0","v":0},5.3640729016668054E-2,7.4061243182399978E-3,null,683,0.99532120000000002,4.6788000000000003E-3,7.2804999999999988E-3,1.3262329999999999E-2,5.3827576325001646E-2,8.7646386571872056E-2,9412863,825072.6,13252400,15.520435019900068,8747732,173778500,7.2322218032174982E-3,13.799550450994712,null,0,0,null,1.6598065916666675E-2]
[687,4.7873250000000003E-3,1.34184E-2,812236.9,8713394,167629300,8713394,167629300,7.5180000000000004E-3,1.6579595800000006E-2,15.432946158729472,{"$f":"0","v":0},0,13.724696276776562,{"$f":"0","v":0},0,{"$f":"0","v":0},5.3565747125001284E-2,7.467560234400001E-3,null,684,0.99529480000000004,4.7051999999999997E-3,7.332E-3,1.3299200000000001E-2,5.3790692800001594E-2,8.7334541055883633E-2,9409407,821764.9,13180610,15.497726108566249,8739588,172116300,7.2832451328E-3,13.779914531910583,null,0,0,null,1.6594810700000007E-2]
[688,4.8146999999999999E-3,1.345813E-2,809060.9,8704663,166133700,8704663,166133700,7.5800000000000017E-3,1.6574524166666674E-2,15.411013780503627,{"$f":"0","v":0},0,13.705949274619067,{"$f":"0","v":0},0,{"$f":"0","v":0},5.3490765233334514E-2,7.5289936873000011E-3,null,685,0.99526749999999997,4.7325750000000001E-3,7.3940000000000021E-3,1.3338930000000001E-2,5.3715710908334824E-2,8.7023805085076095E-2,9405718,818588.9,13112130,15.476300349499811,8730857,170620600,7.3446859757900019E-3,13.761679788326742,null,0,0,null,1.6589739066666675E-2]
[689,4.8420750000000004E-3,1.349787E-2,805884.9,8695932,164638000,8695932,164638000,7.6419999999999978E-3,1.6569452533333338E-2,15.388896122138533,{"$f":"0","v":0},0,13.687028472311308,{"$f":"0","v":0},0,{"$f":"0","v":0},5.3415783341667744E-2,7.5904246387299978E-3,null,686,0.99524000000000001,4.7599499999999998E-3,7.4559999999999982E-3,1.337867E-2,5.3640729016668054E-2,8.6714174711691808E-2,9402028,815412.9,13043650,15.454707685517361,8722126,169125000,7.4061243182399978E-3,13.743272961636224,null,0,0,null,1.6584667433333339E-2]
[690,4.86945E-3,1.35376E-2,802708.9,8687201,163142400,8687201,163142400,7.7039999999999999E-3,1.6564380900000005E-2,15.366615900027186,{"$f":"0","v":0},0,13.667927881466458,{"$f":"0","v":0},0,{"$f":"0","v":0},5.3340801450000974E-2,7.6518531648000002E-3,null,687,0.99521269999999995,4.7873250000000003E-3,7.5180000000000004E-3,1.34184E-2,5.3565747125001284E-2,8.640564600201929E-2,9398339,812236.9,12975170,15.432946158729472,8713394,167629300,7.467560234400001E-3,13.724696276776562,null,0,0,null,1.6579595800000006E-2]
[691,4.8968249999999996E-3,1.357733E-2,799532.8,8678470,161646700,8678470,161646700,7.7660000000000021E-3,1.6559309266666673E-2,15.344160656490056,{"$f":"0","v":0},0,13.648649645920283,{"$f":"0","v":0},0,{"$f":"0","v":0},5.3265819558334204E-2,7.713279227610002E-3,null,688,0.99518530000000005,4.8146999999999999E-3,7.5800000000000017E-3,1.345813E-2,5.3490765233334514E-2,8.609821503634317E-2,9394649,809060.9,12906690,15.411013780503627,8704663,166133700,7.5289936873000011E-3,13.705949274619067,null,0,0,null,1.6574524166666674E-2]
[692,4.9242000000000001E-3,1.361707E-2,796356.8,8669739,160151000,8669739,160151000,7.8279999999999982E-3,1.6554237633333337E-2,15.321524305018388,{"$f":"0","v":0},0,13.629187370853314,{"$f":"0","v":0},0,{"$f":"0","v":0},5.3190837666667434E-2,7.7747027880199979E-3,null,689,0.99515790000000004,4.8420750000000004E-3,7.6419999999999978E-3,1.349787E-2,5.3415783341667744E-2,8.5791877908894393E-2,9390960,805884.9,12838200,15.388896122138533,8695932,164638000,7.5904246387299978E-3,13.687028472311308,null,0,0,null,1.6569452533333338E-2]
[693,4.9515749999999997E-3,1.36568E-2,793180.8,8661008,158655400,8661008,158655400,7.8899999999999994E-3,1.6549166000000004E-2,15.298706675703698,{"$f":"0","v":0},0,13.609543141149571,{"$f":"0","v":0},0,{"$f":"0","v":0},5.3115855775000664E-2,7.8361239240000002E-3,null,690,0.99513050000000003,4.86945E-3,7.7039999999999999E-3,1.35376E-2,5.3340801450000974E-2,8.5486630727800675E-2,9387270,802708.9,12769720,15.366615900027186,8687201,163142400,7.6518531648000002E-3,13.667927881466458,null,0,0,null,1.6564380900000005E-2]
[694,4.9789500000000002E-3,1.369653E-2,790004.8,8652276,157159700,8652276,157159700,7.9520000000000007E-3,1.6544094366666671E-2,15.275705582210808,{"$f":"0","v":0},0,13.589710767759417,{"$f":"0","v":0},0,{"$f":"0","v":0},5.3040873883333894E-2,7.8975425967200003E-3,null,691,0.99510319999999997,4.8968249999999996E-3,7.7660000000000021E-3,1.357733E-2,5.3265819558334204E-2,8.5182469615036907E-2,9383581,799532.8,12701240,15.344160656490056,8678470,161646700,7.713279227610002E-3,13.648649645920283,null,0,0,null,1.6559309266666673E-2]
[695,5.0063249999999998E-3,1.373627E-2,786828.80000000005,8643545,155664100,8643545,155664100,8.0139999999999986E-3,1.6539022733333335E-2,15.252518802904349,{"$f":"0","v":0},0,13.56968640012818,{"$f":"0","v":0},0,{"$f":"0","v":0},5.2965891991667124E-2,7.9589587661099987E-3,null,692,0.99507579999999995,4.9242000000000001E-3,7.8279999999999982E-3,1.361707E-2,5.3190837666667434E-2,8.4879390706376068E-2,9379892,796356.8,12632760,15.321524305018388,8669739,160151000,7.7747027880199979E-3,13.629187370853314,null,0,0,null,1.6554237633333337E-2]
[696,5.0337000000000003E-3,1.3776E-2,783652.8,8634814,154168400,8634814,154168400,8.0759999999999998E-3,1.6533951100000003E-2,15.229144080133446,{"$f":"0","v":0},0,13.549472026498377,{"$f":"0","v":0},0,{"$f":"0","v":0},5.2890910100000355E-2,8.0203725119999993E-3,null,693,0.99504840000000006,4.9515749999999997E-3,7.8899999999999994E-3,1.36568E-2,5.3115855775000664E-2,8.4577390151339957E-2,9376202,793180.8,12564280,15.298706675703698,8661008,158655400,7.8361239240000002E-3,13.609543141149571,null,0,0,null,1.6549166000000004E-2]
[697,5.0633249999999996E-3,1.3818799999999999E-2,780603.5,8625421,152827300,8625421,152827300,8.1400000000000014E-3,1.6527063050000002E-2,15.207096950201565,{"$f":"0","v":0},0,13.530716556946686,{"$f":"0","v":0},0,{"$f":"0","v":0},5.2767248641667111E-2,8.083757484000002E-3,null,694,0.99502100000000004,4.9789500000000002E-3,7.9520000000000007E-3,1.369653E-2,5.3040873883333894E-2,8.427646411315047E-2,9372513,790004.8,12495800,15.275705582210808,8652276,157159700,7.8975425967200003E-3,13.589710767759417,null,0,0,null,1.6544094366666671E-2]
[698,5.0929499999999997E-3,1.38616E-2,777554.2,8616028,151486100,8616028,151486100,8.2039999999999978E-3,1.6520175000000005E-2,15.184864036916442,{"$f":"0","v":0},0,13.51179215239498,{"$f":"0","v":0},0,{"$f":"0","v":0},5.2643587183333881E-2,8.1471397167999973E-3,null,695,0.99499369999999998,5.0063249999999998E-3,8.0139999999999986E-3,1.373627E-2,5.2965891991667124E-2,8.3976608768680613E-2,9368823,786828.80000000005,12427320,15.252518802904349,8643545,155664100,7.9589587661099987E-3,13.56968640012818,null,0,0,null,1.6539022733333335E-2]
[699,5.1225749999999999E-3,1.3904400000000001E-2,774504.9,8606634,150144900,8606634,150144900,8.2679999999999993E-3,1.6513286950000004E-2,15.162468968885801,{"$f":"0","v":0},0,13.492686811061885,{"$f":"0","v":0},0,{"$f":"0","v":0},5.2519925725000638E-2,8.210519210399999E-3,null,696,0.99496629999999997,5.0337000000000003E-3,8.0759999999999998E-3,1.3776E-2,5.2890910100000355E-2,8.3677820308406176E-2,9365134,783652.8,12358840,15.229144080133446,8634814,154168400,8.0203725119999993E-3,13.549472026498377,null,0,0,null,1.6533951100000003E-2]
[700,5.1522E-3,1.39472E-2,771455.7,8597241,148803800,8597241,148803800,8.3320000000000009E-3,1.6506398900000004E-2,15.139881865543286,{"$f":"0","v":0},0,13.473405663122385,{"$f":"0","v":0},0,{"$f":"0","v":0},5.2396264266667394E-2,8.2738959648000002E-3,null,697,0.99493670000000001,5.0633249999999996E-3,8.1400000000000014E-3,1.3818799999999999E-2,5.2767248641667111E-2,8.338009493635716E-2,9361206,780603.5,12293540,15.207096950201565,8625421,152827300,8.083757484000002E-3,13.530716556946686,null,0,0,null,1.6527063050000002E-2]
[701,5.1818250000000001E-3,1.3990000000000001E-2,768406.4,8587848,147462600,8587848,147462600,8.3959999999999972E-3,1.6499510850000006E-2,15.117130553137853,{"$f":"0","v":0},0,13.453940557970254,{"$f":"0","v":0},0,{"$f":"0","v":0},5.2272602808334165E-2,8.3372699799999974E-3,null,698,0.99490699999999999,5.0929499999999997E-3,8.2039999999999978E-3,1.38616E-2,5.2643587183333881E-2,8.3083428870069642E-2,9357277,777554.2,12228230,15.184864036916442,8616028,151486100,8.1471397167999973E-3,13.51179215239498,null,0,0,null,1.6520175000000005E-2]
[702,5.2114500000000003E-3,1.40328E-2,765357.1,8578454,146121400,8578454,146121400,8.4599999999999988E-3,1.6492622800000006E-2,15.094197951300556,{"$f":"0","v":0},0,13.434294583575927,{"$f":"0","v":0},0,{"$f":"0","v":0},5.2148941350000921E-2,8.4006412559999993E-3,null,699,0.99487740000000002,5.1225749999999999E-3,8.2679999999999993E-3,1.3904400000000001E-2,5.2519925725000638E-2,8.2787818340537681E-2,9353349,774504.9,12162930,15.162468968885801,8606634,150144900,8.210519210399999E-3,13.492686811061885,null,0,0,null,1.6513286950000004E-2]
[703,5.2410750000000004E-3,1.4075600000000001E-2,762307.9,8569061,144780200,8569061,144780200,8.5240000000000021E-3,1.6485734750000005E-2,15.071066718360564,{"$f":"0","v":0},0,13.414462305522269,{"$f":"0","v":0},0,{"$f":"0","v":0},5.2025279891667678E-2,8.4640097928000025E-3,null,700,0.99484779999999995,5.1522E-3,8.3320000000000009E-3,1.39472E-2,5.2396264266667394E-2,8.2493259592165427E-2,9349420,771455.7,12097620,15.139881865543286,8597241,148803800,8.2738959648000002E-3,13.473405663122385,null,0,0,null,1.6506398900000004E-2]
[704,{"$f":"W709","v":5.2706999999999997E-3},{"$f":"Y709","v":1.41184E-2},{"$f":"AC709","v":759258.6},{"$f":"AF709","v":8559668},{"$f":"AG709","v":143439100},{"$f":"E706","v":8559668},{"$f":"F706","v":143439100},{"$f":"X709","v":8.5879999999999984E-3},{"$f":"AN709","v":1.6478846700000008E-2},{"$f":"AE709","v":15.047764918303198},{"$f":"0","v":0},{"$f":"AL709","v":0},{"$f":"AI709","v":13.394440253582589},{"$f":"0","v":0},{"$f":"AK709","v":0},{"$f":"0","v":0},{"$f":"Z709","v":5.1901618433334448E-2},{"$f":"AH709","v":8.5273755903999982E-3},null,701,0.99481819999999999,5.1818250000000001E-3,8.3959999999999972E-3,1.3990000000000001E-2,5.2272602808334165E-2,8.2199748882719456E-2,9345492,768406.4,12032320,15.117130553137853,8587848,147462600,8.3372699799999974E-3,13.453940557970254,null,0,0,null,1.6499510850000006E-2]
[705,5.3003249999999998E-3,1.4161200000000001E-2,756209.3,8550275,142097900,8550275,142097900,8.652E-3,1.6471958650000007E-2,15.024261972401908,{"$f":"0","v":0},0,13.374227329383746,{"$f":"0","v":0},0,{"$f":"0","v":0},5.1777956975001205E-2,8.5907386488000004E-3,null,702,0.99478849999999996,5.2114500000000003E-3,8.4599999999999988E-3,1.40328E-2,5.2148941350000921E-2,8.1907282483281191E-2,9341564,765357.1,11967020,15.094197951300556,8578454,146121400,8.4006412559999993E-3,13.434294583575927,null,0,0,null,1.6492622800000006E-2]
[706,5.32995E-3,1.4204E-2,753160.1,8540882,140756700,8540882,140756700,8.7160000000000015E-3,1.6465070600000006E-2,15.000579928711927,{"$f":"0","v":0},0,13.353819959245373,{"$f":"0","v":0},0,{"$f":"0","v":0},5.1654295516667961E-2,8.6540989680000003E-3,null,703,0.9947589,5.2410750000000004E-3,8.5240000000000021E-3,1.4075600000000001E-2,5.2025279891667678E-2,8.1615856678199483E-2,9337635,762307.9,11901710,15.071066718360564,8569061,144780200,8.4640097928000025E-3,13.414462305522269,null,0,0,null,1.6485734750000005E-2]
[707,5.3595750000000001E-3,1.42468E-2,750110.8,8531488,139415600,8531488,139415600,8.7799999999999979E-3,1.6458182550000009E-2,14.976694087504583,{"$f":"0","v":0},0,13.333212436011401,{"$f":"0","v":0},0,{"$f":"0","v":0},5.1530634058334732E-2,8.717456547999998E-3,null,704,0.99472930000000004,5.2706999999999997E-3,8.5879999999999984E-3,1.41184E-2,5.1901618433334448E-2,8.1325467765043541E-2,9333707,759258.6,11836410,15.047764918303198,8559668,143439100,8.5273755903999982E-3,13.394440253582589,null,0,0,null,1.6478846700000008E-2]
[708,5.3892000000000002E-3,1.42896E-2,747061.5,8522095,138074400,8522095,138074400,8.8439999999999994E-3,1.6451294500000008E-2,14.952626641180144,{"$f":"0","v":0},0,13.312407651404641,{"$f":"0","v":0},0,{"$f":"0","v":0},5.1406972600001488E-2,8.7808113888000004E-3,null,705,0.99469969999999996,5.3003249999999998E-3,8.652E-3,1.4161200000000001E-2,5.1777956975001205E-2,8.103611205455577E-2,9329778,756209.3,11771100,15.024261972401908,8550275,142097900,8.5907386488000004E-3,13.374227329383746,null,0,0,null,1.6471958650000007E-2]
[709,5.4222000000000003E-3,1.4335799999999999E-2,744133.4,8512032,136877700,8512032,136877700,8.9170000000000013E-3,1.644259003333334E-2,14.92992753942595,{"$f":"0","v":0},0,13.293130070778066,{"$f":"0","v":0},0,{"$f":"0","v":0},5.1223345175001413E-2,8.8530838357000017E-3,null,706,0.99467000000000005,5.32995E-3,8.7160000000000015E-3,1.4204E-2,5.1654295516667961E-2,8.0747785870604924E-2,9325850,753160.1,11705800,15.000579928711927,8540882,140756700,8.6540989680000003E-3,13.353819959245373,null,0,0,null,1.6465070600000006E-2]
[710,5.4552000000000003E-3,1.4382000000000001E-2,741205.3,8501968,135681000,8501968,135681000,8.989999999999998E-3,1.6433885566666674E-2,14.907062585539165,{"$f":"0","v":0},0,13.273673118581915,{"$f":"0","v":0},0,{"$f":"0","v":0},5.1039717750001344E-2,8.9253529099999982E-3,null,707,0.99464039999999998,5.3595750000000001E-3,8.7799999999999979E-3,1.42468E-2,5.1530634058334732E-2,8.0460485550139418E-2,9321921,750110.8,11640490,14.976694087504583,8531488,139415600,8.717456547999998E-3,13.333212436011401,null,0,0,null,1.6458182550000009E-2]
[711,5.4882000000000004E-3,1.44282E-2,738277.2,8491905,134484300,8491905,134484300,9.0629999999999999E-3,1.6425181100000005E-2,14.884002716052997,{"$f":"0","v":0},0,13.254033450765586,{"$f":"0","v":0},0,{"$f":"0","v":0},5.0856090325001269E-2,8.9976186117000003E-3,null,708,0.99461080000000002,5.3892000000000002E-3,8.8439999999999994E-3,1.42896E-2,5.1406972600001488E-2,8.0174207443140827E-2,9317993,747061.5,11575190,14.952626641180144,8522095,138074400,8.7808113888000004E-3,13.312407651404641,null,0,0,null,1.6451294500000008E-2]
[712,5.5212000000000004E-3,1.44744E-2,735349.1,8481842,133287600,8481842,133287600,9.1360000000000018E-3,1.641647663333334E-2,14.860772800519737,{"$f":"0","v":0},0,13.234210612298243,{"$f":"0","v":0},0,{"$f":"0","v":0},5.0672462900001193E-2,9.0698809408000011E-3,null,709,0.99457779999999996,5.4222000000000003E-3,8.9170000000000013E-3,1.4335799999999999E-2,5.1223345175001413E-2,7.9888947912577432E-2,9313808,744133.4,11512930,14.92992753942595,8512032,136877700,8.8530838357000017E-3,13.293130070778066,null,0,0,null,1.644259003333334E-2]
[713,5.5541999999999996E-3,1.45206E-2,732421,8471779,132091000,8471779,132091000,9.2089999999999967E-3,1.6407772166666675E-2,14.837343492790804,{"$f":"0","v":0},0,13.214197716613134,{"$f":"0","v":0},0,{"$f":"0","v":0},5.0488835475001125E-2,9.142139897299997E-3,null,710,0.99454480000000001,5.4552000000000003E-3,8.989999999999998E-3,1.4382000000000001E-2,5.1039717750001344E-2,7.9604703334358096E-2,9309624,741205.3,11450680,14.907062585539165,8501968,135681000,8.9253529099999982E-3,13.273673118581915,null,0,0,null,1.6433885566666674E-2]
[714,5.5871999999999996E-3,1.45668E-2,729492.9,8461716,130894300,8461716,130894300,9.2819999999999986E-3,1.6399067700000006E-2,14.813739808159887,{"$f":"0","v":0},0,13.193996350618812,{"$f":"0","v":0},0,{"$f":"0","v":0},5.0305208050001049E-2,9.2143954811999985E-3,null,711,0.99451179999999995,5.4882000000000004E-3,9.0629999999999999E-3,1.44282E-2,5.0856090325001269E-2,7.932147009728617E-2,9305439,738277.2,11388420,14.884002716052997,8491905,134484300,8.9976186117000003E-3,13.254033450765586,null,0,0,null,1.6425181100000005E-2]
[715,5.6201999999999997E-3,1.4612999999999999E-2,726564.8,8451652,129697600,8451652,129697600,9.3550000000000022E-3,1.6390363233333337E-2,14.789932111584083,{"$f":"0","v":0},0,13.173599485759908,{"$f":"0","v":0},0,{"$f":"0","v":0},5.0121580625000973E-2,9.2866476925000021E-3,null,712,0.9944788,5.5212000000000004E-3,9.1360000000000018E-3,1.44744E-2,5.0672462900001193E-2,7.9039244603013634E-2,9301254,735349.1,11326170,14.860772800519737,8481842,133287600,9.0698809408000011E-3,13.234210612298243,null,0,0,null,1.641647663333334E-2]
[716,5.6531999999999997E-3,1.4659200000000001E-2,723636.7,8441589,128500900,8441589,128500900,9.4279999999999971E-3,1.6381658766666671E-2,14.76594556471961,{"$f":"0","v":0},0,13.153008645710894,{"$f":"0","v":0},0,{"$f":"0","v":0},4.9937953200000905E-2,9.3588965311999974E-3,null,713,0.99444580000000005,5.5541999999999996E-3,9.2089999999999967E-3,1.45206E-2,5.0488835475001125E-2,7.8758023265995347E-2,9297069,732421,11263910,14.837343492790804,8471779,132091000,9.142139897299997E-3,13.214197716613134,null,0,0,null,1.6407772166666675E-2]
[717,5.6861999999999998E-3,1.47054E-2,720708.6,8431526,127304200,8431526,127304200,9.500999999999999E-3,1.6372954300000006E-2,14.741750237197115,{"$f":"0","v":0},0,13.13221665420911,{"$f":"0","v":0},0,{"$f":"0","v":0},4.9754325775000829E-2,9.4311419972999983E-3,null,714,0.99441279999999999,5.5871999999999996E-3,9.2819999999999986E-3,1.45668E-2,5.0305208050001049E-2,7.8477802513443579E-2,9292884,729492.9,11201660,14.813739808159887,8461716,130894300,9.2143954811999985E-3,13.193996350618812,null,0,0,null,1.6399067700000006E-2]
[718,5.7191999999999998E-3,1.47516E-2,717780.4,8421462,126107500,8421462,126107500,9.5740000000000009E-3,1.6364249833333337E-2,14.717373563465001,{"$f":"0","v":0},0,13.111219780455944,{"$f":"0","v":0},0,{"$f":"0","v":0},4.9570698350000754E-2,9.5033840908000013E-3,null,715,0.99437980000000004,5.6201999999999997E-3,9.3550000000000022E-3,1.4612999999999999E-2,5.0121580625000973E-2,7.8198578785282524E-2,9288700,726564.8,11139400,14.789932111584083,8451652,129697600,9.2866476925000021E-3,13.173599485759908,null,0,0,null,1.6390363233333337E-2]
[719,5.7521999999999998E-3,1.47978E-2,714852.4,8411399,124910800,8411399,124910800,9.6469999999999976E-3,1.6355545366666672E-2,14.692778933571928,{"$f":"0","v":0},0,13.090023251331512,{"$f":"0","v":0},0,{"$f":"0","v":0},4.9387070925000685E-2,9.5756228116999978E-3,null,716,0.99434679999999998,5.6531999999999997E-3,9.4279999999999971E-3,1.4659200000000001E-2,4.9937953200000905E-2,7.7920348534103151E-2,9284515,723636.7,11077150,14.76594556471961,8441589,128500900,9.3588965311999974E-3,13.153008645710894,null,0,0,null,1.6381658766666671E-2]
[720,5.7851999999999999E-3,1.4844E-2,711924.3,8401336,123714100,8401336,123714100,9.7199999999999995E-3,1.6346840900000003E-2,14.667998181126841,{"$f":"0","v":0},0,13.06861667348346,{"$f":"0","v":0},0,{"$f":"0","v":0},4.920344350000061E-2,9.6478581599999998E-3,null,717,0.99431380000000003,5.6861999999999998E-3,9.500999999999999E-3,1.47054E-2,4.9754325775000829E-2,7.764310822511801E-2,9280330,720708.6,11014890,14.741750237197115,8431526,127304200,9.4311419972999983E-3,13.13221665420911,null,0,0,null,1.6372954300000006E-2]
[721,5.8230749999999996E-3,1.4893730000000001E-2,709111.4,8390531,122651500,8390531,122651500,9.8070000000000015E-3,1.6336320016666669E-2,14.644663718093753,{"$f":"0","v":0},0,13.048811007037919,{"$f":"0","v":0},0,{"$f":"0","v":0},4.8947858508334045E-2,9.7339685949450021E-3,null,718,0.99428079999999996,5.7191999999999998E-3,9.5740000000000009E-3,1.47516E-2,4.9570698350000754E-2,7.7366854336116522E-2,9276146,717780.4,10952640,14.717373563465001,8421462,126107500,9.5033840908000013E-3,13.111219780455944,null,0,0,null,1.6364249833333337E-2]
[722,5.8609500000000002E-3,1.494347E-2,706298.5,8379726,121588900,8379726,121588900,9.8939999999999965E-3,1.6325799133333336E-2,14.621143391686848,{"$f":"0","v":0},0,13.028820666663538,{"$f":"0","v":0},0,{"$f":"0","v":0},4.8692273516667502E-2,9.8200746539099971E-3,null,719,0.99424780000000001,5.7521999999999998E-3,9.6469999999999976E-3,1.47978E-2,4.9387070925000685E-2,7.7091583357420057E-2,9271961,714852.4,10890380,14.692778933571928,8411399,124910800,9.5756228116999978E-3,13.090023251331512,null,0,0,null,1.6355545366666672E-2]
[723,5.8988249999999999E-3,1.49932E-2,703485.6,8368922,120526200,8368922,120526200,9.9810000000000003E-3,1.6315278250000002E-2,14.597449187303907,{"$f":"0","v":0},0,13.008635490579078,{"$f":"0","v":0},0,{"$f":"0","v":0},4.8436688525000937E-2,9.9061764354E-3,null,720,0.99421479999999995,5.7851999999999999E-3,9.7199999999999995E-3,1.4844E-2,4.920344350000061E-2,7.6817291791837425E-2,9267776,711924.3,10828130,14.667998181126841,8401336,123714100,9.6478581599999998E-3,13.06861667348346,null,0,0,null,1.6346840900000003E-2]
[724,5.9366999999999996E-3,1.5042929999999999E-2,700672.7,8358117,119463600,8358117,119463600,1.0068000000000002E-2,1.6304757366666672E-2,14.57355046681092,{"$f":"0","v":0},0,12.988261071321595,{"$f":"0","v":0},0,{"$f":"0","v":0},4.8181103533334373E-2,9.9922738903800035E-3,null,721,0.99417690000000003,5.8230749999999996E-3,9.8070000000000015E-3,1.4893730000000001E-2,4.8947858508334045E-2,7.6543976154620413E-2,9263308,709111.4,10768800,14.644663718093753,8390531,122651500,9.7339685949450021E-3,13.048811007037919,null,0,0,null,1.6336320016666669E-2]
[725,5.9745750000000002E-3,1.5092670000000001E-2,697859.8,8347312,118401000,8347312,118401000,1.0154999999999997E-2,1.6294236483333339E-2,14.549459086672327,{"$f":"0","v":0},0,12.967691614525053,{"$f":"0","v":0},0,{"$f":"0","v":0},4.7925518541667829E-2,1.0078366968074997E-2,null,722,0.99413910000000005,5.8609500000000002E-3,9.8939999999999965E-3,1.494347E-2,4.8692273516667502E-2,7.6271632973419573E-2,9258840,706298.5,10709470,14.621143391686848,8379726,121588900,9.8200746539099971E-3,13.028820666663538,null,0,0,null,1.6325799133333336E-2]
[726,6.0124499999999999E-3,1.51424E-2,695046.9,8336507,117338400,8336507,117338400,1.0242000000000001E-2,1.6283715600000005E-2,14.525187095288102,{"$f":"0","v":0},0,12.946921233014297,{"$f":"0","v":0},0,{"$f":"0","v":0},4.7669933550001264E-2,1.0164455769600001E-2,null,723,0.99410120000000002,5.8988249999999999E-3,9.9810000000000003E-3,1.49932E-2,4.8436688525000937E-2,7.6000258788239988E-2,9254372,703485.6,10650150,14.597449187303907,8368922,120526200,9.9061764354E-3,13.008635490579078,null,0,0,null,1.6315278250000002E-2]
[727,6.0503249999999996E-3,1.519213E-2,692234.1,8325702,116275700,8325702,116275700,1.0329000000000003E-2,1.6273194716666672E-2,14.500701225929205,{"$f":"0","v":0},0,12.925953194653539,{"$f":"0","v":0},0,{"$f":"0","v":0},4.74143485583347E-2,1.0250540244615003E-2,null,724,0.99406329999999998,5.9366999999999996E-3,1.0068000000000002E-2,1.5042929999999999E-2,4.8181103533334373E-2,7.5729850151397451E-2,9249904,700672.7,10590820,14.57355046681092,8358117,119463600,9.9922738903800035E-3,12.988261071321595,null,0,0,null,1.6304757366666672E-2]
[728,6.0882000000000002E-3,1.5241869999999999E-2,689421.2,8314897,115213100,8314897,115213100,1.0415999999999998E-2,1.6262673833333338E-2,14.476017732942747,{"$f":"0","v":0},0,12.904783812624624,{"$f":"0","v":0},0,{"$f":"0","v":0},4.7158763566668156E-2,1.0336620341039998E-2,null,725,0.99402539999999995,5.9745750000000002E-3,1.0154999999999997E-2,1.5092670000000001E-2,4.7925518541667829E-2,7.5460403627474623E-2,9245436,697859.8,10531490,14.549459086672327,8347312,118401000,1.0078366968074997E-2,12.967691614525053,null,0,0,null,1.6294236483333339E-2]
[729,6.1260749999999999E-3,1.5291600000000001E-2,686608.3,8304092,114150500,8304092,114150500,1.0503E-2,1.6252152950000008E-2,14.451146557408835,{"$f":"0","v":0},0,12.883402412546092,{"$f":"0","v":0},0,{"$f":"0","v":0},4.6903178575001592E-2,1.04226961626E-2,null,726,0.99398759999999997,6.0124499999999999E-3,1.0242000000000001E-2,1.51424E-2,4.7669933550001264E-2,7.5191915793277261E-2,9240968,695046.9,10472170,14.525187095288102,8336507,117338400,1.0164455769600001E-2,12.946921233014297,null,0,0,null,1.6283715600000005E-2]
[730,6.1639499999999996E-3,1.534133E-2,683795.4,8293287,113087800,8293287,113087800,1.0590000000000004E-2,1.6241632066666675E-2,14.426056134627405,{"$f":"0","v":0},0,12.861814440824132,{"$f":"0","v":0},0,{"$f":"0","v":0},4.6647593583335027E-2,1.0508767657650004E-2,null,727,0.99394970000000005,6.0503249999999996E-3,1.0329000000000003E-2,1.519213E-2,4.74143485583347E-2,7.4924383237790965E-2,9236500,692234.1,10412840,14.500701225929205,8325702,116275700,1.0250540244615003E-2,12.925953194653539,null,0,0,null,1.6273194716666672E-2]
[731,6.2018250000000002E-3,1.539107E-2,680982.5,8282483,112025200,8282483,112025200,1.0676999999999999E-2,1.6231111183333341E-2,14.400758432363045,{"$f":"0","v":0},0,12.840013704552677,{"$f":"0","v":0},0,{"$f":"0","v":0},4.6392008591668484E-2,1.0594834772805E-2,null,728,0.99391180000000001,6.0882000000000002E-3,1.0415999999999998E-2,1.5241869999999999E-2,4.7158763566668156E-2,7.4657802562137623E-2,9232032,689421.2,10353510,14.476017732942747,8314897,115213100,1.0336620341039998E-2,12.904783812624624,null,0,0,null,1.6262673833333338E-2]
[732,6.2396999999999999E-3,1.5440799999999999E-2,678169.59999999998,8271678,110962600,8271678,110962600,1.0764000000000001E-2,1.6220590300000007E-2,14.375250871365118,{"$f":"0","v":0},0,12.817993908511545,{"$f":"0","v":0},0,{"$f":"0","v":0},4.6136423600001919E-2,1.0680897614400001E-2,null,729,0.99387400000000004,6.1260749999999999E-3,1.0503E-2,1.5291600000000001E-2,4.6903178575001592E-2,7.4392170379532344E-2,9227564,686608.3,10294190,14.451146557408835,8304092,114150500,1.04226961626E-2,12.883402412546092,null,0,0,null,1.6252152950000008E-2]
[733,6.2837250000000004E-3,1.54944E-2,675465.5,8260014,110023600,8260014,110023600,1.0846500000000004E-2,1.6208253000000006E-2,14.351307141766185,{"$f":"0","v":0},0,12.797649947580489,{"$f":"0","v":0},0,{"$f":"0","v":0},4.5796184241668453E-2,1.0762469995200004E-2,null,730,0.99383600000000005,6.1639499999999996E-3,1.0590000000000004E-2,1.534133E-2,4.6647593583335027E-2,7.4127483315240411E-2,9223096,683795.4,10234860,14.426056134627405,8293287,113087800,1.0508767657650004E-2,12.861814440824132,null,0,0,null,1.6241632066666675E-2]
[734,6.32775E-3,1.5547999999999999E-2,672761.4,8248351,109084700,8248351,109084700,1.0928999999999998E-2,1.6195915700000008E-2,14.327170933112393,{"$f":"0","v":0},0,12.777114390537681,{"$f":"0","v":0},0,{"$f":"0","v":0},4.5455944883335014E-2,1.0844037953999998E-2,null,731,0.99379819999999996,6.2018250000000002E-3,1.0676999999999999E-2,1.539107E-2,4.6392008591668484E-2,7.386373800653441E-2,9218628,680982.5,10175530,14.400758432363045,8282483,112025200,1.0594834772805E-2,12.840013704552677,null,0,0,null,1.6231111183333341E-2]
[735,6.3717749999999997E-3,1.56016E-2,670057.30000000005,8236687,108145800,8236687,108145800,1.10115E-2,1.6183578400000006E-2,14.302827975806446,{"$f":"0","v":0},0,12.756379724667616,{"$f":"0","v":0},0,{"$f":"0","v":0},4.5115705525001548E-2,1.09256014908E-2,null,732,0.99376030000000004,6.2396999999999999E-3,1.0764000000000001E-2,1.5440799999999999E-2,4.6136423600001919E-2,7.3600931102651451E-2,9214160,678169.59999999998,10116200,14.375250871365118,8271678,110962600,1.0680897614400001E-2,12.817993908511545,null,0,0,null,1.6220590300000007E-2]
[736,6.4158000000000001E-3,1.5655200000000001E-2,667353.1,8225024,107206900,8225024,107206900,1.1094000000000003E-2,1.6171241100000004E-2,14.278295958816006,{"$f":"0","v":0},0,12.735442291404532,{"$f":"0","v":0},0,{"$f":"0","v":0},4.4775466166668082E-2,1.1007160605600003E-2,null,733,0.9937163,6.2837250000000004E-3,1.0846500000000004E-2,1.54944E-2,4.5796184241668453E-2,7.3339059264750719E-2,9209369,675465.5,10059690,14.351307141766185,8260014,110023600,1.0762469995200004E-2,12.797649947580489,null,0,0,null,1.6208253000000006E-2]
[737,6.4598249999999998E-3,1.5708799999999998E-2,664648.9,8213360,106268000,8213360,106268000,1.1176499999999997E-2,1.6158903800000006E-2,14.253564319196697,{"$f":"0","v":0},0,12.714305534264358,{"$f":"0","v":0},0,{"$f":"0","v":0},4.4435226808334644E-2,1.1088715298399996E-2,null,734,0.99367229999999995,6.32775E-3,1.0928999999999998E-2,1.5547999999999999E-2,4.5455944883335014E-2,7.3078119165870911E-2,9204578,672761.4,10003180,14.327170933112393,8248351,109084700,1.0844037953999998E-2,12.777114390537681,null,0,0,null,1.6195915700000008E-2]
[738,6.5038500000000003E-3,1.5762399999999999E-2,661944.80000000005,8201697,105329000,8201697,105329000,1.1259E-2,1.6146566500000004E-2,14.228628379083371,{"$f":"0","v":0},0,12.692963336486599,{"$f":"0","v":0},0,{"$f":"0","v":0},4.4094987450001177E-2,1.11702655692E-2,null,735,0.99362819999999996,6.3717749999999997E-3,1.10115E-2,1.56016E-2,4.5115705525001548E-2,7.2818107490888073E-2,9199786,670057.30000000005,9946662,14.302827975806446,8236687,108145800,1.09256014908E-2,12.756379724667616,null,0,0,null,1.6183578400000006E-2]
[739,6.5478749999999999E-3,1.5816E-2,659240.69999999995,8190033,104390100,8190033,104390100,1.1341500000000003E-2,1.6134229200000003E-2,14.203486355590607,{"$f":"0","v":0},0,12.671412688245614,{"$f":"0","v":0},0,{"$f":"0","v":0},4.3754748091667711E-2,1.1251811418000003E-2,null,736,0.99358420000000003,6.4158000000000001E-3,1.1094000000000003E-2,1.5655200000000001E-2,4.4775466166668082E-2,7.2559020936473484E-2,9194995,667353.1,9890148,14.278295958816006,8225024,107206900,1.1007160605600003E-2,12.735442291404532,null,0,0,null,1.6171241100000004E-2]
[740,6.5919000000000004E-3,1.5869600000000001E-2,656536.6,8178370,103451200,8178370,103451200,1.1423999999999997E-2,1.6121891900000004E-2,14.178138748598835,{"$f":"0","v":0},0,12.649649742544344,{"$f":"0","v":0},0,{"$f":"0","v":0},4.3414508733334273E-2,1.1333352844799997E-2,null,737,0.99354019999999998,6.4598249999999998E-3,1.1176499999999997E-2,1.5708799999999998E-2,4.4435226808334644E-2,7.2300856211051562E-2,9190204,664648.9,9833634,14.253564319196697,8213360,106268000,1.1088715298399996E-2,12.714305534264358,null,0,0,null,1.6158903800000006E-2]
[741,6.635925E-3,1.5923199999999998E-2,653832.4,8166706,102512300,8166706,102512300,1.1506499999999999E-2,1.6109554600000003E-2,14.152583725329814,{"$f":"0","v":0},0,12.627672927659239,{"$f":"0","v":0},0,{"$f":"0","v":0},4.3074269375000807E-2,1.1414889849599999E-2,null,738,0.99349620000000005,6.5038500000000003E-3,1.1259E-2,1.5762399999999999E-2,4.4094987450001177E-2,7.2043610034758246E-2,9185413,661944.80000000005,9777120,14.228628379083371,8201697,105329000,1.11702655692E-2,12.692963336486599,null,0,0,null,1.6146566500000004E-2]
[742,6.6799499999999996E-3,1.5976799999999999E-2,651128.30000000005,8155043,101573400,8155043,101573400,1.1589000000000002E-2,1.6097217300000001E-2,14.126814184188687,{"$f":"0","v":0},0,12.605478272535205,{"$f":"0","v":0},0,{"$f":"0","v":0},4.273403001666734E-2,1.1496422432400002E-2,null,739,0.99345209999999995,6.5478749999999999E-3,1.1341500000000003E-2,1.5816E-2,4.3754748091667711E-2,7.1787279139399127E-2,9180622,659240.69999999995,9720605,14.203486355590607,8190033,104390100,1.1251811418000003E-2,12.671412688245614,null,0,0,null,1.6134229200000003E-2]
[743,6.7239750000000001E-3,1.60304E-2,648424.1,8143379,100634400,8143379,100634400,1.1671499999999996E-2,1.6084880000000003E-2,14.100831969642503,{"$f":"0","v":0},0,12.583062522101041,{"$f":"0","v":0},0,{"$f":"0","v":0},4.2393790658333902E-2,1.1577950593199996E-2,null,740,0.99340810000000002,6.5919000000000004E-3,1.1423999999999997E-2,1.5869600000000001E-2,4.3414508733334273E-2,7.153186026840809E-2,9175831,656536.6,9664091,14.178138748598835,8178370,103451200,1.1333352844799997E-2,12.649649742544344,null,0,0,null,1.6121891900000004E-2]
[744,6.7679999999999997E-3,1.6084000000000001E-2,645720,8131716,99695520,8131716,99695520,1.1753999999999999E-2,1.6072542700000001E-2,14.074629870532119,{"$f":"0","v":0},0,12.560419097670911,{"$f":"0","v":0},0,{"$f":"0","v":0},4.2053551300000436E-2,1.1659474331999998E-2,null,741,0.99336409999999997,6.635925E-3,1.1506499999999999E-2,1.5923199999999998E-2,4.3074269375000807E-2,7.1277350176805837E-2,9171040,653832.4,9607577,14.152583725329814,8166706,102512300,1.1414889849599999E-2,12.627672927659239,null,0,0,null,1.6109554600000003E-2]
[745,6.8195249999999999E-3,1.6141800000000001E-2,643118,8119228,98872400,8119228,98872400,1.1853000000000002E-2,1.6058388983333335E-2,14.050095653778415,{"$f":"0","v":0},0,12.539528741974193,{"$f":"0","v":0},0,{"$f":"0","v":0},4.1615255575000516E-2,1.1757335622300002E-2,null,742,0.99331999999999998,6.6799499999999996E-3,1.1589000000000002E-2,1.5976799999999999E-2,4.273403001666734E-2,7.1023745631158708E-2,9166248,651128.30000000005,9551063,14.126814184188687,8155043,101573400,1.1496422432400002E-2,12.605478272535205,null,0,0,null,1.6097217300000001E-2]
[746,6.8710500000000001E-3,1.6199600000000001E-2,640516.1,8106741,98049270,8106741,98049270,1.1951999999999996E-2,1.6044235266666668E-2,14.025359829622811,{"$f":"0","v":0},0,12.518437024806005,{"$f":"0","v":0},0,{"$f":"0","v":0},4.1176959850000631E-2,1.1855191190399995E-2,null,743,0.99327600000000005,6.7239750000000001E-3,1.1671499999999996E-2,1.60304E-2,4.2393790658333902E-2,7.0771043409537521E-2,9161457,648424.1,9494549,14.100831969642503,8143379,100634400,1.1577950593199996E-2,12.583062522101041,null,0,0,null,1.6084880000000003E-2]
[747,6.9225750000000003E-3,1.6257400000000002E-2,637914.1,8094254,97226150,8094254,97226150,1.2050999999999999E-2,1.6030081550000005E-2,14.000424502034575,{"$f":"0","v":0},0,12.497141020691883,{"$f":"0","v":0},0,{"$f":"0","v":0},4.0738664125000712E-2,1.1953041036299999E-2,null,744,0.993232,6.7679999999999997E-3,1.1753999999999999E-2,1.6084000000000001E-2,4.2053551300000436E-2,7.0519240301476827E-2,9156666,645720,9438035,14.074629870532119,8131716,99695520,1.1659474331999998E-2,12.560419097670911,null,0,0,null,1.6072542700000001E-2]
[748,6.9740999999999996E-3,1.6315199999999998E-2,635312.1,8081767,96403020,8081767,96403020,1.2150000000000001E-2,1.6015927833333339E-2,13.975284922953618,{"$f":"0","v":0},0,12.475634446842623,{"$f":"0","v":0},0,{"$f":"0","v":0},4.0300368400000793E-2,1.2050885160000002E-2,null,745,0.99318050000000002,6.8195249999999999E-3,1.1853000000000002E-2,1.6141800000000001E-2,4.1615255575000516E-2,7.0268333107933914E-2,9151502,643118,9384225,14.050095653778415,8119228,98872400,1.1757335622300002E-2,12.539528741974193,null,0,0,null,1.6058388983333335E-2]
[749,7.0256249999999998E-3,1.6372999999999999E-2,632710.1,8069279,95579900,8069279,95579900,1.2248999999999996E-2,1.6001774116666673E-2,13.949938572446792,{"$f":"0","v":0},0,12.453920852629498,{"$f":"0","v":0},0,{"$f":"0","v":0},3.9862072675000908E-2,1.2148723561499996E-2,null,746,0.99312900000000004,6.8710500000000001E-3,1.1951999999999996E-2,1.6199600000000001E-2,4.1176959850000631E-2,7.0018318641248273E-2,9146337,640516.1,9330415,14.025359829622811,8106741,98049270,1.1855191190399995E-2,12.518437024806005,null,0,0,null,1.6044235266666668E-2]
[750,7.0771499999999999E-3,1.6430799999999999E-2,630108.1,8056792,94756780,8056792,94756780,1.2347999999999998E-2,1.5987620400000006E-2,13.924384475986477,{"$f":"0","v":0},0,12.431993847710764,{"$f":"0","v":0},0,{"$f":"0","v":0},3.9423776950000988E-2,1.2246556240799998E-2,null,747,0.9930774,6.9225750000000003E-3,1.2050999999999999E-2,1.6257400000000002E-2,4.0738664125000712E-2,6.976919372510107E-2,9141173,637914.1,9276605,14.000424502034575,8094254,97226150,1.1953041036299999E-2,12.497141020691883,null,0,0,null,1.6030081550000005E-2]
[751,7.1286750000000001E-3,1.6488599999999999E-2,627506.19999999995,8044305,93933660,8044305,93933660,1.2447000000000001E-2,1.597346668333334E-2,13.898614560833558,{"$f":"0","v":0},0,12.409846937970377,{"$f":"0","v":0},0,{"$f":"0","v":0},3.8985481225001069E-2,1.2344383197900002E-2,null,748,0.99302590000000002,6.9740999999999996E-3,1.2150000000000001E-2,1.6315199999999998E-2,4.0300368400000793E-2,6.9520955194474834E-2,9136009,635312.1,9222795,13.975284922953618,8081767,96403020,1.2050885160000002E-2,12.475634446842623,null,0,0,null,1.6015927833333339E-2]
[752,7.1802000000000003E-3,1.6546399999999999E-2,624904.19999999995,8031818,93110540,8031818,93110540,1.2545999999999996E-2,1.5959312966666674E-2,13.872632357087696,{"$f":"0","v":0},0,12.387483552781845,{"$f":"0","v":0},0,{"$f":"0","v":0},3.8547185500001184E-2,1.2442204432799997E-2,null,749,0.99297440000000003,7.0256249999999998E-3,1.2248999999999996E-2,1.6372999999999999E-2,3.9862072675000908E-2,6.9273599895613172E-2,9130844,632710.1,9168985,13.949938572446792,8069279,95579900,1.2148723561499996E-2,12.453920852629498,null,0,0,null,1.6001774116666673E-2]
[753,7.2317249999999996E-3,1.66042E-2,622302.30000000005,8019330,92287410,8019330,92287410,1.2644999999999998E-2,1.5945159250000007E-2,13.846430565177085,{"$f":"0","v":0},0,12.364894483036522,{"$f":"0","v":0},0,{"$f":"0","v":0},3.8108889775001265E-2,1.2540019945499999E-2,null,750,0.99292279999999999,7.0771499999999999E-3,1.2347999999999998E-2,1.6430799999999999E-2,3.9423776950000988E-2,6.9027124685980795E-2,9125680,630108.1,9115176,13.924384475986477,8056792,94756780,1.2246556240799998E-2,12.431993847710764,null,0,0,null,1.5987620400000006E-2]
[754,7.2832499999999998E-3,1.6662E-2,619700.30000000005,8006843,91464290,8006843,91464290,1.2744000000000002E-2,1.5931005533333344E-2,13.820011066908741,{"$f":"0","v":0},0,12.342081558081404,{"$f":"0","v":0},0,{"$f":"0","v":0},3.7670594050001345E-2,1.2637829736000002E-2,null,751,0.99287130000000001,7.1286750000000001E-3,1.2447000000000001E-2,1.6488599999999999E-2,3.8985481225001069E-2,6.8781526434223472E-2,9120516,627506.19999999995,9061366,13.898614560833558,8044305,93933660,1.2344383197900002E-2,12.409846937970377,null,0,0,null,1.597346668333334E-2]
[755,7.334775E-3,1.67198E-2,617098.30000000005,7994356,90641160,7994356,90641160,1.2842999999999997E-2,1.5916851816666678E-2,13.793368772581829,{"$f":"0","v":0},0,12.319035394127997,{"$f":"0","v":0},0,{"$f":"0","v":0},3.723229832500146E-2,1.2735633804299998E-2,null,752,0.99281980000000003,7.1802000000000003E-3,1.2545999999999996E-2,1.6546399999999999E-2,3.8547185500001184E-2,6.8536802020128407E-2,9115351,624904.19999999995,9007556,13.872632357087696,8031818,93110540,1.2442204432799997E-2,12.387483552781845,null,0,0,null,1.5959312966666674E-2]
[756,7.3863000000000002E-3,1.67776E-2,614496.30000000005,7981869,89818040,7981869,89818040,1.2941999999999999E-2,1.5902698100000012E-2,13.76650085199862,{"$f":"0","v":0},0,12.295759239781495,{"$f":"0","v":0},0,{"$f":"0","v":0},3.6794002600001541E-2,1.2833432150399999E-2,null,753,0.99276830000000005,7.2317249999999996E-3,1.2644999999999998E-2,1.66042E-2,3.8108889775001265E-2,6.8292948334584408E-2,9110187,622302.30000000005,8953746,13.846430565177085,8019330,92287410,1.2540019945499999E-2,12.364894483036522,null,0,0,null,1.5945159250000007E-2]
[757,7.4463749999999999E-3,1.683987E-2,611989.80000000005,7968419,89101110,7968419,89101110,1.3053000000000002E-2,1.5886727966666677E-2,13.741427594054672,{"$f":"0","v":0},0,12.274312686218266,{"$f":"0","v":0},0,{"$f":"0","v":0},3.6243543308334847E-2,1.2943094588445002E-2,null,754,0.99271670000000001,7.2832499999999998E-3,1.2744000000000002E-2,1.6662E-2,3.7670594050001345E-2,6.8049962279542603E-2,9105023,619700.30000000005,8899936,13.820011066908741,8006843,91464290,1.2637829736000002E-2,12.342081558081404,null,0,0,null,1.5931005533333344E-2]
[758,7.5064499999999996E-3,1.6902130000000001E-2,609483.30000000005,7954970,88384180,7954970,88384180,1.3163999999999995E-2,1.5870757833333343E-2,13.716148108569996,{"$f":"0","v":0},0,12.252657738147564,{"$f":"0","v":0},0,{"$f":"0","v":0},3.5693084016668208E-2,1.3052750180339995E-2,null,755,0.99266520000000003,7.334775E-3,1.2842999999999997E-2,1.67198E-2,3.723229832500146E-2,6.7807840767976843E-2,9099858,617098.30000000005,8846126,13.793368772581829,7994356,90641160,1.2735633804299998E-2,12.319035394127997,null,0,0,null,1.5916851816666678E-2]
[759,7.5665250000000002E-3,1.6964400000000001E-2,606976.80000000005,7941521,87667260,7941521,87667260,1.3274999999999999E-2,1.5854787700000011E-2,13.690659840705608,{"$f":"0","v":0},0,12.230787153653516,{"$f":"0","v":0},0,{"$f":"0","v":0},3.5142624725001514E-2,1.3162398794999999E-2,null,756,0.99261370000000004,7.3863000000000002E-3,1.2941999999999999E-2,1.67776E-2,3.6794002600001541E-2,6.7566580723844735E-2,9094694,614496.30000000005,8792316,13.76650085199862,7981869,89818040,1.2833432150399999E-2,12.295759239781495,null,0,0,null,1.5902698100000012E-2]
[760,7.6265999999999999E-3,1.7026670000000001E-2,604470.30000000005,7928072,86950330,7928072,86950330,1.3386000000000002E-2,1.5838817566666677E-2,13.66496019324688,{"$f":"0","v":0},0,12.208701195001206,{"$f":"0","v":0},0,{"$f":"0","v":0},3.4592165433334821E-2,1.3272040497690003E-2,null,757,0.99255369999999998,7.4463749999999999E-3,1.3053000000000002E-2,1.683987E-2,3.6243543308334847E-2,6.7326179082048299E-2,9089096,611989.80000000005,8741108,13.741427594054672,7968419,89101110,1.2943094588445002E-2,12.274312686218266,null,0,0,null,1.5886727966666677E-2]
[761,7.6866749999999996E-3,1.7088929999999999E-2,601963.80000000005,7914622,86233400,7914622,86233400,1.3496999999999995E-2,1.5822847433333342E-2,13.639046525721314,{"$f":"0","v":0},0,12.186399368391346,{"$f":"0","v":0},0,{"$f":"0","v":0},3.4041706141668182E-2,1.3381675355894997E-2,null,758,0.99249359999999998,7.5064499999999996E-3,1.3163999999999995E-2,1.6902130000000001E-2,3.5693084016668208E-2,6.7086632788395315E-2,9083498,609483.30000000005,8689900,13.716148108569996,7954970,88384180,1.3052750180339995E-2,12.252657738147564,null,0,0,null,1.5870757833333343E-2]
[762,7.7467500000000002E-3,1.7151199999999998E-2,599457.4,7901173,85516460,7901173,85516460,1.3607999999999999E-2,1.5806877300000008E-2,13.612913792261692,{"$f":"0","v":0},0,12.163873019849008,{"$f":"0","v":0},0,{"$f":"0","v":0},3.3491246850001488E-2,1.3491303235199998E-2,null,759,0.99243349999999997,7.5665250000000002E-3,1.3274999999999999E-2,1.6964400000000001E-2,3.5142624725001514E-2,6.6847938799560205E-2,9077900,606976.80000000005,8638692,13.690659840705608,7941521,87667260,1.3162398794999999E-2,12.230787153653516,null,0,0,null,1.5854787700000011E-2]
[763,7.8068249999999999E-3,1.7213470000000002E-2,596950.9,7887724,84799540,7887724,84799540,1.3719000000000002E-2,1.5790907166666673E-2,13.586565655288121,{"$f":"0","v":0},0,12.141121513486988,{"$f":"0","v":0},0,{"$f":"0","v":0},3.2940787558334794E-2,1.3600924202535003E-2,null,760,0.99237339999999996,7.6265999999999999E-3,1.3386000000000002E-2,1.7026670000000001E-2,3.4592165433334821E-2,6.6610094083045648E-2,9072302,604470.30000000005,8587484,13.66496019324688,7928072,86950330,1.3272040497690003E-2,12.208701195001206,null,0,0,null,1.5838817566666677E-2]
[764,7.8668990000000001E-3,1.727573E-2,594444.4,7874274,84082610,7874274,84082610,1.3829999999999995E-2,1.5774937033333339E-2,13.559993639999524,{"$f":"0","v":0},0,12.118147674591652,{"$f":"0","v":0},0,{"$f":"0","v":0},3.2390328266668156E-2,1.3710538327049996E-2,null,761,0.99231329999999995,7.6866749999999996E-3,1.3496999999999995E-2,1.7088929999999999E-2,3.4041706141668182E-2,6.6373095617143898E-2,9066704,601963.80000000005,8536276,13.639046525721314,7914622,86233400,1.3381675355894997E-2,12.186399368391346,null,0,0,null,1.5822847433333342E-2]
[765,7.9269739999999998E-3,1.7337999999999999E-2,591937.9,7860825,83365680,7860825,83365680,1.3940999999999999E-2,1.5758966900000004E-2,13.533196591793384,{"$f":"0","v":0},0,12.094935630853762,{"$f":"0","v":0},0,{"$f":"0","v":0},3.1839868975001462E-2,1.3820145470999998E-2,null,762,0.99225319999999995,7.7467500000000002E-3,1.3607999999999999E-2,1.7151199999999998E-2,3.3491246850001488E-2,6.6136940390898444E-2,9061106,599457.4,8485068,13.612913792261692,7901173,85516460,1.3491303235199998E-2,12.163873019849008,null,0,0,null,1.5806877300000008E-2]
[766,7.9870489999999995E-3,1.7400269999999999E-2,589431.4,7847376,82648750,7847376,82648750,1.4052000000000002E-2,1.5742996766666673E-2,13.506171639877573,{"$f":"0","v":0},0,12.071488044007035,{"$f":"0","v":0},0,{"$f":"0","v":0},3.1289409683334768E-2,1.3929745702980003E-2,null,763,0.9921932,7.8068249999999999E-3,1.3719000000000002E-2,1.7213470000000002E-2,3.2940787558334794E-2,6.5901625404065717E-2,9055508,596950.9,8433861,13.586565655288121,7887724,84799540,1.3600924202535003E-2,12.141121513486988,null,0,0,null,1.5790907166666673E-2]
[767,8.0471239999999992E-3,1.746253E-2,586924.9,7833927,81931820,7833927,81931820,1.4162999999999995E-2,1.5727026633333339E-2,13.47891586442036,{"$f":"0","v":0},0,12.047801310524436,{"$f":"0","v":0},0,{"$f":"0","v":0},3.0738950391668126E-2,1.4039339093804995E-2,null,764,0.99213309999999999,7.8668990000000001E-3,1.3829999999999995E-2,1.727573E-2,3.2390328266668156E-2,6.5667147667077042E-2,9049910,594444.4,8382653,13.559993639999524,7874274,84082610,1.3710538327049996E-2,12.118147674591652,null,0,0,null,1.5774937033333339E-2]
[768,{"$f":"W773","v":8.1071990000000007E-3},{"$f":"Y773","v":1.75248E-2},{"$f":"AC773","v":584418.4},{"$f":"AF773","v":7820477},{"$f":"AG773","v":81214900},{"$f":"E770","v":7820477},{"$f":"F770","v":81214900},{"$f":"X773","v":1.4273999999999998E-2},{"$f":"AN773","v":1.5711056500000004E-2},{"$f":"AE773","v":13.451426295498795},{"$f":"0","v":0},{"$f":"AL773","v":0},{"$f":"AI773","v":12.023878072112096},{"$f":"0","v":0},{"$f":"AK773","v":0},{"$f":"0","v":0},{"$f":"Z773","v":3.0188491100001436E-2},{"$f":"AH773","v":1.41489255024E-2},null,765,0.99207299999999998,7.9269739999999998E-3,1.3940999999999999E-2,1.7337999999999999E-2,3.1839868975001462E-2,6.5433504201000595E-2,9044312,591937.9,8331445,13.533196591793384,7860825,83365680,1.3820145470999998E-2,12.094935630853762,null,0,0,null,1.5758966900000004E-2]
[769,8.1770999999999996E-3,1.7591929999999999E-2,582000.9,7805973,80595800,7805973,80595800,1.4399499999999992E-2,1.5693269950000005E-2,13.425871871503979,{"$f":"0","v":0},0,12.001858944414115,{"$f":"0","v":0},0,{"$f":"0","v":0},2.767278350833479E-2,1.4272842501982491E-2,null,766,0.99201300000000003,7.9870489999999995E-3,1.4052000000000002E-2,1.7400269999999999E-2,3.1289409683334768E-2,6.5200692037503602E-2,9038714,589431.4,8280237,13.506171639877573,7847376,82648750,1.3929745702980003E-2,12.071488044007035,null,0,0,null,1.5742996766666673E-2]
[770,8.2469989999999996E-3,1.7659069999999999E-2,579583.5,7791468,79976700,7791468,79976700,1.4525000000000005E-2,1.5675483400000002E-2,13.400100136563585,{"$f":"0","v":0},0,11.979628789350627,{"$f":"0","v":0},0,{"$f":"0","v":0},2.5157075916667722E-2,1.4396751004125003E-2,null,767,0.99195290000000003,8.0471239999999992E-3,1.4162999999999995E-2,1.746253E-2,3.0738950391668126E-2,6.4968708218814564E-2,9033116,586924.9,8229029,13.47891586442036,7833927,81931820,1.4039339093804995E-2,12.047801310524436,null,0,0,null,1.5727026633333339E-2]
[771,8.3169000000000003E-3,1.7726200000000001E-2,577166,7776964,79357610,7776964,79357610,1.4650499999999999E-2,1.5657696850000003E-2,13.374114928229776,{"$f":"0","v":0},0,11.957178052834641,{"$f":"0","v":0},0,{"$f":"0","v":0},2.2641368325001077E-2,1.4520651153449998E-2,null,768,0.99189280000000002,8.1071990000000007E-3,1.4273999999999998E-2,1.75248E-2,3.0188491100001436E-2,6.473754979768577E-2,9027518,584418.4,8177821,13.451426295498795,7820477,81214900,1.41489255024E-2,12.023878072112096,null,0,0,null,1.5711056500000004E-2]
[772,8.3867999999999998E-3,1.779333E-2,574748.6,7762459,78738510,7762459,78738510,1.4775999999999992E-2,1.5639910300000004E-2,13.347910445830868,{"$f":"0","v":0},0,11.934497015759494,{"$f":"0","v":0},0,{"$f":"0","v":0},2.0125660733334431E-2,1.4644542877959993E-2,null,769,0.99182289999999995,8.1770999999999996E-3,1.4399499999999992E-2,1.7591929999999999E-2,2.767278350833479E-2,6.4507213837355776E-2,9021419,582000.9,8129120,13.425871871503979,7805973,80595800,1.4272842501982491E-2,12.001858944414115,null,0,0,null,1.5693269950000005E-2]
[773,8.4566999999999993E-3,1.786047E-2,572331.1,7747955,78119420,7747955,78119420,1.4901500000000005E-2,1.5622123750000001E-2,13.321485274578533,{"$f":"0","v":0},0,11.911595126138884,{"$f":"0","v":0},0,{"$f":"0","v":0},1.7609953141667363E-2,1.4768426103147506E-2,null,770,0.991753,8.2469989999999996E-3,1.4525000000000005E-2,1.7659069999999999E-2,2.5157075916667722E-2,6.4277697411512139E-2,9015320,579583.5,8080418,13.400100136563585,7791468,79976700,1.4396751004125003E-2,11.979628789350627,null,0,0,null,1.5675483400000002E-2]
[774,8.5266000000000005E-3,1.7927599999999998E-2,569913.59999999998,7733450,77500320,7733450,77500320,1.5026999999999999E-2,1.5604337200000002E-2,13.294837673640357,{"$f":"0","v":0},0,11.888458970295625,{"$f":"0","v":0},0,{"$f":"0","v":0},1.5094245550000718E-2,1.4892300977399998E-2,null,771,0.99168310000000004,8.3169000000000003E-3,1.4650499999999999E-2,1.7726200000000001E-2,2.2641368325001077E-2,6.4048997604254213E-2,9009221,577166,8031716,13.374114928229776,7776964,79357610,1.4520651153449998E-2,11.957178052834641,null,0,0,null,1.5657696850000003E-2]
[775,8.5965E-3,1.799473E-2,567496.19999999995,7718946,76881220,7718946,76881220,1.5152499999999992E-2,1.5586550650000003E-2,13.267958842720006,{"$f":"0","v":0},0,11.865089306425425,{"$f":"0","v":0},0,{"$f":"0","v":0},1.2578537958334076E-2,1.5016167426837491E-2,null,772,0.99161319999999997,8.3867999999999998E-3,1.4775999999999992E-2,1.779333E-2,2.0125660733334431E-2,6.3821111510056122E-2,9003122,574748.6,7983015,13.347910445830868,7762459,78738510,1.4644542877959993E-2,11.934497015759494,null,0,0,null,1.5639910300000004E-2]
[776,8.6663999999999995E-3,1.8061870000000001E-2,565078.80000000005,7704442,76262130,7704442,76262130,1.5278000000000007E-2,1.55687641E-2,13.240851806863041,{"$f":"0","v":0},0,11.84148476995742,{"$f":"0","v":0},0,{"$f":"0","v":0},1.0062830366667001E-2,1.5140025375070008E-2,null,773,0.99154330000000002,8.4566999999999993E-3,1.4901500000000005E-2,1.786047E-2,1.7609953141667363E-2,6.3594036233729834E-2,8997023,572331.1,7934313,13.321485274578533,7747955,78119420,1.4768426103147506E-2,11.911595126138884,null,0,0,null,1.5622123750000001E-2]
[777,8.7363000000000007E-3,1.8128999999999999E-2,562661.30000000005,7689937,75643030,7689937,75643030,1.5403499999999999E-2,1.5550977550000001E-2,13.213512514840929,{"$f":"0","v":0},0,11.817635208292874,{"$f":"0","v":0},0,{"$f":"0","v":0},7.5471227750003589E-3,1.5263874974249999E-2,null,774,0.99147339999999995,8.5266000000000005E-3,1.5026999999999999E-2,1.7927599999999998E-2,1.5094245550000718E-2,6.3367768890388379E-2,8990924,569913.59999999998,7885612,13.294837673640357,7733450,77500320,1.4892300977399998E-2,11.888458970295625,null,0,0,null,1.5604337200000002E-2]
[778,8.8062009999999996E-3,1.8196130000000001E-2,560243.9,7675433,75023940,7675433,75023940,1.5528999999999991E-2,1.5533191000000002E-2,13.185934829753018,{"$f":"0","v":0},0,11.793541183929401,{"$f":"0","v":0},0,{"$f":"0","v":0},5.0314151833337172E-3,1.5387716148614991E-2,null,775,0.99140349999999999,8.5965E-3,1.5152499999999992E-2,1.799473E-2,1.2578537958334076E-2,6.3142306605409246E-2,8984825,567496.19999999995,7836910,13.267958842720006,7718946,76881220,1.5016167426837491E-2,11.865089306425425,null,0,0,null,1.5586550650000003E-2]
[779,8.8760999999999996E-3,1.8263270000000002E-2,557826.4,7660928,74404840,7660928,74404840,1.5654500000000005E-2,1.5515404449999999E-2,13.15812237164346,{"$f":"0","v":0},0,11.769201162108526,{"$f":"0","v":0},0,{"$f":"0","v":0},2.5157075916666417E-3,1.5511548819892505E-2,null,776,0.99133360000000004,8.6663999999999995E-3,1.5278000000000007E-2,1.8061870000000001E-2,1.0062830366667001E-2,6.2917646514397782E-2,8978726,565078.80000000005,7788209,13.240851806863041,7704442,76262130,1.5140025375070008E-2,11.84148476995742,null,0,0,null,1.55687641E-2]
[780,8.9460010000000003E-3,1.83304E-2,555408.9,7646424,73785740,7646424,73785740,1.5779999999999999E-2,1.54976179E-2,13.130065997321973,{"$f":"0","v":0},0,11.744604680466191,{"$f":"0","v":0},0,{"$f":"0","v":0},0,1.5635373144E-2,null,777,0.99126369999999997,8.7363000000000007E-3,1.5403499999999999E-2,1.8128999999999999E-2,7.5471227750003589E-3,6.2693785763150822E-2,8972627,562661.30000000005,7739507,13.213512514840929,7689937,75643030,1.5263874974249999E-2,11.817635208292874,null,0,0,null,1.5550977550000001E-2]
[781,9.0267009999999998E-3,1.8402669999999999E-2,553074.30000000005,7630760,73383470,7630760,73383470,1.594149999999999E-2,1.5478014933333334E-2,13.104091236023804,{"$f":"0","v":0},0,11.722010106228408,{"$f":"0","v":0},0,{"$f":"0","v":0},0,1.579481691809749E-2,null,778,0.99119380000000001,8.8062009999999996E-3,1.5528999999999991E-2,1.8196130000000001E-2,5.0314151833337172E-3,6.2470721507620494E-2,8966528,560243.9,7690805,13.185934829753018,7675433,75023940,1.5387716148614991E-2,11.793541183929401,null,0,0,null,1.5533191000000002E-2]
[782,9.1074009999999993E-3,1.8474930000000001E-2,550739.6,7615097,72981200,7615097,72981200,1.610300000000001E-2,1.5458411966666667E-2,13.077898732298653,{"$f":"0","v":0},0,11.699189478917503,{"$f":"0","v":0},0,{"$f":"0","v":0},0,1.595424910110501E-2,null,779,0.99112389999999995,8.8760999999999996E-3,1.5654500000000005E-2,1.8263270000000002E-2,2.5157075916666417E-3,6.2248450913878012E-2,8960429,557826.4,7642104,13.15812237164346,7660928,74404840,1.5511548819892505E-2,11.769201162108526,null,0,0,null,1.5515404449999999E-2]
[783,9.1881010000000006E-3,1.85472E-2,548405,7599434,72578930,7599434,72578930,1.6264500000000001E-2,1.5438809000000001E-2,13.051480733521151,{"$f":"0","v":0},0,11.676138719357068,{"$f":"0","v":0},0,{"$f":"0","v":0},0,1.6113669532800003E-2,null,780,0.99105399999999999,8.9460010000000003E-3,1.5779999999999999E-2,1.83304E-2,0,6.202697115807769E-2,8954330,555408.9,7593402,13.130065997321973,7646424,73785740,1.5635373144E-2,11.744604680466191,null,0,0,null,1.54976179E-2]
[784,9.2688010000000001E-3,1.8619469999999999E-2,546070.4,7583771,72176660,7583771,72176660,1.6425999999999989E-2,1.5419206033333336E-2,13.024836846433475,{"$f":"0","v":0},0,11.65285569228447,{"$f":"0","v":0},0,{"$f":"0","v":0},0,1.627307829288999E-2,null,781,0.99097329999999995,9.0267009999999998E-3,1.594149999999999E-2,1.8402669999999999E-2,0,6.1806279426421099E-2,8947655,553074.30000000005,7547118,13.104091236023804,7630760,73383470,1.579481691809749E-2,11.722010106228408,null,0,0,null,1.5478014933333334E-2]
[785,9.3495009999999996E-3,1.869173E-2,543735.69999999995,7568107,71774390,7568107,71774390,1.6587500000000008E-2,1.5399603066666668E-2,12.997966651506117,{"$f":"0","v":0},0,11.629336175378521,{"$f":"0","v":0},0,{"$f":"0","v":0},0,1.6432475464312507E-2,null,782,0.99089260000000001,9.1074009999999993E-3,1.610300000000001E-2,1.8474930000000001E-2,0,6.1586372915121257E-2,8940979,550739.6,7500834,13.077898732298653,7615097,72981200,1.595424910110501E-2,11.699189478917503,null,0,0,null,1.5458411966666667E-2]
[786,9.4301999999999997E-3,1.8763999999999999E-2,541401.1,7552444,71372120,7552444,71372120,1.6749E-2,1.5380000100000003E-2,12.97086221441614,{"$f":"0","v":0},0,11.605579613100712,{"$f":"0","v":0},0,{"$f":"0","v":0},0,1.6591860882000001E-2,null,783,0.99081189999999997,9.1881010000000006E-3,1.6264500000000001E-2,1.85472E-2,0,6.136724883036708E-2,8934304,548405,7454550,13.051480733521151,7599434,72578930,1.6113669532800003E-2,11.676138719357068,null,0,0,null,1.5438809000000001E-2]
[787,9.5108999999999992E-3,1.8836269999999999E-2,539066.4,7536781,70969850,7536781,70969850,1.6910499999999992E-2,1.5360397133333337E-2,12.943525510029934,{"$f":"0","v":0},0,11.581576193447818,{"$f":"0","v":0},0,{"$f":"0","v":0},0,1.6751234628082493E-2,null,784,0.99073120000000003,9.2688010000000001E-3,1.6425999999999989E-2,1.8619469999999999E-2,0,6.114890438828785E-2,8927628,546070.4,7408266,13.024836846433475,7583771,72176660,1.627307829288999E-2,11.65285569228447,null,0,0,null,1.5419206033333336E-2]
[788,9.5916000000000005E-3,1.890853E-2,536731.80000000005,7521117,70567580,7521117,70567580,1.7072000000000011E-2,1.534079416666667E-2,12.915948477433234,{"$f":"0","v":0},0,11.557321446990965,{"$f":"0","v":0},0,{"$f":"0","v":0},0,1.691059678792001E-2,null,785,0.99065049999999999,9.3495009999999996E-3,1.6587500000000008E-2,1.869173E-2,0,6.093133681491783E-2,8920953,543735.69999999995,7361982,12.997966651506117,7568107,71774390,1.6432475464312507E-2,11.629336175378521,null,0,0,null,1.5399603066666668E-2]
[789,9.6723E-3,1.8980799999999999E-2,534397.1,7505454,70165310,7505454,70165310,1.7233499999999999E-2,1.5321191200000004E-2,12.888131137251058,{"$f":"0","v":0},0,11.532822120814521,{"$f":"0","v":0},0,{"$f":"0","v":0},0,1.7069947191599998E-2,null,786,0.99056979999999994,9.4301999999999997E-3,1.6749E-2,1.8763999999999999E-2,0,6.0714543346161068E-2,8914278,541401.1,7315698,12.97086221441614,7552444,71372120,1.6591860882000001E-2,11.605579613100712,null,0,0,null,1.5380000100000003E-2]
[790,9.7529999999999995E-3,1.9053069999999998E-2,532062.5,7489791,69763040,7489791,69763040,1.739499999999999E-2,1.5301588233333338E-2,12.860069031677044,{"$f":"0","v":0},0,11.508064337339869,{"$f":"0","v":0},0,{"$f":"0","v":0},0,1.7229285923674991E-2,null,787,0.99048910000000001,9.5108999999999992E-3,1.6910499999999992E-2,1.8836269999999999E-2,0,6.049852122775623E-2,8907602,539066.4,7269414,12.943525510029934,7536781,70969850,1.6751234628082493E-2,11.581576193447818,null,0,0,null,1.5360397133333337E-2]
[791,9.8337000000000008E-3,1.9125329999999999E-2,529727.80000000005,7474128,69360770,7474128,69360770,1.755650000000001E-2,1.5281985266666671E-2,12.831762101844255,{"$f":"0","v":0},0,11.483047181268445,{"$f":"0","v":0},0,{"$f":"0","v":0},0,1.738861307192751E-2,null,788,0.99040839999999997,9.5916000000000005E-3,1.7072000000000011E-2,1.890853E-2,0,6.0283267715241638E-2,8900927,536731.80000000005,7223130,12.915948477433234,7521117,70567580,1.691059678792001E-2,11.557321446990965,null,0,0,null,1.534079416666667E-2]
[792,9.9144000000000003E-3,1.9197599999999999E-2,527393.19999999995,7458464,68958500,7458464,68958500,1.7718000000000001E-2,1.5262382300000005E-2,12.803202019543169,{"$f":"0","v":0},0,11.457769718022607,{"$f":"0","v":0},0,{"$f":"0","v":0},0,1.7547928461600002E-2,null,789,0.99032770000000003,9.6723E-3,1.7233499999999999E-2,1.8980799999999999E-2,0,6.0068780073920421E-2,8894251,534397.1,7176845,12.888131137251058,7505454,70165310,1.7069947191599998E-2,11.532822120814521,null,0,0,null,1.5321191200000004E-2]
[793,1.000702E-2,1.9275529999999999E-2,525135.5,7441395,68566680,7441395,68566680,1.7101000000000036E-2,1.5240962916666673E-2,12.776884450140329,{"$f":"0","v":0},0,11.434579521569084,{"$f":"0","v":0},0,{"$f":"0","v":0},0,1.6936184580735036E-2,null,790,0.99024699999999999,9.7529999999999995E-3,1.739499999999999E-2,1.9053069999999998E-2,0,5.9855055578825742E-2,8887576,532062.5,7130561,12.860069031677044,7489791,69763040,1.7229285923674991E-2,11.508064337339869,null,0,0,null,1.5301588233333338E-2]
[794,1.009965E-2,1.9353470000000001E-2,522877.9,7424326,68174860,7424326,68174860,1.6483999999999967E-2,1.5219543533333336E-2,12.750335156321071,{"$f":"0","v":0},0,11.41115404276392,{"$f":"0","v":0},0,{"$f":"0","v":0},0,1.6324488700259966E-2,null,791,0.99016630000000005,9.8337000000000008E-3,1.755650000000001E-2,1.9125329999999999E-2,0,5.9642091514686156E-2,8880900,529727.80000000005,7084277,12.831762101844255,7474128,69360770,1.738861307192751E-2,11.483047181268445,null,0,0,null,1.5281985266666671E-2]
[795,1.019228E-2,1.9431400000000001E-2,520620.2,7407258,67783060,7407258,67783060,1.5866999999999999E-2,1.5198124150000004E-2,12.723560076360208,{"$f":"0","v":0},0,11.387489682669916,{"$f":"0","v":0},0,{"$f":"0","v":0},0,1.57128409881E-2,null,792,0.99008560000000001,9.9144000000000003E-3,1.7718000000000001E-2,1.9197599999999999E-2,0,5.9429885175891171E-2,8874225,527393.19999999995,7037993,12.803202019543169,7458464,68958500,1.7547928461600002E-2,11.457769718022607,null,0,0,null,1.5262382300000005E-2]
[796,1.02849E-2,1.9509329999999998E-2,518362.5,7390189,67391240,7390189,67391240,1.5250000000000036E-2,1.5176704766666672E-2,12.696551761556826,{"$f":"0","v":0},0,11.363589838847149,{"$f":"0","v":0},0,{"$f":"0","v":0},0,1.5101241358750036E-2,null,793,0.98999300000000001,1.000702E-2,1.7101000000000036E-2,1.9275529999999999E-2,0,5.9218433866456845E-2,8866893,525135.5,6994044,12.776884450140329,7441395,68566680,1.6936184580735036E-2,11.434579521569084,null,0,0,null,1.5240962916666673E-2]
[797,1.0377529999999999E-2,1.958727E-2,516104.9,7373120,66999420,7373120,66999420,1.4632999999999965E-2,1.5155285383333335E-2,12.669302653717619,{"$f":"0","v":0},0,11.339436650942682,{"$f":"0","v":0},0,{"$f":"0","v":0},0,1.4489689739044966E-2,null,794,0.98990040000000001,1.009965E-2,1.6483999999999967E-2,1.9353470000000001E-2,0,5.9007734899991546E-2,8859561,522877.9,6950094,12.750335156321071,7424326,68174860,1.6324488700259966E-2,11.41115404276392,null,0,0,null,1.5219543533333336E-2]
[798,1.0470149999999999E-2,1.9665200000000001E-2,513847.2,7356051,66607610,7356051,66607610,1.4016000000000001E-2,1.5133866000000003E-2,12.641818618453112,{"$f":"0","v":0},0,11.315033334833434,{"$f":"0","v":0},0,{"$f":"0","v":0},0,1.3878186278400002E-2,null,795,0.98980769999999996,1.019228E-2,1.5866999999999999E-2,1.9431400000000001E-2,0,5.8797785599661784E-2,8852229,520620.2,6906145,12.723560076360208,7407258,67783060,1.57128409881E-2,11.387489682669916,null,0,0,null,1.5198124150000004E-2]
[799,1.0562770000000001E-2,1.9743130000000001E-2,511589.5,7338982,66215790,7338982,66215790,1.3399000000000036E-2,1.5112446616666671E-2,12.614090048434015,{"$f":"0","v":0},0,11.290379863455609,{"$f":"0","v":0},0,{"$f":"0","v":0},0,1.3266730900565037E-2,null,796,0.98971509999999996,1.02849E-2,1.5250000000000036E-2,1.9509329999999998E-2,0,5.8588583298158255E-2,8844897,518362.5,6862196,12.696551761556826,7390189,67391240,1.5101241358750036E-2,11.363589838847149,null,0,0,null,1.5176704766666672E-2]
[800,1.0655400000000001E-2,1.982107E-2,509331.9,7321913,65823980,7321913,65823980,1.2781999999999965E-2,1.5091027233333333E-2,12.586115041095992,{"$f":"0","v":0},0,11.265467799451129,{"$f":"0","v":0},0,{"$f":"0","v":0},0,1.2655323541629964E-2,null,797,0.98962249999999996,1.0377529999999999E-2,1.4632999999999965E-2,1.958727E-2,0,5.8380125337661938E-2,8837565,516104.9,6818246,12.669302653717619,7373120,66999420,1.4489689739044966E-2,11.339436650942682,null,0,0,null,1.5155285383333335E-2]
[801,1.074803E-2,1.9899E-2,507074.2,7304844,65432160,7304844,65432160,1.2165E-2,1.5069607850000001E-2,12.557891543946297,{"$f":"0","v":0},0,11.240290364988343,{"$f":"0","v":0},0,{"$f":"0","v":0},0,1.2043964332500001E-2,null,798,0.98952980000000001,1.0470149999999999E-2,1.4016000000000001E-2,1.9665200000000001E-2,0,5.8172409069810284E-2,8830234,513847.2,6774297,12.641818618453112,7356051,66607610,1.3878186278400002E-2,11.315033334833434,null,0,0,null,1.5133866000000003E-2]
[802,1.084065E-2,1.997693E-2,504816.6,7287775,65040350,7287775,65040350,1.1548000000000036E-2,1.5048188466666669E-2,12.529414989522929,{"$f":"0","v":0},0,11.214846680712858,{"$f":"0","v":0},0,{"$f":"0","v":0},0,1.1432653206180036E-2,null,799,0.98943720000000002,1.0562770000000001E-2,1.3399000000000036E-2,1.9743130000000001E-2,0,5.7965431855663642E-2,8822902,511589.5,6730347,12.614090048434015,7338982,66215790,1.3266730900565037E-2,11.290379863455609,null,0,0,null,1.5112446616666671E-2]
[803,1.093328E-2,2.0054869999999999E-2,502558.9,7270707,64648540,7270707,64648540,1.0930999999999965E-2,1.5026769083333332E-2,12.500685185026736,{"$f":"0","v":0},0,11.189136428004701,{"$f":"0","v":0},0,{"$f":"0","v":0},0,1.0821390108014965E-2,null,800,0.98934460000000002,1.0655400000000001E-2,1.2781999999999965E-2,1.982107E-2,0,5.7759191065671713E-2,8815570,509331.9,6686398,12.586115041095992,7321913,65823980,1.2655323541629964E-2,11.265467799451129,null,0,0,null,1.5091027233333333E-2]
[804,1.10259E-2,2.0132799999999999E-2,500301.2,7253638,64256720,7253638,64256720,1.0314E-2,1.50053497E-2,12.47169408481664,{"$f":"0","v":0},0,11.163150793800378,{"$f":"0","v":0},0,{"$f":"0","v":0},0,1.02101751504E-2,null,801,0.98925200000000002,1.074803E-2,1.2165E-2,1.9899E-2,0,5.7553684079640087E-2,8808238,507074.2,6642448,12.557891543946297,7304844,65432160,1.2043964332500001E-2,11.240290364988343,null,0,0,null,1.5069607850000001E-2]
[805,1.113135E-2,2.0216669999999999E-2,498115.1,7240801,63923560,7240801,63923560,1.0451999999999993E-2,1.4982113900000002E-2,12.445106872220231,{"$f":"0","v":0},0,11.1393507995526,{"$f":"0","v":0},0,{"$f":"0","v":0},0,1.0346347682579993E-2,null,802,0.98915929999999996,1.084065E-2,1.1548000000000036E-2,1.997693E-2,0,5.7348908286697003E-2,8800906,504816.6,6598499,12.529414989522929,7287775,65040350,1.1432653206180036E-2,11.214846680712858,null,0,0,null,1.5048188466666669E-2]
[806,1.12368E-2,2.0300530000000001E-2,495929,7227965,63590410,7227965,63590410,1.0590000000000007E-2,1.49588781E-2,12.41828727835369,{"$f":"0","v":0},0,11.115305708512956,{"$f":"0","v":0},0,{"$f":"0","v":0},0,1.0482508693650007E-2,null,803,0.98906669999999997,1.093328E-2,1.0930999999999965E-2,2.0054869999999999E-2,0,5.7144861085260207E-2,8793574,502558.9,6554550,12.500685185026736,7270707,64648540,1.0821390108014965E-2,11.189136428004701,null,0,0,null,1.5026769083333332E-2]
[807,1.134225E-2,2.03844E-2,493742.9,7215128,63257250,7215128,63257250,1.0728E-2,1.4935642300000001E-2,12.391228165846368,{"$f":"0","v":0},0,11.091011715006765,{"$f":"0","v":0},0,{"$f":"0","v":0},0,1.06186580784E-2,null,804,0.98897409999999997,1.10259E-2,1.0314E-2,2.0132799999999999E-2,0,5.6941539883003836E-2,8786242,500301.2,6510600,12.47169408481664,7253638,64256720,1.02101751504E-2,11.163150793800378,null,0,0,null,1.50053497E-2]
[808,1.14477E-2,2.046827E-2,491556.9,7202292,62924100,7202292,62924100,1.0865999999999992E-2,1.4912406500000003E-2,12.363925747965292,{"$f":"0","v":0},0,11.06646892236096,{"$f":"0","v":0},0,{"$f":"0","v":0},0,1.0754795889089992E-2,null,805,0.98886870000000004,1.113135E-2,1.0451999999999993E-2,2.0216669999999999E-2,0,5.67389420968255E-2,8778169,498115.1,6468908,12.445106872220231,7240801,63923560,1.0346347682579993E-2,11.1393507995526,null,0,0,null,1.4982113900000002E-2]
[809,1.155315E-2,2.0552129999999998E-2,489370.8,7189455,62590940,7189455,62590940,1.1004000000000009E-2,1.4889170700000001E-2,12.336382044045131,{"$f":"0","v":0},0,11.041665400323357,{"$f":"0","v":0},0,{"$f":"0","v":0},0,1.0890922180740009E-2,null,806,0.98876319999999995,1.12368E-2,1.0590000000000007E-2,2.0300530000000001E-2,0,5.653706515281353E-2,8770096,495929,6427217,12.41828727835369,7227965,63590410,1.0482508693650007E-2,11.115305708512956,null,0,0,null,1.49588781E-2]
[810,1.16586E-2,2.0636000000000002E-2,487184.7,7176618,62257780,7176618,62257780,1.1141999999999999E-2,1.4865934900000002E-2,12.308591151364155,{"$f":"0","v":0},0,11.016601075292337,{"$f":"0","v":0},0,{"$f":"0","v":0},0,1.1027036843999999E-2,null,807,0.98865780000000003,1.134225E-2,1.0728E-2,2.03844E-2,0,5.6335906486214157E-2,8762023,493742.9,6385525,12.391228165846368,7215128,63257250,1.06186580784E-2,11.091011715006765,null,0,0,null,1.4935642300000001E-2]
[811,1.176405E-2,2.0719870000000001E-2,484998.6,7163782,61924630,7163782,61924630,1.1279999999999991E-2,1.4842699100000004E-2,12.280549727360039,{"$f":"0","v":0},0,10.991271812107865,{"$f":"0","v":0},0,{"$f":"0","v":0},0,1.1163139933199992E-2,null,808,0.98855230000000005,1.14477E-2,1.0865999999999992E-2,2.046827E-2,0,5.6135463541399047E-2,8753950,491556.9,6343833,12.363925747965292,7202292,62924100,1.0754795889089992E-2,11.06646892236096,null,0,0,null,1.4912406500000003E-2]
[812,1.18695E-2,2.0803729999999999E-2,482812.5,7150945,61591470,7150945,61591470,1.1418000000000008E-2,1.4819463300000002E-2,12.25225644012945,{"$f":"0","v":0},0,10.965673387725419,{"$f":"0","v":0},0,{"$f":"0","v":0},0,1.1299231505430008E-2,null,809,0.98844679999999996,1.155315E-2,1.1004000000000009E-2,2.0552129999999998E-2,0,5.5935733771832766E-2,8745877,489370.8,6302141,12.336382044045131,7189455,62590940,1.0890922180740009E-2,11.041665400323357,null,0,0,null,1.4889170700000001E-2]
[813,1.197495E-2,2.0887599999999999E-2,480626.4,7138109,61258320,7138109,61258320,1.1556E-2,1.4796227500000004E-2,12.223703691682354,{"$f":"0","v":0},0,10.939805538907917,{"$f":"0","v":0},0,{"$f":"0","v":0},0,1.1435311447200001E-2,null,810,0.98834140000000004,1.16586E-2,1.1141999999999999E-2,2.0636000000000002E-2,0,5.5736714640040437E-2,8737804,487184.7,6260449,12.308591151364155,7176618,62257780,1.1027036843999999E-2,11.016601075292337,null,0,0,null,1.4865934900000002E-2]
[814,1.20804E-2,2.0971469999999999E-2,478440.3,7125272,60925160,7125272,60925160,1.1693999999999993E-2,1.4772991700000005E-2,12.194890015535899,{"$f":"0","v":0},0,10.91365577212245,{"$f":"0","v":0},0,{"$f":"0","v":0},0,1.1571379814909992E-2,null,811,0.988236,1.176405E-2,1.1279999999999991E-2,2.0719870000000001E-2,0,5.5538403617575519E-2,8729731,484998.6,6218757,12.280549727360039,7163782,61924630,1.1163139933199992E-2,10.991271812107865,null,0,0,null,1.4842699100000004E-2]
[815,1.218585E-2,2.1055330000000001E-2,476254.3,7112436,60592000,7112436,60592000,1.1832000000000007E-2,1.4749755900000003E-2,12.165809150349579,{"$f":"0","v":0},0,10.887227189428479,{"$f":"0","v":0},0,{"$f":"0","v":0},0,1.1707436667720008E-2,null,812,0.98813050000000002,1.18695E-2,1.1418000000000008E-2,2.0803729999999999E-2,0,5.5340798184987675E-2,8721658,482812.5,6177066,12.25225644012945,7150945,61591470,1.1299231505430008E-2,10.965673387725419,null,0,0,null,1.4819463300000002E-2]
[816,1.22913E-2,2.11392E-2,474068.2,7099599,60258850,7099599,60258850,1.197E-2,1.4726520100000005E-2,12.136462767030848,{"$f":"0","v":0},0,10.860508080256947,{"$f":"0","v":0},0,{"$f":"0","v":0},0,1.1843481888000001E-2,null,813,0.98802509999999999,1.197495E-2,1.1556E-2,2.0887599999999999E-2,0,5.5143895831790746E-2,8713585,480626.4,6135374,12.223703691682354,7138109,61258320,1.1435311447200001E-2,10.939805538907917,null,0,0,null,1.4796227500000004E-2]
[817,1.24095E-2,2.1229600000000001E-2,471948.79999999999,7085320,59932470,7085320,59932470,1.2127499999999991E-2,1.4701467883333338E-2,12.109690853471111,{"$f":"0","v":0},0,10.836075507930898,{"$f":"0","v":0},0,{"$f":"0","v":0},0,1.1998769012999991E-2,null,814,0.98791960000000001,1.20804E-2,1.1693999999999993E-2,2.0971469999999999E-2,0,5.49476940564309E-2,8705512,478440.3,6093682,12.194890015535899,7125272,60925160,1.1571379814909992E-2,10.91365577212245,null,0,0,null,1.4772991700000005E-2]
[818,1.2527699999999999E-2,2.1319999999999999E-2,469829.4,7071041,59606100,7071041,59606100,1.2285000000000008E-2,1.467641566666667E-2,12.082675275323341,{"$f":"0","v":0},0,10.811391428502088,{"$f":"0","v":0},0,{"$f":"0","v":0},0,1.2154041900000008E-2,null,815,0.98781410000000003,1.218585E-2,1.1832000000000007E-2,2.1055330000000001E-2,0,5.4752190366254803E-2,8697439,476254.3,6051990,12.165809150349579,7112436,60592000,1.1707436667720008E-2,10.887227189428479,null,0,0,null,1.4749755900000003E-2]
[819,1.26459E-2,2.14104E-2,467710.1,7056762,59279720,7056762,59279720,1.2442499999999999E-2,1.4651363450000003E-2,12.055412164857392,{"$f":"0","v":0},0,10.78644723825477,{"$f":"0","v":0},0,{"$f":"0","v":0},0,1.2309300548999999E-2,null,816,0.9877087,1.22913E-2,1.197E-2,2.11392E-2,0,5.4557382277477973E-2,8689366,474068.2,6010298,12.136462767030848,7099599,60258850,1.1843481888000001E-2,10.860508080256947,null,0,0,null,1.4726520100000005E-2]
[820,1.27641E-2,2.15008E-2,465590.7,7042483,58953350,7042483,58953350,1.259999999999999E-2,1.4626311233333337E-2,12.027905706664674,{"$f":"0","v":0},0,10.761235655652438,{"$f":"0","v":0},0,{"$f":"0","v":0},0,1.2464544959999989E-2,null,817,0.98759050000000004,1.24095E-2,1.2127499999999991E-2,2.1229600000000001E-2,0,5.4363267315153237E-2,8680466,471948.79999999999,5970793,12.109690853471111,7085320,59932470,1.1998769012999991E-2,10.836075507930898,null,0,0,null,1.4701467883333338E-2]
[821,1.2882299999999999E-2,2.1591200000000001E-2,463471.3,7028204,58626970,7028204,58626970,1.2757500000000008E-2,1.4601259016666668E-2,12.000145523214348,{"$f":"0","v":0},0,10.73575977783568,{"$f":"0","v":0},0,{"$f":"0","v":0},0,1.2619775133000008E-2,null,818,0.98747229999999997,1.2527699999999999E-2,1.2285000000000008E-2,2.1319999999999999E-2,0,5.416984301313927E-2,8671565,469829.4,5931287,12.082675275323341,7071041,59606100,1.2154041900000008E-2,10.811391428502088,null,0,0,null,1.467641566666667E-2]
[822,1.30005E-2,2.1681599999999999E-2,461352,7013925,58300600,7013925,58300600,1.2914999999999999E-2,1.4576206800000002E-2,11.972127572872775,{"$f":"0","v":0},0,10.710007968816848,{"$f":"0","v":0},0,{"$f":"0","v":0},0,1.2774991067999999E-2,null,819,0.98735410000000001,1.26459E-2,1.2442499999999999E-2,2.14104E-2,0,5.3977106914069262E-2,8662665,467710.1,5891781,12.055412164857392,7056762,59279720,1.2309300548999999E-2,10.78644723825477,null,0,0,null,1.4651363450000003E-2]
[823,1.31187E-2,2.1772E-2,459232.6,6999647,57974220,6999647,57974220,1.307249999999999E-2,1.4551154583333335E-2,11.943855920362218,{"$f":"0","v":0},0,10.683987397018409,{"$f":"0","v":0},0,{"$f":"0","v":0},0,1.2930192764999991E-2,null,820,0.98723590000000006,1.27641E-2,1.259999999999999E-2,2.15008E-2,0,5.3785056569319707E-2,8653765,465590.7,5852276,12.027905706664674,7042483,58953350,1.2464544959999989E-2,10.761235655652438,null,0,0,null,1.4626311233333337E-2]
[824,1.3236899999999999E-2,2.1862400000000001E-2,457113.3,6985368,57647850,6985368,57647850,1.3230000000000009E-2,1.4526102366666667E-2,11.915317192695991,{"$f":"0","v":0},0,10.657677822223153,{"$f":"0","v":0},0,{"$f":"0","v":0},0,1.3085380224000008E-2,null,821,0.98711769999999999,1.2882299999999999E-2,1.2757500000000008E-2,2.1591200000000001E-2,0,5.3593689538979292E-2,8644864,463471.3,5812770,12.000145523214348,7028204,58626970,1.2619775133000008E-2,10.73575977783568,null,0,0,null,1.4601259016666668E-2]
[825,1.33551E-2,2.1952800000000001E-2,454993.9,6971089,57321470,6971089,57321470,1.33875E-2,1.450105015E-2,11.886515337531632,{"$f":"0","v":0},0,10.631082527449678,{"$f":"0","v":0},0,{"$f":"0","v":0},0,1.3240553445000001E-2,null,822,0.98699950000000003,1.30005E-2,1.2914999999999999E-2,2.1681599999999999E-2,0,5.340300339181793E-2,8635964,461352,5773264,11.972127572872775,7013925,58300600,1.2774991067999999E-2,10.710007968816848,null,0,0,null,1.4576206800000002E-2]
[826,1.3473300000000001E-2,2.2043199999999999E-2,452874.5,6956810,56995100,6956810,56995100,1.3544999999999991E-2,1.4475997933333335E-2,11.857446111818323,{"$f":"0","v":0},0,10.604200613570999,{"$f":"0","v":0},0,{"$f":"0","v":0},0,1.3395712427999992E-2,null,823,0.98688129999999996,1.31187E-2,1.307249999999999E-2,2.1772E-2,0,5.3212995705255769E-2,8627064,459232.6,5733759,11.943855920362218,6999647,57974220,1.2930192764999991E-2,10.683987397018409,null,0,0,null,1.4551154583333335E-2]
[827,1.3591499999999999E-2,2.21336E-2,450755.2,6942531,56668720,6942531,56668720,1.3702500000000008E-2,1.4450945716666663E-2,11.828098562885872,{"$f":"0","v":0},0,10.577019757565484,{"$f":"0","v":0},0,{"$f":"0","v":0},0,1.3550857173000008E-2,null,824,0.9867631,1.3236899999999999E-2,1.3230000000000009E-2,2.1862400000000001E-2,0,5.3023664065332571E-2,8618163,457113.3,5694253,11.915317192695991,6985368,57647850,1.3085380224000008E-2,10.657677822223153,null,0,0,null,1.4526102366666667E-2]
[828,1.37097E-2,2.2224000000000001E-2,448635.8,6928252,56342350,6928252,56342350,1.3859999999999999E-2,1.4425893499999998E-2,11.798476496228494,{"$f":"0","v":0},0,10.549542653792935,{"$f":"0","v":0},0,{"$f":"0","v":0},0,1.3705987679999998E-2,null,825,0.98664490000000005,1.33551E-2,1.33875E-2,2.1952800000000001E-2,0,5.283500606667689E-2,8609263,454993.9,5654747,11.886515337531632,6971089,57321470,1.3240553445000001E-2,10.631082527449678,null,0,0,null,1.450105015E-2]
[829,1.3840649999999999E-2,2.232133E-2,446579.3,6912423,56022430,6912423,56022430,1.4039499999999989E-2,1.4399024866666667E-2,11.771586545024965,{"$f":"0","v":0},0,10.524457067150731,{"$f":"0","v":0},0,{"$f":"0","v":0},0,1.388280984373249E-2,null,826,0.98652669999999998,1.3473300000000001E-2,1.3544999999999991E-2,2.2043199999999999E-2,0,5.2647019312475639E-2,8600363,452874.5,5615242,11.857446111818323,6956810,56995100,1.3395712427999992E-2,10.604200613570999,null,0,0,null,1.4475997933333335E-2]
[830,1.3971600000000001E-2,2.2418670000000002E-2,444522.9,6896595,55702500,6896595,55702500,1.4219000000000009E-2,1.4372156233333332E-2,11.744445027466526,{"$f":"0","v":0},0,10.499108443642308,{"$f":"0","v":0},0,{"$f":"0","v":0},0,1.405961446563501E-2,null,827,0.98640850000000002,1.3591499999999999E-2,1.3702500000000008E-2,2.21336E-2,0,5.2459701414443553E-2,8591462,450755.2,5575736,11.828098562885872,6942531,56668720,1.3550857173000008E-2,10.577019757565484,null,0,0,null,1.4450945716666663E-2]
[831,1.410255E-2,2.2516000000000001E-2,442466.4,6880766,55382580,6880766,55382580,1.4398499999999998E-2,1.4345287600000001E-2,11.717051735453811,{"$f":"0","v":0},0,10.473480517577343,{"$f":"0","v":0},0,{"$f":"0","v":0},0,1.4236401686999998E-2,null,828,0.98629029999999995,1.37097E-2,1.3859999999999999E-2,2.2224000000000001E-2,0,5.2273049992792857E-2,8582562,448635.8,5536230,11.798476496228494,6928252,56342350,1.3705987679999998E-2,10.549542653792935,null,0,0,null,1.4425893499999998E-2]
[832,{"$f":"W837","v":1.42335E-2},{"$f":"Y837","v":2.2613330000000001E-2},{"$f":"AC837","v":440409.9},{"$f":"AF837","v":6864937},{"$f":"AG837","v":55062660},{"$f":"E834","v":6864937},{"$f":"F834","v":55062660},{"$f":"X837","v":1.4577999999999989E-2},{"$f":"AN837","v":1.431841896666667E-2},{"$f":"AE837","v":11.689404887356075},{"$f":"0","v":0},{"$f":"AL837","v":0},{"$f":"AI837","v":10.447585204699392},{"$f":"0","v":0},{"$f":"AK837","v":0},{"$f":"0","v":0},{"$f":"Z837","v":0},{"$f":"AH837","v":1.4413171437629988E-2},null,829,0.98615929999999996,1.3840649999999999E-2,1.4039499999999989E-2,2.232133E-2,0,5.208706267620309E-2,8572757,446579.3,5498844,11.771586545024965,6912423,56022430,1.388280984373249E-2,10.524457067150731,null,0,0,null,1.4399024866666667E-2]
[833,1.4364450000000001E-2,2.2710669999999999E-2,438353.5,6849109,54742740,6849109,54742740,1.4757500000000008E-2,1.4291550333333335E-2,11.661495849430501,{"$f":"0","v":0},0,10.421405982848944,{"$f":"0","v":0},0,{"$f":"0","v":0},0,1.4589923643737509E-2,null,830,0.98602840000000003,1.3971600000000001E-2,1.4219000000000009E-2,2.2418670000000002E-2,0,5.190173710179094E-2,8562951,444522.9,5461458,11.744445027466526,6896595,55702500,1.405961446563501E-2,10.499108443642308,null,0,0,null,1.4372156233333332E-2]
[834,1.44954E-2,2.2807999999999998E-2,436297,6833280,54422820,6833280,54422820,1.4936999999999999E-2,1.4264681700000004E-2,11.633324222567044,{"$f":"0","v":0},0,10.394941799852329,{"$f":"0","v":0},0,{"$f":"0","v":0},0,1.4766658452E-2,null,831,0.98589740000000003,1.410255E-2,1.4398499999999998E-2,2.2516000000000001E-2,0,5.1717070915080189E-2,8553146,442466.4,5424071,11.717051735453811,6880766,55382580,1.4236401686999998E-2,10.473480517577343,null,0,0,null,1.4345287600000001E-2]
[835,1.462635E-2,2.2905330000000002E-2,434240.5,6817452,54102900,6817452,54102900,1.5116499999999988E-2,1.4237813066666672E-2,11.604888065100639,{"$f":"0","v":0},0,10.368188737663464,{"$f":"0","v":0},0,{"$f":"0","v":0},0,1.4943375789527489E-2,null,832,0.98576649999999999,1.42335E-2,1.4577999999999989E-2,2.2613330000000001E-2,0,5.1533061769971862E-2,8543340,440409.9,5386685,11.689404887356075,6864937,55062660,1.4413171437629988E-2,10.447585204699392,null,0,0,null,1.431841896666667E-2]
[836,1.4757299999999999E-2,2.3002669999999999E-2,432184,6801623,53782980,6801623,53782980,1.5296000000000008E-2,1.4210944433333338E-2,11.576181286982706,{"$f":"0","v":0},0,10.341145640048302,{"$f":"0","v":0},0,{"$f":"0","v":0},0,1.5120075579840008E-2,null,833,0.98563559999999995,1.4364450000000001E-2,1.4757500000000008E-2,2.2710669999999999E-2,0,5.1349707328714411E-2,8533535,438353.5,5349299,11.661495849430501,6849109,54742740,1.4589923643737509E-2,10.421405982848944,null,0,0,null,1.4291550333333335E-2]
[837,1.488825E-2,2.3099999999999999E-2,430127.6,6785794,53463050,6785794,53463050,1.5475499999999998E-2,1.4184075800000006E-2,11.547194871165363,{"$f":"0","v":0},0,10.313795318596414,{"$f":"0","v":0},0,{"$f":"0","v":0},0,1.5296757974999999E-2,null,834,0.98550459999999995,1.44954E-2,1.4936999999999999E-2,2.2807999999999998E-2,0,5.1167005261873968E-2,8523730,436297,5311912,11.633324222567044,6833280,54422820,1.4766658452E-2,10.394941799852329,null,0,0,null,1.4264681700000004E-2]
[838,1.50192E-2,2.3197329999999999E-2,428071.1,6769966,53143130,6769966,53143130,1.5654999999999988E-2,1.4157207166666675E-2,11.517935114439323,{"$f":"0","v":0},0,10.286149492718568,{"$f":"0","v":0},0,{"$f":"0","v":0},0,1.547342289942499E-2,null,835,0.98537370000000002,1.462635E-2,1.5116499999999988E-2,2.2905330000000002E-2,0,5.0984953248304793E-2,8513924,434240.5,5274526,11.604888065100639,6817452,54102900,1.4943375789527489E-2,10.368188737663464,null,0,0,null,1.4237813066666672E-2]
[839,1.5150149999999999E-2,2.329467E-2,426014.6,6754137,52823210,6754137,52823210,1.5834500000000008E-2,1.413033853333334E-2,11.488392866504263,{"$f":"0","v":0},0,10.25818629736186,{"$f":"0","v":0},0,{"$f":"0","v":0},0,1.5650070273942506E-2,null,836,0.98524270000000003,1.4757299999999999E-2,1.5296000000000008E-2,2.3002669999999999E-2,0,5.0803548975119774E-2,8504119,432184,5237140,11.576181286982706,6801623,53782980,1.5120075579840008E-2,10.341145640048302,null,0,0,null,1.4210944433333338E-2]
[840,1.5281100000000001E-2,2.3392E-2,423958.2,6738309,52503290,6738309,52503290,1.6013999999999997E-2,1.4103469900000009E-2,11.458558827261745,{"$f":"0","v":0},0,10.229917367488504,{"$f":"0","v":0},0,{"$f":"0","v":0},0,1.5826700255999998E-2,null,837,0.98511179999999998,1.488825E-2,1.5475499999999998E-2,2.3099999999999999E-2,0,5.0622790137661043E-2,8494313,430127.6,5199753,11.547194871165363,6785794,53463050,1.5296757974999999E-2,10.313795318596414,null,0,0,null,1.4184075800000006E-2]
[841,1.5424500000000001E-2,2.356507E-2,421961.6,6720841,52189690,6720841,52189690,1.6013999999999997E-2,1.4103469900000009E-2,11.431612418444397,{"$f":"0","v":0},0,10.204144213047568,{"$f":"0","v":0},0,{"$f":"0","v":0},0,1.5825314484509995E-2,null,838,0.98498079999999999,1.50192E-2,1.5654999999999988E-2,2.3197329999999999E-2,0,5.044267443947071E-2,8484508,428071.1,5162367,11.517935114439323,6769966,53143130,1.547342289942499E-2,10.286149492718568,null,0,0,null,1.4157207166666675E-2]
[842,1.5567900000000001E-2,2.373813E-2,419965.1,6703373,51876090,6703373,51876090,1.6013999999999997E-2,1.4103469900000009E-2,11.404406947545564,{"$f":"0","v":0},0,10.178100493688566,{"$f":"0","v":0},0,{"$f":"0","v":0},0,1.5823928793089997E-2,null,839,0.98484989999999994,1.5150149999999999E-2,1.5834500000000008E-2,2.329467E-2,0,5.0263199592261644E-2,8474702,426014.6,5124981,11.488392866504263,6754137,52823210,1.5650070273942506E-2,10.25818629736186,null,0,0,null,1.413033853333334E-2]
[843,1.5711300000000001E-2,2.3911200000000001E-2,417968.5,6685905,51562490,6685905,51562490,1.6013999999999997E-2,1.4103469900000009E-2,11.376946817363828,{"$f":"0","v":0},0,10.151764595628363,{"$f":"0","v":0},0,{"$f":"0","v":0},0,1.5822543021599998E-2,null,840,0.98471889999999995,1.5281100000000001E-2,1.6013999999999997E-2,2.3392E-2,0,5.0084363315888468E-2,8464897,423958.2,5087594,11.458558827261745,6738309,52503290,1.5826700255999998E-2,10.229917367488504,null,0,0,null,1.4103469900000009E-2]
[844,1.5854699999999999E-2,2.4084270000000001E-2,415972,6668437,51248890,6668437,51248890,1.6013999999999997E-2,1.4103469900000009E-2,11.34921781594274,{"$f":"0","v":0},0,10.125148987344692,{"$f":"0","v":0},0,{"$f":"0","v":0},0,1.5821157250109998E-2,null,841,0.98457550000000005,1.5424500000000001E-2,1.6013999999999997E-2,2.356507E-2,0,4.9906163338318509E-2,8454118,421961.6,5052264,11.431612418444397,6720841,52189690,1.5825314484509995E-2,10.204144213047568,null,0,0,null,1.4103469900000009E-2]
[845,1.5998100000000001E-2,2.4257330000000001E-2,413975.4,6650970,50935290,6650970,50935290,1.6013999999999997E-2,1.4103469900000009E-2,11.321224220086508,{"$f":"0","v":0},0,10.098231710256846,{"$f":"0","v":0},0,{"$f":"0","v":0},0,1.5819771558689997E-2,null,842,0.98443210000000003,1.5567900000000001E-2,1.6013999999999997E-2,2.373813E-2,0,4.9728597395603008E-2,8443338,419965.1,5016934,11.404406947545564,6703373,51876090,1.5823928793089997E-2,10.178100493688566,null,0,0,null,1.4103469900000009E-2]
[846,1.61415E-2,2.4430400000000001E-2,411978.9,6633502,50621690,6633502,50621690,1.6013999999999997E-2,1.4103469900000009E-2,11.292956417185444,{"$f":"0","v":0},0,10.071025168394701,{"$f":"0","v":0},0,{"$f":"0","v":0},0,1.5818385787199997E-2,null,843,0.98428870000000002,1.5711300000000001E-2,1.6013999999999997E-2,2.3911200000000001E-2,0,4.9551663231848342E-2,8432559,417968.5,4981605,11.376946817363828,6685905,51562490,1.5822543021599998E-2,10.151764595628363,null,0,0,null,1.4103469900000009E-2]
[847,1.6284900000000001E-2,2.4603469999999999E-2,409982.3,6616034,50308080,6616034,50308080,1.6013999999999997E-2,1.4103469900000009E-2,11.264416181300186,{"$f":"0","v":0},0,10.043507044856648,{"$f":"0","v":0},0,{"$f":"0","v":0},0,1.5817000015709997E-2,null,844,0.9841453,1.5854699999999999E-2,1.6013999999999997E-2,2.4084270000000001E-2,0,4.9375358599187319E-2,8421779,415972,4946275,11.34921781594274,6668437,51248890,1.5821157250109998E-2,10.125148987344692,null,0,0,null,1.4103469900000009E-2]
[848,1.64283E-2,2.4776530000000001E-2,407985.8,6598566,49994480,6598566,49994480,1.6013999999999997E-2,1.4103469900000009E-2,11.235593718376148,{"$f":"0","v":0},0,10.015685169326133,{"$f":"0","v":0},0,{"$f":"0","v":0},0,1.5815614324289996E-2,null,845,0.98400189999999998,1.5998100000000001E-2,1.6013999999999997E-2,2.4257330000000001E-2,0,4.9199681257750642E-2,8411000,413975.4,4910945,11.321224220086508,6650970,50935290,1.5819771558689997E-2,10.098231710256846,null,0,0,null,1.4103469900000009E-2]
[849,1.6571700000000002E-2,2.4949599999999999E-2,405989.3,6581098,49680880,6581098,49680880,1.6013999999999997E-2,1.4103469900000009E-2,11.206487779768253,{"$f":"0","v":0},0,9.9875546400476338,{"$f":"0","v":0},0,{"$f":"0","v":0},0,1.5814228552799996E-2,null,846,0.98385849999999997,1.61415E-2,1.6013999999999997E-2,2.4430400000000001E-2,0,4.9024628975638494E-2,8400220,411978.9,4875615,11.292956417185444,6633502,50621690,1.5818385787199997E-2,10.071025168394701,null,0,0,null,1.4103469900000009E-2]
[850,1.67151E-2,2.512267E-2,403992.7,6563630,49367280,6563630,49367280,1.6013999999999997E-2,1.4103469900000009E-2,11.177097063470042,{"$f":"0","v":0},0,9.9590968145316943,{"$f":"0","v":0},0,{"$f":"0","v":0},0,1.5812842781309996E-2,null,847,0.98371509999999995,1.6284900000000001E-2,1.6013999999999997E-2,2.4603469999999999E-2,0,4.8850199528892142E-2,8389441,409982.3,4840285,11.264416181300186,6616034,50308080,1.5817000015709997E-2,10.043507044856648,null,0,0,null,1.4103469900000009E-2]
[851,1.6858499999999998E-2,2.5295729999999999E-2,401996.1,6546163,49053680,6546163,49053680,1.6013999999999997E-2,1.4103469900000009E-2,11.147416884143903,{"$f":"0","v":0},0,9.9303238922214891,{"$f":"0","v":0},0,{"$f":"0","v":0},0,1.5811457089889996E-2,null,848,0.98357170000000005,1.64283E-2,1.6013999999999997E-2,2.4776530000000001E-2,0,4.8676390701465656E-2,8378662,407985.8,4804955,11.235593718376148,6598566,49994480,1.5815614324289996E-2,10.015685169326133,null,0,0,null,1.4103469900000009E-2]
[852,1.70019E-2,2.54688E-2,399999.6,6528695,48740080,6528695,48740080,1.6013999999999997E-2,1.4103469900000009E-2,11.117434992434994,{"$f":"0","v":0},0,9.9012125957666264,{"$f":"0","v":0},0,{"$f":"0","v":0},0,1.5810071318399996E-2,null,849,0.98342830000000003,1.6571700000000002E-2,1.6013999999999997E-2,2.4949599999999999E-2,0,4.8503200285197841E-2,8367882,405989.3,4769625,11.206487779768253,6581098,49680880,1.5814228552799996E-2,9.9875546400476338,null,0,0,null,1.4103469900000009E-2]
[853,1.7157599999999999E-2,2.565887E-2,398060.9,6510843,48442330,6510843,48442330,1.6013999999999997E-2,1.4103469900000009E-2,11.090478062946314,{"$f":"0","v":0},0,9.8754134306537775,{"$f":"0","v":0},0,{"$f":"0","v":0},0,1.5808549427909997E-2,null,850,0.98328490000000002,1.67151E-2,1.6013999999999997E-2,2.512267E-2,0,4.8330626079784091E-2,8357103,403992.7,4734295,11.177097063470042,6563630,49367280,1.5812842781309996E-2,9.9590968145316943,null,0,0,null,1.4103469900000009E-2]
[854,1.73133E-2,2.5848929999999999E-2,396122.3,6492991,48144580,6492991,48144580,1.6013999999999997E-2,1.4103469900000009E-2,11.063256863263359,{"$f":"0","v":0},0,9.8493171220362186,{"$f":"0","v":0},0,{"$f":"0","v":0},0,1.5807027617489998E-2,null,851,0.9831415,1.6858499999999998E-2,1.6013999999999997E-2,2.5295729999999999E-2,0,4.8158665892748476E-2,8346324,401996.1,4698966,11.147416884143903,6546163,49053680,1.5811457089889996E-2,9.9303238922214891,null,0,0,null,1.4103469900000009E-2]
[855,1.7468999999999998E-2,2.6039E-2,394183.6,6475140,47846820,6475140,47846820,1.6013999999999997E-2,1.4103469900000009E-2,11.035770852296579,{"$f":"0","v":0},0,9.8229367574982867,{"$f":"0","v":0},0,{"$f":"0","v":0},0,1.5805505726999999E-2,null,852,0.98299809999999999,1.70019E-2,1.6013999999999997E-2,2.54688E-2,0,4.7987317539415923E-2,8335544,399999.6,4663636,11.117434992434994,6528695,48740080,1.5810071318399996E-2,9.9012125957666264,null,0,0,null,1.4103469900000009E-2]
[856,1.76247E-2,2.622907E-2,392244.9,6457288,47549060,6457288,47549060,1.6013999999999997E-2,1.4103469900000009E-2,11.008010588537926,{"$f":"0","v":0},0,9.7962539617142781,{"$f":"0","v":0},0,{"$f":"0","v":0},0,1.5803983836509997E-2,null,853,0.9828424,1.7157599999999999E-2,1.6013999999999997E-2,2.565887E-2,0,4.78165788428844E-2,8323734,398060.9,4630302,11.090478062946314,6510843,48442330,1.5808549427909997E-2,9.8754134306537775,null,0,0,null,1.4103469900000009E-2]
[857,1.7780399999999998E-2,2.6419129999999999E-2,390306.2,6439437,47251310,6439437,47251310,1.6013999999999997E-2,1.4103469900000009E-2,10.979977109425027,{"$f":"0","v":0},0,9.7692725499428263,{"$f":"0","v":0},0,{"$f":"0","v":0},0,1.5802462026089998E-2,null,854,0.98268670000000002,1.73133E-2,1.6013999999999997E-2,2.5848929999999999E-2,0,4.7646447633997273E-2,8311924,396122.3,4596969,11.063256863263359,6492991,48144580,1.5807027617489998E-2,9.8493171220362186,null,0,0,null,1.4103469900000009E-2]
[858,1.79361E-2,2.66092E-2,388367.5,6421585,46953550,6421585,46953550,1.6013999999999997E-2,1.4103469900000009E-2,10.951661173587732,{"$f":"0","v":0},0,9.7419737476050994,{"$f":"0","v":0},0,{"$f":"0","v":0},0,1.5800940135599996E-2,null,855,0.98253100000000004,1.7468999999999998E-2,1.6013999999999997E-2,2.6039E-2,0,4.7476921751315779E-2,8300114,394183.6,4563636,11.035770852296579,6475140,47846820,1.5805505726999999E-2,9.8229367574982867,null,0,0,null,1.4103469900000009E-2]
[859,1.8091800000000002E-2,2.679927E-2,386428.8,6403733,46655800,6403733,46655800,1.6013999999999997E-2,1.4103469900000009E-2,10.9230637053967,{"$f":"0","v":0},0,9.7143704972530891,{"$f":"0","v":0},0,{"$f":"0","v":0},0,1.5799418245109997E-2,null,856,0.98237529999999995,1.76247E-2,1.6013999999999997E-2,2.622907E-2,0,4.730799904109155E-2,8288304,392244.9,4530302,11.008010588537926,6457288,47549060,1.5803983836509997E-2,9.7962539617142781,null,0,0,null,1.4103469900000009E-2]
[860,1.82475E-2,2.6989340000000001E-2,384490.2,6385882,46358040,6385882,46358040,1.6013999999999997E-2,1.4103469900000009E-2,10.894174871037025,{"$f":"0","v":0},0,9.6864436938036338,{"$f":"0","v":0},0,{"$f":"0","v":0},0,1.5797896354619995E-2,null,857,0.98221959999999997,1.7780399999999998E-2,1.6013999999999997E-2,2.6419129999999999E-2,0,4.7139677357239229E-2,8276494,390306.2,4496969,10.979977109425027,6439437,47251310,1.5802462026089998E-2,9.7692725499428263,null,0,0,null,1.4103469900000009E-2]
[861,1.8403200000000002E-2,2.7179399999999999E-2,382551.5,6368030,46060290,6368030,46060290,1.6013999999999997E-2,1.4103469900000009E-2,10.864993613060378,{"$f":"0","v":0},0,9.6581921927929617,{"$f":"0","v":0},0,{"$f":"0","v":0},0,1.5796374544199996E-2,null,858,0.98206389999999999,1.79361E-2,1.6013999999999997E-2,2.66092E-2,0,4.6971954561309225E-2,8264684,388367.5,4463635,10.951661173587732,6421585,46953550,1.5800940135599996E-2,9.7419737476050994,null,0,0,null,1.4103469900000009E-2]
[862,1.85589E-2,2.736947E-2,380612.8,6350178,45762540,6350178,45762540,1.6013999999999997E-2,1.4103469900000009E-2,10.835517705482669,{"$f":"0","v":0},0,9.6296151129063468,{"$f":"0","v":0},0,{"$f":"0","v":0},0,1.5794852653709997E-2,null,859,0.98190820000000001,1.8091800000000002E-2,1.6013999999999997E-2,2.679927E-2,0,4.6804828522460547E-2,8252874,386428.8,4430302,10.9230637053967,6403733,46655800,1.5799418245109997E-2,9.7143704972530891,null,0,0,null,1.4103469900000009E-2]
[863,1.8714600000000001E-2,2.755954E-2,378674.2,6332327,45464780,6332327,45464780,1.6013999999999997E-2,1.4103469900000009E-2,10.805736985338145,{"$f":"0","v":0},0,9.6006973201563319,{"$f":"0","v":0},0,{"$f":"0","v":0},0,1.5793330763219999E-2,null,860,0.98175250000000003,1.82475E-2,1.6013999999999997E-2,2.6989340000000001E-2,0,4.6638297117433739E-2,8241064,384490.2,4396969,10.894174871037025,6385882,46358040,1.5797896354619995E-2,9.6864436938036338,null,0,0,null,1.4103469900000009E-2]
[864,1.88703E-2,2.7749599999999999E-2,376735.5,6314475,45167020,6314475,45167020,1.6013999999999997E-2,1.4103469900000009E-2,10.775650124556885,{"$f":"0","v":0},0,9.5714421084747148,{"$f":"0","v":0},0,{"$f":"0","v":0},0,1.5791808952799996E-2,null,861,0.98159680000000005,1.8403200000000002E-2,1.6013999999999997E-2,2.7179399999999999E-2,0,4.6472358230523883E-2,8229254,382551.5,4363635,10.864993613060378,6368030,46060290,1.5796374544199996E-2,9.6581921927929617,null,0,0,null,1.4103469900000009E-2]
[865,1.9038449999999998E-2,2.795827E-2,374853.3,6296236,44884420,6296236,44884420,1.6013999999999997E-2,1.4103469900000009E-2,10.748726134997344,{"$f":"0","v":0},0,9.5456535805277856,{"$f":"0","v":0},0,{"$f":"0","v":0},0,1.5790138132109995E-2,null,862,0.98144109999999996,1.85589E-2,1.6013999999999997E-2,2.736947E-2,0,4.6307009753553716E-2,8217444,380612.8,4330302,10.835517705482669,6350178,45762540,1.5794852653709997E-2,9.6296151129063468,null,0,0,null,1.4103469900000009E-2]
[866,1.9206600000000001E-2,2.816693E-2,372971.2,6277996,44601820,6277996,44601820,1.6013999999999997E-2,1.4103469900000009E-2,10.721524700387947,{"$f":"0","v":0},0,9.5195674248930153,{"$f":"0","v":0},0,{"$f":"0","v":0},0,1.5788467391489997E-2,null,863,0.98128539999999997,1.8714600000000001E-2,1.6013999999999997E-2,2.755954E-2,0,4.6142249585846902E-2,8205634,378674.2,4296969,10.805736985338145,6332327,45464780,1.5793330763219999E-2,9.6006973201563319,null,0,0,null,1.4103469900000009E-2]
[867,1.937475E-2,2.8375600000000001E-2,371089.1,6259757,44319230,6259757,44319230,1.6013999999999997E-2,1.4103469900000009E-2,10.69405003856666,{"$f":"0","v":0},0,9.4931784592442519,{"$f":"0","v":0},0,{"$f":"0","v":0},0,1.5786796570799996E-2,null,864,0.98112969999999999,1.88703E-2,1.6013999999999997E-2,2.7749599999999999E-2,0,4.5978075634201268E-2,8193824,376735.5,4263635,10.775650124556885,6314475,45167020,1.5791808952799996E-2,9.5714421084747148,null,0,0,null,1.4103469900000009E-2]
[868,1.9542899999999998E-2,2.8584269999999998E-2,369207,6241518,44036630,6241518,44036630,1.6013999999999997E-2,1.4103469900000009E-2,10.666292554041501,{"$f":"0","v":0},0,9.4664861630486303,{"$f":"0","v":0},0,{"$f":"0","v":0},0,1.5785125750109995E-2,null,865,0.98096159999999999,1.9038449999999998E-2,1.6013999999999997E-2,2.795827E-2,0,4.5814485812862259E-2,8180939,374853.3,4232241,10.748726134997344,6296236,44884420,1.5790138132109995E-2,9.5456535805277856,null,0,0,null,1.4103469900000009E-2]
[869,1.9711050000000001E-2,2.8792930000000001E-2,367324.8,6223278,43754030,6223278,43754030,1.6013999999999997E-2,1.4103469900000009E-2,10.638253665420903,{"$f":"0","v":0},0,9.4394755578778611,{"$f":"0","v":0},0,{"$f":"0","v":0},0,1.5783455009489997E-2,null,866,0.98079340000000004,1.9206600000000001E-2,1.6013999999999997E-2,2.816693E-2,0,4.5651478043496424E-2,8168054,372971.2,4200846,10.721524700387947,6277996,44601820,1.5788467391489997E-2,9.5195674248930153,null,0,0,null,1.4103469900000009E-2]
[870,1.98792E-2,2.9001599999999999E-2,365442.8,6205039,43471430,6205039,43471430,1.6013999999999997E-2,1.4103469900000009E-2,10.609922583415701,{"$f":"0","v":0},0,9.4121458553040576,{"$f":"0","v":0},0,{"$f":"0","v":0},0,1.5781784188799997E-2,null,867,0.98062530000000003,1.937475E-2,1.6013999999999997E-2,2.8375600000000001E-2,0,4.548905025516501E-2,8155169,371089.1,4169452,10.69405003856666,6259757,44319230,1.5786796570799996E-2,9.4931784592442519,null,0,0,null,1.4103469900000009E-2]
[871,2.0047349999999999E-2,2.921027E-2,363560.6,6186799,43188830,6186799,43188830,1.6013999999999997E-2,1.4103469900000009E-2,10.581301553762062,{"$f":"0","v":0},0,9.3844913671067545,{"$f":"0","v":0},0,{"$f":"0","v":0},0,1.5780113368109996E-2,null,868,0.98045709999999997,1.9542899999999998E-2,1.6013999999999997E-2,2.8584269999999998E-2,0,4.5327200384297689E-2,8142284,369207,4138057,10.666292554041501,6241518,44036630,1.5785125750109995E-2,9.4664861630486303,null,0,0,null,1.4103469900000009E-2]
[872,2.0215500000000001E-2,2.9418929999999999E-2,361678.5,6168560,42906230,6168560,42906230,1.6013999999999997E-2,1.4103469900000009E-2,10.552382329886903,{"$f":"0","v":0},0,9.3565111124159603,{"$f":"0","v":0},0,{"$f":"0","v":0},0,1.5778442627489998E-2,null,869,0.98028890000000002,1.9711050000000001E-2,1.6013999999999997E-2,2.8792930000000001E-2,0,4.5165926374666251E-2,8129399,367324.8,4106662,10.638253665420903,6223278,43754030,1.5783455009489997E-2,9.4394755578778611,null,0,0,null,1.4103469900000009E-2]
[873,2.038365E-2,2.96276E-2,359796.4,6150320,42623630,6150320,42623630,1.6013999999999997E-2,1.4103469900000009E-2,10.523157772933063,{"$f":"0","v":0},0,9.3281894553824785,{"$f":"0","v":0},0,{"$f":"0","v":0},0,1.5776771806799997E-2,null,870,0.98012080000000001,1.98792E-2,1.6013999999999997E-2,2.9001599999999999E-2,0,4.5005226177358595E-2,8116514,365442.8,4075268,10.609922583415701,6205039,43471430,1.5781784188799997E-2,9.4121458553040576,null,0,0,null,1.4103469900000009E-2]
[874,2.0551799999999999E-2,2.9836270000000002E-2,357914.3,6132081,42341030,6132081,42341030,1.6013999999999997E-2,1.4103469900000009E-2,10.49362865402882,{"$f":"0","v":0},0,9.2995251155392076,{"$f":"0","v":0},0,{"$f":"0","v":0},0,1.5775100986109996E-2,null,871,0.97995259999999995,2.0047349999999999E-2,1.6013999999999997E-2,2.921027E-2,0,4.4845097750752599E-2,8103629,363560.6,4043873,10.581301553762062,6186799,43188830,1.5780113368109996E-2,9.3844913671067545,null,0,0,null,1.4103469900000009E-2]
[875,2.0719950000000001E-2,3.0044930000000001E-2,356032.1,6113842,42058440,6113842,42058440,1.6013999999999997E-2,1.4103469900000009E-2,10.463787616809459,{"$f":"0","v":0},0,9.2705118355047205,{"$f":"0","v":0},0,{"$f":"0","v":0},0,1.5773430245489998E-2,null,872,0.97978449999999995,2.0215500000000001E-2,1.6013999999999997E-2,2.9418929999999999E-2,0,4.4685539060490262E-2,8090744,361678.5,4012479,10.552382329886903,6168560,42906230,1.5778442627489998E-2,9.3565111124159603,null,0,0,null,1.4103469900000009E-2]
[876,2.08881E-2,3.0253599999999999E-2,354150,6095602,41775840,6095602,41775840,1.6013999999999997E-2,1.4103469900000009E-2,10.43362911195821,{"$f":"0","v":0},0,9.2411481087864509,{"$f":"0","v":0},0,{"$f":"0","v":0},0,1.5771759424799997E-2,null,873,0.9796163,2.038365E-2,1.6013999999999997E-2,2.96276E-2,0,4.4526548079451778E-2,8077859,359796.4,3981084,10.523157772933063,6150320,42623630,1.5776771806799997E-2,9.3281894553824785,null,0,0,null,1.4103469900000009E-2]
[877,2.1070720000000001E-2,3.048267E-2,352323.7,6076980,41507790,6076980,41507790,1.6013999999999997E-2,1.4103469900000009E-2,10.406753777373856,{"$f":"0","v":0},0,9.2154256830207029,{"$f":"0","v":0},0,{"$f":"0","v":0},0,1.5769925261309995E-2,null,874,0.97944819999999999,2.0551799999999999E-2,1.6013999999999997E-2,2.9836270000000002E-2,0,4.436812278772987E-2,8064974,357914.3,3949690,10.49362865402882,6132081,42341030,1.5775100986109996E-2,9.2995251155392076,null,0,0,null,1.4103469900000009E-2]
[878,2.1253350000000001E-2,3.071173E-2,350497.3,6058358,41239740,6058358,41239740,1.6013999999999997E-2,1.4103469900000009E-2,10.379604338844647,{"$f":"0","v":0},0,9.1894008147840776,{"$f":"0","v":0},0,{"$f":"0","v":0},0,1.5768091177889996E-2,null,875,0.97928009999999999,2.0719950000000001E-2,1.6013999999999997E-2,3.0044930000000001E-2,0,4.4210261172604043E-2,8052089,356032.1,3918295,10.463787616809459,6113842,42058440,1.5773430245489998E-2,9.2705118355047205,null,0,0,null,1.4103469900000009E-2]
[879,2.1435969999999999E-2,3.0940800000000001E-2,348671,6039736,40971700,6039736,40971700,1.6013999999999997E-2,1.4103469900000009E-2,10.352164480747371,{"$f":"0","v":0},0,9.1630579537515207,{"$f":"0","v":0},0,{"$f":"0","v":0},0,1.5766257014399997E-2,null,876,0.97911190000000003,2.08881E-2,1.6013999999999997E-2,3.0253599999999999E-2,0,4.4052961228515104E-2,8039204,354150,3886901,10.43362911195821,6095602,41775840,1.5771759424799997E-2,9.2411481087864509,null,0,0,null,1.4103469900000009E-2]
[880,2.1618600000000002E-2,3.1169869999999999E-2,346844.6,6021114,40703660,6021114,40703660,1.6013999999999997E-2,1.4103469900000009E-2,10.324441671188385,{"$f":"0","v":0},0,9.1364015991675576,{"$f":"0","v":0},0,{"$f":"0","v":0},0,1.5764422850909995E-2,null,877,0.9789293,2.1070720000000001E-2,1.6013999999999997E-2,3.048267E-2,0,4.3896220957039565E-2,8025210,352323.7,3857388,10.406753777373856,6076980,41507790,1.5769925261309995E-2,9.2154256830207029,null,0,0,null,1.4103469900000009E-2]
[881,2.180122E-2,3.1398929999999999E-2,345018.3,6002492,40435610,6002492,40435610,1.6013999999999997E-2,1.4103469900000009E-2,10.296419313120493,{"$f":"0","v":0},0,9.1094208631192064,{"$f":"0","v":0},0,{"$f":"0","v":0},0,1.5762588767489996E-2,null,878,0.97874669999999997,2.1253350000000001E-2,1.6013999999999997E-2,3.071173E-2,0,4.3740038366864388E-2,8011216,350497.3,3827876,10.379604338844647,6058358,41239740,1.5768091177889996E-2,9.1894008147840776,null,0,0,null,1.4103469900000009E-2]
[882,2.1983849999999999E-2,3.1628000000000003E-2,343191.9,5983870,40167570,5983870,40167570,1.6013999999999997E-2,1.4103469900000009E-2,10.26810477607426,{"$f":"0","v":0},0,9.0821047866136073,{"$f":"0","v":0},0,{"$f":"0","v":0},0,1.5760754603999998E-2,null,879,0.97856399999999999,2.1435969999999999E-2,1.6013999999999997E-2,3.0940800000000001E-2,0,4.3584411473761575E-2,7997223,348671,3798363,10.352164480747371,6039736,40971700,1.5766257014399997E-2,9.1630579537515207,null,0,0,null,1.4103469900000009E-2]
[883,2.2166479999999999E-2,3.1857070000000001E-2,341365.6,5965248,39899520,5965248,39899520,1.6013999999999997E-2,1.4103469900000009E-2,10.239481170139387,{"$f":"0","v":0},0,9.0544520232761485,{"$f":"0","v":0},0,{"$f":"0","v":0},0,1.5758920440509996E-2,null,880,0.97838139999999996,2.1618600000000002E-2,1.6013999999999997E-2,3.1169869999999999E-2,0,4.3429338300563031E-2,7983229,346844.6,3768851,10.324441671188385,6021114,40703660,1.5764422850909995E-2,9.1364015991675576,null,0,0,null,1.4103469900000009E-2]
[884,2.23491E-2,3.2086129999999997E-2,339539.20000000001,5946626,39631480,5946626,39631480,1.6013999999999997E-2,1.4103469900000009E-2,10.210555757135946,{"$f":"0","v":0},0,9.0264617583016982,{"$f":"0","v":0},0,{"$f":"0","v":0},0,1.5757086357089996E-2,null,881,0.97819880000000003,2.180122E-2,1.6013999999999997E-2,3.1398929999999999E-2,0,4.3274816877135379E-2,7969236,345018.3,3739338,10.296419313120493,6002492,40435610,1.5762588767489996E-2,9.1094208631192064,null,0,0,null,1.4103469900000009E-2]
[885,2.253173E-2,3.2315200000000002E-2,337712.9,5928004,39363430,5928004,39363430,1.6013999999999997E-2,1.4103469900000009E-2,10.181311342168648,{"$f":"0","v":0},0,8.9981223830192167,{"$f":"0","v":0},0,{"$f":"0","v":0},0,1.5755252193599998E-2,null,882,0.97801610000000005,2.1983849999999999E-2,1.6013999999999997E-2,3.1628000000000003E-2,0,4.3120845240355025E-2,7955242,343191.9,3709826,10.26810477607426,5983870,40167570,1.5760754603999998E-2,9.0821047866136073,null,0,0,null,1.4103469900000009E-2]
[886,2.2714350000000001E-2,3.254427E-2,335886.5,5909382,39095380,5909382,39095380,1.6013999999999997E-2,1.4103469900000009E-2,10.151755069544823,{"$f":"0","v":0},0,8.9694273249913294,{"$f":"0","v":0},0,{"$f":"0","v":0},0,1.5753418030109996E-2,null,883,0.97783350000000002,2.2166479999999999E-2,1.6013999999999997E-2,3.1857070000000001E-2,0,4.2967421434083108E-2,7941248,341365.6,3680313,10.239481170139387,5965248,39899520,1.5758920440509996E-2,9.0544520232761485,null,0,0,null,1.4103469900000009E-2]
[887,2.2896980000000001E-2,3.2773330000000003E-2,334060.2,5890760,38827340,5890760,38827340,1.6013999999999997E-2,1.4103469900000009E-2,10.121869426528512,{"$f":"0","v":0},0,8.9403644844848298,{"$f":"0","v":0},0,{"$f":"0","v":0},0,1.5751583946689997E-2,null,884,0.97765089999999999,2.23491E-2,1.6013999999999997E-2,3.2086129999999997E-2,0,4.2814543509140754E-2,7927255,339539.20000000001,3650801,10.210555757135946,5946626,39631480,1.5757086357089996E-2,9.0264617583016982,null,0,0,null,1.4103469900000009E-2]
[888,2.3079599999999999E-2,3.3002400000000001E-2,332233.8,5872138,38559300,5872138,38559300,1.6013999999999997E-2,1.4103469900000009E-2,10.091661429390991,{"$f":"0","v":0},0,8.910932540217793,{"$f":"0","v":0},0,{"$f":"0","v":0},0,1.5749749783199998E-2,null,885,0.97746829999999996,2.253173E-2,1.6013999999999997E-2,3.2315200000000002E-2,0,4.26622095232842E-2,7913261,337712.9,3621288,10.181311342168648,5928004,39363430,1.5755252193599998E-2,8.9981223830192167,null,0,0,null,1.4103469900000009E-2]
[889,2.32791E-2,3.3253669999999999E-2,330462.40000000002,5853137,38305210,5853137,38305210,1.6013999999999997E-2,1.4103469900000009E-2,10.064877375862832,{"$f":"0","v":0},0,8.8853348137097967,{"$f":"0","v":0},0,{"$f":"0","v":0},0,1.5747737864309996E-2,null,886,0.97728559999999998,2.2714350000000001E-2,1.6013999999999997E-2,3.254427E-2,0,4.2510417541180241E-2,7899267,335886.5,3591776,10.151755069544823,5909382,39095380,1.5753418030109996E-2,8.9694273249913294,null,0,0,null,1.4103469900000009E-2]
[890,2.3478599999999999E-2,3.3504930000000002E-2,328690.90000000002,5834136,38051120,5834136,38051120,1.6013999999999997E-2,1.4103469900000009E-2,10.03781089112395,{"$f":"0","v":0},0,8.8594142030106475,{"$f":"0","v":0},0,{"$f":"0","v":0},0,1.5745726025489997E-2,null,887,0.97710300000000005,2.2896980000000001E-2,1.6013999999999997E-2,3.2773330000000003E-2,0,4.2359165634381517E-2,7885274,334060.2,3562263,10.121869426528512,5890760,38827340,1.5751583946689997E-2,8.9403644844848298,null,0,0,null,1.4103469900000009E-2]
[891,2.3678100000000001E-2,3.37562E-2,326919.5,5815135,37797040,5815135,37797040,1.6013999999999997E-2,1.4103469900000009E-2,10.010447844703871,{"$f":"0","v":0},0,8.8331756574659988,{"$f":"0","v":0},0,{"$f":"0","v":0},0,1.5743714106599999E-2,null,888,0.97692040000000002,2.3079599999999999E-2,1.6013999999999997E-2,3.3002400000000001E-2,0,4.2208451881302143E-2,7871280,332233.8,3532751,10.091661429390991,5872138,38559300,1.5749749783199998E-2,8.910932540217793,null,0,0,null,1.4103469900000009E-2]
[892,2.3877599999999999E-2,3.4007469999999998E-2,325148,5796135,37542950,5796135,37542950,1.6013999999999997E-2,1.4103469900000009E-2,9.9827898885020563,{"$f":"0","v":0},0,8.8066021273795023,{"$f":"0","v":0},0,{"$f":"0","v":0},0,1.5741702187709997E-2,null,889,0.9767209,2.32791E-2,1.6013999999999997E-2,3.3253669999999999E-2,0,4.2058274367193164E-2,7856141,330462.40000000002,3505064,10.064877375862832,5853137,38305210,1.5747737864309996E-2,8.8853348137097967,null,0,0,null,1.4103469900000009E-2]
[893,2.4077100000000001E-2,3.4258730000000001E-2,323376.59999999998,5777134,37288860,5777134,37288860,1.6013999999999997E-2,1.4103469900000009E-2,9.9548256583809724,{"$f":"0","v":0},0,8.7796983952943233,{"$f":"0","v":0},0,{"$f":"0","v":0},0,1.5739690348889997E-2,null,890,0.97652139999999998,2.3478599999999999E-2,1.6013999999999997E-2,3.3504930000000002E-2,0,4.1908631184118361E-2,7841003,328690.90000000002,3477378,10.03781089112395,5834136,38051120,1.5745726025489997E-2,8.8594142030106475,null,0,0,null,1.4103469900000009E-2]
[894,2.4276599999999999E-2,3.4509999999999999E-2,321605.09999999998,5758133,37034780,5758133,37034780,1.6013999999999997E-2,1.4103469900000009E-2,9.9265566295434997,{"$f":"0","v":0},0,8.7524469607351119,{"$f":"0","v":0},0,{"$f":"0","v":0},0,1.5737678429999995E-2,null,891,0.97632189999999996,2.3678100000000001E-2,1.6013999999999997E-2,3.37562E-2,0,4.1759520430929876E-2,7825864,326919.5,3449692,10.010447844703871,5815135,37797040,1.5743714106599999E-2,8.8331756574659988,null,0,0,null,1.4103469900000009E-2]
[895,2.4476100000000001E-2,3.4761260000000002E-2,319833.59999999998,5739132,36780700,5739132,36780700,1.6013999999999997E-2,1.4103469900000009E-2,9.8979713200864463,{"$f":"0","v":0},0,8.7248524233184703,{"$f":"0","v":0},0,{"$f":"0","v":0},0,1.5735666591179996E-2,null,892,0.97612239999999995,2.3877599999999999E-2,1.6013999999999997E-2,3.4007469999999998E-2,0,4.1610940213244192E-2,7810725,325148,3422006,9.9827898885020563,5796135,37542950,1.5741702187709997E-2,8.8066021273795023,null,0,0,null,1.4103469900000009E-2]
[896,{"$f":"W901","v":2.4675599999999999E-2},{"$f":"Y901","v":3.501253E-2},{"$f":"AC901","v":318062.2},{"$f":"AF901","v":5720131},{"$f":"AG901","v":36526610},{"$f":"E898","v":5720131},{"$f":"F898","v":36526610},{"$f":"X901","v":1.6013999999999997E-2},{"$f":"AN901","v":1.4103469900000009E-2},{"$f":"AE901","v":9.8690674601802204},{"$f":"0","v":0},{"$f":"AL901","v":0},{"$f":"AI901","v":8.696902481237446},{"$f":"0","v":0},{"$f":"AK901","v":0},{"$f":"0","v":0},{"$f":"Z901","v":0},{"$f":"AH901","v":1.5733654672289998E-2},null,893,0.97592290000000004,2.4077100000000001E-2,1.6013999999999997E-2,3.4258730000000001E-2,0,4.1462888643417961E-2,7795586,323376.59999999998,3394320,9.9548256583809724,5777134,37288860,1.5739690348889997E-2,8.7796983952943233,null,0,0,null,1.4103469900000009E-2]
[897,2.4875100000000001E-2,3.5263799999999998E-2,316290.7,5701130,36272520,5701130,36272520,1.6013999999999997E-2,1.4103469900000009E-2,9.8398431279621352,{"$f":"0","v":0},0,8.6685845137482396,{"$f":"0","v":0},0,{"$f":"0","v":0},0,1.5731642753399996E-2,null,894,0.97572340000000002,2.4276599999999999E-2,1.6013999999999997E-2,3.4509999999999999E-2,0,4.1315363840524075E-2,7780447,321605.09999999998,3366634,9.9265566295434997,5758133,37034780,1.5737678429999995E-2,8.7524469607351119,null,0,0,null,1.4103469900000009E-2]
[898,2.5074599999999999E-2,3.5515070000000003E-2,314519.3,5682129,36018440,5682129,36018440,1.6013999999999997E-2,1.4103469900000009E-2,9.8102862977460106,{"$f":"0","v":0},0,8.6399028127406705,{"$f":"0","v":0},0,{"$f":"0","v":0},0,1.5729630834509997E-2,null,895,0.9755239,2.4476100000000001E-2,1.6013999999999997E-2,3.4761260000000002E-2,0,4.1168363930327731E-2,7765308,319833.59999999998,3338947,9.8979713200864463,5739132,36780700,1.5735666591179996E-2,8.7248524233184703,null,0,0,null,1.4103469900000009E-2]
[899,2.5274100000000001E-2,3.5766329999999999E-2,312747.8,5663128,35764350,5663128,35764350,1.6013999999999997E-2,1.4103469900000009E-2,9.7803979489757147,{"$f":"0","v":0},0,8.6108386425768852,{"$f":"0","v":0},0,{"$f":"0","v":0},0,1.5727618995689998E-2,null,896,0.97532439999999998,2.4675599999999999E-2,1.6013999999999997E-2,3.501253E-2,0,4.1021887045262717E-2,7750170,318062.2,3311261,9.8690674601802204,5720131,36526610,1.5733654672289998E-2,8.696902481237446,null,0,0,null,1.4103469900000009E-2]
[900,2.5473599999999999E-2,3.6017599999999997E-2,310976.3,5644127,35510260,5644127,35510260,1.6013999999999997E-2,1.4103469900000009E-2,9.7501690777292893,{"$f":"0","v":0},0,8.5813960654648156,{"$f":"0","v":0},0,{"$f":"0","v":0},0,1.5725607076799996E-2,null,897,0.97512489999999996,2.4875100000000001E-2,1.6013999999999997E-2,3.5263799999999998E-2,0,4.087593132440754E-2,7735031,316290.7,3283575,9.8398431279621352,5701130,36272520,1.5731642753399996E-2,8.6685845137482396,null,0,0,null,1.4103469900000009E-2]
[901,2.5692300000000001E-2,3.6293270000000002E-2,309258.8,5624749,35269550,5624749,35269550,1.6013999999999997E-2,1.4103469900000009E-2,9.7235286972162704,{"$f":"0","v":0},0,8.555969867886299,{"$f":"0","v":0},0,{"$f":"0","v":0},0,1.5723399787109998E-2,null,898,0.97492540000000005,2.5074599999999999E-2,1.6013999999999997E-2,3.5515070000000003E-2,0,4.0730494913461895E-2,7719892,314519.3,3255889,9.8102862977460106,5682129,36018440,1.5729630834509997E-2,8.6399028127406705,null,0,0,null,1.4103469900000009E-2]
[902,2.5911E-2,3.6568929999999999E-2,307541.3,5605372,35028840,5605372,35028840,1.6013999999999997E-2,1.4103469900000009E-2,9.6965907641239308,{"$f":"0","v":0},0,8.5302099295850251,{"$f":"0","v":0},0,{"$f":"0","v":0},0,1.5721192577489995E-2,null,899,0.97472590000000003,2.5274100000000001E-2,1.6013999999999997E-2,3.5766329999999999E-2,0,4.0585575964723071E-2,7704753,312747.8,3228203,9.7803979489757147,5663128,35764350,1.5727618995689998E-2,8.6108386425768852,null,0,0,null,1.4103469900000009E-2]
[903,2.6129699999999999E-2,3.6844599999999998E-2,305823.7,5585994,34788120,5585994,34788120,1.6013999999999997E-2,1.4103469900000009E-2,9.6693568740203375,{"$f":"0","v":0},0,8.5041216271839009,{"$f":"0","v":0},0,{"$f":"0","v":0},0,1.5718985287799997E-2,null,900,0.97452640000000001,2.5473599999999999E-2,1.6013999999999997E-2,3.6017599999999997E-2,0,4.0441172637062456E-2,7689614,310976.3,3200517,9.7501690777292893,5644127,35510260,1.5725607076799996E-2,8.5813960654648156,null,0,0,null,1.4103469900000009E-2]
[904,2.6348400000000001E-2,3.7120269999999997E-2,304106.09999999998,5566616,34547410,5566616,34547410,1.6013999999999997E-2,1.4103469900000009E-2,9.6418120600014277,{"$f":"0","v":0},0,8.4776979409232176,{"$f":"0","v":0},0,{"$f":"0","v":0},0,1.5716777998109999E-2,null,901,0.9743077,2.5692300000000001E-2,1.6013999999999997E-2,3.6293270000000002E-2,0,4.0297283095902192E-2,7673291,309258.8,3174602,9.7235286972162704,5624749,35269550,1.5723399787109998E-2,8.555969867886299,null,0,0,null,1.4103469900000009E-2]
[905,2.65671E-2,3.7395940000000003E-2,302388.59999999998,5547238,34306700,5547238,34306700,1.6013999999999997E-2,1.4103469900000009E-2,9.6139509723580865,{"$f":"0","v":0},0,8.4509153756565318,{"$f":"0","v":0},0,{"$f":"0","v":0},0,1.5714570708419997E-2,null,902,0.97408899999999998,2.5911E-2,1.6013999999999997E-2,3.6568929999999999E-2,0,4.0153905513191826E-2,7656967,307541.3,3148687,9.6965907641239308,5605372,35028840,1.5721192577489995E-2,8.5302099295850251,null,0,0,null,1.4103469900000009E-2]
[906,2.6785799999999998E-2,3.76716E-2,300671,5527860,34065980,5527860,34065980,1.6013999999999997E-2,1.4103469900000009E-2,9.5857782814660109,{"$f":"0","v":0},0,8.4237843924818119,{"$f":"0","v":0},0,{"$f":"0","v":0},0,1.5712363498799998E-2,null,903,0.97387029999999997,2.6129699999999999E-2,1.6013999999999997E-2,3.6844599999999998E-2,0,4.0011038067385103E-2,7640644,305823.7,3122773,9.6693568740203375,5585994,34788120,1.5718985287799997E-2,8.5041216271839009,null,0,0,null,1.4103469900000009E-2]
[907,2.7004500000000001E-2,3.7947269999999998E-2,298953.5,5508483,33825270,5508483,33825270,1.6013999999999997E-2,1.4103469900000009E-2,9.5572751420092654,{"$f":"0","v":0},0,8.3962919333929413,{"$f":"0","v":0},0,{"$f":"0","v":0},0,1.5710156209109996E-2,null,904,0.97365159999999995,2.6348400000000001E-2,1.6013999999999997E-2,3.7120269999999997E-2,0,3.9868678943416828E-2,7624320,304106.09999999998,3096858,9.6418120600014277,5566616,34547410,1.5716777998109999E-2,8.4776979409232176,null,0,0,null,1.4103469900000009E-2]
[908,2.7223199999999999E-2,3.8222939999999997E-2,297235.90000000002,5489105,33584560,5489105,33584560,1.6013999999999997E-2,1.4103469900000009E-2,9.5284459946908608,{"$f":"0","v":0},0,8.368424590097213,{"$f":"0","v":0},0,{"$f":"0","v":0},0,1.5707948919419998E-2,null,905,0.97343290000000005,2.65671E-2,1.6013999999999997E-2,3.7395940000000003E-2,0,3.97268263326798E-2,7607997,302388.59999999998,3070943,9.6139509723580865,5547238,34306700,1.5714570708419997E-2,8.4509153756565318,null,0,0,null,1.4103469900000009E-2]
[909,2.7441900000000002E-2,3.8498600000000001E-2,295518.3,5469727,33343840,5469727,33343840,1.6013999999999997E-2,1.4103469900000009E-2,9.4992851119541513,{"$f":"0","v":0},0,8.3401926101357375,{"$f":"0","v":0},0,{"$f":"0","v":0},0,1.5705741709799995E-2,null,906,0.97321420000000003,2.6785799999999998E-2,1.6013999999999997E-2,3.76716E-2,0,3.9585478433001836E-2,7591673,300671,3045029,9.5857782814660109,5527860,34065980,1.5712363498799998E-2,8.4237843924818119,null,0,0,null,1.4103469900000009E-2]
[910,2.76606E-2,3.877427E-2,293800.8,5450349,33103130,5450349,33103130,1.6013999999999997E-2,1.4103469900000009E-2,9.4697764607856758,{"$f":"0","v":0},0,8.3115712731518343,{"$f":"0","v":0},0,{"$f":"0","v":0},0,1.5703534420109997E-2,null,907,0.97299550000000001,2.7004500000000001E-2,1.6013999999999997E-2,3.7947269999999998E-2,0,3.9444633448622861E-2,7575350,298953.5,3019114,9.5572751420092654,5508483,33825270,1.5710156209109996E-2,8.3962919333929413,null,0,0,null,1.4103469900000009E-2]
[911,2.7879299999999999E-2,3.9049929999999997E-2,292083.3,5430972,32862420,5430972,32862420,1.6013999999999997E-2,1.4103469900000009E-2,9.4399207777370364,{"$f":"0","v":0},0,8.2825519023305691,{"$f":"0","v":0},0,{"$f":"0","v":0},0,1.5701327210489998E-2,null,908,0.9727768,2.7223199999999999E-2,1.6013999999999997E-2,3.8222939999999997E-2,0,3.930428959017214E-2,7559026,297235.90000000002,2993199,9.5284459946908608,5489105,33584560,1.5707948919419998E-2,8.368424590097213,null,0,0,null,1.4103469900000009E-2]
[912,2.8098000000000001E-2,3.9325600000000002E-2,290365.7,5411594,32621700,5411594,32621700,1.6013999999999997E-2,1.4103469900000009E-2,9.4097187758976588,{"$f":"0","v":0},0,8.2531388785909385,{"$f":"0","v":0},0,{"$f":"0","v":0},0,1.5699119920799996E-2,null,909,0.97255809999999998,2.7441900000000002E-2,1.6013999999999997E-2,3.8498600000000001E-2,0,3.9164445074645483E-2,7542703,295518.3,2967285,9.4992851119541513,5469727,33343840,1.5705741709799995E-2,8.3401926101357375,null,0,0,null,1.4103469900000009E-2]
[913,2.8338370000000002E-2,3.9627799999999998E-2,288701.09999999998,5391843,32393800,5391843,32393800,1.6013999999999997E-2,1.4103469900000009E-2,9.3832833941401699,{"$f":"0","v":0},0,8.2279406226688216,{"$f":"0","v":0},0,{"$f":"0","v":0},0,1.5696700205399997E-2,null,910,0.97233939999999996,2.76606E-2,1.6013999999999997E-2,3.877427E-2,0,3.9025098125382629E-2,7526379,293800.8,2941370,9.4697764607856758,5450349,33103130,1.5703534420109997E-2,8.3115712731518343,null,0,0,null,1.4103469900000009E-2]
[914,2.857875E-2,3.993E-2,287036.59999999998,5372092,32165900,5372092,32165900,1.6013999999999997E-2,1.4103469900000009E-2,9.3565344686589338,{"$f":"0","v":0},0,8.2024030002506851,{"$f":"0","v":0},0,{"$f":"0","v":0},0,1.5694280489999997E-2,null,911,0.97212069999999995,2.7879299999999999E-2,1.6013999999999997E-2,3.9049929999999997E-2,0,3.8886246972044666E-2,7510056,292083.3,2915455,9.4399207777370364,5430972,32862420,1.5701327210489998E-2,8.2825519023305691,null,0,0,null,1.4103469900000009E-2]
[915,2.8819129999999998E-2,4.0232200000000003E-2,285372,5352341,31938000,5352341,31938000,1.6013999999999997E-2,1.4103469900000009E-2,9.3294804676001863,{"$f":"0","v":0},0,8.176520724659218,{"$f":"0","v":0},0,{"$f":"0","v":0},0,1.5691860774599997E-2,null,912,0.97190200000000004,2.8098000000000001E-2,1.6013999999999997E-2,3.9325600000000002E-2,0,3.8747889850591556E-2,7493732,290365.7,2889541,9.4097187758976588,5411594,32621700,1.5699119920799996E-2,8.2531388785909385,null,0,0,null,1.4103469900000009E-2]
[916,2.9059499999999999E-2,4.0534399999999998E-2,283707.40000000002,5332590,31710100,5332590,31710100,1.6013999999999997E-2,1.4103469900000009E-2,9.3021089979793725,{"$f":"0","v":0},0,8.1502859582686487,{"$f":"0","v":0},0,{"$f":"0","v":0},0,1.5689441059199997E-2,null,913,0.97166160000000001,2.8338370000000002E-2,1.6013999999999997E-2,3.9627799999999998E-2,0,3.861002500325969E-2,7476186,288701.09999999998,2865344,9.3832833941401699,5391843,32393800,1.5696700205399997E-2,8.2279406226688216,null,0,0,null,1.4103469900000009E-2]
[917,2.929988E-2,4.0836600000000001E-2,282042.90000000002,5312839,31482200,5312839,31482200,1.6013999999999997E-2,1.4103469900000009E-2,9.2744109584038448,{"$f":"0","v":0},0,8.123697101540003,{"$f":"0","v":0},0,{"$f":"0","v":0},0,1.5687021343799998E-2,null,914,0.97142119999999998,2.857875E-2,1.6013999999999997E-2,3.993E-2,0,3.8472650678539597E-2,7458639,287036.59999999998,2841146,9.3565344686589338,5372092,32165900,1.5694280489999997E-2,8.2024030002506851,null,0,0,null,1.4103469900000009E-2]
[918,2.9540250000000001E-2,4.1138800000000003E-2,280378.3,5293087,31254300,5293087,31254300,1.6013999999999997E-2,1.4103469900000009E-2,9.2463875443760575,{"$f":"0","v":0},0,8.0967288579264043,{"$f":"0","v":0},0,{"$f":"0","v":0},0,1.5684601628399998E-2,null,915,0.97118090000000001,2.8819129999999998E-2,1.6013999999999997E-2,4.0232200000000003E-2,0,3.8335765131153637E-2,7441092,285372,2816949,9.3294804676001863,5352341,31938000,1.5691860774599997E-2,8.176520724659218,null,0,0,null,1.4103469900000009E-2]
[919,2.9780629999999999E-2,4.1440999999999999E-2,278713.7,5273336,31026400,5273336,31026400,1.6013999999999997E-2,1.4103469900000009E-2,9.2180293942015297,{"$f":"0","v":0},0,8.0693922856737341,{"$f":"0","v":0},0,{"$f":"0","v":0},0,1.5682181912999995E-2,null,916,0.97094049999999998,2.9059499999999999E-2,1.6013999999999997E-2,4.0534399999999998E-2,0,3.8199366622033895E-2,7423546,283707.40000000002,2792752,9.3021089979793725,5332590,31710100,1.5689441059199997E-2,8.1502859582686487,null,0,0,null,1.4103469900000009E-2]
[920,3.0020999999999999E-2,4.1743200000000001E-2,277049.2,5253585,30798500,5253585,30798500,1.6013999999999997E-2,1.4103469900000009E-2,9.1893269619018341,{"$f":"0","v":0},0,8.0416729917268217,{"$f":"0","v":0},0,{"$f":"0","v":0},0,1.5679762197599999E-2,null,917,0.97070009999999995,2.929988E-2,1.6013999999999997E-2,4.0836600000000001E-2,0,3.8063453418300038E-2,7405999,282042.90000000002,2768555,9.2744109584038448,5312839,31482200,1.5687021343799998E-2,8.123697101540003,null,0,0,null,1.4103469900000009E-2]
[921,3.0261380000000001E-2,4.2045399999999997E-2,275384.59999999998,5233834,30570600,5233834,30570600,1.6013999999999997E-2,1.4103469900000009E-2,9.1602810820454987,{"$f":"0","v":0},0,8.0135619133633309,{"$f":"0","v":0},0,{"$f":"0","v":0},0,1.5677342482199999E-2,null,918,0.97045979999999998,2.9540250000000001E-2,1.6013999999999997E-2,4.1138800000000003E-2,0,3.7928023793237307E-2,7388453,280378.3,2744358,9.2463875443760575,5293087,31254300,1.5684601628399998E-2,8.0967288579264043,null,0,0,null,1.4103469900000009E-2]
[922,3.0501750000000001E-2,4.2347599999999999E-2,273720,5214083,30342700,5214083,30342700,1.6013999999999997E-2,1.4103469900000009E-2,9.1308782697647235,{"$f":"0","v":0},0,7.9850526379878994,{"$f":"0","v":0},0,{"$f":"0","v":0},0,1.5674922766799996E-2,null,919,0.97021939999999995,2.9780629999999999E-2,1.6013999999999997E-2,4.1440999999999999E-2,0,3.7793076026274616E-2,7370906,278713.7,2720161,9.2180293942015297,5273336,31026400,1.5682181912999995E-2,8.0693922856737341,null,0,0,null,1.4103469900000009E-2]
[923,3.0742129999999999E-2,4.2649800000000002E-2,272055.5,5194332,30114800,5194332,30114800,1.6013999999999997E-2,1.4103469900000009E-2,9.1011157802972811,{"$f":"0","v":0},0,7.9561356604251356,{"$f":"0","v":0},0,{"$f":"0","v":0},0,1.5672503051399996E-2,null,920,0.96997900000000004,3.0020999999999999E-2,1.6013999999999997E-2,4.1743200000000001E-2,0,3.7658608402962625E-2,7353360,277049.2,2695964,9.1893269619018341,5253585,30798500,1.5679762197599999E-2,8.0416729917268217,null,0,0,null,1.4103469900000009E-2]
[924,3.09825E-2,4.2951999999999997E-2,270390.90000000002,5174581,29886900,5174581,29886900,1.6013999999999997E-2,1.4103469900000009E-2,9.0709904160975832,{"$f":"0","v":0},0,7.9268021720591397,{"$f":"0","v":0},0,{"$f":"0","v":0},0,1.5670083335999997E-2,null,921,0.96973860000000001,3.0261380000000001E-2,1.6013999999999997E-2,4.2045399999999997E-2,0,3.7524619214952024E-2,7335813,275384.59999999998,2671767,9.1602810820454987,5233834,30570600,1.5677342482199999E-2,8.0135619133633309,null,0,0,null,1.4103469900000009E-2]
[925,3.124673E-2,4.3283200000000001E-2,268778.59999999998,5154464,29671300,5154464,29671300,1.6013999999999997E-2,1.4103469900000009E-2,9.0448219897963114,{"$f":"0","v":0},0,7.9018884621645418,{"$f":"0","v":0},0,{"$f":"0","v":0},0,1.5667431417599995E-2,null,922,0.96949830000000004,3.0501750000000001E-2,1.6013999999999997E-2,4.2347599999999999E-2,0,3.7391106759971808E-2,7318266,273720,2647569,9.1308782697647235,5214083,30342700,1.5674922766799996E-2,7.9850526379878994,null,0,0,null,1.4103469900000009E-2]
[926,3.1510950000000003E-2,4.3614399999999998E-2,267166.3,5134347,29455690,5134347,29455690,1.6013999999999997E-2,1.4103469900000009E-2,9.0183339771271065,{"$f":"0","v":0},0,7.8766251615784642,{"$f":"0","v":0},0,{"$f":"0","v":0},0,1.5664779499199998E-2,null,923,0.96925790000000001,3.0742129999999999E-2,1.6013999999999997E-2,4.2649800000000002E-2,0,3.7258069341807622E-2,7300720,272055.5,2623372,9.1011157802972811,5194332,30114800,1.5672503051399996E-2,7.9561356604251356,null,0,0,null,1.4103469900000009E-2]
[927,3.177518E-2,4.3945600000000001E-2,265553.90000000002,5114229,29240080,5114229,29240080,1.6013999999999997E-2,1.4103469900000009E-2,8.991527912663555,{"$f":"0","v":0},0,7.8509989894630428,{"$f":"0","v":0},0,{"$f":"0","v":0},0,1.5662127580799996E-2,null,924,0.96901749999999998,3.09825E-2,1.6013999999999997E-2,4.2951999999999997E-2,0,3.712550527028026E-2,7283173,270390.90000000002,2599175,9.0709904160975832,5174581,29886900,1.5670083335999997E-2,7.9268021720591397,null,0,0,null,1.4103469900000009E-2]
[928,3.2039400000000003E-2,4.4276799999999998E-2,263941.59999999998,5094112,29024470,5094112,29024470,1.6013999999999997E-2,1.4103469900000009E-2,8.9643945226267245,{"$f":"0","v":0},0,7.8250140424834429,{"$f":"0","v":0},0,{"$f":"0","v":0},0,1.5659475662399999E-2,null,925,0.96875330000000004,3.124673E-2,1.6013999999999997E-2,4.3283200000000001E-2,0,3.6993412861224151E-2,7264369,268778.59999999998,2576643,9.0448219897963114,5154464,29671300,1.5667431417599995E-2,7.9018884621645418,null,0,0,null,1.4103469900000009E-2]
[929,3.230363E-2,4.4608000000000002E-2,262329.3,5073995,28808860,5073995,28808860,1.6013999999999997E-2,1.4103469900000009E-2,8.9369237919668159,{"$f":"0","v":0},0,7.7986507161666188,{"$f":"0","v":0},0,{"$f":"0","v":0},0,1.5656823743999997E-2,null,926,0.96848909999999999,3.1510950000000003E-2,1.6013999999999997E-2,4.3614399999999998E-2,0,3.6861790436465987E-2,7245565,267166.3,2554110,9.0183339771271065,5134347,29455690,1.5664779499199998E-2,7.8766251615784642,null,0,0,null,1.4103469900000009E-2]
[930,3.2567850000000002E-2,4.4939199999999999E-2,260716.9,5053877,28593260,5053877,28593260,1.6013999999999997E-2,1.4103469900000009E-2,8.9091207583142236,{"$f":"0","v":0},0,7.7719127562023216,{"$f":"0","v":0},0,{"$f":"0","v":0},0,1.5654171825599996E-2,null,927,0.9682248,3.177518E-2,1.6013999999999997E-2,4.3945600000000001E-2,0,3.6730636323803384E-2,7226760,265553.90000000002,2531577,8.991527912663555,5114229,29240080,1.5662127580799996E-2,7.8509989894630428,null,0,0,null,1.4103469900000009E-2]
[931,3.2832069999999998E-2,4.5270400000000002E-2,259104.6,5033760,28377650,5033760,28377650,1.6013999999999997E-2,1.4103469900000009E-2,8.8809641936113835,{"$f":"0","v":0},0,7.7447931663307417,{"$f":"0","v":0},0,{"$f":"0","v":0},0,1.5651519907199998E-2,null,928,0.96796059999999995,3.2039400000000003E-2,1.6013999999999997E-2,4.4276799999999998E-2,0,3.6599948856983665E-2,7207956,263941.59999999998,2509045,8.9643945226267245,5094112,29024470,1.5659475662399999E-2,7.8250140424834429,null,0,0,null,1.4103469900000009E-2]
[932,3.3096300000000002E-2,4.5601599999999999E-2,257492.3,5013643,28162040,5013643,28162040,1.6013999999999997E-2,1.4103469900000009E-2,8.8524550216323625,{"$f":"0","v":0},0,7.7172630701181921,{"$f":"0","v":0},0,{"$f":"0","v":0},0,1.5648867988799997E-2,null,929,0.96769640000000001,3.230363E-2,1.6013999999999997E-2,4.4608000000000002E-2,0,3.646972637568266E-2,7189152,262329.3,2486512,8.9369237919668159,5073995,28808860,1.5656823743999997E-2,7.7986507161666188,null,0,0,null,1.4103469900000009E-2]
[933,3.3360529999999999E-2,4.5932800000000003E-2,255879.9,4993526,27946430,4993526,27946430,1.6013999999999997E-2,1.4103469900000009E-2,8.8235941451438755,{"$f":"0","v":0},0,7.6893327716090374,{"$f":"0","v":0},0,{"$f":"0","v":0},0,1.5646216070399996E-2,null,930,0.96743210000000002,3.2567850000000002E-2,1.6013999999999997E-2,4.4939199999999999E-2,0,3.6339967225483633E-2,7170348,260716.9,2463980,8.9091207583142236,5053877,28593260,1.5654171825599996E-2,7.7719127562023216,null,0,0,null,1.4103469900000009E-2]
[934,3.3624750000000002E-2,4.6264E-2,254267.6,4973408,27730830,4973408,27730830,1.6013999999999997E-2,1.4103469900000009E-2,8.7943596300380644,{"$f":"0","v":0},0,7.6609812122411851,{"$f":"0","v":0},0,{"$f":"0","v":0},0,1.5643564151999998E-2,null,931,0.96716789999999997,3.2832069999999998E-2,1.6013999999999997E-2,4.5270400000000002E-2,0,3.6210669757856244E-2,7151543,259104.6,2441447,8.8809641936113835,5033760,28377650,1.5651519907199998E-2,7.7447931663307417,null,0,0,null,1.4103469900000009E-2]
[935,3.3888979999999999E-2,4.6595200000000003E-2,252655.3,4953291,27515220,4953291,27515220,1.6013999999999997E-2,1.4103469900000009E-2,8.7647519993973351,{"$f":"0","v":0},0,7.6322111119184148,{"$f":"0","v":0},0,{"$f":"0","v":0},0,1.5640912233599997E-2,null,932,0.96690370000000003,3.3096300000000002E-2,1.6013999999999997E-2,4.5601599999999999E-2,0,3.6081832330135656E-2,7132739,257492.3,2418914,8.8524550216323625,5013643,28162040,1.5648867988799997E-2,7.7172630701181921,null,0,0,null,1.4103469900000009E-2]
[936,3.4153200000000002E-2,4.69264E-2,251042.9,4933174,27299610,4933174,27299610,1.6013999999999997E-2,1.4103469900000009E-2,8.7347717428641349,{"$f":"0","v":0},0,7.6030007639263433,{"$f":"0","v":0},0,{"$f":"0","v":0},0,1.5638260315199996E-2,null,933,0.96663949999999998,3.3360529999999999E-2,1.6013999999999997E-2,4.5932800000000003E-2,0,3.5953453305501565E-2,7113935,255879.9,2396382,8.8235941451438755,4993526,27946430,1.5646216070399996E-2,7.6893327716090374,null,0,0,null,1.4103469900000009E-2]
[937,3.4443000000000001E-2,4.7289070000000002E-2,249482.4,4912705,27095830,4912705,27095830,1.6013999999999997E-2,1.4103469900000009E-2,8.7089417930884103,{"$f":"0","v":0},0,7.5784241376983834,{"$f":"0","v":0},0,{"$f":"0","v":0},0,1.5635356416509996E-2,null,934,0.96637519999999999,3.3624750000000002E-2,1.6013999999999997E-2,4.6264E-2,0,3.5825531052957521E-2,7095131,254267.6,2373849,8.7943596300380644,4973408,27730830,1.5643564151999998E-2,7.6609812122411851,null,0,0,null,1.4103469900000009E-2]
[938,3.4732800000000001E-2,4.7651730000000003E-2,247921.9,4892235,26892040,4892235,26892040,1.6013999999999997E-2,1.4103469900000009E-2,8.6827826457982678,{"$f":"0","v":0},0,7.5534941884379174,{"$f":"0","v":0},0,{"$f":"0","v":0},0,1.5632452597889996E-2,null,935,0.96611100000000005,3.3888979999999999E-2,1.6013999999999997E-2,4.6595200000000003E-2,0,3.5698063947310128E-2,7076326,252655.3,2351316,8.7647519993973351,4953291,27515220,1.5640912233599997E-2,7.6322111119184148,null,0,0,null,1.4103469900000009E-2]
[939,3.5022600000000001E-2,4.8014399999999999E-2,246361.4,4871766,26688260,4871766,26688260,1.6013999999999997E-2,1.4103469900000009E-2,8.6562961635494311,{"$f":"0","v":0},0,7.528187804457775,{"$f":"0","v":0},0,{"$f":"0","v":0},0,1.5629548699199997E-2,null,936,0.96584680000000001,3.4153200000000002E-2,1.6013999999999997E-2,4.69264E-2,0,3.5571050369148427E-2,7057522,251042.9,2328784,8.7347717428641349,4933174,27299610,1.5638260315199996E-2,7.6030007639263433,null,0,0,null,1.4103469900000009E-2]
[940,3.5312400000000001E-2,4.8377070000000001E-2,244800.9,4851297,26484470,4851297,26484470,1.6013999999999997E-2,1.4103469900000009E-2,8.6294720015326742,{"$f":"0","v":0},0,7.5025042629844743,{"$f":"0","v":0},0,{"$f":"0","v":0},0,1.5626644800509997E-2,null,937,0.965557,3.4443000000000001E-2,1.6013999999999997E-2,4.7289070000000002E-2,0,3.5444488704823328E-2,7037436,249482.4,2307864,8.7089417930884103,4912705,27095830,1.5635356416509996E-2,7.5784241376983834,null,0,0,null,1.4103469900000009E-2]
[941,3.5602200000000001E-2,4.8739739999999997E-2,243240.3,4830828,26280690,4830828,26280690,1.6013999999999997E-2,1.4103469900000009E-2,8.6023074198642266,{"$f":"0","v":0},0,7.4764288548700106,{"$f":"0","v":0},0,{"$f":"0","v":0},0,1.5623740901819996E-2,null,938,0.96526719999999999,3.4732800000000001E-2,1.6013999999999997E-2,4.7651730000000003E-2,0,3.5318377346427073E-2,7017349,247921.9,2286943,8.6827826457982678,4892235,26892040,1.5632452597889996E-2,7.5534941884379174,null,0,0,null,1.4103469900000009E-2]
[942,3.5892E-2,4.9102399999999997E-2,241679.8,4810359,26076900,4810359,26076900,1.6013999999999997E-2,1.4103469900000009E-2,8.574784108284323,{"$f":"0","v":0},0,7.4499652305171811,{"$f":"0","v":0},0,{"$f":"0","v":0},0,1.5620837083199998E-2,null,939,0.96497739999999999,3.5022600000000001E-2,1.6013999999999997E-2,4.8014399999999999E-2,0,3.5192714691772854E-2,6997263,246361.4,2266023,8.6562961635494311,4871766,26688260,1.5629548699199997E-2,7.528187804457775,null,0,0,null,1.4103469900000009E-2]
[943,3.61818E-2,4.946507E-2,240119.3,4789890,25873120,4789890,25873120,1.6013999999999997E-2,1.4103469900000009E-2,8.5469072213964772,{"$f":"0","v":0},0,7.4230981831629803,{"$f":"0","v":0},0,{"$f":"0","v":0},0,1.5617933184509996E-2,null,940,0.96468759999999998,3.5312400000000001E-2,1.6013999999999997E-2,4.8377070000000001E-2,0,3.5067499144374452E-2,6977177,244800.9,2245103,8.6294720015326742,4851297,26484470,1.5626644800509997E-2,7.5025042629844743,null,0,0,null,1.4103469900000009E-2]
[944,3.64716E-2,4.9827740000000002E-2,238558.8,4769420,25669330,4769420,25669330,1.6013999999999997E-2,1.4103469900000009E-2,8.5186656287674154,{"$f":"0","v":0},0,7.3958263459569942,{"$f":"0","v":0},0,{"$f":"0","v":0},0,1.5615029285819997E-2,null,941,0.96439779999999997,3.5602200000000001E-2,1.6013999999999997E-2,4.8739739999999997E-2,0,3.4942729113425899E-2,6957090,243240.3,2224183,8.6023074198642266,4830828,26280690,1.5623740901819996E-2,7.4764288548700106,null,0,0,null,1.4103469900000009E-2]
[945,3.67614E-2,5.0190400000000003E-2,236998.3,4748951,25465550,4748951,25465550,1.6013999999999997E-2,1.4103469900000009E-2,8.4900521262529463,{"$f":"0","v":0},0,7.3681219417090942,{"$f":"0","v":0},0,{"$f":"0","v":0},0,1.5612125467199997E-2,null,942,0.96410799999999997,3.5892E-2,1.6013999999999997E-2,4.9102399999999997E-2,0,3.4818403013781342E-2,6937004,241679.8,2203262,8.574784108284323,4810359,26076900,1.5620837083199998E-2,7.4499652305171811,null,0,0,null,1.4103469900000009E-2]
[946,3.7051199999999999E-2,5.0553069999999999E-2,235437.8,4728482,25261760,4728482,25261760,1.6013999999999997E-2,1.4103469900000009E-2,8.4610550713040418,{"$f":"0","v":0},0,7.3399829955254203,{"$f":"0","v":0},0,{"$f":"0","v":0},0,1.5609221568509996E-2,null,943,0.96381819999999996,3.61818E-2,1.6013999999999997E-2,4.946507E-2,0,3.4694519265934851E-2,6916917,240119.3,2182342,8.5469072213964772,4789890,25873120,1.5617933184509996E-2,7.4230981831629803,null,0,0,null,1.4103469900000009E-2]
[947,3.7340999999999999E-2,5.0915729999999999E-2,233877.3,4708013,25057980,4708013,25057980,1.6013999999999997E-2,1.4103469900000009E-2,8.4316753378801632,{"$f":"0","v":0},0,7.3114072054407098,{"$f":"0","v":0},0,{"$f":"0","v":0},0,1.5606317749889997E-2,null,944,0.96352839999999995,3.64716E-2,1.6013999999999997E-2,4.9827740000000002E-2,0,3.457107629600039E-2,6896831,238558.8,2161422,8.5186656287674154,4769420,25669330,1.5615029285819997E-2,7.3958263459569942,null,0,0,null,1.4103469900000009E-2]
[948,3.7630799999999999E-2,5.1278400000000002E-2,232316.79999999999,4687544,24854190,4687544,24854190,1.6013999999999997E-2,1.4103469900000009E-2,8.4019009100217179,{"$f":"0","v":0},0,7.2823793521675482,{"$f":"0","v":0},0,{"$f":"0","v":0},0,1.5603413851199998E-2,null,945,0.96323859999999994,3.67614E-2,1.6013999999999997E-2,5.0190400000000003E-2,0,3.4448072535691779E-2,6876744,236998.3,2140502,8.4900521262529463,4748951,25465550,1.5612125467199997E-2,7.3681219417090942,null,0,0,null,1.4103469900000009E-2]
[949,3.7947679999999998E-2,5.1675470000000001E-2,230808.1,4666749,24661830,4666749,24661830,1.6013999999999997E-2,1.4103469900000009E-2,8.3764822197892244,{"$f":"0","v":0},0,7.2581933712829958,{"$f":"0","v":0},0,{"$f":"0","v":0},0,1.5600234511709998E-2,null,946,0.96294880000000005,3.7051199999999999E-2,1.6013999999999997E-2,5.0553069999999999E-2,0,3.4325506422302837E-2,6856658,235437.8,2119581,8.4610550713040418,4728482,25261760,1.5609221568509996E-2,7.3399829955254203,null,0,0,null,1.4103469900000009E-2]
[950,3.8264550000000001E-2,5.2072529999999999E-2,229299.5,4645954,24469470,4645954,24469470,1.6013999999999997E-2,1.4103469900000009E-2,8.3507251614882136,{"$f":"0","v":0},0,7.2336405601724376,{"$f":"0","v":0},0,{"$f":"0","v":0},0,1.5597055252289996E-2,null,947,0.96265900000000004,3.7340999999999999E-2,1.6013999999999997E-2,5.0915729999999999E-2,0,3.4203376398687438E-2,6836572,233877.3,2098661,8.4316753378801632,4708013,25057980,1.5606317749889997E-2,7.3114072054407098,null,0,0,null,1.4103469900000009E-2]
[951,3.8581419999999998E-2,5.2469599999999998E-2,227790.9,4625159,24277110,4625159,24277110,1.6013999999999997E-2,1.4103469900000009E-2,8.324631328556146,{"$f":"0","v":0},0,7.208701015782931,{"$f":"0","v":0},0,{"$f":"0","v":0},0,1.5593875912799997E-2,null,948,0.96236920000000004,3.7630799999999999E-2,1.6013999999999997E-2,5.1278400000000002E-2,0,3.4081680913239806E-2,6816485,232316.79999999999,2077741,8.4019009100217179,4687544,24854190,1.5603413851199998E-2,7.2823793521675482,null,0,0,null,1.4103469900000009E-2]
[952,3.8898299999999997E-2,5.2866669999999998E-2,226282.3,4604365,24084740,4604365,24084740,1.6013999999999997E-2,1.4103469900000009E-2,8.2981851467540046,{"$f":"0","v":0},0,7.1833779184178717,{"$f":"0","v":0},0,{"$f":"0","v":0},0,1.5590696573309998E-2,null,949,0.96205229999999997,3.7947679999999998E-2,1.6013999999999997E-2,5.1675470000000001E-2,0,3.3960418419874745E-2,6795109,230808.1,2058381,8.3764822197892244,4666749,24661830,1.5600234511709998E-2,7.2581933712829958,null,0,0,null,1.4103469900000009E-2]
[953,3.9215180000000002E-2,5.3263739999999997E-2,224773.7,4583570,23892380,4583570,23892380,1.6013999999999997E-2,1.4103469900000009E-2,8.2713839704852781,{"$f":"0","v":0},0,7.1576490401075636,{"$f":"0","v":0},0,{"$f":"0","v":0},0,1.5587517233819997E-2,null,950,0.96173540000000002,3.8264550000000001E-2,1.6013999999999997E-2,5.2072529999999999E-2,0,3.3839587378008081E-2,6773734,229299.5,2039021,8.3507251614882136,4645954,24469470,1.5597055252289996E-2,7.2336405601724376,null,0,0,null,1.4103469900000009E-2]
[954,3.9532049999999999E-2,5.3660800000000002E-2,223265.1,4562775,23700020,4562775,23700020,1.6013999999999997E-2,1.4103469900000009E-2,8.2442206036680172,{"$f":"0","v":0},0,7.1315170708518982,{"$f":"0","v":0},0,{"$f":"0","v":0},0,1.5584337974399997E-2,null,951,0.96141860000000001,3.8581419999999998E-2,1.6013999999999997E-2,5.2469599999999998E-2,0,3.3719186252536948E-2,6752358,227790.9,2019662,8.324631328556146,4625159,24277110,1.5593875912799997E-2,7.208701015782931,null,0,0,null,1.4103469900000009E-2]
[955,3.9848920000000003E-2,5.4057870000000001E-2,221756.4,4541980,23507660,4541980,23507660,1.6013999999999997E-2,1.4103469900000009E-2,8.2166961133928957,{"$f":"0","v":0},0,7.1049607739132412,{"$f":"0","v":0},0,{"$f":"0","v":0},0,1.5581158634909997E-2,null,952,0.96110169999999995,3.8898299999999997E-2,1.6013999999999997E-2,5.2866669999999998E-2,0,3.3599213513820447E-2,6730982,226282.3,2000302,8.2981851467540046,4604365,24084740,1.5590696573309998E-2,7.1833779184178717,null,0,0,null,1.4103469900000009E-2]
[956,4.0165800000000002E-2,5.4454929999999999E-2,220247.8,4521185,23315290,4521185,23315290,1.6013999999999997E-2,1.4103469900000009E-2,8.1887860325203405,{"$f":"0","v":0},0,7.07798147161175,{"$f":"0","v":0},0,{"$f":"0","v":0},0,1.5577979375489997E-2,null,953,0.96078479999999999,3.9215180000000002E-2,1.6013999999999997E-2,5.3263739999999997E-2,0,3.3479667637660103E-2,6709606,224773.7,1980942,8.2713839704852781,4583570,23892380,1.5587517233819997E-2,7.1576490401075636,null,0,0,null,1.4103469900000009E-2]
[957,4.048268E-2,5.4851999999999998E-2,218739.20000000001,4500391,23122930,4500391,23122930,1.6013999999999997E-2,1.4103469900000009E-2,8.1604909712875724,{"$f":"0","v":0},0,7.0505571885354277,{"$f":"0","v":0},0,{"$f":"0","v":0},0,1.5574800035999998E-2,null,954,0.96046790000000004,3.9532049999999999E-2,1.6013999999999997E-2,5.3660800000000002E-2,0,3.3360547105280532E-2,6688230,223265.1,1961582,8.2442206036680172,4562775,23700020,1.5584337974399997E-2,7.1315170708518982,null,0,0,null,1.4103469900000009E-2]
[958,4.0799549999999997E-2,5.5249069999999997E-2,217230.6,4479596,22930570,4479596,22930570,1.6013999999999997E-2,1.4103469900000009E-2,8.1318029089824364,{"$f":"0","v":0},0,7.0226895498801651,{"$f":"0","v":0},0,{"$f":"0","v":0},0,1.5571620696509999E-2,null,955,0.96015110000000004,3.9848920000000003E-2,1.6013999999999997E-2,5.4057870000000001E-2,0,3.3241850403310153E-2,6666854,221756.4,1942223,8.2166961133928957,4541980,23507660,1.5581158634909997E-2,7.1049607739132412,null,0,0,null,1.4103469900000009E-2]
[959,4.1116420000000001E-2,5.5646130000000002E-2,215722,4458801,22738210,4458801,22738210,1.6013999999999997E-2,1.4103469900000009E-2,8.1027182361248897,{"$f":"0","v":0},0,6.9943540244472384,{"$f":"0","v":0},0,{"$f":"0","v":0},0,1.5568441437089997E-2,null,956,0.95983419999999997,4.0165800000000002E-2,1.6013999999999997E-2,5.4454929999999999E-2,0,3.3123576023761946E-2,6645479,220247.8,1922863,8.1887860325203405,4521185,23315290,1.5577979375489997E-2,7.07798147161175,null,0,0,null,1.4103469900000009E-2]
[960,{"$f":"W965","v":4.1433299999999999E-2},{"$f":"Y965","v":5.6043200000000001E-2},{"$f":"AC965","v":214213.4},{"$f":"AF965","v":4438006},{"$f":"AG965","v":22545850},{"$f":"E962","v":4438006},{"$f":"F962","v":22545850},{"$f":"X965","v":1.6013999999999997E-2},{"$f":"AN965","v":1.4103469900000009E-2},{"$f":"AE965","v":8.0732192368295674},{"$f":"0","v":0},{"$f":"AL965","v":0},{"$f":"AI965","v":6.9655515909084089},{"$f":"0","v":0},{"$f":"AK965","v":0},{"$f":"0","v":0},{"$f":"Z965","v":0},{"$f":"AH965","v":1.5565262097599997E-2},null,957,0.95951730000000002,4.048268E-2,1.6013999999999997E-2,5.4851999999999998E-2,0,3.3005722464014314E-2,6624103,218739.20000000001,1903503,8.1604909712875724,4500391,23122930,1.5574800035999998E-2,7.0505571885354277,null,0,0,null,1.4103469900000009E-2]
[961,4.1778750000000003E-2,5.6477600000000003E-2,212757.3,4416926,22364570,4416926,22364570,1.6013999999999997E-2,1.4103469900000009E-2,8.0482759580987366,{"$f":"0","v":0},0,6.9418119759921346,{"$f":"0","v":0},0,{"$f":"0","v":0},0,1.5561783856799996E-2,null,958,0.95920039999999995,4.0799549999999997E-2,1.6013999999999997E-2,5.5249069999999997E-2,0,3.288828822679199E-2,6602727,217230.6,1884143,8.1318029089824364,4479596,22930570,1.5571620696509999E-2,7.0226895498801651,null,0,0,null,1.4103469900000009E-2]
[962,4.2124200000000001E-2,5.6911999999999997E-2,211301.2,4395846,22183300,4395846,22183300,1.6013999999999997E-2,1.4103469900000009E-2,8.0229889055686066,{"$f":"0","v":0},0,6.917694967555577,{"$f":"0","v":0},0,{"$f":"0","v":0},0,1.5558305615999997E-2,null,959,0.95888359999999995,4.1116420000000001E-2,1.6013999999999997E-2,5.5646130000000002E-2,0,3.2771271820146976E-2,6581351,215722,1864784,8.1027182361248897,4458801,22738210,1.5568441437089997E-2,6.9943540244472384,null,0,0,null,1.4103469900000009E-2]
[963,4.2469649999999998E-2,5.7346399999999999E-2,209845.1,4374766,22002030,4374766,22002030,1.6013999999999997E-2,1.4103469900000009E-2,7.9973509229744542,{"$f":"0","v":0},0,6.8931784740315418,{"$f":"0","v":0},0,{"$f":"0","v":0},0,1.5554827375199998E-2,null,960,0.95856669999999999,4.1433299999999999E-2,1.6013999999999997E-2,5.6043200000000001E-2,0,3.2654671757439642E-2,6559975,214213.4,1845424,8.0732192368295674,4438006,22545850,1.5565262097599997E-2,6.9655515909084089,null,0,0,null,1.4103469900000009E-2]
[964,4.2815100000000002E-2,5.77808E-2,208389,4353686,21820750,4353686,21820750,1.6013999999999997E-2,1.4103469900000009E-2,7.9713498553186577,{"$f":"0","v":0},0,6.868264622443327,{"$f":"0","v":0},0,{"$f":"0","v":0},0,1.5551349134399997E-2,null,961,0.95822130000000005,4.1778750000000003E-2,1.6013999999999997E-2,5.6477600000000003E-2,0,3.2538486557319835E-2,6537325,212757.3,1827573,8.0482759580987366,4416926,22364570,1.5561783856799996E-2,6.9418119759921346,null,0,0,null,1.4103469900000009E-2]
[965,4.3160549999999999E-2,5.8215200000000002E-2,206932.9,4332606,21639480,4332606,21639480,1.6013999999999997E-2,1.4103469900000009E-2,7.9449877029381666,{"$f":"0","v":0},0,6.8429296126794767,{"$f":"0","v":0},0,{"$f":"0","v":0},0,1.5547870893599996E-2,null,962,0.95787580000000005,4.2124200000000001E-2,1.6013999999999997E-2,5.6911999999999997E-2,0,3.2422714743707996E-2,6514675,211301.2,1809722,8.0229889055686066,4395846,22183300,1.5558305615999997E-2,6.917694967555577,null,0,0,null,1.4103469900000009E-2]
[966,4.3506000000000003E-2,5.8649600000000003E-2,205476.8,4311526,21458210,4311526,21458210,1.6013999999999997E-2,1.4103469900000009E-2,7.918251922682594,{"$f":"0","v":0},0,6.8171796947332961,{"$f":"0","v":0},0,{"$f":"0","v":0},0,1.5544392652799997E-2,null,963,0.9575304,4.2469649999999998E-2,1.6013999999999997E-2,5.7346399999999999E-2,0,3.2307354845776473E-2,6492025,209845.1,1791871,7.9973509229744542,4374766,22002030,1.5554827375199998E-2,6.8931784740315418,null,0,0,null,1.4103469900000009E-2]
[967,4.385145E-2,5.9083999999999998E-2,204020.7,4290446,21276940,4290446,21276940,1.6013999999999997E-2,1.4103469900000009E-2,7.8911345147820784,{"$f":"0","v":0},0,6.7909944488019995,{"$f":"0","v":0},0,{"$f":"0","v":0},0,1.5540914411999998E-2,null,964,0.95718490000000001,4.2815100000000002E-2,1.6013999999999997E-2,5.77808E-2,0,3.2192405397930834E-2,6469375,208389,1774019,7.9713498553186577,4353686,21820750,1.5551349134399997E-2,6.868264622443327,null,0,0,null,1.4103469900000009E-2]
[968,4.4196899999999997E-2,5.9518399999999999E-2,202564.6,4269366,21095660,4269366,21095660,1.6013999999999997E-2,1.4103469900000009E-2,7.8636272494470072,{"$f":"0","v":0},0,6.7643567047989235,{"$f":"0","v":0},0,{"$f":"0","v":0},0,1.5537436171199997E-2,null,965,0.95683940000000001,4.3160549999999999E-2,1.6013999999999997E-2,5.8215200000000002E-2,0,3.2077864939791194E-2,6446725,206932.9,1756168,7.9449877029381666,4332606,21639480,1.5547870893599996E-2,6.8429296126794767,null,0,0,null,1.4103469900000009E-2]
[969,4.4542350000000001E-2,5.9952800000000001E-2,201108.5,4248286,20914390,4248286,20914390,1.6013999999999997E-2,1.4103469900000009E-2,7.8357216585408702,{"$f":"0","v":0},0,6.7372690077073916,{"$f":"0","v":0},0,{"$f":"0","v":0},0,1.5533957930399998E-2,null,966,0.95649399999999996,4.3506000000000003E-2,1.6013999999999997E-2,5.8649600000000003E-2,0,3.1963732016173703E-2,6424075,205476.8,1738317,7.918251922682594,4311526,21458210,1.5544392652799997E-2,6.8171796947332961,null,0,0,null,1.4103469900000009E-2]
[970,4.4887799999999999E-2,6.0387200000000002E-2,199652.4,4227206,20733120,4227206,20733120,1.6013999999999997E-2,1.4103469900000009E-2,7.807409026888732,{"$f":"0","v":0},0,6.7097054164649972,{"$f":"0","v":0},0,{"$f":"0","v":0},0,1.5530479689599997E-2,null,967,0.95614860000000002,4.385145E-2,1.6013999999999997E-2,5.9083999999999998E-2,0,3.1850005177072066E-2,6401425,204020.7,1720466,7.8911345147820784,4290446,21276940,1.5540914411999998E-2,6.7909944488019995,null,0,0,null,1.4103469900000009E-2]
[971,4.5233250000000003E-2,6.0821600000000003E-2,198196.3,4206126,20551840,4206126,20551840,1.6013999999999997E-2,1.4103469900000009E-2,7.7786803832025795,{"$f":"0","v":0},0,6.6816678009399668,{"$f":"0","v":0},0,{"$f":"0","v":0},0,1.5527001448799998E-2,null,968,0.95580310000000002,4.4196899999999997E-2,1.6013999999999997E-2,5.9518399999999999E-2,0,3.1736682977639076E-2,6378775,202564.6,1702615,7.8636272494470072,4269366,21095660,1.5537436171199997E-2,6.7643567047989235,null,0,0,null,1.4103469900000009E-2]
[972,4.55787E-2,6.1255999999999998E-2,196740.3,4185046,20370570,4185046,20370570,1.6013999999999997E-2,1.4103469900000009E-2,7.7495171934779004,{"$f":"0","v":0},0,6.6531363959741894,{"$f":"0","v":0},0,{"$f":"0","v":0},0,1.5523523207999997E-2,null,969,0.95545760000000002,4.4542350000000001E-2,1.6013999999999997E-2,5.9952800000000001E-2,0,3.1623763978168316E-2,6356124,201108.5,1684764,7.8357216585408702,4248286,20914390,1.5533957930399998E-2,6.7372690077073916,null,0,0,null,1.4103469900000009E-2]
[973,4.5954299999999997E-2,6.1730930000000003E-2,195337.8,4163736,20200110,4163736,20200110,1.6013999999999997E-2,1.4103469900000009E-2,7.7251152874661235,{"$f":"0","v":0},0,6.6298994246933782,{"$f":"0","v":0},0,{"$f":"0","v":0},0,1.5519720443489997E-2,null,970,0.95511219999999997,4.4887799999999999E-2,1.6013999999999997E-2,6.0387200000000002E-2,0,3.1511246744075821E-2,6333474,199652.4,1666913,7.807409026888732,4227206,20733120,1.5530479689599997E-2,6.7097054164649972,null,0,0,null,1.4103469900000009E-2]
[974,4.63299E-2,6.2205870000000003E-2,193935.4,4142427,20029650,4142427,20029650,1.6013999999999997E-2,1.4103469900000009E-2,7.7003561924915891,{"$f":"0","v":0},0,6.6062685441485458,{"$f":"0","v":0},0,{"$f":"0","v":0},0,1.5515917598909997E-2,null,971,0.95476680000000003,4.5233250000000003E-2,1.6013999999999997E-2,6.0821600000000003E-2,0,3.139912984588189E-2,6310824,198196.3,1649062,7.7786803832025795,4206126,20551840,1.5527001448799998E-2,6.6816678009399668,null,0,0,null,1.4103469900000009E-2]
[975,4.6705499999999997E-2,6.2680799999999995E-2,192532.9,4121117,19859200,4121117,19859200,1.6013999999999997E-2,1.4103469900000009E-2,7.6752406774807485,{"$f":"0","v":0},0,6.5822310993833888,{"$f":"0","v":0},0,{"$f":"0","v":0},0,1.5512114834399996E-2,null,972,0.95442130000000003,4.55787E-2,1.6013999999999997E-2,6.1255999999999998E-2,0,3.1287411859192878E-2,6288174,196740.3,1631210,7.7495171934779004,4185046,20370570,1.5523523207999997E-2,6.6531363959741894,null,0,0,null,1.4103469900000009E-2]
[976,4.7081100000000001E-2,6.3155729999999993E-2,191130.5,4099808,19688740,4099808,19688740,1.6013999999999997E-2,1.4103469900000009E-2,7.6497522853059374,{"$f":"0","v":0},0,6.5577771044719455,{"$f":"0","v":0},0,{"$f":"0","v":0},0,1.5508312069889996E-2,null,973,0.9540457,4.5954299999999997E-2,1.6013999999999997E-2,6.1730930000000003E-2,0,3.1176091364683134E-2,6264290,195337.8,1614815,7.7251152874661235,4163736,20200110,1.5519720443489997E-2,6.6298994246933782,null,0,0,null,1.4103469900000009E-2]
[977,4.7456699999999997E-2,6.363067E-2,189728,4078498,19518280,4078498,19518280,1.6013999999999997E-2,1.4103469900000009E-2,7.6238913954011354,{"$f":"0","v":0},0,6.5328960677932155,{"$f":"0","v":0},0,{"$f":"0","v":0},0,1.5504509225309998E-2,null,974,0.95367009999999997,4.63299E-2,1.6013999999999997E-2,6.2205870000000003E-2,0,3.1065166948076987E-2,6240406,193935.4,1598420,7.7003561924915891,4142427,20029650,1.5515917598909997E-2,6.6062685441485458,null,0,0,null,1.4103469900000009E-2]
[978,4.7832300000000001E-2,6.4105599999999999E-2,188325.6,4057188,19347820,4057188,19347820,1.6013999999999997E-2,1.4103469900000009E-2,7.5976410004800199,{"$f":"0","v":0},0,6.5075751999993017,{"$f":"0","v":0},0,{"$f":"0","v":0},0,1.5500706460799997E-2,null,975,0.95329450000000004,4.6705499999999997E-2,1.6013999999999997E-2,6.2680799999999995E-2,0,3.0954637200130725E-2,6216522,192532.9,1582025,7.6752406774807485,4121117,19859200,1.5512114834399996E-2,6.5822310993833888,null,0,0,null,1.4103469900000009E-2]
[979,4.8207899999999998E-2,6.4580529999999997E-2,186923.2,4035879,19177370,4035879,19177370,1.6013999999999997E-2,1.4103469900000009E-2,7.5709967159418055,{"$f":"0","v":0},0,6.4818031903815569,{"$f":"0","v":0},0,{"$f":"0","v":0},0,1.5496903696289997E-2,null,976,0.95291890000000001,4.7081100000000001E-2,1.6013999999999997E-2,6.3155729999999993E-2,0,3.084450071661473E-2,6192639,191130.5,1565630,7.6497522853059374,4099808,19688740,1.5508312069889996E-2,6.5577771044719455,null,0,0,null,1.4103469900000009E-2]
[980,4.8583500000000002E-2,6.5055470000000004E-2,185520.7,4014569,19006910,4014569,19006910,1.6013999999999997E-2,1.4103469900000009E-2,7.5439539675806158,{"$f":"0","v":0},0,6.4555681939901266,{"$f":"0","v":0},0,{"$f":"0","v":0},0,1.5493100851709999E-2,null,977,0.95254329999999998,4.7456699999999997E-2,1.6013999999999997E-2,6.363067E-2,0,3.0734756098295631E-2,6168755,189728,1549235,7.6238913954011354,4078498,19518280,1.5504509225309998E-2,6.5328960677932155,null,0,0,null,1.4103469900000009E-2]
[981,4.8959099999999998E-2,6.5530400000000003E-2,184118.3,3993259,18836450,3993259,18836450,1.6013999999999997E-2,1.4103469900000009E-2,7.51649485231325,{"$f":"0","v":0},0,6.4288579476318386,{"$f":"0","v":0},0,{"$f":"0","v":0},0,1.5489298087199996E-2,null,978,0.95216769999999995,4.7832300000000001E-2,1.6013999999999997E-2,6.4105599999999999E-2,0,3.0625401950918528E-2,6144871,188325.6,1532840,7.5976410004800199,4057188,19347820,1.5500706460799997E-2,6.5075751999993017,null,0,0,null,1.4103469900000009E-2]
[982,4.9334700000000002E-2,6.6005330000000001E-2,182715.8,3971950,18665990,3971950,18665990,1.6013999999999997E-2,1.4103469900000009E-2,7.4886186179118974,{"$f":"0","v":0},0,6.4016598413962669,{"$f":"0","v":0},0,{"$f":"0","v":0},0,1.5485495322689996E-2,null,979,0.95179210000000003,4.8207899999999998E-2,1.6013999999999997E-2,6.4580529999999997E-2,0,3.0516436885189256E-2,6120987,186923.2,1516445,7.5709967159418055,4035879,19177370,1.5496903696289997E-2,6.4818031903815569,null,0,0,null,1.4103469900000009E-2]
[983,4.9710299999999999E-2,6.6480259999999999E-2,181313.4,3950640,18495530,3950640,18495530,1.6013999999999997E-2,1.4103469900000009E-2,7.4603067120245941,{"$f":"0","v":0},0,6.3739588399114089,{"$f":"0","v":0},0,{"$f":"0","v":0},0,1.5481692558179997E-2,null,980,0.9514165,4.8583500000000002E-2,1.6013999999999997E-2,6.5055470000000004E-2,0,3.0407859516756765E-2,6097103,185520.7,1500050,7.5439539675806158,4014569,19006910,1.5493100851709999E-2,6.4555681939901266,null,0,0,null,1.4103469900000009E-2]
[984,5.0085900000000003E-2,6.6955200000000006E-2,179911,3929330,18325080,3929330,18325080,1.6013999999999997E-2,1.4103469900000009E-2,7.4315534254900104,{"$f":"0","v":0},0,6.3457413135357674,{"$f":"0","v":0},0,{"$f":"0","v":0},0,1.5477889713599997E-2,null,981,0.95104089999999997,4.8959099999999998E-2,1.6013999999999997E-2,6.5530400000000003E-2,0,3.0299668466195535E-2,6073219,184118.3,1483655,7.51649485231325,3993259,18836450,1.5489298087199996E-2,6.4288579476318386,null,0,0,null,1.4103469900000009E-2]
[985,5.0493080000000003E-2,6.7474000000000006E-2,178563.7,3907862,18165210,3907862,18165210,1.6013999999999997E-2,1.4103469900000009E-2,7.4077541842677608,{"$f":"0","v":0},0,6.3230587740044317,{"$f":"0","v":0},0,{"$f":"0","v":0},0,1.5473735681999997E-2,null,982,0.95066530000000005,4.9334700000000002E-2,1.6013999999999997E-2,6.6005330000000001E-2,0,3.0191862358988009E-2,6049335,182715.8,1467260,7.4886186179118974,3971950,18665990,1.5485495322689996E-2,6.4016598413962669,null,0,0,null,1.4103469900000009E-2]
[986,5.0900250000000001E-2,6.7992800000000006E-2,177216.5,3886393,18005340,3886393,18005340,1.6013999999999997E-2,1.4103469900000009E-2,7.3835829573807557,{"$f":"0","v":0},0,6.2999689894160849,{"$f":"0","v":0},0,{"$f":"0","v":0},0,1.5469581650399996E-2,null,983,0.95028970000000001,4.9710299999999999E-2,1.6013999999999997E-2,6.6480259999999999E-2,0,3.0084439825507184E-2,6025451,181313.4,1450865,7.4603067120245941,3950640,18495530,1.5481692558179997E-2,6.3739588399114089,null,0,0,null,1.4103469900000009E-2]
[987,5.1307419999999999E-2,6.8511610000000001E-2,175869.3,3864925,17845470,3864925,17845470,1.6013999999999997E-2,1.4103469900000009E-2,7.3590414159833468,{"$f":"0","v":0},0,6.2764600888934545,{"$f":"0","v":0},0,{"$f":"0","v":0},0,1.5465427538729997E-2,null,984,0.94991409999999998,5.0085900000000003E-2,1.6013999999999997E-2,6.6955200000000006E-2,0,2.9977399500999171E-2,6001567,179911,1434470,7.4315534254900104,3929330,18325080,1.5477889713599997E-2,6.3457413135357674,null,0,0,null,1.4103469900000009E-2]
[988,5.1714599999999999E-2,6.9030400000000006E-2,174522.1,3843456,17685600,3843456,17685600,1.6013999999999997E-2,1.4103469900000009E-2,7.3341267142289333,{"$f":"0","v":0},0,6.2525189982057414,{"$f":"0","v":0},0,{"$f":"0","v":0},0,1.5461273587199998E-2,null,985,0.94950690000000004,5.0493080000000003E-2,1.6013999999999997E-2,6.7474000000000006E-2,0,2.9870740025565865E-2,5976518,178563.7,1419478,7.4077541842677608,3907862,18165210,1.5473735681999997E-2,6.3230587740044317,null,0,0,null,1.4103469900000009E-2]
[989,5.2121779999999999E-2,6.9549200000000005E-2,173174.9,3821988,17525730,3821988,17525730,1.6013999999999997E-2,1.4103469900000009E-2,7.3088185941881108,{"$f":"0","v":0},0,6.2281368834494888,{"$f":"0","v":0},0,{"$f":"0","v":0},0,1.5457119555599997E-2,null,986,0.94909980000000005,5.0900250000000001E-2,1.6013999999999997E-2,6.7992800000000006E-2,0,2.9764460044147692E-2,5951468,177216.5,1404485,7.3835829573807557,3886393,18005340,1.5469581650399996E-2,6.2999689894160849,null,0,0,null,1.4103469900000009E-2]
[990,5.2528949999999998E-2,7.0068000000000005E-2,171827.6,3800520,17365860,3800520,17365860,1.6013999999999997E-2,1.4103469900000009E-2,7.2831239956017928,{"$f":"0","v":0},0,6.2032998076469728,{"$f":"0","v":0},0,{"$f":"0","v":0},0,1.5452965523999997E-2,null,987,0.9486926,5.1307419999999999E-2,1.6013999999999997E-2,6.8511610000000001E-2,0,2.9658558206506355E-2,5926419,175869.3,1389492,7.3590414159833468,3864925,17845470,1.5465427538729997E-2,6.2764600888934545,null,0,0,null,1.4103469900000009E-2]
[991,5.2936129999999998E-2,7.0586800000000005E-2,170480.4,3779051,17205990,3779051,17205990,1.6013999999999997E-2,1.4103469900000009E-2,7.2570128296273353,{"$f":"0","v":0},0,6.1779941243986993,{"$f":"0","v":0},0,{"$f":"0","v":0},0,1.5448811492399997E-2,null,988,0.94828539999999995,5.1714599999999999E-2,1.6013999999999997E-2,6.9030400000000006E-2,0,2.9553033167207712E-2,5901369,174522.1,1374500,7.3341267142289333,3843456,17685600,1.5461273587199998E-2,6.2525189982057414,null,0,0,null,1.4103469900000009E-2]
[992,5.3343300000000003E-2,7.1105600000000005E-2,169133.2,3757583,17046120,3757583,17046120,1.6013999999999997E-2,1.4103469900000009E-2,7.2304916085862105,{"$f":"0","v":0},0,6.1522068807386221,{"$f":"0","v":0},0,{"$f":"0","v":0},0,1.5444657460799996E-2,null,989,0.9478782,5.2121779999999999E-2,1.6013999999999997E-2,6.9549200000000005E-2,0,2.9447883585604673E-2,5876320,173174.9,1359507,7.3088185941881108,3821988,17525730,1.5457119555599997E-2,6.2281368834494888,null,0,0,null,1.4103469900000009E-2]
[993,5.3750480000000003E-2,7.1624400000000005E-2,167786,3736114,16886250,3736114,16886250,1.6013999999999997E-2,1.4103469900000009E-2,7.2035385351976124,{"$f":"0","v":0},0,6.1259262034575759,{"$f":"0","v":0},0,{"$f":"0","v":0},0,1.5440503429199998E-2,null,990,0.94747099999999995,5.2528949999999998E-2,1.6013999999999997E-2,7.0068000000000005E-2,0,2.9343108125820146E-2,5851270,171827.6,1344515,7.2831239956017928,3800520,17365860,1.5452965523999997E-2,6.2032998076469728,null,0,0,null,1.4103469900000009E-2]
[994,5.4157650000000002E-2,7.2143200000000005E-2,166438.79999999999,3714646,16726380,3714646,16726380,1.6013999999999997E-2,1.4103469900000009E-2,7.1761491310920293,{"$f":"0","v":0},0,6.0991337079552927,{"$f":"0","v":0},0,{"$f":"0","v":0},0,1.5436349397599997E-2,null,991,0.94706389999999996,5.2936129999999998E-2,1.6013999999999997E-2,7.0586800000000005E-2,0,2.9238705456730109E-2,5826221,170480.4,1329522,7.2570128296273353,3779051,17205990,1.5448811492399997E-2,6.1779941243986993,null,0,0,null,1.4103469900000009E-2]
[995,5.4564830000000002E-2,7.2662000000000004E-2,165091.5,3693177,16566510,3693177,16566510,1.6013999999999997E-2,1.4103469900000009E-2,7.14832342973442,{"$f":"0","v":0},0,6.0718188543648282,{"$f":"0","v":0},0,{"$f":"0","v":0},0,1.5432195365999997E-2,null,992,0.94665670000000002,5.3343300000000003E-2,1.6013999999999997E-2,7.1105600000000005E-2,0,2.9134674251946664E-2,5801171,169133.2,1314530,7.2304916085862105,3757583,17046120,1.5444657460799996E-2,6.1522068807386221,null,0,0,null,1.4103469900000009E-2]
[996,5.4972E-2,7.3180800000000004E-2,163744.29999999999,3671709,16406640,3671709,16406640,1.6013999999999997E-2,1.4103469900000009E-2,7.1200290381609213,{"$f":"0","v":0},0,6.0439640926758935,{"$f":"0","v":0},0,{"$f":"0","v":0},0,1.5428041334399997E-2,null,993,0.94624949999999997,5.3750480000000003E-2,1.6013999999999997E-2,7.1624400000000005E-2,0,2.9031013189801183E-2,5776122,167786,1299537,7.2035385351976124,3736114,16886250,1.5440503429199998E-2,6.1259262034575759,null,0,0,null,1.4103469900000009E-2]
[997,5.5412099999999999E-2,7.3747069999999998E-2,162454.29999999999,3650168,16257180,3650168,16257180,1.6013999999999997E-2,1.4103469900000009E-2,7.0968753725406675,{"$f":"0","v":0},0,6.0218834061252648,{"$f":"0","v":0},0,{"$f":"0","v":0},0,1.5423507210509996E-2,null,994,0.94584230000000002,5.4157650000000002E-2,1.6013999999999997E-2,7.2143200000000005E-2,0,2.8927720953327563E-2,5751072,166438.79999999999,1284544,7.1761491310920293,3714646,16726380,1.5436349397599997E-2,6.0991337079552927,null,0,0,null,1.4103469900000009E-2]
[998,5.5852199999999998E-2,7.4313340000000006E-2,161164.29999999999,3628627,16107710,3628627,16107710,1.6013999999999997E-2,1.4103469900000009E-2,7.0733448464289754,{"$f":"0","v":0},0,5.9993823252983072,{"$f":"0","v":0},0,{"$f":"0","v":0},0,1.5418973086619997E-2,null,995,0.94543520000000003,5.4564830000000002E-2,1.6013999999999997E-2,7.2662000000000004E-2,0,2.8824796230245423E-2,5726023,165091.5,1269552,7.14832342973442,3693177,16566510,1.5432195365999997E-2,6.0718188543648282,null,0,0,null,1.4103469900000009E-2]
[999,5.6292300000000003E-2,7.4879600000000004E-2,159874.20000000001,3607087,15958240,3607087,15958240,1.6013999999999997E-2,1.4103469900000009E-2,7.0494455953493427,{"$f":"0","v":0},0,5.9764512791055324,{"$f":"0","v":0},0,{"$f":"0","v":0},0,1.5414439042799996E-2,null,996,0.94502799999999998,5.4972E-2,1.6013999999999997E-2,7.3180800000000004E-2,0,2.8722237712943504E-2,5700973,163744.29999999999,1254559,7.1200290381609213,3671709,16406640,1.5428041334399997E-2,6.0439640926758935,null,0,0,null,1.4103469900000009E-2]
[1000,5.6732400000000002E-2,7.5445869999999998E-2,158584.20000000001,3585546,15808770,3585546,15808770,1.6013999999999997E-2,1.4103469900000009E-2,7.0251527264380682,{"$f":"0","v":0},0,5.9530747989564121,{"$f":"0","v":0},0,{"$f":"0","v":0},0,1.5409904918909997E-2,null,997,0.94458790000000004,5.5412099999999999E-2,1.6013999999999997E-2,7.3747069999999998E-2,0,2.8620044098462999E-2,5674857,162454.29999999999,1240914,7.0968753725406675,3650168,16257180,1.5423507210509996E-2,6.0218834061252648,null,0,0,null,1.4103469900000009E-2]
[1001,5.7172500000000001E-2,7.6012129999999997E-2,157294.1,3564005,15659300,3564005,15659300,1.6013999999999997E-2,1.4103469900000009E-2,7.0004598339458797,{"$f":"0","v":0},0,5.9292393547761257,{"$f":"0","v":0},0,{"$f":"0","v":0},0,1.5405370875089997E-2,null,998,0.94414779999999998,5.5852199999999998E-2,1.6013999999999997E-2,7.4313340000000006E-2,0,2.8518214088481039E-2,5648741,161164.29999999999,1227268,7.0733448464289754,3628627,16107710,1.5418973086619997E-2,5.9993823252983072,null,0,0,null,1.4103469900000009E-2]
[1002,5.76126E-2,7.6578400000000005E-2,156004.1,3542464,15509840,3542464,15509840,1.6013999999999997E-2,1.4103469900000009E-2,6.9753601294239482,{"$f":"0","v":0},0,5.9049331115369927,{"$f":"0","v":0},0,{"$f":"0","v":0},0,1.5400836751199997E-2,null,999,0.94370770000000004,5.6292300000000003E-2,1.6013999999999997E-2,7.4879600000000004E-2,0,2.8416746389294163E-2,5622625,159874.20000000001,1213623,7.0494455953493427,3607087,15958240,1.5414439042799996E-2,5.9764512791055324,null,0,0,null,1.4103469900000009E-2]
[1003,5.8052699999999999E-2,7.7144669999999999E-2,154714,3520924,15360370,3520924,15360370,1.6013999999999997E-2,1.4103469900000009E-2,6.9498467063958875,{"$f":"0","v":0},0,5.8801423534777619,{"$f":"0","v":0},0,{"$f":"0","v":0},0,1.5396302627309996E-2,null,1000,0.94326759999999998,5.6732400000000002E-2,1.6013999999999997E-2,7.5445869999999998E-2,0,2.8315639711801933E-2,5596509,158584.20000000001,1199978,7.0251527264380682,3585546,15808770,1.5409904918909997E-2,5.9530747989564121,null,0,0,null,1.4103469900000009E-2]
[1004,5.8492799999999998E-2,7.7710929999999998E-2,153424,3499383,15210900,3499383,15210900,1.6013999999999997E-2,1.4103469900000009E-2,6.923892828588313,{"$f":"0","v":0},0,5.8548502186697764,{"$f":"0","v":0},0,{"$f":"0","v":0},0,1.5391768583489996E-2,null,1001,0.94282750000000004,5.7172500000000001E-2,1.6013999999999997E-2,7.6012129999999997E-2,0,2.8214892771490498E-2,5570392,157294.1,1186332,7.0004598339458797,3564005,15659300,1.5405370875089997E-2,5.9292393547761257,null,0,0,null,1.4103469900000009E-2]
[1005,5.8932900000000003E-2,7.8277200000000005E-2,152134,3477842,15061430,3477842,15061430,1.6013999999999997E-2,1.4103469900000009E-2,6.8975053790298899,{"$f":"0","v":0},0,5.8290440849502128,{"$f":"0","v":0},0,{"$f":"0","v":0},0,1.5387234459599997E-2,null,1002,0.94238739999999999,5.76126E-2,1.6013999999999997E-2,7.6578400000000005E-2,0,2.8114504288416314E-2,5544276,156004.1,1172687,6.9753601294239482,3542464,15509840,1.5400836751199997E-2,5.9049331115369927,null,0,0,null,1.4103469900000009E-2]
[1006,5.9373000000000002E-2,7.8843469999999999E-2,150843.9,3456302,14911960,3456302,14911960,1.6013999999999997E-2,1.4103469900000009E-2,6.870671518702447,{"$f":"0","v":0},0,5.8027075819131335,{"$f":"0","v":0},0,{"$f":"0","v":0},0,1.5382700335709997E-2,null,1003,0.94194730000000004,5.8052699999999999E-2,1.6013999999999997E-2,7.7144669999999999E-2,0,2.801447298718987E-2,5518160,154714,1159042,6.9498467063958875,3520924,15360370,1.5396302627309996E-2,5.8801423534777619,null,0,0,null,1.4103469900000009E-2]
[1007,5.9813100000000001E-2,7.9409729999999998E-2,149553.9,3434761,14762490,3434761,14762490,1.6013999999999997E-2,1.4103469900000009E-2,6.843363078462013,{"$f":"0","v":0},0,5.7758201585547173,{"$f":"0","v":0},0,{"$f":"0","v":0},0,1.5378166291889997E-2,null,1004,0.94150719999999999,5.8492799999999998E-2,1.6013999999999997E-2,7.7710929999999998E-2,0,2.791479759695949E-2,5492044,153424,1145396,6.923892828588313,3499383,15210900,1.5391768583489996E-2,5.8548502186697764,null,0,0,null,1.4103469900000009E-2]
[1008,6.02532E-2,7.9976000000000005E-2,148263.79999999999,3413220,14613030,3413220,14613030,1.6013999999999997E-2,1.4103469900000009E-2,6.8155911400265383,{"$f":"0","v":0},0,5.7483698850680423,{"$f":"0","v":0},0,{"$f":"0","v":0},0,1.5373632167999998E-2,null,1005,0.94106710000000005,5.8932900000000003E-2,1.6013999999999997E-2,7.8277200000000005E-2,0,2.7815476851395175E-2,5465928,152134,1131751,6.8975053790298899,3477842,15061430,1.5387234459599997E-2,5.8290440849502128,null,0,0,null,1.4103469900000009E-2]
[1009,6.0727719999999999E-2,8.0593600000000001E-2,147033.20000000001,3391709,14473800,3391709,14473800,1.6013999999999997E-2,1.4103469900000009E-2,6.793132548748626,{"$f":"0","v":0},0,5.7269388999651802,{"$f":"0","v":0},0,{"$f":"0","v":0},0,1.5368687044799996E-2,null,1006,0.94062699999999999,5.9373000000000002E-2,1.6013999999999997E-2,7.8843469999999999E-2,0,2.7716509488672537E-2,5439812,150843.9,1118106,6.870671518702447,3456302,14911960,1.5382700335709997E-2,5.8027075819131335,null,0,0,null,1.4103469900000009E-2]
[1010,6.120225E-2,8.1211199999999997E-2,145802.6,3370198,14334570,3370198,14334570,1.6013999999999997E-2,1.4103469900000009E-2,6.7703017070111686,{"$f":"0","v":0},0,5.7050743507670783,{"$f":"0","v":0},0,{"$f":"0","v":0},0,1.5363741921599996E-2,null,1007,0.94018690000000005,5.9813100000000001E-2,1.6013999999999997E-2,7.9409729999999998E-2,0,2.7617894251456727E-2,5413695,149553.9,1104460,6.843363078462013,3434761,14762490,1.5378166291889997E-2,5.7758201585547173,null,0,0,null,1.4103469900000009E-2]
[1011,6.1676769999999999E-2,8.1828799999999993E-2,144572,3348687,14195350,3348687,14195350,1.6013999999999997E-2,1.4103469900000009E-2,6.7470821920334965,{"$f":"0","v":0},0,5.6827657018653772,{"$f":"0","v":0},0,{"$f":"0","v":0},0,1.5358796798399996E-2,null,1008,0.93974679999999999,6.02532E-2,1.6013999999999997E-2,7.9976000000000005E-2,0,2.7519629886886526E-2,5387579,148263.79999999999,1090815,6.8155911400265383,3413220,14613030,1.5373632167999998E-2,5.7483698850680423,null,0,0,null,1.4103469900000009E-2]
[1012,6.21513E-2,8.2446400000000003E-2,143341.4,3327176,14056120,3327176,14056120,1.6013999999999997E-2,1.4103469900000009E-2,6.7234639934217659,{"$f":"0","v":0},0,5.6599983465546089,{"$f":"0","v":0},0,{"$f":"0","v":0},0,1.5353851675199997E-2,null,1009,0.93927229999999995,6.0727719999999999E-2,1.6013999999999997E-2,8.0593600000000001E-2,0,2.7421715146558362E-2,5360528,147033.20000000001,1078459,6.793132548748626,3391709,14473800,1.5368687044799996E-2,5.7269388999651802,null,0,0,null,1.4103469900000009E-2]
[1013,6.2625829999999993E-2,8.3063999999999999E-2,142110.79999999999,3305666,13916890,3305666,13916890,1.6013999999999997E-2,1.4103469900000009E-2,6.6994297172816335,{"$f":"0","v":0},0,5.6367579901145568,{"$f":"0","v":0},0,{"$f":"0","v":0},0,1.5348906551999997E-2,null,1010,0.93879780000000002,6.120225E-2,1.6013999999999997E-2,8.1211199999999997E-2,0,2.7324148786510495E-2,5333476,145802.6,1066104,6.7703017070111686,3370198,14334570,1.5363741921599996E-2,5.7050743507670783,null,0,0,null,1.4103469900000009E-2]
[1014,6.3100349999999999E-2,8.3681599999999995E-2,140880.29999999999,3284155,13777670,3284155,13777670,1.6013999999999997E-2,1.4103469900000009E-2,6.6749775341193907,{"$f":"0","v":0},0,5.6130297376330516,{"$f":"0","v":0},0,{"$f":"0","v":0},0,1.5343961428799997E-2,null,1011,0.93832329999999997,6.1676769999999999E-2,1.6013999999999997E-2,8.1828799999999993E-2,0,2.7226929567207171E-2,5306424,144572,1053749,6.7470821920334965,3348687,14195350,1.5358796798399996E-2,5.6827657018653772,null,0,0,null,1.4103469900000009E-2]
[1015,6.3574870000000006E-2,8.4299200000000005E-2,139649.60000000001,3262644,13638440,3262644,13638440,1.6013999999999997E-2,1.4103469900000009E-2,6.6501047383355667,{"$f":"0","v":0},0,5.5887965651854836,{"$f":"0","v":0},0,{"$f":"0","v":0},0,1.5339016305599997E-2,null,1012,0.93784869999999998,6.21513E-2,1.6013999999999997E-2,8.2446400000000003E-2,0,2.7130056253522945E-2,5279373,143341.4,1041394,6.7234639934217659,3327176,14056120,1.5353851675199997E-2,5.6599983465546089,null,0,0,null,1.4103469900000009E-2]
[1016,6.4049400000000006E-2,8.4916800000000001E-2,138419,3241133,13499220,3241133,13499220,1.6013999999999997E-2,1.4103469900000009E-2,6.6247786912682987,{"$f":"0","v":0},0,5.5640443340297834,{"$f":"0","v":0},0,{"$f":"0","v":0},0,1.5334071182399997E-2,null,1013,0.93737420000000005,6.2625829999999993E-2,1.6013999999999997E-2,8.3063999999999999E-2,0,2.7033527614726896E-2,5252321,142110.79999999999,1029038,6.6994297172816335,3305666,13916890,1.5348906551999997E-2,5.6367579901145568,null,0,0,null,1.4103469900000009E-2]
[1017,6.4523929999999993E-2,8.5534390000000002E-2,137188.5,3219622,13359990,3219622,13359990,1.6013999999999997E-2,1.4103469900000009E-2,6.5989967271309187,{"$f":"0","v":0},0,5.5387574394895687,{"$f":"0","v":0},0,{"$f":"0","v":0},0,1.5329126139269997E-2,null,1014,0.9368997,6.3100349999999999E-2,1.6013999999999997E-2,8.3681599999999995E-2,0,2.6937342424467072E-2,5225270,140880.29999999999,1016683,6.6749775341193907,3284155,13777670,1.5343961428799997E-2,5.6130297376330516,null,0,0,null,1.4103469900000009E-2]
[1018,6.4998449999999999E-2,8.6151989999999998E-2,135957.79999999999,3198111,13220760,3198111,13220760,1.6013999999999997E-2,1.4103469900000009E-2,6.57275854468568,{"$f":"0","v":0},0,5.5129154748099465,{"$f":"0","v":0},0,{"$f":"0","v":0},0,1.5324181016069997E-2,null,1015,0.93642510000000001,6.3574870000000006E-2,1.6013999999999997E-2,8.4299200000000005E-2,0,2.6841499460754852E-2,5198218,139649.60000000001,1004328,6.6501047383355667,3262644,13638440,1.5339016305599997E-2,5.5887965651854836,null,0,0,null,1.4103469900000009E-2]
[1019,6.547298E-2,8.6769600000000002E-2,134727.29999999999,3176600,13081540,3176600,13081540,1.6013999999999997E-2,1.4103469900000009E-2,6.5460304815727781,{"$f":"0","v":0},0,5.4865000046378531,{"$f":"0","v":0},0,{"$f":"0","v":0},0,1.5319235812799998E-2,null,1016,0.93595059999999997,6.4049400000000006E-2,1.6013999999999997E-2,8.4916800000000001E-2,0,2.6745997505949467E-2,5171167,138419,991972.2,6.6247786912682987,3241133,13499220,1.5334071182399997E-2,5.5640443340297834,null,0,0,null,1.4103469900000009E-2]
[1020,6.5947500000000006E-2,8.7387199999999998E-2,133496.70000000001,3155089,12942310,3155089,12942310,1.6013999999999997E-2,1.4103469900000009E-2,6.5188142291157751,{"$f":"0","v":0},0,5.4594936654665505,{"$f":"0","v":0},0,{"$f":"0","v":0},0,1.5314290689599996E-2,null,1017,0.93547610000000003,6.4523929999999993E-2,1.6013999999999997E-2,8.5534390000000002E-2,0,2.6650835346742494E-2,5144115,137188.5,979616.9,6.5989967271309187,3219622,13359990,1.5329126139269997E-2,5.5387574394895687,null,0,0,null,1.4103469900000009E-2]
[1021,6.6457580000000002E-2,8.8059999999999999E-2,132327.9,3133723,12813180,3133723,12813180,1.6013999999999997E-2,1.4103469900000009E-2,6.4971082250984109,{"$f":"0","v":0},0,5.4387543401571286,{"$f":"0","v":0},0,{"$f":"0","v":0},0,1.5308903579999996E-2,null,1018,0.93500159999999999,6.4998449999999999E-2,1.6013999999999997E-2,8.6151989999999998E-2,0,2.6556011774142477E-2,5117063,135957.79999999999,967261.6,6.57275854468568,3198111,13220760,1.5324181016069997E-2,5.5129154748099465,null,0,0,null,1.4103469900000009E-2]
[1022,6.6967650000000004E-2,8.8732790000000006E-2,131159.20000000001,3112358,12684050,3112358,12684050,1.6013999999999997E-2,1.4103469900000009E-2,6.4750084884120458,{"$f":"0","v":0},0,5.4175715945864793,{"$f":"0","v":0},0,{"$f":"0","v":0},0,1.5303516550469997E-2,null,1019,0.934527,6.547298E-2,1.6013999999999997E-2,8.6769600000000002E-2,0,2.6461525583459513E-2,5090012,134727.29999999999,954906.3,6.5460304815727781,3176600,13081540,1.5319235812799998E-2,5.4865000046378531,null,0,0,null,1.4103469900000009E-2]
[1023,6.747773E-2,8.9405600000000002E-2,129990.5,3090992,12554920,3090992,12554920,1.6013999999999997E-2,1.4103469900000009E-2,6.4525121387075721,{"$f":"0","v":0},0,5.3959326862459767,{"$f":"0","v":0},0,{"$f":"0","v":0},0,1.5298129360799996E-2,null,1020,0.93405249999999995,6.5947500000000006E-2,1.6013999999999997E-2,8.7387199999999998E-2,0,2.636737557429002E-2,5062960,133496.70000000001,942550.9,6.5188142291157751,3155089,12942310,1.5314290689599996E-2,5.4594936654665505,null,0,0,null,1.4103469900000009E-2]
[1024,{"$f":"W1029","v":6.7987800000000001E-2},{"$f":"Y1029","v":9.0078400000000003E-2},{"$f":"AC1029","v":128821.8},{"$f":"AF1029","v":3069626},{"$f":"AG1029","v":12425780},{"$f":"E1026","v":3069626},{"$f":"F1026","v":12425780},{"$f":"X1029","v":1.6013999999999997E-2},{"$f":"AN1029","v":1.4103469900000009E-2},{"$f":"AE1029","v":6.4296076052345175},{"$f":"0","v":0},{"$f":"AL1029","v":0},{"$f":"AI1029","v":5.3738193661081226},{"$f":"0","v":0},{"$f":"AK1029","v":0},{"$f":"0","v":0},{"$f":"Z1029","v":0},{"$f":"AH1029","v":1.5292742251199998E-2},null,1021,0.93354239999999999,6.6457580000000002E-2,1.6013999999999997E-2,8.8059999999999999E-2,0,2.6273560550501413E-2,5035136,132327.9,931426.3,6.4971082250984109,3133723,12813180,1.5308903579999996E-2,5.4387543401571286,null,0,0,null,1.4103469900000009E-2]
[1025,6.8497870000000002E-2,9.0751200000000004E-2,127653,3048261,12296650,3048261,12296650,1.6013999999999997E-2,1.4103469900000009E-2,6.4062891197229987,{"$f":"0","v":0},0,5.3512175833329154,{"$f":"0","v":0},0,{"$f":"0","v":0},0,1.5287355141599998E-2,null,1022,0.93303230000000004,6.6967650000000004E-2,1.6013999999999997E-2,8.8732790000000006E-2,0,2.618007932021698E-2,5007312,131159.20000000001,920301.5,6.4750084884120458,3112358,12684050,1.5303516550469997E-2,5.4175715945864793,null,0,0,null,1.4103469900000009E-2]
[1026,6.9007949999999998E-2,9.1424000000000005E-2,126484.3,3026895,12167520,3026895,12167520,1.6013999999999997E-2,1.4103469900000009E-2,6.3825334119201615,{"$f":"0","v":0},0,5.3281119627383111,{"$f":"0","v":0},0,{"$f":"0","v":0},0,1.5281968031999998E-2,null,1023,0.93252230000000003,6.747773E-2,1.6013999999999997E-2,8.9405600000000002E-2,0,2.6086930695800654E-2,4979488,129990.5,909176.8,6.4525121387075721,3090992,12554920,1.5298129360799996E-2,5.3959326862459767,null,0,0,null,1.4103469900000009E-2]
[1027,6.9518029999999995E-2,9.2096800000000006E-2,125315.6,3005529,12038390,3005529,12038390,1.6013999999999997E-2,1.4103469900000009E-2,6.358335408094975,{"$f":"0","v":0},0,5.3044851325128715,{"$f":"0","v":0},0,{"$f":"0","v":0},0,1.5276580922399998E-2,null,1024,0.93201219999999996,6.7987800000000001E-2,1.6013999999999997E-2,9.0078400000000003E-2,0,2.5994113493842015E-2,4951664,128821.8,898052.1,6.4296076052345175,3069626,12425780,1.5292742251199998E-2,5.3738193661081226,null,0,0,null,1.4103469900000009E-2]
[1028,7.0028099999999996E-2,9.2769599999999994E-2,124146.9,2984164,11909260,2984164,11909260,1.6013999999999997E-2,1.4103469900000009E-2,6.333681811627998,{"$f":"0","v":0},0,5.2803167973924543,{"$f":"0","v":0},0,{"$f":"0","v":0},0,1.5271193812799996E-2,null,1025,0.9315021,6.8497870000000002E-2,1.6013999999999997E-2,9.0751200000000004E-2,0,2.5901626535141192E-2,4923840,127653,886927.4,6.4062891197229987,3048261,12296650,1.5287355141599998E-2,5.3512175833329154,null,0,0,null,1.4103469900000009E-2]
[1029,7.0538180000000006E-2,9.3442399999999995E-2,122978.1,2962798,11780130,2962798,11780130,1.6013999999999997E-2,1.4103469900000009E-2,6.3085652038858946,{"$f":"0","v":0},0,5.2555899313186698,{"$f":"0","v":0},0,{"$f":"0","v":0},0,1.5265806703199996E-2,null,1026,0.93099209999999999,6.9007949999999998E-2,1.6013999999999997E-2,9.1424000000000005E-2,0,2.5809468644693911E-2,4896015,126484.3,875802.6,6.3825334119201615,3026895,12167520,1.5281968031999998E-2,5.3281119627383111,null,0,0,null,1.4103469900000009E-2]
[1030,7.1048249999999993E-2,9.4115199999999996E-2,121809.4,2941432,11651000,2941432,11651000,1.6013999999999997E-2,1.4103469900000009E-2,6.2829609893270417,{"$f":"0","v":0},0,5.2302849464529917,{"$f":"0","v":0},0,{"$f":"0","v":0},0,1.5260419593599996E-2,null,1027,0.93048200000000003,6.9518029999999995E-2,1.6013999999999997E-2,9.2096800000000006E-2,0,2.5717638651676554E-2,4868191,125315.6,864677.9,6.358335408094975,3005529,12038390,1.5276580922399998E-2,5.3044851325128715,null,0,0,null,1.4103469900000009E-2]
[1031,7.1558330000000003E-2,9.4787999999999997E-2,120640.7,2920067,11521860,2920067,11521860,1.6013999999999997E-2,1.4103469900000009E-2,6.2568598670818938,{"$f":"0","v":0},0,5.2043813281881555,{"$f":"0","v":0},0,{"$f":"0","v":0},0,1.5255032483999996E-2,null,1028,0.92997189999999996,7.0028099999999996E-2,1.6013999999999997E-2,9.2769599999999994E-2,0,2.5626135389431287E-2,4840367,124146.9,853553.2,6.333681811627998,2984164,11909260,1.5271193812799996E-2,5.2803167973924543,null,0,0,null,1.4103469900000009E-2]
[1032,7.2068400000000005E-2,9.5460799999999998E-2,119472,2898701,11392730,2898701,11392730,1.6013999999999997E-2,1.4103469900000009E-2,6.2302489286192584,{"$f":"0","v":0},0,5.1778593875856505,{"$f":"0","v":0},0,{"$f":"0","v":0},0,1.5249645374399998E-2,null,1029,0.9294618,7.0538180000000006E-2,1.6013999999999997E-2,9.3442399999999995E-2,0,2.5534957695451242E-2,4812543,122978.1,842428.5,6.3085652038858946,2962798,11780130,1.5265806703199996E-2,5.2555899313186698,null,0,0,null,1.4103469900000009E-2]
[1033,7.2615449999999998E-2,9.6192929999999996E-2,118367.6,2877608,11273550,2877608,11273550,1.6013999999999997E-2,1.4103469900000009E-2,6.2093217794959656,{"$f":"0","v":0},0,5.1578543584810213,{"$f":"0","v":0},0,{"$f":"0","v":0},0,1.5243783209489997E-2,null,1030,0.92895170000000005,7.1048249999999993E-2,1.6013999999999997E-2,9.4115199999999996E-2,0,2.544410441136576E-2,4784719,121809.4,831303.8,6.2829609893270417,2941432,11651000,1.5260419593599996E-2,5.2302849464529917,null,0,0,null,1.4103469900000009E-2]
[1034,7.3162500000000005E-2,9.6925059999999993E-2,117263.3,2856516,11154370,2856516,11154370,1.6013999999999997E-2,1.4103469900000009E-2,6.1879947022356241,{"$f":"0","v":0},0,5.1373946659250969,{"$f":"0","v":0},0,{"$f":"0","v":0},0,1.5237921044579997E-2,null,1031,0.92844159999999998,7.1558330000000003E-2,1.6013999999999997E-2,9.4787999999999997E-2,0,2.5353574382925632E-2,4756895,120640.7,820179,6.2568598670818938,2920067,11521860,1.5255032483999996E-2,5.2043813281881555,null,0,0,null,1.4103469900000009E-2]
[1035,7.3709549999999999E-2,9.76572E-2,116159,2835424,11035190,2835424,11035190,1.6013999999999997E-2,1.4103469900000009E-2,6.1662621205990638,{"$f":"0","v":0},0,5.1164635735290354,{"$f":"0","v":0},0,{"$f":"0","v":0},0,1.5232058799599997E-2,null,1032,0.92793159999999997,7.2068400000000005E-2,1.6013999999999997E-2,9.5460799999999998E-2,0,2.5263366459988487E-2,4729071,119472,809054.3,6.2302489286192584,2898701,11392730,1.5249645374399998E-2,5.1778593875856505,null,0,0,null,1.4103469900000009E-2]
[1036,7.4256600000000006E-2,9.8389329999999997E-2,115054.6,2814331,10916010,2814331,10916010,1.6013999999999997E-2,1.4103469900000009E-2,6.1441181694024687,{"$f":"0","v":0},0,5.0950467820568148,{"$f":"0","v":0},0,{"$f":"0","v":0},0,1.5226196634689996E-2,null,1033,0.9273846,7.2615449999999998E-2,1.6013999999999997E-2,9.6192929999999996E-2,0,2.5173479496504152E-2,4700669,118367.6,799098.3,6.2093217794959656,2877608,11273550,1.5243783209489997E-2,5.1578543584810213,null,0,0,null,1.4103469900000009E-2]
[1037,7.4803649999999999E-2,9.9121470000000003E-2,113950.3,2793239,10796830,2793239,10796830,1.6013999999999997E-2,1.4103469900000009E-2,6.1215391344589118,{"$f":"0","v":0},0,5.0731260619314194,{"$f":"0","v":0},0,{"$f":"0","v":0},0,1.5220334389709997E-2,null,1034,0.92683749999999998,7.3162500000000005E-2,1.6013999999999997E-2,9.6925059999999993E-2,0,2.5083912350500087E-2,4672268,117263.3,789142.3,6.1879947022356241,2856516,11154370,1.5237921044579997E-2,5.1373946659250969,null,0,0,null,1.4103469900000009E-2]
[1038,7.5350700000000007E-2,9.9853609999999995E-2,112846,2772146,10677650,2772146,10677650,1.6013999999999997E-2,1.4103469900000009E-2,6.0985190731911922,{"$f":"0","v":0},0,5.0506834155510436,{"$f":"0","v":0},0,{"$f":"0","v":0},0,1.5214472144729997E-2,null,1035,0.92629050000000002,7.3709549999999999E-2,1.6013999999999997E-2,9.76572E-2,0,2.4994663884066896E-2,4643867,116159,779186.3,6.1662621205990638,2835424,11035190,1.5232058799599997E-2,5.1164635735290354,null,0,0,null,1.4103469900000009E-2]
[1039,7.589775E-2,0.1005857,111741.6,2751054,10558470,2751054,10558470,1.6013999999999997E-2,1.4103469900000009E-2,6.0750490417176763,{"$f":"0","v":0},0,5.0276999779522686,{"$f":"0","v":0},0,{"$f":"0","v":0},0,1.5208610300099998E-2,null,1036,0.92574339999999999,7.4256600000000006E-2,1.6013999999999997E-2,9.8389329999999997E-2,0,2.4905732963343856E-2,4615465,115054.6,769230.3,6.1441181694024687,2814331,10916010,1.5226196634689996E-2,5.0950467820568148,null,0,0,null,1.4103469900000009E-2]
[1040,7.6444799999999993E-2,0.1013179,110637.3,2729962,10439290,2729962,10439290,1.6013999999999997E-2,1.4103469900000009E-2,6.051104487365472,{"$f":"0","v":0},0,5.0041579482081389,{"$f":"0","v":0},0,{"$f":"0","v":0},0,1.5202747574699997E-2,null,1037,0.92519629999999997,7.4803649999999999E-2,1.6013999999999997E-2,9.9121470000000003E-2,0,2.4817118458504515E-2,4587064,113950.3,759274.3,6.1215391344589118,2793239,10796830,1.5220334389709997E-2,5.0731260619314194,null,0,0,null,1.4103469900000009E-2]
[1041,7.6991859999999995E-2,0.10205,109533,2708869,10320110,2708869,10320110,1.6013999999999997E-2,1.4103469900000009E-2,6.0266771201373102,{"$f":"0","v":0},0,4.9800326199739553,{"$f":"0","v":0},0,{"$f":"0","v":0},0,1.5196885649999997E-2,null,1038,0.92464930000000001,7.5350700000000007E-2,1.6013999999999997E-2,9.9853609999999995E-2,0,2.4728819243742338E-2,4558662,112846,749318.4,6.0985190731911922,2772146,10677650,1.5214472144729997E-2,5.0506834155510436,null,0,0,null,1.4103469900000009E-2]
[1042,7.7538899999999994E-2,0.1027821,108428.6,2687777,10200930,2687777,10200930,1.6013999999999997E-2,1.4103469900000009E-2,6.001758223076445,{"$f":"0","v":0},0,4.9553041532590676,{"$f":"0","v":0},0,{"$f":"0","v":0},0,1.5191023725299997E-2,null,1039,0.92410219999999998,7.589775E-2,1.6013999999999997E-2,0.1005857,0,2.4640834197256416E-2,4530261,111741.6,739362.4,6.0750490417176763,2751054,10558470,1.5208610300099998E-2,5.0276999779522686,null,0,0,null,1.4103469900000009E-2]
[1043,7.8085950000000001E-2,0.1035143,107324.3,2666684,10081760,2666684,10081760,1.6013999999999997E-2,1.4103469900000009E-2,5.9763204061584059,{"$f":"0","v":0},0,4.9299485169120763,{"$f":"0","v":0},0,{"$f":"0","v":0},0,1.5185160999899997E-2,null,1040,0.92355520000000002,7.6444799999999993E-2,1.6013999999999997E-2,0.1013179,0,2.455316220123719E-2,4501860,110637.3,729406.4,6.051104487365472,2729962,10439290,1.5202747574699997E-2,5.0041579482081389,null,0,0,null,1.4103469900000009E-2]
[1044,7.8632999999999995E-2,0.1042464,106220,2645592,9962575,2645592,9962575,1.6013999999999997E-2,1.4103469900000009E-2,5.9503536684867884,{"$f":"0","v":0},0,4.9039438770401524,{"$f":"0","v":0},0,{"$f":"0","v":0},0,1.5179299075199996E-2,null,1041,0.9230081,7.6991859999999995E-2,1.6013999999999997E-2,0.10205,0,2.4465802141852268E-2,4473458,109533,719450.4,6.0266771201373102,2708869,10320110,1.5196885649999997E-2,4.9800326199739553,null,0,0,null,1.4103469900000009E-2]
[1045,7.9217930000000006E-2,0.10504230000000001,105182.5,2624909,9853190,2624909,9853190,1.6013999999999997E-2,1.4103469900000009E-2,5.9302340772783806,{"$f":"0","v":0},0,4.8847104268200479,{"$f":"0","v":0},0,{"$f":"0","v":0},0,1.5172926303899997E-2,null,1042,0.92246110000000003,7.7538899999999994E-2,1.6013999999999997E-2,0.1027821,0,2.4378752909232276E-2,4445057,108428.6,709494.4,6.001758223076445,2687777,10200930,1.5191023725299997E-2,4.9553041532590676,null,0,0,null,1.4103469900000009E-2]
[1046,7.9802860000000003E-2,0.1058381,104145,2604227,9743806,2604227,9743806,1.6013999999999997E-2,1.4103469900000009E-2,5.9097145806327713,{"$f":"0","v":0},0,4.8650115856419509,{"$f":"0","v":0},0,{"$f":"0","v":0},0,1.5166554333299997E-2,null,1043,0.92191400000000001,7.8085950000000001E-2,1.6013999999999997E-2,0.1035143,0,2.4292013397456742E-2,4416656,107324.3,699538.4,5.9763204061584059,2666684,10081760,1.5185160999899997E-2,4.9299485169120763,null,0,0,null,1.4103469900000009E-2]
[1047,8.0387780000000006E-2,0.10663400000000001,103107.5,2583545,9634421,2583545,9634421,1.6013999999999997E-2,1.4103469900000009E-2,5.8887811669050905,{"$f":"0","v":0},0,4.8448302550737159,{"$f":"0","v":0},0,{"$f":"0","v":0},0,1.5160181561999997E-2,null,1044,0.92136700000000005,7.8632999999999995E-2,1.6013999999999997E-2,0.1042464,0,2.4205582504540055E-2,4388254,106220,689582.4,5.9503536684867884,2645592,9962575,1.5179299075199996E-2,4.9039438770401524,null,0,0,null,1.4103469900000009E-2]
[1048,8.0972699999999995E-2,0.10742989999999999,102069.9,2562862,9525037,2562862,9525037,1.6013999999999997E-2,1.4103469900000009E-2,5.867429452757376,{"$f":"0","v":0},0,4.8241484887046591,{"$f":"0","v":0},0,{"$f":"0","v":0},0,1.5153808790699996E-2,null,1045,0.92078210000000005,7.9217930000000006E-2,1.6013999999999997E-2,0.10504230000000001,0,2.4119459132417476E-2,4359499,105182.5,680730.7,5.9302340772783806,2624909,9853190,1.5172926303899997E-2,4.8847104268200479,null,0,0,null,1.4103469900000009E-2]
[1049,8.1557619999999997E-2,0.10822569999999999,101032.4,2542180,9415652,2542180,9415652,1.6013999999999997E-2,1.4103469900000009E-2,5.8456318633098556,{"$f":"0","v":0},0,4.8029474389173705,{"$f":"0","v":0},0,{"$f":"0","v":0},0,1.5147436820099997E-2,null,1046,0.92019709999999999,7.9802860000000003E-2,1.6013999999999997E-2,0.1058381,0,2.4033642186931166E-2,4330744,104145,671879.1,5.9097145806327713,2604227,9743806,1.5166554333299997E-2,4.8650115856419509,null,0,0,null,1.4103469900000009E-2]
[1050,8.2142549999999995E-2,0.1090216,99994.91,2521497,9306268,2521497,9306268,1.6013999999999997E-2,1.4103469900000009E-2,5.8233813142755633,{"$f":"0","v":0},0,4.7812072995991466,{"$f":"0","v":0},0,{"$f":"0","v":0},0,1.5141064048799998E-2,null,1047,0.91961219999999999,8.0387780000000006E-2,1.6013999999999997E-2,0.10663400000000001,0,2.3948130577816293E-2,4301989,103107.5,663027.4,5.8887811669050905,2583545,9634421,1.5160181561999997E-2,4.8448302550737159,null,0,0,null,1.4103469900000009E-2]
[1051,8.2727480000000006E-2,0.1098175,98957.41,2500815,9196883,2500815,9196883,1.6013999999999997E-2,1.4103469900000009E-2,5.8006658580022794,{"$f":"0","v":0},0,4.7589072444270295,{"$f":"0","v":0},0,{"$f":"0","v":0},0,1.5134691277499997E-2,null,1048,0.91902729999999999,8.0972699999999995E-2,1.6013999999999997E-2,0.10742989999999999,0,2.3862923218687195E-2,4273234,102069.9,654175.80000000005,5.867429452757376,2562862,9525037,1.5153808790699996E-2,4.8241484887046591,null,0,0,null,1.4103469900000009E-2]
[1052,8.3312399999999995E-2,0.1106133,97919.89,2480133,9087498,2480133,9087498,1.6013999999999997E-2,1.4103469900000009E-2,5.777469312754878,{"$f":"0","v":0},0,4.7360253603222544,{"$f":"0","v":0},0,{"$f":"0","v":0},0,1.5128319306899996E-2,null,1049,0.91844239999999999,8.1557619999999997E-2,1.6013999999999997E-2,0.10822569999999999,0,2.3778019027023551E-2,4244479,101032.4,645324.1,5.8456318633098556,2542180,9415652,1.5147436820099997E-2,4.8029474389173705,null,0,0,null,1.4103469900000009E-2]
[1053,8.3897319999999997E-2,0.1114092,96882.38,2459450,8978114,2459450,8978114,1.6013999999999997E-2,1.4103469900000009E-2,5.7537752908905277,{"$f":"0","v":0},0,4.7125398020657379,{"$f":"0","v":0},0,{"$f":"0","v":0},0,1.5121946535599997E-2,null,1050,0.91785749999999999,8.2142549999999995E-2,1.6013999999999997E-2,0.1090216,0,2.3693416924156659E-2,4215723,99994.91,636472.4,5.8233813142755633,2521497,9306268,1.5141064048799998E-2,4.7812072995991466,null,0,0,null,1.4103469900000009E-2]
[1054,8.4482249999999995E-2,0.1122051,95844.87,2438768,8868729,2438768,8868729,1.6013999999999997E-2,1.4103469900000009E-2,5.7295693421045906,{"$f":"0","v":0},0,4.6884238196716774,{"$f":"0","v":0},0,{"$f":"0","v":0},0,1.5115573764299997E-2,null,1051,0.91727250000000005,8.2727480000000006E-2,1.6013999999999997E-2,0.1098175,0,2.3609115835255708E-2,4186968,98957.41,627620.80000000005,5.8006658580022794,2500815,9196883,1.5134691277499997E-2,4.7589072444270295,null,0,0,null,1.4103469900000009E-2]
[1055,8.5067180000000006E-2,0.1130009,94807.360000000001,2418085,8759345,2418085,8759345,1.6013999999999997E-2,1.4103469900000009E-2,5.7048325502717647,{"$f":"0","v":0},0,4.6636517530464721,{"$f":"0","v":0},0,{"$f":"0","v":0},0,1.5109201793699997E-2,null,1052,0.91668760000000005,8.3312399999999995E-2,1.6013999999999997E-2,0.1106133,0,2.352511468931413E-2,4158213,97919.89,618769.1,5.777469312754878,2480133,9087498,1.5128319306899996E-2,4.7360253603222544,null,0,0,null,1.4103469900000009E-2]
[1056,8.5652099999999995E-2,0.1137968,93769.84,2397403,8649960,2397403,8649960,1.6013999999999997E-2,1.4103469900000009E-2,5.679549024860588,{"$f":"0","v":0},0,4.6381990483773894,{"$f":"0","v":0},0,{"$f":"0","v":0},0,1.5102829022399997E-2,null,1053,0.91610259999999999,8.3897319999999997E-2,1.6013999999999997E-2,0.1114092,0,2.3441412419135995E-2,4129458,96882.38,609917.4,5.7537752908905277,2459450,8978114,1.5121946535599997E-2,4.7125398020657379,null,0,0,null,1.4103469900000009E-2]
[1057,8.6273550000000004E-2,0.1146607,92801.39,2377274,8550192,2377274,8550192,1.6013999999999997E-2,1.4103469900000009E-2,5.6602695327803465,{"$f":"0","v":0},0,4.6197734128115258,{"$f":"0","v":0},0,{"$f":"0","v":0},0,1.5095911775099998E-2,null,1054,0.91551769999999999,8.4482249999999995E-2,1.6013999999999997E-2,0.1122051,0,2.3358007961322452E-2,4100703,95844.87,601065.80000000005,5.7295693421045906,2438768,8868729,1.5115573764299997E-2,4.6884238196716774,null,0,0,null,1.4103469900000009E-2]
[1058,8.6895E-2,0.1155245,91832.93,2357145,8450425,2357145,8450425,1.6013999999999997E-2,1.4103469900000009E-2,5.6405829904007927,{"$f":"0","v":0},0,4.600871121049928,{"$f":"0","v":0},0,{"$f":"0","v":0},0,1.5088995328499997E-2,null,1055,0.91493279999999999,8.5067180000000006E-2,1.6013999999999997E-2,0.1130009,0,2.3274900256258224E-2,4071948,94807.360000000001,592214.1,5.7048325502717647,2418085,8759345,1.5109201793699997E-2,4.6636517530464721,null,0,0,null,1.4103469900000009E-2]
[1059,8.7516449999999996E-2,0.1163884,90864.48,2337015,8350657,2337015,8350657,1.6013999999999997E-2,1.4103469900000009E-2,5.6204772205816838,{"$f":"0","v":0},0,4.5814735626272771,{"$f":"0","v":0},0,{"$f":"0","v":0},0,1.5082078081199997E-2,null,1056,0.91434789999999999,8.5652099999999995E-2,1.6013999999999997E-2,0.1137968,0,2.3192088248098139E-2,4043193,93769.84,583362.4,5.679549024860588,2397403,8649960,1.5102829022399997E-2,4.6381990483773894,null,0,0,null,1.4103469900000009E-2]
[1060,8.8137889999999997E-2,0.1172523,89896.02,2316886,8250890,2316886,8250890,1.6013999999999997E-2,1.4103469900000009E-2,5.5999378226088314,{"$f":"0","v":0},0,4.5615635550268561,{"$f":"0","v":0},0,{"$f":"0","v":0},0,1.5075160833899997E-2,null,1057,0.91372640000000005,8.6273550000000004E-2,1.6013999999999997E-2,0.1146607,0,2.3109570884753711E-2,4014334,92801.39,575548.30000000005,5.6602695327803465,2377274,8550192,1.5095911775099998E-2,4.6197734128115258,null,0,0,null,1.4103469900000009E-2]
[1061,8.8759350000000001E-2,0.1181161,88927.56,2296757,8151122,2296757,8151122,1.6013999999999997E-2,1.4103469900000009E-2,5.5789510585919588,{"$f":"0","v":0},0,4.5411192089634964,{"$f":"0","v":0},0,{"$f":"0","v":0},0,1.5068244387299997E-2,null,1058,0.91310500000000006,8.6895E-2,1.6013999999999997E-2,0.1155245,0,2.3027347117879789E-2,3985475,91832.93,567734.1,5.6405829904007927,2357145,8450425,1.5088995328499997E-2,4.600871121049928,null,0,0,null,1.4103469900000009E-2]
[1062,8.9380799999999996E-2,0.11898,87959.11,2276628,8051355,2276628,8051355,1.6013999999999997E-2,1.4103469900000009E-2,5.5575025950505106,{"$f":"0","v":0},0,4.5201160923130095,{"$f":"0","v":0},0,{"$f":"0","v":0},0,1.5061327139999997E-2,null,1059,0.91248359999999995,8.7516449999999996E-2,1.6013999999999997E-2,0.1163884,0,2.2945415902861227E-2,3956616,90864.48,559920,5.6204772205816838,2337015,8350657,1.5082078081199997E-2,4.5814735626272771,null,0,0,null,1.4103469900000009E-2]
[1063,9.0002250000000006E-2,0.1198439,86990.66,2256499,7951587,2256499,7951587,1.6013999999999997E-2,1.4103469900000009E-2,5.535576568411674,{"$f":"0","v":0},0,4.4985377642693969,{"$f":"0","v":0},0,{"$f":"0","v":0},0,1.5054409892699997E-2,null,1060,0.91186210000000001,8.8137889999999997E-2,1.6013999999999997E-2,0.1172523,0,2.2863776198799621E-2,3927757,89896.02,552105.80000000005,5.5999378226088314,2316886,8250890,1.5075160833899997E-2,4.5615635550268561,null,0,0,null,1.4103469900000009E-2]
[1064,9.0623700000000001E-2,0.1207077,86022.2,2236370,7851820,2236370,7851820,1.6013999999999997E-2,1.4103469900000009E-2,5.5131563906371452,{"$f":"0","v":0},0,4.4763546649039441,{"$f":"0","v":0},0,{"$f":"0","v":0},0,1.5047493446099996E-2,null,1061,0.91124059999999996,8.8759350000000001E-2,1.6013999999999997E-2,0.1181161,0,2.2782426968500066E-2,3898898,88927.56,544291.6,5.5789510585919588,2296757,8151122,1.5068244387299997E-2,4.5411192089634964,null,0,0,null,1.4103469900000009E-2]
[1065,9.1245140000000002E-2,0.1215716,85053.74,2216240,7752052,2216240,7752052,1.6013999999999997E-2,1.4103469900000009E-2,5.4902256404793794,{"$f":"0","v":0},0,4.4535397138628516,{"$f":"0","v":0},0,{"$f":"0","v":0},0,1.5040576198799997E-2,null,1062,0.91061919999999996,8.9380799999999996E-2,1.6013999999999997E-2,0.11898,0,2.2701367178458019E-2,3870039,87959.11,536477.5,5.5575025950505106,2276628,8051355,1.5061327139999997E-2,4.5201160923130095,null,0,0,null,1.4103469900000009E-2]
[1066,9.1866600000000007E-2,0.1224355,84085.29,2196111,7652284,2196111,7652284,1.6013999999999997E-2,1.4103469900000009E-2,5.4667671509487574,{"$f":"0","v":0},0,4.4300725882727772,{"$f":"0","v":0},0,{"$f":"0","v":0},0,1.5033658951499999E-2,null,1063,0.90999779999999997,9.0002250000000006E-2,1.6013999999999997E-2,0.1198439,0,2.2620595798846104E-2,3841180,86990.66,528663.4,5.535576568411674,2256499,7951587,1.5054409892699997E-2,4.4985377642693969,null,0,0,null,1.4103469900000009E-2]
[1067,9.2488039999999994E-2,0.1232993,83116.83,2175982,7552517,2175982,7552517,1.6013999999999997E-2,1.4103469900000009E-2,5.4427615171319692,{"$f":"0","v":0},0,4.4059191025234181,{"$f":"0","v":0},0,{"$f":"0","v":0},0,1.5026742504899998E-2,null,1064,0.90937630000000003,9.0623700000000001E-2,1.6013999999999997E-2,0.1207077,0,2.2540111803501101E-2,3812321,86022.2,520849.2,5.5131563906371452,2236370,7851820,1.5047493446099996E-2,4.4763546649039441,null,0,0,null,1.4103469900000009E-2]
[1068,9.3109499999999998E-2,0.1241632,82148.38,2155853,7452749,2155853,7452749,1.6013999999999997E-2,1.4103469900000009E-2,5.4181903627720143,{"$f":"0","v":0},0,4.3810473290303475,{"$f":"0","v":0},0,{"$f":"0","v":0},0,1.5019825257599997E-2,null,1065,0.90875479999999997,9.1245140000000002E-2,1.6013999999999997E-2,0.1215716,0,2.2459914169910861E-2,3783462,85053.74,513035,5.4902256404793794,2216240,7752052,1.5040576198799997E-2,4.4535397138628516,null,0,0,null,1.4103469900000009E-2]
[1069,9.3765970000000004E-2,0.1250995,81251.03,2136427,7362402,2136427,7362402,1.6013999999999997E-2,1.4103469900000009E-2,5.3997583220380916,{"$f":"0","v":0},0,4.3634591890401433,{"$f":"0","v":0},0,{"$f":"0","v":0},0,1.5012328303499998E-2,null,1066,0.90813339999999998,9.1866600000000007E-2,1.6013999999999997E-2,0.1224355,0,2.2380001879201323E-2,3754603,84085.29,505220.9,5.4667671509487574,2196111,7652284,1.5033658951499999E-2,4.4300725882727772,null,0,0,null,1.4103469900000009E-2]
[1070,9.4422439999999996E-2,0.12603590000000001,80353.69,2117001,7272055,2117001,7272055,1.6013999999999997E-2,1.4103469900000009E-2,5.3809138644825563,{"$f":"0","v":0},0,4.3453822149406305,{"$f":"0","v":0},0,{"$f":"0","v":0},0,1.5004830548699997E-2,null,1067,0.90751190000000004,9.2488039999999994E-2,1.6013999999999997E-2,0.1232993,0,2.2300373916123592E-2,3725744,83116.83,497406.7,5.4427615171319692,2175982,7552517,1.5026742504899998E-2,4.4059191025234181,null,0,0,null,1.4103469900000009E-2]
[1071,9.5078919999999997E-2,0.12697220000000001,79456.34,2097575,7181707,2097575,7181707,1.6013999999999997E-2,1.4103469900000009E-2,5.3616445102639592,{"$f":"0","v":0},0,4.3268048132927595,{"$f":"0","v":0},0,{"$f":"0","v":0},0,1.4997333594599998E-2,null,1068,0.90689050000000004,9.3109499999999998E-2,1.6013999999999997E-2,0.1241632,0,2.2221029269041015E-2,3696885,82148.38,489592.6,5.4181903627720143,2155853,7452749,1.5019825257599997E-2,4.3810473290303475,null,0,0,null,1.4103469900000009E-2]
[1072,9.5735399999999998E-2,0.12790850000000001,78559.009999999995,2078149,7091360,2078149,7091360,1.6013999999999997E-2,1.4103469900000009E-2,5.341933444892784,{"$f":"0","v":0},0,4.3076967226056544,{"$f":"0","v":0},0,{"$f":"0","v":0},0,1.4989836640499998E-2,null,1069,0.90623399999999998,9.3765970000000004E-2,1.6013999999999997E-2,0.1250995,0,2.2141966929916337E-2,3668200,81251.03,482746.9,5.3997583220380916,2136427,7362402,1.5012328303499998E-2,4.3634591890401433,null,0,0,null,1.4103469900000009E-2]
[1073,9.6391870000000004E-2,0.12884490000000001,77661.66,2058723,7001013,2058723,7001013,1.6013999999999997E-2,1.4103469900000009E-2,5.3217683925375781,{"$f":"0","v":0},0,4.288044189718792,{"$f":"0","v":0},0,{"$f":"0","v":0},0,1.4982338885699997E-2,null,1070,0.90557750000000004,9.4422439999999996E-2,1.6013999999999997E-2,0.12603590000000001,0,2.2063185894298898E-2,3639515,80353.69,475901.2,5.3809138644825563,2117001,7272055,1.5004830548699997E-2,4.3453822149406305,null,0,0,null,1.4103469900000009E-2]
[1074,9.7048350000000005E-2,0.12978120000000001,76764.320000000007,2039297,6910665,2039297,6910665,1.6013999999999997E-2,1.4103469900000009E-2,5.3011311331444952,{"$f":"0","v":0},0,4.267815667421436,{"$f":"0","v":0},0,{"$f":"0","v":0},0,1.4974841931599998E-2,null,1071,0.90492110000000003,9.5078919999999997E-2,1.6013999999999997E-2,0.12697220000000001,0,2.198468516131187E-2,3610831,79456.34,469055.5,5.3616445102639592,2097575,7181707,1.4997333594599998E-2,4.3268048132927595,null,0,0,null,1.4103469900000009E-2]
[1075,9.7704830000000006E-2,0.13071749999999999,75866.98,2019871,6820318,2019871,6820318,1.6013999999999997E-2,1.4103469900000009E-2,5.2800056867076206,{"$f":"0","v":0},0,4.246987244062832,{"$f":"0","v":0},0,{"$f":"0","v":0},0,1.4967344977499996E-2,null,1072,0.90426459999999997,9.5735399999999998E-2,1.6013999999999997E-2,0.12790850000000001,0,2.1906463733639546E-2,3582146,78559.009999999995,462209.8,5.341933444892784,2078149,7091360,1.4989836640499998E-2,4.3076967226056544,null,0,0,null,1.4103469900000009E-2]
[1076,9.8361299999999999E-2,0.13165389999999999,74969.63,2000446,6729971,2000446,6729971,1.6013999999999997E-2,1.4103469900000009E-2,5.258375296992484,{"$f":"0","v":0},0,4.2255381851760996,{"$f":"0","v":0},0,{"$f":"0","v":0},0,1.4959847222699997E-2,null,1073,0.90360810000000003,9.6391870000000004E-2,1.6013999999999997E-2,0.12884490000000001,0,2.1828520617514651E-2,3553462,77661.66,455364.1,5.3217683925375781,2058723,7001013,1.4982338885699997E-2,4.288044189718792,null,0,0,null,1.4103469900000009E-2]
[1077,9.901778E-2,0.13259019999999999,74072.3,1981020,6639623,1981020,6639623,1.6013999999999997E-2,1.4103469900000009E-2,5.2362192637013649,{"$f":"0","v":0},0,4.2034304917262206,{"$f":"0","v":0},0,{"$f":"0","v":0},0,1.4952350268599996E-2,null,1074,0.90295170000000002,9.7048350000000005E-2,1.6013999999999997E-2,0.12978120000000001,0,2.1750854822705747E-2,3524777,76764.320000000007,448518.40000000002,5.3011311331444952,2039297,6910665,1.4974841931599998E-2,4.267815667421436,null,0,0,null,1.4103469900000009E-2]
[1078,9.9674250000000006E-2,0.13352649999999999,73174.95,1961594,6549276,1961594,6549276,1.6013999999999997E-2,1.4103469900000009E-2,5.2135214134071832,{"$f":"0","v":0},0,4.1806433375248302,{"$f":"0","v":0},0,{"$f":"0","v":0},0,1.4944853314499998E-2,null,1075,0.90229519999999996,9.7704830000000006E-2,1.6013999999999997E-2,0.13071749999999999,0,2.1673465362504623E-2,3496093,75866.98,441672.7,5.2800056867076206,2019871,6820318,1.4967344977499996E-2,4.246987244062832,null,0,0,null,1.4103469900000009E-2]
[1079,0.10033069999999999,0.1344629,72277.61,1942168,6458929,1942168,6458929,1.6013999999999997E-2,1.4103469900000009E-2,5.1902591676269685,{"$f":"0","v":0},0,4.1571347842032944,{"$f":"0","v":0},0,{"$f":"0","v":0},0,1.4937355559699998E-2,null,1076,0.90163870000000002,9.8361299999999999E-2,1.6013999999999997E-2,0.13165389999999999,0,2.1596351253713782E-2,3467408,74969.63,434827,5.258375296992484,2000446,6729971,1.4959847222699997E-2,4.2255381851760996,null,0,0,null,1.4103469900000009E-2]
[1080,0.1009872,0.1353992,71380.27,1922742,6368581,1922742,6368581,1.6013999999999997E-2,1.4103469900000009E-2,5.1664120503233359,{"$f":"0","v":0},0,4.1328768906373883,{"$f":"0","v":0},0,{"$f":"0","v":0},0,1.4929858605599998E-2,null,1077,0.90098219999999996,9.901778E-2,1.6013999999999997E-2,0.13259019999999999,0,2.1519511516633925E-2,3438723,74072.3,427981.3,5.2362192637013649,1981020,6639623,1.4952350268599996E-2,4.2034304917262206,null,0,0,null,1.4103469900000009E-2]
[1081,0.1016768,0.13641249999999999,70555.649999999994,1904169,6287417,1904169,6287417,1.6013999999999997E-2,1.4103469900000009E-2,5.1488173696932851,{"$f":"0","v":0},0,4.1161519717091961,{"$f":"0","v":0},0,{"$f":"0","v":0},0,1.4921745112499997E-2,null,1078,0.90032579999999995,9.9674250000000006E-2,1.6013999999999997E-2,0.13352649999999999,0,2.1442945175051544E-2,3410039,73174.95,421135.6,5.2135214134071832,1961594,6549276,1.4944853314499998E-2,4.1806433375248302,null,0,0,null,1.4103469900000009E-2]
[1082,0.10236629999999999,0.13742570000000001,69731.03,1885596,6206253,1885596,6206253,1.6013999999999997E-2,1.4103469900000009E-2,5.1308079834281335,{"$f":"0","v":0},0,4.098933005769358,{"$f":"0","v":0},0,{"$f":"0","v":0},0,1.4913632420099996E-2,null,1079,0.89966930000000001,0.10033069999999999,1.6013999999999997E-2,0.1344629,0,2.1366651256226468E-2,3381354,72277.61,414289.9,5.1902591676269685,1942168,6458929,1.4937355559699998E-2,4.1571347842032944,null,0,0,null,1.4103469900000009E-2]
[1083,0.1030558,0.13843900000000001,68906.42,1867022,6125088,1867022,6125088,1.6013999999999997E-2,1.4103469900000009E-2,5.1123652798486212,{"$f":"0","v":0},0,4.0811992458862685,{"$f":"0","v":0},0,{"$f":"0","v":0},0,1.4905518926999997E-2,null,1080,0.89901279999999995,0.1009872,1.6013999999999997E-2,0.1353992,0,2.1290628790879548E-2,3352670,71380.27,407444.2,5.1664120503233359,1922742,6368581,1.4929858605599998E-2,4.1328768906373883,null,0,0,null,1.4103469900000009E-2]
[1084,0.1037454,0.1394523,68081.8,1848449,6043924,1848449,6043924,1.6013999999999997E-2,1.4103469900000009E-2,5.0934781150517949,{"$f":"0","v":0},0,4.0629278006082821,{"$f":"0","v":0},0,{"$f":"0","v":0},0,1.4897405433899997E-2,null,1081,0.89832319999999999,0.1016768,1.6013999999999997E-2,0.13641249999999999,0,2.1214876813180326E-2,3324455,70555.649999999994,401495.8,5.1488173696932851,1904169,6287417,1.4921745112499997E-2,4.1161519717091961,null,0,0,null,1.4103469900000009E-2]
[1085,0.104435,0.14046549999999999,67257.19,1829876,5962760,1829876,5962760,1.6013999999999997E-2,1.4103469900000009E-2,5.0741254887891287,{"$f":"0","v":0},0,4.0440915742841304,{"$f":"0","v":0},0,{"$f":"0","v":0},0,1.4889292741499999E-2,null,1082,0.89763369999999998,0.10236629999999999,1.6013999999999997E-2,0.13742570000000001,0,2.113939436073476E-2,3296240,69731.03,395547.5,5.1308079834281335,1885596,6206253,1.4913632420099996E-2,4.098933005769358,null,0,0,null,1.4103469900000009E-2]
[1086,0.1051245,0.14147879999999999,66432.570000000007,1811303,5881595,1811303,5881595,1.6013999999999997E-2,1.4103469900000009E-2,5.0542932668418512,{"$f":"0","v":0},0,4.0246698014878577,{"$f":"0","v":0},0,{"$f":"0","v":0},0,1.4881179248399996E-2,null,1083,0.89694419999999997,0.1030558,1.6013999999999997E-2,0.13843900000000001,0,2.1064180474573001E-2,3268025,68906.42,389599.1,5.1123652798486212,1867022,6125088,1.4905518926999997E-2,4.0811992458862685,null,0,0,null,1.4103469900000009E-2]
[1087,0.10581409999999999,0.14249210000000001,65607.95,1792729,5800431,1792729,5800431,1.6013999999999997E-2,1.4103469900000009E-2,5.0339640305278044,{"$f":"0","v":0},0,4.0046307773485514,{"$f":"0","v":0},0,{"$f":"0","v":0},0,1.4873065755299996E-2,null,1084,0.89625460000000001,0.1037454,1.6013999999999997E-2,0.1394523,0,2.098923419913722E-2,3239811,68081.8,383650.8,5.0934781150517949,1848449,6043924,1.4897405433899997E-2,4.0629278006082821,null,0,0,null,1.4103469900000009E-2]
[1088,{"$f":"W1093","v":0.1065036},{"$f":"Y1093","v":0.1435053},{"$f":"AC1093","v":64783.34},{"$f":"AF1093","v":1774156},{"$f":"AG1093","v":5719267},{"$f":"E1090","v":1774156},{"$f":"F1090","v":5719267},{"$f":"X1093","v":1.6013999999999997E-2},{"$f":"AN1093","v":1.4103469900000009E-2},{"$f":"AE1093","v":5.0131148558667498},{"$f":"0","v":0},{"$f":"AL1093","v":0},{"$f":"AI1093","v":3.9839407492033758},{"$f":"0","v":0},{"$f":"AK1093","v":0},{"$f":"0","v":0},{"$f":"Z1093","v":0},{"$f":"AH1093","v":1.4864953062899998E-2},null,1085,0.89556500000000006,0.104435,1.6013999999999997E-2,0.14046549999999999,0,2.0914554582269446E-2,3211596,67257.19,377702.40000000002,5.0741254887891287,1829876,5962760,1.4889292741499999E-2,4.0440915742841304,null,0,0,null,1.4103469900000009E-2]
[1089,0.1071932,0.1445186,63958.73,1755583,5638103,1755583,5638103,1.6013999999999997E-2,1.4103469900000009E-2,4.9917280708461007,{"$f":"0","v":0},0,3.96257549372462,{"$f":"0","v":0},0,{"$f":"0","v":0},0,1.4856839569799997E-2,null,1086,0.89487550000000005,0.1051245,1.6013999999999997E-2,0.14147879999999999,0,2.0840140675199501E-2,3183381,66432.570000000007,371754,5.0542932668418512,1811303,5881595,1.4881179248399996E-2,4.0246698014878577,null,0,0,null,1.4103469900000009E-2]
[1090,0.1078827,0.14553189999999999,63134.11,1737010,5556938,1737010,5556938,1.6013999999999997E-2,1.4103469900000009E-2,4.9697850667940564,{"$f":"0","v":0},0,3.9404972296522733,{"$f":"0","v":0},0,{"$f":"0","v":0},0,1.4848726076699998E-2,null,1087,0.89418600000000004,0.10581409999999999,1.6013999999999997E-2,0.14249210000000001,0,2.0765991532532911E-2,3155167,65607.95,365805.7,5.0339640305278044,1792729,5800431,1.4873065755299996E-2,4.0046307773485514,null,0,0,null,1.4103469900000009E-2]
[1091,0.1085723,0.14654510000000001,62309.5,1718437,5475774,1718437,5475774,1.6013999999999997E-2,1.4103469900000009E-2,4.9472603829806578,{"$f":"0","v":0},0,3.9176656112366195,{"$f":"0","v":0},0,{"$f":"0","v":0},0,1.4840613384299997E-2,null,1088,0.89349639999999997,0.1065036,1.6013999999999997E-2,0.1435053,0,2.0692106212238912E-2,3126952,64783.34,359857.3,5.0131148558667498,1774156,5719267,1.4864953062899998E-2,3.9839407492033758,null,0,0,null,1.4103469900000009E-2]
[1092,0.10926180000000001,0.14755840000000001,61484.88,1699863,5394610,1699863,5394610,1.6013999999999997E-2,1.4103469900000009E-2,4.9241307781685517,{"$f":"0","v":0},0,3.8940498603103122,{"$f":"0","v":0},0,{"$f":"0","v":0},0,1.4832499891199996E-2,null,1089,0.89280680000000001,0.1071932,1.6013999999999997E-2,0.1445186,0,2.0618483775638498E-2,3098737,63958.73,353908.9,4.9917280708461007,1755583,5638103,1.4856839569799997E-2,3.96257549372462,null,0,0,null,1.4103469900000009E-2]
[1093,0.10998289999999999,0.1486529,60733.96,1682285,5322336,1682285,5322336,1.6013999999999997E-2,1.4103469900000009E-2,4.9073457145447668,{"$f":"0","v":0},0,3.878209112847617,{"$f":"0","v":0},0,{"$f":"0","v":0},0,1.4823736229699996E-2,null,1090,0.8921173,0.1078827,1.6013999999999997E-2,0.14553189999999999,0,2.0545123287392466E-2,3070522,63134.11,347960.6,4.9697850667940564,1737010,5556938,1.4848726076699998E-2,3.9404972296522733,null,0,0,null,1.4103469900000009E-2]
[1094,0.110704,0.14974750000000001,59983.040000000001,1664706,5250062,1664706,5250062,1.6013999999999997E-2,1.4103469900000009E-2,4.8901420579328203,{"$f":"0","v":0},0,3.8618735668117057,{"$f":"0","v":0},0,{"$f":"0","v":0},0,1.4814971767499997E-2,null,1091,0.89142779999999999,0.1085723,1.6013999999999997E-2,0.14654510000000001,0,2.047202381548955E-2,3042308,62309.5,342012.3,4.9472603829806578,1718437,5475774,1.4840613384299997E-2,3.9176656112366195,null,0,0,null,1.4103469900000009E-2]
[1095,0.1114252,0.150842,59232.11,1647128,5177789,1647128,5177789,1.6013999999999997E-2,1.4103469900000009E-2,4.8725031138797297,{"$f":"0","v":0},0,3.8450151503185785,{"$f":"0","v":0},0,{"$f":"0","v":0},0,1.4806208105999998E-2,null,1092,0.89073820000000004,0.10926180000000001,1.6013999999999997E-2,0.14755840000000001,0,2.0399184431234573E-2,3014093,61484.88,336063.9,4.9241307781685517,1699863,5394610,1.4832499891199996E-2,3.8940498603103122,null,0,0,null,1.4103469900000009E-2]
[1096,0.1121463,0.1519365,58481.19,1629549,5105515,1629549,5105515,1.6013999999999997E-2,1.4103469900000009E-2,4.8544085499970162,{"$f":"0","v":0},0,3.827606158048328,{"$f":"0","v":0},0,{"$f":"0","v":0},0,1.4797444444499997E-2,null,1093,0.89001710000000001,0.10998289999999999,1.6013999999999997E-2,0.1486529,0,2.0326604209236657E-2,2986649,60733.96,330940.09999999998,4.9073457145447668,1682285,5322336,1.4823736229699996E-2,3.878209112847617,null,0,0,null,1.4103469900000009E-2]
[1097,0.11286740000000001,0.1530311,57730.27,1611970,5033241,1611970,5033241,1.6013999999999997E-2,1.4103469900000009E-2,4.8358449922949145,{"$f":"0","v":0},0,3.8096219564733134,{"$f":"0","v":0},0,{"$f":"0","v":0},0,1.4788679982299997E-2,null,1094,0.88929590000000003,0.110704,1.6013999999999997E-2,0.14974750000000001,0,2.0254282227397464E-2,2959205,59983.040000000001,325816.40000000002,4.8901420579328203,1664706,5250062,1.4814971767499997E-2,3.8618735668117057,null,0,0,null,1.4103469900000009E-2]
[1098,0.1135886,0.1541256,56979.35,1594392,4960967,1594392,4960967,1.6013999999999997E-2,1.4103469900000009E-2,4.8167921434110195,{"$f":"0","v":0},0,3.7910335356934763,{"$f":"0","v":0},0,{"$f":"0","v":0},0,1.4779916320799998E-2,null,1095,0.8885748,0.1114252,1.6013999999999997E-2,0.150842,0,2.0182217566899467E-2,2931762,59232.11,320692.7,4.8725031138797297,1647128,5177789,1.4806208105999998E-2,3.8450151503185785,null,0,0,null,1.4103469900000009E-2]
[1099,0.1143097,0.1552201,56228.43,1576813,4888694,1576813,4888694,1.6013999999999997E-2,1.4103469900000009E-2,4.7972304001730084,{"$f":"0","v":0},0,3.771809440619895,{"$f":"0","v":0},0,{"$f":"0","v":0},0,1.4771152659299997E-2,null,1096,0.88785369999999997,0.1121463,1.6013999999999997E-2,0.1519365,0,2.0110409312194301E-2,2904318,58481.19,315568.90000000002,4.8544085499970162,1629549,5105515,1.4797444444499997E-2,3.827606158048328,null,0,0,null,1.4103469900000009E-2]
[1100,0.1150308,0.1563147,55477.51,1559235,4816420,1559235,4816420,1.6013999999999997E-2,1.4103469900000009E-2,4.7771372955154856,{"$f":"0","v":0},0,3.7519164964660505,{"$f":"0","v":0},0,{"$f":"0","v":0},0,1.4762388197099997E-2,null,1097,0.88713260000000005,0.11286740000000001,1.6013999999999997E-2,0.1530311,0,2.0038856550991111E-2,2876874,57730.27,310445.2,4.8358449922949145,1611970,5033241,1.4788679982299997E-2,3.8096219564733134,null,0,0,null,1.4103469900000009E-2]
[1101,0.1157519,0.1574092,54726.59,1541656,4744146,1541656,4744146,1.6013999999999997E-2,1.4103469900000009E-2,4.7564946110595718,{"$f":"0","v":0},0,3.7313191791270053,{"$f":"0","v":0},0,{"$f":"0","v":0},0,1.4753624535599997E-2,null,1098,0.88641139999999996,0.1135886,1.6013999999999997E-2,0.1541256,0,1.9967558374244968E-2,2849430,56979.35,305321.5,4.8167921434110195,1594392,4960967,1.4779916320799998E-2,3.7910335356934763,null,0,0,null,1.4103469900000009E-2]
[1102,0.11647299999999999,0.1585037,53975.66,1524077,4671873,1524077,4671873,1.6013999999999997E-2,1.4103469900000009E-2,4.7352766815017482,{"$f":"0","v":0},0,3.7099768511881073,{"$f":"0","v":0},0,{"$f":"0","v":0},0,1.4744860874099998E-2,null,1099,0.88569030000000004,0.1143097,1.6013999999999997E-2,0.1552201,0,1.9896513876145331E-2,2821986,56228.43,300197.8,4.7972304001730084,1576813,4888694,1.4771152659299997E-2,3.771809440619895,null,0,0,null,1.4103469900000009E-2]
[1103,0.1171942,0.1595983,53224.74,1506499,4599599,1506499,4599599,1.6013999999999997E-2,1.4103469900000009E-2,4.7134609300111183,{"$f":"0","v":0},0,3.6878541950418637,{"$f":"0","v":0},0,{"$f":"0","v":0},0,1.4736096411899997E-2,null,1100,0.88496920000000001,0.1150308,1.6013999999999997E-2,0.1563147,0,1.9825722154104521E-2,2794543,55477.51,295074,4.7771372955154856,1559235,4816420,1.4762388197099997E-2,3.7519164964660505,null,0,0,null,1.4103469900000009E-2]
[1104,0.1179153,0.1606928,52473.82,1488920,4527325,1488920,4527325,1.6013999999999997E-2,1.4103469900000009E-2,4.691020795385838,{"$f":"0","v":0},0,3.6649032699944892,{"$f":"0","v":0},0,{"$f":"0","v":0},0,1.4727332750399997E-2,null,1101,0.88424809999999998,0.1157519,1.6013999999999997E-2,0.1574092,0,1.9755182308746261E-2,2767099,54726.59,289950.3,4.7564946110595718,1541656,4744146,1.4753624535599997E-2,3.7313191791270053,null,0,0,null,1.4103469900000009E-2]
[1105,0.1186663,0.16187270000000001,51796.7,1472462,4463581,1472462,4463581,1.6013999999999997E-2,1.4103469900000009E-2,4.6750035073019447,{"$f":"0","v":0},0,3.6499775894385142,{"$f":"0","v":0},0,{"$f":"0","v":0},0,1.4717885291099997E-2,null,1102,0.8835269,0.11647299999999999,1.6013999999999997E-2,0.1585037,0,1.968489344389426E-2,2739655,53975.66,284826.5,4.7352766815017482,1524077,4671873,1.4744860874099998E-2,3.7099768511881073,null,0,0,null,1.4103469900000009E-2]
[1106,0.1194173,0.16305269999999999,51119.57,1456004,4399836,1456004,4399836,1.6013999999999997E-2,1.4103469900000009E-2,4.6585609565312591,{"$f":"0","v":0},0,3.6345461210251275,{"$f":"0","v":0},0,{"$f":"0","v":0},0,1.4708437031099997E-2,null,1103,0.88280579999999997,0.1171942,1.6013999999999997E-2,0.1595983,0,1.9614854666560815E-2,2712211,53224.74,279702.8,4.7134609300111183,1506499,4599599,1.4736096411899997E-2,3.6878541950418637,null,0,0,null,1.4103469900000009E-2]
[1107,0.1201682,0.16423260000000001,50442.45,1439547,4336092,1439547,4336092,1.6013999999999997E-2,1.4103469900000009E-2,4.6416779171114806,{"$f":"0","v":0},0,3.6185850574292204,{"$f":"0","v":0},0,{"$f":"0","v":0},0,1.4698989571799997E-2,null,1104,0.88208470000000005,0.1179153,1.6013999999999997E-2,0.1606928,0,1.9545065086935466E-2,2684768,52473.82,274579.09999999998,4.691020795385838,1488920,4527325,1.4727332750399997E-2,3.6649032699944892,null,0,0,null,1.4103469900000009E-2]
[1108,0.1209192,0.16541249999999999,49765.32,1423089,4272348,1423089,4272348,1.6013999999999997E-2,1.4103469900000009E-2,4.6243364857294189,{"$f":"0","v":0},0,3.602066120383046,{"$f":"0","v":0},0,{"$f":"0","v":0},0,1.4689542112499997E-2,null,1105,0.8813337,0.1186663,1.6013999999999997E-2,0.16187270000000001,0,1.9475523818373704E-2,2658386,51796.7,270206.3,4.6750035073019447,1472462,4463581,1.4717885291099997E-2,3.6499775894385142,null,0,0,null,1.4103469900000009E-2]
[1109,0.12167020000000001,0.1665925,49088.2,1406631,4208603,1406631,4208603,1.6013999999999997E-2,1.4103469900000009E-2,4.6065155848723993,{"$f":"0","v":0},0,3.5849606685576645,{"$f":"0","v":0},0,{"$f":"0","v":0},0,1.4680093852499998E-2,null,1106,0.88058270000000005,0.1194173,1.6013999999999997E-2,0.16305269999999999,0,1.9406229977385687E-2,2632005,51119.57,265833.40000000002,4.6585609565312591,1456004,4399836,1.4708437031099997E-2,3.6345461210251275,null,0,0,null,1.4103469900000009E-2]
[1110,0.12242119999999999,0.16777239999999999,48411.08,1390173,4144859,1390173,4144859,1.6013999999999997E-2,1.4103469900000009E-2,4.5881941007444293,{"$f":"0","v":0},0,3.5672386077985681,{"$f":"0","v":0},0,{"$f":"0","v":0},0,1.4670646393199998E-2,null,1107,0.87983180000000005,0.1201682,1.6013999999999997E-2,0.16423260000000001,0,1.9337182683625029E-2,2605624,50442.45,261460.6,4.6416779171114806,1439547,4336092,1.4698989571799997E-2,3.6185850574292204,null,0,0,null,1.4103469900000009E-2]
[1111,0.12317210000000001,0.1689523,47733.95,1373715,4081114,1373715,4081114,1.6013999999999997E-2,1.4103469900000009E-2,4.5693559912110073,{"$f":"0","v":0},0,3.5488605993751778,{"$f":"0","v":0},0,{"$f":"0","v":0},0,1.4661198933899998E-2,null,1108,0.8790808,0.1209192,1.6013999999999997E-2,0.16541249999999999,0,1.9268381059877621E-2,2579243,49765.32,257087.8,4.6243364857294189,1423089,4272348,1.4689542112499997E-2,3.602066120383046,null,0,0,null,1.4103469900000009E-2]
[1112,0.12392309999999999,0.17013229999999999,47056.83,1357257,4017370,1357257,4017370,1.6013999999999997E-2,1.4103469900000009E-2,4.5499746529887366,{"$f":"0","v":0},0,3.5297926796385055,{"$f":"0","v":0},0,{"$f":"0","v":0},0,1.4651750673899998E-2,null,1109,0.87832980000000005,0.12167020000000001,1.6013999999999997E-2,0.1665925,0,1.919982423205048E-2,2552861,49088.2,252715,4.6065155848723993,1406631,4208603,1.4680093852499998E-2,3.5849606685576645,null,0,0,null,1.4103469900000009E-2]
[1113,0.1246741,0.1713122,46379.71,1340799,3953626,1340799,3953626,1.6013999999999997E-2,1.4103469900000009E-2,4.530027399553239,{"$f":"0","v":0},0,3.5099958474574939,{"$f":"0","v":0},0,{"$f":"0","v":0},0,1.4642303214599996E-2,null,1110,0.87757890000000005,0.12242119999999999,1.6013999999999997E-2,0.16777239999999999,0,1.9131511329160623E-2,2526480,48411.08,248342.1,4.5881941007444293,1390173,4144859,1.4670646393199998E-2,3.5672386077985681,null,0,0,null,1.4103469900000009E-2]
[1114,0.12542510000000001,0.17249210000000001,45702.58,1324342,3889881,1324342,3889881,1.6013999999999997E-2,1.4103469900000009E-2,4.5094879946237896,{"$f":"0","v":0},0,3.4894268542913962,{"$f":"0","v":0},0,{"$f":"0","v":0},0,1.4632855755299998E-2,null,1111,0.87682789999999999,0.12317210000000001,1.6013999999999997E-2,0.1689523,0,1.9063441483324044E-2,2500099,47733.95,243969.3,4.5693559912110073,1373715,4081114,1.4661198933899998E-2,3.5488605993751778,null,0,0,null,1.4103469900000009E-2]
[1115,0.12617600000000001,0.1736721,45025.46,1307884,3826137,1307884,3826137,1.6013999999999997E-2,1.4103469900000009E-2,4.4883319163572493,{"$f":"0","v":0},0,3.4680420890948347,{"$f":"0","v":0},0,{"$f":"0","v":0},0,1.4623407495299997E-2,null,1112,0.87607690000000005,0.12392309999999999,1.6013999999999997E-2,0.17013229999999999,0,1.8995613829744653E-2,2473718,47056.83,239596.5,4.5499746529887366,1357257,4017370,1.4651750673899998E-2,3.5297926796385055,null,0,0,null,1.4103469900000009E-2]
[1116,0.12692700000000001,0.17485200000000001,44348.34,1291426,3762392,1291426,3762392,1.6013999999999997E-2,1.4103469900000009E-2,4.4665298069781194,{"$f":"0","v":0},0,3.4457862181729721,{"$f":"0","v":0},0,{"$f":"0","v":0},0,1.4613960035999997E-2,null,1113,0.87532589999999999,0.1246741,1.6013999999999997E-2,0.1713122,0,1.8928027506703301E-2,2447336,46379.71,235223.7,4.530027399553239,1340799,3953626,1.4642303214599996E-2,3.5099958474574939,null,0,0,null,1.4103469900000009E-2]
[1117,0.1277064,0.17612140000000001,43744.15,1276193,3706745,1276193,3706745,1.6013999999999997E-2,1.4103469900000009E-2,4.4512180962101979,{"$f":"0","v":0},0,3.431789093465289,{"$f":"0","v":0},0,{"$f":"0","v":0},0,1.4603795950199998E-2,null,1114,0.87457499999999999,0.12542510000000001,1.6013999999999997E-2,0.17249210000000001,0,1.886068165554684E-2,2420955,45702.58,230850.8,4.5094879946237896,1324342,3889881,1.4632855755299998E-2,3.4894268542913962,null,0,0,null,1.4103469900000009E-2]
[1118,0.12848580000000001,0.17739079999999999,43139.97,1260961,3651098,1260961,3651098,1.6013999999999997E-2,1.4103469900000009E-2,4.4354763401550805,{"$f":"0","v":0},0,3.4172883802651448,{"$f":"0","v":0},0,{"$f":"0","v":0},0,1.4593631864399997E-2,null,1115,0.87382400000000005,0.12617600000000001,1.6013999999999997E-2,0.1736721,0,1.8793575420677198E-2,2394574,45025.46,226478,4.4883319163572493,1307884,3826137,1.4623407495299997E-2,3.4680420890948347,null,0,0,null,1.4103469900000009E-2]
[1119,0.1292652,0.17866019999999999,42535.79,1245728,3595450,1245728,3595450,1.6013999999999997E-2,1.4103469900000009E-2,4.419287391080938,{"$f":"0","v":0},0,3.4022510113386364,{"$f":"0","v":0},0,{"$f":"0","v":0},0,1.4583467778599998E-2,null,1116,0.87307299999999999,0.12692700000000001,1.6013999999999997E-2,0.17485200000000001,0,1.8726707949540521E-2,2368193,44348.34,222105.2,4.4665298069781194,1291426,3762392,1.4613960035999997E-2,3.4457862181729721,null,0,0,null,1.4103469900000009E-2]
[1120,0.13004460000000001,0.1799296,41931.61,1230496,3539803,1230496,3539803,1.6013999999999997E-2,1.4103469900000009E-2,4.4026319185772573,{"$f":"0","v":0},0,3.3866494629961013,{"$f":"0","v":0},0,{"$f":"0","v":0},0,1.4573303692799997E-2,null,1117,0.8722936,0.1277064,1.6013999999999997E-2,0.17612140000000001,0,1.8660078392616342E-2,2343144,43744.15,218409.5,4.4512180962101979,1276193,3706745,1.4603795950199998E-2,3.431789093465289,null,0,0,null,1.4103469900000009E-2]
[1121,0.130824,0.181199,41327.42,1215263,3484156,1215263,3484156,1.6013999999999997E-2,1.4103469900000009E-2,4.3854906540661549,{"$f":"0","v":0},0,3.3704540646394126,{"$f":"0","v":0},0,{"$f":"0","v":0},0,1.4563139606999998E-2,null,1118,0.87151420000000002,0.12848580000000001,1.6013999999999997E-2,0.17739079999999999,0,1.8593685903406782E-2,2318095,43139.97,214713.8,4.4354763401550805,1260961,3651098,1.4593631864399997E-2,3.4172883802651448,null,0,0,null,1.4103469900000009E-2]
[1122,0.13160340000000001,0.1824684,40723.24,1200031,3428508,1200031,3428508,1.6013999999999997E-2,1.4103469900000009E-2,4.3678395514043906,{"$f":"0","v":0},0,3.3536246021319842,{"$f":"0","v":0},0,{"$f":"0","v":0},0,1.4552975521199997E-2,null,1119,0.87073480000000003,0.1292652,1.6013999999999997E-2,0.17866019999999999,0,1.8527529638425796E-2,2293046,42535.79,211018.1,4.419287391080938,1245728,3595450,1.4583467778599998E-2,3.4022510113386364,null,0,0,null,1.4103469900000009E-2]
[1123,0.13238279999999999,0.18373780000000001,40119.050000000003,1184798,3372861,1184798,3372861,1.6013999999999997E-2,1.4103469900000009E-2,4.3496580282102055,{"$f":"0","v":0},0,3.3361288388132886,{"$f":"0","v":0},0,{"$f":"0","v":0},0,1.4542811435399997E-2,null,1120,0.86995540000000005,0.13004460000000001,1.6013999999999997E-2,0.1799296,0,1.8461608757188466E-2,2267997,41931.61,207322.4,4.4026319185772573,1230496,3539803,1.4573303692799997E-2,3.3866494629961013,null,0,0,null,1.4103469900000009E-2]
[1124,0.13316220000000001,0.18500720000000001,39514.870000000003,1169566,3317214,1169566,3317214,1.6013999999999997E-2,1.4103469900000009E-2,4.3309192737653781,{"$f":"0","v":0},0,3.3179198415480085,{"$f":"0","v":0},0,{"$f":"0","v":0},0,1.4532647349599997E-2,null,1121,0.86917599999999995,0.130824,1.6013999999999997E-2,0.181199,0,1.8395922422200301E-2,2242948,41327.42,203626.7,4.3854906540661549,1215263,3484156,1.4563139606999998E-2,3.3704540646394126,null,0,0,null,1.4103469900000009E-2]
[1125,0.13394159999999999,0.18627659999999999,38910.69,1154334,3261566,1154334,3261566,1.6013999999999997E-2,1.4103469900000009E-2,4.3115985928288598,{"$f":"0","v":0},0,3.2989577011412181,{"$f":"0","v":0},0,{"$f":"0","v":0},0,1.4522483263799997E-2,null,1122,0.86839659999999996,0.13160340000000001,1.6013999999999997E-2,0.1824684,0,1.8330469798946633E-2,2217899,40723.24,199931,4.3678395514043906,1200031,3428508,1.4552975521199997E-2,3.3536246021319842,null,0,0,null,1.4103469900000009E-2]
[1126,0.13472100000000001,0.18754599999999999,38306.51,1139101,3205919,1139101,3205919,1.6013999999999997E-2,1.4103469900000009E-2,4.2916710610459328,{"$f":"0","v":0},0,3.2791975584304325,{"$f":"0","v":0},0,{"$f":"0","v":0},0,1.4512319177999998E-2,null,1123,0.86761719999999998,0.13238279999999999,1.6013999999999997E-2,0.18373780000000001,0,1.8265250055881976E-2,2192850,40119.050000000003,196235.3,4.3496580282102055,1184798,3372861,1.4542811435399997E-2,3.3361288388132886,null,0,0,null,1.4103469900000009E-2]
[1127,0.13550039999999999,0.18881539999999999,37702.32,1123869,3150271,1123869,3150271,1.6013999999999997E-2,1.4103469900000009E-2,4.2711034758603716,{"$f":"0","v":0},0,3.2585794421068939,{"$f":"0","v":0},0,{"$f":"0","v":0},0,1.4502155092199997E-2,null,1124,0.86683779999999999,0.13316220000000001,1.6013999999999997E-2,0.18500720000000001,0,1.8200262364419496E-2,2167801,39514.870000000003,192539.6,4.3309192737653781,1169566,3317214,1.4532647349599997E-2,3.3179198415480085,null,0,0,null,1.4103469900000009E-2]
[1128,0.13627980000000001,0.1900848,37098.14,1108636,3094624,1108636,3094624,1.6013999999999997E-2,1.4103469900000009E-2,4.249864660779938,{"$f":"0","v":0},0,3.2370549626085192,{"$f":"0","v":0},0,{"$f":"0","v":0},0,1.4491991006399998E-2,null,1125,0.86605840000000001,0.13394159999999999,1.6013999999999997E-2,0.18627659999999999,0,1.8135505898920455E-2,2142752,38910.69,188843.9,4.3115985928288598,1154334,3261566,1.4522483263799997E-2,3.2989577011412181,null,0,0,null,1.4103469900000009E-2]
[1129,0.1370866,0.19144710000000001,36565.03,1094707,3046573,1094707,3046573,1.6013999999999997E-2,1.4103469900000009E-2,4.2351733906230438,{"$f":"0","v":0},0,3.2240112504703746,{"$f":"0","v":0},0,{"$f":"0","v":0},0,1.4481083070299997E-2,null,1126,0.86527900000000002,0.13472100000000001,1.6013999999999997E-2,0.18754599999999999,0,1.8070979836683737E-2,2117703,38306.51,185148.3,4.2916710610459328,1139101,3205919,1.4512319177999998E-2,3.2791975584304325,null,0,0,null,1.4103469900000009E-2]
[1130,0.1378933,0.19280929999999999,36031.910000000003,1080778,2998521,1080778,2998521,1.6013999999999997E-2,1.4103469900000009E-2,4.2200514881577647,{"$f":"0","v":0},0,3.2104639812183366,{"$f":"0","v":0},0,{"$f":"0","v":0},0,1.4470175934899998E-2,null,1127,0.86449960000000003,0.13550039999999999,1.6013999999999997E-2,0.18881539999999999,0,1.8006683357935396E-2,2092654,37702.32,181452.6,4.2711034758603716,1123869,3150271,1.4502155092199997E-2,3.2585794421068939,null,0,0,null,1.4103469900000009E-2]
[1131,0.13870009999999999,0.1941716,35498.800000000003,1066848,2950469,1066848,2950469,1.6013999999999997E-2,1.4103469900000009E-2,4.2044740479490379,{"$f":"0","v":0},0,3.1963809488207571,{"$f":"0","v":0},0,{"$f":"0","v":0},0,1.4459267998799997E-2,null,1128,0.86372020000000005,0.13627980000000001,1.6013999999999997E-2,0.1900848,0,1.7942615645818241E-2,2067605,37098.14,177756.9,4.249864660779938,1108636,3094624,1.4491991006399998E-2,3.2370549626085192,null,0,0,null,1.4103469900000009E-2]
[1132,0.13950689999999999,0.19553390000000001,34965.69,1052919,2902418,1052919,2902418,1.6013999999999997E-2,1.4103469900000009E-2,4.1884215998597476,{"$f":"0","v":0},0,3.181730586845287,{"$f":"0","v":0},0,{"$f":"0","v":0},0,1.4448360062699997E-2,null,1129,0.86291340000000005,0.1370866,1.6013999999999997E-2,0.19144710000000001,0,1.787877588638145E-2,2044124,36565.03,174665.3,4.2351733906230438,1094707,3046573,1.4481083070299997E-2,3.2240112504703746,null,0,0,null,1.4103469900000009E-2]
[1133,0.14031370000000001,0.19689609999999999,34432.58,1038990,2854366,1038990,2854366,1.6013999999999997E-2,1.4103469900000009E-2,4.171872080647649,{"$f":"0","v":0},0,3.1664761053866197,{"$f":"0","v":0},0,{"$f":"0","v":0},0,1.4437452927299997E-2,null,1130,0.8621067,0.1378933,1.6013999999999997E-2,0.19280929999999999,0,1.7815163268570241E-2,2020643,36031.910000000003,171573.8,4.2200514881577647,1080778,2998521,1.4470175934899998E-2,3.2104639812183366,null,0,0,null,1.4103469900000009E-2]
[1134,0.14112040000000001,0.1982584,33899.46,1025061,2806315,1025061,2806315,1.6013999999999997E-2,1.4103469900000009E-2,4.1548034245973238,{"$f":"0","v":0},0,3.1505778959541701,{"$f":"0","v":0},0,{"$f":"0","v":0},0,1.4426544991199997E-2,null,1131,0.86129990000000001,0.13870009999999999,1.6013999999999997E-2,0.1941716,0,1.7751776984215553E-2,1997162,35498.800000000003,168482.3,4.2044740479490379,1066848,2950469,1.4459267998799997E-2,3.1963809488207571,null,0,0,null,1.4103469900000009E-2]
[1135,0.1419272,0.19962070000000001,33366.35,1011131,2758263,1011131,2758263,1.6013999999999997E-2,1.4103469900000009E-2,4.1371879278574566,{"$f":"0","v":0},0,3.1339994186272797,{"$f":"0","v":0},0,{"$f":"0","v":0},0,1.4415637055099996E-2,null,1132,0.86049310000000001,0.13950689999999999,1.6013999999999997E-2,0.19553390000000001,0,1.7688616228023802E-2,1973681,34965.69,165390.79999999999,4.1884215998597476,1052919,2902418,1.4448360062699997E-2,3.181730586845287,null,0,0,null,1.4103469900000009E-2]
[1136,0.142734,0.20098289999999999,32833.24,997201.9,2710211,997201.9,2710211,1.6013999999999997E-2,1.4103469900000009E-2,4.1190003890366382,{"$f":"0","v":0},0,3.1166942989934285,{"$f":"0","v":0},0,{"$f":"0","v":0},0,1.4404729919699997E-2,null,1133,0.85968630000000001,0.14031370000000001,1.6013999999999997E-2,0.19689609999999999,0,1.7625680197566617E-2,1950200,34432.58,162299.29999999999,4.171872080647649,1038990,2854366,1.4437452927299997E-2,3.1664761053866197,null,0,0,null,1.4103469900000009E-2]
[1137,0.1435408,0.2023452,32300.13,983272.7,2662160,983272.7,2662160,1.6013999999999997E-2,1.4103469900000009E-2,4.1002124836649259,{"$f":"0","v":0},0,3.0986117227010097,{"$f":"0","v":0},0,{"$f":"0","v":0},0,1.4393821983599998E-2,null,1134,0.85887959999999997,0.14112040000000001,1.6013999999999997E-2,0.1982584,0,1.7562968093270681E-2,1926719,33899.46,159207.79999999999,4.1548034245973238,1025061,2806315,1.4426544991199997E-2,3.1505778959541701,null,0,0,null,1.4103469900000009E-2]
[1138,0.14434749999999999,0.20370750000000001,31767.01,969343.4,2614108,969343.4,2614108,1.6013999999999997E-2,1.4103469900000009E-2,4.0807954410356313,{"$f":"0","v":0},0,3.0796956046956048,{"$f":"0","v":0},0,{"$f":"0","v":0},0,1.4382914047499997E-2,null,1135,0.85807279999999997,0.1419272,1.6013999999999997E-2,0.19962070000000001,0,1.7500479118407544E-2,1903237,33366.35,156116.29999999999,4.1371879278574566,1011131,2758263,1.4415637055099996E-2,3.1339994186272797,null,0,0,null,1.4103469900000009E-2]
[1139,0.14515430000000001,0.2050698,31233.9,955414.2,2566057,955414.2,2566057,1.6013999999999997E-2,1.4103469900000009E-2,4.0607140798939607,{"$f":"0","v":0},0,3.0598954513234364,{"$f":"0","v":0},0,{"$f":"0","v":0},0,1.4372006111399998E-2,null,1136,0.85726599999999997,0.142734,1.6013999999999997E-2,0.20098289999999999,0,1.7438212479083524E-2,1879756,32833.24,153024.79999999999,4.1190003890366382,997201.9,2710211,1.4404729919699997E-2,3.1166942989934285,null,0,0,null,1.4103469900000009E-2]
[1140,0.14596110000000001,0.206432,30700.79,941484.9,2518005,941484.9,2518005,1.6013999999999997E-2,1.4103469900000009E-2,4.0399320478940988,{"$f":"0","v":0},0,3.0391417031658015,{"$f":"0","v":0},0,{"$f":"0","v":0},0,1.4361098975999997E-2,null,1137,0.85645930000000003,0.1435408,1.6013999999999997E-2,0.2023452,0,1.7376167384229597E-2,1856275,32300.13,149933.29999999999,4.1002124836649259,983272.7,2662160,1.4393821983599998E-2,3.0986117227010097,null,0,0,null,1.4103469900000009E-2]
[1141,0.1467936,0.2078902,30235.88,928906.5,2476987,928906.5,2476987,1.6013999999999997E-2,1.4103469900000009E-2,4.0257644780527846,{"$f":"0","v":0},0,3.0270816349825402,{"$f":"0","v":0},0,{"$f":"0","v":0},0,1.4349423168599997E-2,null,1138,0.85565250000000004,0.14434749999999999,1.6013999999999997E-2,0.20370750000000001,0,1.731434304559137E-2,1832794,31767.01,146841.79999999999,4.0807954410356313,969343.4,2614108,1.4382914047499997E-2,3.0796956046956048,null,0,0,null,1.4103469900000009E-2]
[1142,0.14762610000000001,0.20934829999999999,29770.959999999999,916328.1,2435969,916328.1,2435969,1.6013999999999997E-2,1.4103469900000009E-2,4.0111559497353566,{"$f":"0","v":0},0,3.014520872929908,{"$f":"0","v":0},0,{"$f":"0","v":0},0,1.4337748161899998E-2,null,1139,0.85484570000000004,0.14515430000000001,1.6013999999999997E-2,0.2050698,0,1.7252738677719051E-2,1809313,31233.9,143750.29999999999,4.0607140798939607,955414.2,2566057,1.4372006111399998E-2,3.0598954513234364,null,0,0,null,1.4103469900000009E-2]
[1143,0.1484586,0.2108064,29306.05,903749.7,2394950,903749.7,2394950,1.6013999999999997E-2,1.4103469900000009E-2,3.9960823646766914,{"$f":"0","v":0},0,3.0014257172570531,{"$f":"0","v":0},0,{"$f":"0","v":0},0,1.4326073155199997E-2,null,1140,0.85403890000000005,0.14596110000000001,1.6013999999999997E-2,0.206432,0,1.7191353497957477E-2,1785832,30700.79,140658.70000000001,4.0399320478940988,941484.9,2518005,1.4361098975999997E-2,3.0391417031658015,null,0,0,null,1.4103469900000009E-2]
[1144,0.14929110000000001,0.21226449999999999,28841.14,891171.3,2353932,891171.3,2353932,1.6013999999999997E-2,1.4103469900000009E-2,3.9805228168280915,{"$f":"0","v":0},0,2.9877616921869525,{"$f":"0","v":0},0,{"$f":"0","v":0},0,1.4314398148499996E-2,null,1141,0.85320640000000003,0.1467936,1.6013999999999997E-2,0.2078902,0,1.7130186726436167E-2,1764110,30235.88,138100.29999999999,4.0257644780527846,928906.5,2476987,1.4349423168599997E-2,3.0270816349825402,null,0,0,null,1.4103469900000009E-2]
[1145,0.1501236,0.21372269999999999,28376.23,878592.9,2312914,878592.9,2312914,1.6013999999999997E-2,1.4103469900000009E-2,3.9644534204625965,{"$f":"0","v":0},0,2.973491735812408,{"$f":"0","v":0},0,{"$f":"0","v":0},0,1.4302722341099998E-2,null,1142,0.85237390000000002,0.14762610000000001,1.6013999999999997E-2,0.20934829999999999,0,1.7069237586059421E-2,1742388,29770.959999999999,135541.9,4.0111559497353566,916328.1,2435969,1.4337748161899998E-2,3.014520872929908,null,0,0,null,1.4103469900000009E-2]
[1146,0.15095610000000001,0.21518080000000001,27911.31,866014.5,2271896,866014.5,2271896,1.6013999999999997E-2,1.4103469900000009E-2,3.9478503069185931,{"$f":"0","v":0},0,2.9585745380682611,{"$f":"0","v":0},0,{"$f":"0","v":0},0,1.4291047334399998E-2,null,1143,0.8515414,0.1484586,1.6013999999999997E-2,0.2108064,0,1.7008505302496438E-2,1720667,29306.05,132983.5,3.9960823646766914,903749.7,2394950,1.4326073155199997E-2,3.0014257172570531,null,0,0,null,1.4103469900000009E-2]
[1147,0.1517886,0.2166389,27446.400000000001,853436.1,2230877,853436.1,2230877,1.6013999999999997E-2,1.4103469900000009E-2,3.9306867202984725,{"$f":"0","v":0},0,2.9429643080315246,{"$f":"0","v":0},0,{"$f":"0","v":0},0,1.4279372327699998E-2,null,1144,0.85070889999999999,0.14929110000000001,1.6013999999999997E-2,0.21226449999999999,0,1.6947989104171484E-2,1698945,28841.14,130425.1,3.9805228168280915,891171.3,2353932,1.4314398148499996E-2,2.9877616921869525,null,0,0,null,1.4103469900000009E-2]
[1148,0.15262110000000001,0.21809709999999999,26981.49,840857.59999999998,2189859,840857.59999999998,2189859,1.6013999999999997E-2,1.4103469900000009E-2,3.9129279461586441,{"$f":"0","v":0},0,2.9266115662910059,{"$f":"0","v":0},0,{"$f":"0","v":0},0,1.4267696520299997E-2,null,1145,0.84987639999999998,0.1501236,1.6013999999999997E-2,0.21372269999999999,0,1.6887688222254092E-2,1677223,28376.23,127866.7,3.9644534204625965,878592.9,2312914,1.4302722341099998E-2,2.973491735812408,null,0,0,null,1.4103469900000009E-2]
[1149,0.1534536,0.21955520000000001,26516.58,828279.3,2148841,828279.3,2148841,1.6013999999999997E-2,1.4103469900000009E-2,3.8945464498061209,{"$f":"0","v":0},0,2.9094629429579979,{"$f":"0","v":0},0,{"$f":"0","v":0},0,1.4256021513599997E-2,null,1146,0.84904389999999996,0.15095610000000001,1.6013999999999997E-2,0.21518080000000001,0,1.6827601890649285E-2,1655501,27911.31,125308.3,3.9478503069185931,866014.5,2271896,1.4291047334399998E-2,2.9585745380682611,null,0,0,null,1.4103469900000009E-2]
[1150,0.15428610000000001,0.2210133,26051.67,815700.8,2107823,815700.8,2107823,1.6013999999999997E-2,1.4103469900000009E-2,3.8755088925201346,{"$f":"0","v":0},0,2.8914579693282039,{"$f":"0","v":0},0,{"$f":"0","v":0},0,1.4244346506899997E-2,null,1147,0.84821139999999995,0.1517886,1.6013999999999997E-2,0.2166389,0,1.6767729345987852E-2,1633779,27446.400000000001,122750,3.9306867202984725,853436.1,2230877,1.4279372327699998E-2,2.9429643080315246,null,0,0,null,1.4103469900000009E-2]
[1151,0.1551186,0.22247149999999999,25586.75,803122.4,2066804,803122.4,2066804,1.6013999999999997E-2,1.4103469900000009E-2,3.8557812311710813,{"$f":"0","v":0},0,2.8725326561847857,{"$f":"0","v":0},0,{"$f":"0","v":0},0,1.4232670699499997E-2,null,1148,0.84737890000000005,0.15262110000000001,1.6013999999999997E-2,0.21809709999999999,0,1.6708069827616655E-2,1612057,26981.49,120191.6,3.9129279461586441,840857.59999999998,2189859,1.4267696520299997E-2,2.9266115662910059,null,0,0,null,1.4103469900000009E-2]
[1152,{"$f":"W1157","v":0.15595110000000001},{"$f":"Y1157","v":0.22392960000000001},{"$f":"AC1157","v":25121.84},{"$f":"AF1157","v":790544},{"$f":"AG1157","v":2025786},{"$f":"E1154","v":790544},{"$f":"F1154","v":2025786},{"$f":"X1157","v":1.6013999999999997E-2},{"$f":"AN1157","v":1.4103469900000009E-2},{"$f":"AE1157","v":3.8353216431068211},{"$f":"0","v":0},{"$f":"AL1157","v":0},{"$f":"AI1157","v":2.8526117930255359},{"$f":"0","v":0},{"$f":"AK1157","v":0},{"$f":"0","v":0},{"$f":"Z1157","v":0},{"$f":"AH1157","v":1.4220995692799998E-2},null,1149,0.84654640000000003,0.1534536,1.6013999999999997E-2,0.21955520000000001,0,1.664862257758894E-2,1590336,26516.58,117633.2,3.8945464498061209,828279.3,2148841,1.4256021513599997E-2,2.9094629429579979,null,0,0,null,1.4103469900000009E-2]
[1153,0.15680810000000001,0.22548579999999999,24721.38,779333.3,1991193,779333.3,1991193,1.6013999999999997E-2,1.4103469900000009E-2,3.8215404034888016,{"$f":"0","v":0},0,2.8415745348741872,{"$f":"0","v":0},0,{"$f":"0","v":0},0,1.4208535199399998E-2,null,1150,0.84571390000000002,0.15428610000000001,1.6013999999999997E-2,0.2210133,0,1.6589386840654738E-2,1568614,26051.67,115074.8,3.8755088925201346,815700.8,2107823,1.4244346506899997E-2,2.8914579693282039,null,0,0,null,1.4103469900000009E-2]
[1154,0.1576651,0.22704199999999999,24320.91,768122.6,1956600,768122.6,1956600,1.6013999999999997E-2,1.4103469900000009E-2,3.8073071176201876,{"$f":"0","v":0},0,2.8300426357536042,{"$f":"0","v":0},0,{"$f":"0","v":0},0,1.4196074705999998E-2,null,1151,0.8448814,0.1551186,1.6013999999999997E-2,0.22247149999999999,0,1.6530361864251251E-2,1546892,25586.75,112516.4,3.8557812311710813,803122.4,2066804,1.4232670699499997E-2,2.8725326561847857,null,0,0,null,1.4103469900000009E-2]
[1155,0.1585222,0.2285982,23920.44,756911.9,1922006,756911.9,1922006,1.6013999999999997E-2,1.4103469900000009E-2,3.7925972515555739,{"$f":"0","v":0},0,2.8179860564007169,{"$f":"0","v":0},0,{"$f":"0","v":0},0,1.4183614212599997E-2,null,1152,0.84404889999999999,0.15595110000000001,1.6013999999999997E-2,0.22392960000000001,0,1.6471546898493297E-2,1525170,25121.84,109958,3.8353216431068211,790544,2025786,1.4220995692799998E-2,2.8526117930255359,null,0,0,null,1.4103469900000009E-2]
[1156,0.1593792,0.23015440000000001,23519.98,745701.2,1887413,745701.2,1887413,1.6013999999999997E-2,1.4103469900000009E-2,3.7773846250436161,{"$f":"0","v":0},0,2.8053640895612864,{"$f":"0","v":0},0,{"$f":"0","v":0},0,1.4171153719199997E-2,null,1153,0.84319189999999999,0.15680810000000001,1.6013999999999997E-2,0.22548579999999999,0,1.641294119616379E-2,1505349,24721.38,107864.5,3.8215404034888016,779333.3,1991193,1.4208535199399998E-2,2.8415745348741872,null,0,0,null,1.4103469900000009E-2]
[1157,0.1602362,0.23171059999999999,23119.51,734490.4,1852820,734490.4,1852820,1.6013999999999997E-2,1.4103469900000009E-2,3.7616477201866885,{"$f":"0","v":0},0,2.7921401735312377,{"$f":"0","v":0},0,{"$f":"0","v":0},0,1.4158693225799997E-2,null,1154,0.8423349,0.1576651,1.6013999999999997E-2,0.22704199999999999,0,1.6354544012704225E-2,1485528,24320.91,105771,3.8073071176201876,768122.6,1956600,1.4196074705999998E-2,2.8300426357536042,null,0,0,null,1.4103469900000009E-2]
[1158,0.16109319999999999,0.2332668,22719.040000000001,723279.8,1818227,723279.8,1818227,1.6013999999999997E-2,1.4103469900000009E-2,3.7453560244329567,{"$f":"0","v":0},0,2.7782659313914424,{"$f":"0","v":0},0,{"$f":"0","v":0},0,1.4146232732399998E-2,null,1155,0.84147780000000005,0.1585222,1.6013999999999997E-2,0.2285982,0,1.6296354606205248E-2,1465707,23920.44,103677.5,3.7925972515555739,756911.9,1922006,1.4183614212599997E-2,2.8179860564007169,null,0,0,null,1.4103469900000009E-2]
[1159,0.16195029999999999,0.234823,22318.58,712069.1,1783634,712069.1,1783634,1.6013999999999997E-2,1.4103469900000009E-2,3.728477312027318,{"$f":"0","v":0},0,2.763696552870754,{"$f":"0","v":0},0,{"$f":"0","v":0},0,1.4133772238999998E-2,null,1156,0.84062079999999995,0.1593792,1.6013999999999997E-2,0.23015440000000001,0,1.6238372237397207E-2,1445886,23519.98,101584,3.7773846250436161,745701.2,1887413,1.4171153719199997E-2,2.8053640895612864,null,0,0,null,1.4103469900000009E-2]
[1160,0.16280729999999999,0.23637920000000001,21918.11,700858.3,1749040,700858.3,1749040,1.6013999999999997E-2,1.4103469900000009E-2,3.7109837671526722,{"$f":"0","v":0},0,2.7483755917384469,{"$f":"0","v":0},0,{"$f":"0","v":0},0,1.4121311745599998E-2,null,1157,0.83976379999999995,0.1602362,1.6013999999999997E-2,0.23171059999999999,0,1.6180596169640769E-2,1426065,23119.51,99490.52,3.7616477201866885,734490.4,1852820,1.4158693225799997E-2,2.7921401735312377,null,0,0,null,1.4103469900000009E-2]
[1161,0.16366430000000001,0.23793539999999999,21517.64,689647.6,1714447,689647.6,1714447,1.6013999999999997E-2,1.4103469900000009E-2,3.6928395338274398,{"$f":"0","v":0},0,2.7322428280737312,{"$f":"0","v":0},0,{"$f":"0","v":0},0,1.4108851252199997E-2,null,1158,0.83890679999999995,0.16109319999999999,1.6013999999999997E-2,0.2332668,0,1.6123025668917566E-2,1406244,22719.040000000001,97397.04,3.7453560244329567,723279.8,1818227,1.4146232732399998E-2,2.7782659313914424,null,0,0,null,1.4103469900000009E-2]
[1162,0.16452140000000001,0.2394916,21117.18,678436.9,1679854,678436.9,1679854,1.6013999999999997E-2,1.4103469900000009E-2,3.6740046492950289,{"$f":"0","v":0},0,2.7152343745103691,{"$f":"0","v":0},0,{"$f":"0","v":0},0,1.4096390758799997E-2,null,1159,0.83804970000000001,0.16195029999999999,1.6013999999999997E-2,0.234823,0,1.6065660003820863E-2,1386423,22318.58,95303.55,3.728477312027318,712069.1,1783634,1.4133772238999998E-2,2.763696552870754,null,0,0,null,1.4103469900000009E-2]
[1163,0.16537840000000001,0.24104780000000001,20716.71,667226.19999999995,1645261,667226.19999999995,1645261,1.6013999999999997E-2,1.4103469900000009E-2,3.654443623046324,{"$f":"0","v":0},0,2.6972744775163622,{"$f":"0","v":0},0,{"$f":"0","v":0},0,1.4083930265399997E-2,null,1160,0.83719270000000001,0.16280729999999999,1.6013999999999997E-2,0.23637920000000001,0,1.6008498445546263E-2,1366602,21918.11,93210.06,3.7109837671526722,700858.3,1749040,1.4121311745599998E-2,2.7483755917384469,null,0,0,null,1.4103469900000009E-2]
[1164,0.16623540000000001,0.24260399999999999,20316.240000000002,656015.5,1610668,656015.5,1610668,1.6013999999999997E-2,1.4103469900000009E-2,3.6341119222848319,{"$f":"0","v":0},0,2.6782835512361984,{"$f":"0","v":0},0,{"$f":"0","v":0},0,1.4071469771999997E-2,null,1161,0.83633570000000002,0.16366430000000001,1.6013999999999997E-2,0.23793539999999999,0,1.5951540267882456E-2,1346781,21517.64,91116.58,3.6928395338274398,689647.6,1714447,1.4108851252199997E-2,2.7322428280737312,null,0,0,null,1.4103469900000009E-2]
[1165,0.16715340000000001,0.2442597,19975.7,646158.5,1581860,646158.5,1581860,1.6013999999999997E-2,1.4103469900000009E-2,3.6205449204116333,{"$f":"0","v":0},0,2.6683305235126866,{"$f":"0","v":0},0,{"$f":"0","v":0},0,1.4058212582099997E-2,null,1162,0.83547870000000002,0.16452140000000001,1.6013999999999997E-2,0.2394916,0,1.5894784747201986E-2,1326960,21117.18,89023.09,3.6740046492950289,678436.9,1679854,1.4096390758799997E-2,2.7152343745103691,null,0,0,null,1.4103469900000009E-2]
[1166,0.16807140000000001,0.2459153,19635.16,636301.5,1553052,636301.5,1553052,1.6013999999999997E-2,1.4103469900000009E-2,3.6065083418384849,{"$f":"0","v":0},0,2.6578981462119629,{"$f":"0","v":0},0,{"$f":"0","v":0},0,1.4044956192899997E-2,null,1163,0.83462159999999996,0.16537840000000001,1.6013999999999997E-2,0.24104780000000001,0,1.5838231162452074E-2,1307139,20716.71,86929.600000000006,3.654443623046324,667226.19999999995,1645261,1.4083930265399997E-2,2.6972744775163622,null,0,0,null,1.4103469900000009E-2]
[1167,0.16898940000000001,0.24757100000000001,19294.61,626444.5,1524244,626444.5,1524244,1.6013999999999997E-2,1.4103469900000009E-2,3.5919773924773124,{"$f":"0","v":0},0,2.6469562505077855,{"$f":"0","v":0},0,{"$f":"0","v":0},0,1.4031699002999998E-2,null,1164,0.83376459999999997,0.16623540000000001,1.6013999999999997E-2,0.24260399999999999,0,1.5781878795145421E-2,1287318,20316.240000000002,84836.12,3.6341119222848319,656015.5,1610668,1.4071469771999997E-2,2.6782835512361984,null,0,0,null,1.4103469900000009E-2]
[1168,0.16990739999999999,0.2492267,18954.07,616587.5,1495436,616587.5,1495436,1.6013999999999997E-2,1.4103469900000009E-2,3.5769231665459364,{"$f":"0","v":0},0,2.6354631172340621,{"$f":"0","v":0},0,{"$f":"0","v":0},0,1.4018441813099998E-2,null,1165,0.83284659999999999,0.16715340000000001,1.6013999999999997E-2,0.2442597,0,1.5725726929351126E-2,1269485,19975.7,83143.09,3.6205449204116333,646158.5,1581860,1.4058212582099997E-2,2.6683305235126866,null,0,0,null,1.4103469900000009E-2]
[1169,0.17082539999999999,0.2508823,18613.53,606730.5,1466629,606730.5,1466629,1.6013999999999997E-2,1.4103469900000009E-2,3.5613175603982703,{"$f":"0","v":0},0,2.6233773635911644,{"$f":"0","v":0},0,{"$f":"0","v":0},0,1.4005185423899997E-2,null,1166,0.83192860000000002,0.16807140000000001,1.6013999999999997E-2,0.2459153,0,1.5669774851685546E-2,1251652,19635.16,81450.080000000002,3.6065083418384849,636301.5,1553052,1.4044956192899997E-2,2.6578981462119629,null,0,0,null,1.4103469900000009E-2]
[1170,0.17174339999999999,0.25253799999999998,18272.98,596873.5,1437821,596873.5,1437821,1.6013999999999997E-2,1.4103469900000009E-2,3.5451325308369701,{"$f":"0","v":0},0,2.6106484645046182,{"$f":"0","v":0},0,{"$f":"0","v":0},0,1.3991928233999997E-2,null,1167,0.83101060000000004,0.16898940000000001,1.6013999999999997E-2,0.24757100000000001,0,1.5614021851303271E-2,1233819,19294.61,79757.05,3.5919773924773124,626444.5,1524244,1.4031699002999998E-2,2.6469562505077855,null,0,0,null,1.4103469900000009E-2]
[1171,0.17266139999999999,0.25419370000000002,17932.439999999999,587016.4,1409013,587016.4,1409013,1.6013999999999997E-2,1.4103469900000009E-2,3.5283305004784631,{"$f":"0","v":0},0,2.5972295743037224,{"$f":"0","v":0},0,{"$f":"0","v":0},0,1.3978671044099996E-2,null,1168,0.83009259999999996,0.16990739999999999,1.6013999999999997E-2,0.2492267,0,1.5558467219888074E-2,1215986,18954.07,78064.039999999994,3.5769231665459364,616587.5,1495436,1.4018441813099998E-2,2.6354631172340621,null,0,0,null,1.4103469900000009E-2]
[1172,0.17357939999999999,0.2558493,17591.900000000001,577159.4,1380205,577159.4,1380205,1.6013999999999997E-2,1.4103469900000009E-2,3.5108779703537807,{"$f":"0","v":0},0,2.5830598713454895,{"$f":"0","v":0},0,{"$f":"0","v":0},0,1.3965414654899998E-2,null,1169,0.82917459999999998,0.17082539999999999,1.6013999999999997E-2,0.2508823,0,1.5503110251643908E-2,1198152,18613.53,76371.02,3.5613175603982703,606730.5,1466629,1.4005185423899997E-2,2.6233773635911644,null,0,0,null,1.4103469900000009E-2]
[1173,0.1744974,0.25750499999999998,17251.36,567302.40000000002,1351397,567302.40000000002,1351397,1.6013999999999997E-2,1.4103469900000009E-2,3.4927364180756375,{"$f":"0","v":0},0,2.5680738201995164,{"$f":"0","v":0},0,{"$f":"0","v":0},0,1.3952157464999997E-2,null,1170,0.82825660000000001,0.17174339999999999,1.6013999999999997E-2,0.25253799999999998,0,1.5447950243285951E-2,1180319,18272.98,74678,3.5451325308369701,596873.5,1437821,1.3991928233999997E-2,2.6106484645046182,null,0,0,null,1.4103469900000009E-2]
[1174,0.1754154,0.25916070000000002,16910.810000000001,557445.4,1322590,557445.4,1322590,1.6013999999999997E-2,1.4103469900000009E-2,3.4738665928282955,{"$f":"0","v":0},0,2.5521979636635157,{"$f":"0","v":0},0,{"$f":"0","v":0},0,1.3938900275099997E-2,null,1171,0.82733860000000004,0.17266139999999999,1.6013999999999997E-2,0.25419370000000002,0,1.5392986494031658E-2,1162486,17932.439999999999,72984.98,3.5283305004784631,587016.4,1409013,1.3978671044099996E-2,2.5972295743037224,null,0,0,null,1.4103469900000009E-2]
[1175,0.1763334,0.2608163,16570.27,547588.4,1293782,547588.4,1293782,1.6013999999999997E-2,1.4103469900000009E-2,3.4542187353213514,{"$f":"0","v":0},0,2.5353541121953596,{"$f":"0","v":0},0,{"$f":"0","v":0},0,1.3925643885899997E-2,null,1172,0.82642059999999995,0.17357939999999999,1.6013999999999997E-2,0.2558493,0,1.5338218305591877E-2,1144653,17591.900000000001,71291.960000000006,3.5108779703537807,577159.4,1380205,1.3965414654899998E-2,2.5830598713454895,null,0,0,null,1.4103469900000009E-2]
[1176,0.1772514,0.26247199999999998,16229.72,537731.4,1264974,537731.4,1264974,1.6013999999999997E-2,1.4103469900000009E-2,3.4337488056889871,{"$f":"0","v":0},0,2.5174498337672224,{"$f":"0","v":0},0,{"$f":"0","v":0},0,1.3912386695999998E-2,null,1173,0.82550259999999998,0.1744974,1.6013999999999997E-2,0.25750499999999998,0,1.5283644982161958E-2,1126820,17251.36,69598.94,3.4927364180756375,567302.40000000002,1351397,1.3952157464999997E-2,2.5680738201995164,null,0,0,null,1.4103469900000009E-2]
[1177,0.1782667,0.2642273,15943.41,529165.19999999995,1241253,529165.19999999995,1241253,1.6013999999999997E-2,1.4103469900000009E-2,3.4203088454728321,{"$f":"0","v":0},0,2.5086856064812983,{"$f":"0","v":0},0,{"$f":"0","v":0},0,1.3898332008899998E-2,null,1174,0.8245846,0.1754154,1.6013999999999997E-2,0.25916070000000002,0,1.5229265830412923E-2,1108987,16910.810000000001,67905.919999999998,3.4738665928282955,557445.4,1322590,1.3938900275099997E-2,2.5521979636635157,null,0,0,null,1.4103469900000009E-2]
[1178,0.1792821,0.26598250000000001,15657.09,520599,1217531,520599,1217531,1.6013999999999997E-2,1.4103469900000009E-2,3.4063805119597577,{"$f":"0","v":0},0,2.4994708517368776,{"$f":"0","v":0},0,{"$f":"0","v":0},0,1.3884278122499998E-2,null,1175,0.82366660000000003,0.1763334,1.6013999999999997E-2,0.2608163,0,1.5175080159482662E-2,1091153,16570.27,66212.899999999994,3.4542187353213514,547588.4,1293782,1.3925643885899997E-2,2.5353541121953596,null,0,0,null,1.4103469900000009E-2]
[1179,0.1802974,0.26773780000000003,15370.77,512032.8,1193810,512032.8,1193810,1.6013999999999997E-2,1.4103469900000009E-2,3.3919326260167835,{"$f":"0","v":0},0,2.4897672259865913,{"$f":"0","v":0},0,{"$f":"0","v":0},0,1.3870223435399998E-2,null,1176,0.82274860000000005,0.1772514,1.6013999999999997E-2,0.26247199999999998,0,1.5121087280967139E-2,1073320,16229.72,64519.88,3.4337488056889871,537731.4,1264974,1.3912386695999998E-2,2.5174498337672224,null,0,0,null,1.4103469900000009E-2]
[1180,0.1813128,0.26949309999999999,15084.45,503466.5,1170088,503466.5,1170088,1.6013999999999997E-2,1.4103469900000009E-2,3.3769362654919473,{"$f":"0","v":0},0,2.4795413461142943,{"$f":"0","v":0},0,{"$f":"0","v":0},0,1.3856168748299997E-2,null,1177,0.82173320000000005,0.1782667,1.6013999999999997E-2,0.2642273,0,1.5067286508911662E-2,1057466,15943.41,63167.4,3.4203088454728321,529165.19999999995,1241253,1.3898332008899998E-2,2.5086856064812983,null,0,0,null,1.4103469900000009E-2]
[1181,0.18232809999999999,0.2712483,14798.13,494900.3,1146367,494900.3,1146367,1.6013999999999997E-2,1.4103469900000009E-2,3.3613595940838472,{"$f":"0","v":0},0,2.468745022392377,{"$f":"0","v":0},0,{"$f":"0","v":0},0,1.3842114861899998E-2,null,1178,0.8207179,0.1792821,1.6013999999999997E-2,0.26598250000000001,0,1.5013677159802171E-2,1041612,15657.09,61814.93,3.4063805119597577,520599,1217531,1.3884278122499998E-2,2.4994708517368776,null,0,0,null,1.4103469900000009E-2]
[1182,0.18334349999999999,0.27300360000000001,14511.81,486334.1,1122645,486334.1,1122645,1.6013999999999997E-2,1.4103469900000009E-2,3.3451689520466434,{"$f":"0","v":0},0,2.4573301135143564,{"$f":"0","v":0},0,{"$f":"0","v":0},0,1.3828060174799997E-2,null,1179,0.81970259999999995,0.1802974,1.6013999999999997E-2,0.26773780000000003,0,1.4960258552556532E-2,1025758,15370.77,60462.45,3.3919326260167835,512032.8,1193810,1.3870223435399998E-2,2.4897672259865913,null,0,0,null,1.4103469900000009E-2]
[1183,0.18435889999999999,0.27475880000000003,14225.49,477767.8,1098924,477767.8,1098924,1.6013999999999997E-2,1.4103469900000009E-2,3.3283258608315078,{"$f":"0","v":0},0,2.4452421884343574,{"$f":"0","v":0},0,{"$f":"0","v":0},0,1.3814006288399997E-2,null,1180,0.81868719999999995,0.1813128,1.6013999999999997E-2,0.26949309999999999,0,1.490703000851591E-2,1009904,15084.45,59109.97,3.3769362654919473,503466.5,1170088,1.3856168748299997E-2,2.4795413461142943,null,0,0,null,1.4103469900000009E-2]
[1184,0.18537419999999999,0.27651409999999998,13939.17,469201.6,1075203,469201.6,1075203,1.6013999999999997E-2,1.4103469900000009E-2,3.3107908325962021,{"$f":"0","v":0},0,2.4324198820066671,{"$f":"0","v":0},0,{"$f":"0","v":0},0,1.3799951601299997E-2,null,1181,0.81767179999999995,0.18232809999999999,1.6013999999999997E-2,0.2712483,0,1.4853990851436131E-2,994050.4,14798.13,57757.49,3.3613595940838472,494900.3,1146367,1.3842114861899998E-2,2.468745022392377,null,0,0,null,1.4103469900000009E-2]
[1185,0.18638959999999999,0.2782694,13652.85,460635.3,1051481,460635.3,1051481,1.6013999999999997E-2,1.4103469900000009E-2,3.2925210670299605,{"$f":"0","v":0},0,2.4187931984406759,{"$f":"0","v":0},0,{"$f":"0","v":0},0,1.3785896914199996E-2,null,1182,0.81665650000000001,0.18334349999999999,1.6013999999999997E-2,0.27300360000000001,0,1.4801140407479095E-2,978196.5,14511.81,56405.02,3.3451689520466434,486334.1,1122645,1.3828060174799997E-2,2.4573301135143564,null,0,0,null,1.4103469900000009E-2]
[1186,0.18740490000000001,0.28002460000000001,13366.53,452069.1,1027760,452069.1,1027760,1.6013999999999997E-2,1.4103469900000009E-2,3.273467852165072,{"$f":"0","v":0},0,2.4042840549705828,{"$f":"0","v":0},0,{"$f":"0","v":0},0,1.3771843027799997E-2,null,1183,0.81564119999999996,0.18435889999999999,1.6013999999999997E-2,0.27475880000000003,0,1.4748478005204213E-2,962342.6,14225.49,55052.54,3.3283258608315078,477767.8,1098924,1.3814006288399997E-2,2.4452421884343574,null,0,0,null,1.4103469900000009E-2]
[1187,0.18842030000000001,0.28177990000000003,13080.21,443502.9,1004038,443502.9,1004038,1.6013999999999997E-2,1.4103469900000009E-2,3.2535805044414428,{"$f":"0","v":0},0,2.3888062908372039,{"$f":"0","v":0},0,{"$f":"0","v":0},0,1.3757788340699996E-2,null,1184,0.81462579999999996,0.18537419999999999,1.6013999999999997E-2,0.27651409999999998,0,1.4696002975559891E-2,946488.6,13939.17,53700.06,3.3107908325962021,469201.6,1075203,1.3799951601299997E-2,2.4324198820066671,null,0,0,null,1.4103469900000009E-2]
[1188,0.18943560000000001,0.28353519999999999,12793.89,434936.7,980316.8,434936.7,980316.8,1.6013999999999997E-2,1.4103469900000009E-2,3.2328030215985915,{"$f":"0","v":0},0,2.3722562506939342,{"$f":"0","v":0},0,{"$f":"0","v":0},0,1.3743733653599998E-2,null,1185,0.81361039999999996,0.18638959999999999,1.6013999999999997E-2,0.2782694,0,1.4643714651875002E-2,930634.6,13652.85,52347.59,3.2925210670299605,460635.3,1051481,1.3785896914199996E-2,2.4187931984406759,null,0,0,null,1.4103469900000009E-2]
[1189,0.1905847,0.2853889,12555.74,427572.5,960992.9,427572.5,960992.9,1.6013999999999997E-2,1.4103469900000009E-2,3.2194816208894634,{"$f":"0","v":0},0,2.3648643048500917,{"$f":"0","v":0},0,{"$f":"0","v":0},0,1.3728891077699997E-2,null,1186,0.81259510000000001,0.18740490000000001,1.6013999999999997E-2,0.28002460000000001,0,1.4591612369850442E-2,914780.7,13366.53,50995.11,3.273467852165072,452069.1,1027760,1.3771843027799997E-2,2.4042840549705828,null,0,0,null,1.4103469900000009E-2]
[1190,0.19173390000000001,0.28724270000000002,12317.59,420208.3,941669.1,420208.3,941669.1,1.6013999999999997E-2,1.4103469900000009E-2,3.2056442927011966,{"$f":"0","v":0},0,2.3570640833392842,{"$f":"0","v":0},0,{"$f":"0","v":0},0,1.3714047701099998E-2,null,1187,0.81157979999999996,0.18842030000000001,1.6013999999999997E-2,0.28177990000000003,0,1.4539695467550675E-2,898926.7,13080.21,49642.63,3.2535805044414428,443502.9,1004038,1.3757788340699996E-2,2.3888062908372039,null,0,0,null,1.4103469900000009E-2]
[1191,0.192883,0.28909639999999998,12079.43,412844.1,922345.2,412844.1,922345.2,1.6013999999999997E-2,1.4103469900000009E-2,3.1912644401819183,{"$f":"0","v":0},0,2.3488223177503138,{"$f":"0","v":0},0,{"$f":"0","v":0},0,1.3699205125199997E-2,null,1188,0.81056439999999996,0.18943560000000001,1.6013999999999997E-2,0.28353519999999999,0,1.4487963285395344E-2,883072.8,12793.89,48290.15,3.2328030215985915,434936.7,980316.8,1.3743733653599998E-2,2.3722562506939342,null,0,0,null,1.4103469900000009E-2]
[1192,0.19403219999999999,0.29095009999999999,11841.28,405479.9,903021.3,405479.9,903021.3,1.6013999999999997E-2,1.4103469900000009E-2,3.1763030122869598,{"$f":"0","v":0},0,2.3400996085667645,{"$f":"0","v":0},0,{"$f":"0","v":0},0,1.3684362549299998E-2,null,1189,0.8094152,0.1905847,1.6013999999999997E-2,0.2853889,0,1.4436415166150853E-2,869132.3,12555.74,47224,3.2194816208894634,427572.5,960992.9,1.3728891077699997E-2,2.3648643048500917,null,0,0,null,1.4103469900000009E-2]
[1193,0.1951814,0.29280390000000001,11603.13,398115.8,883697.4,398115.8,883697.4,1.6013999999999997E-2,1.4103469900000009E-2,3.1607274287196647,{"$f":"0","v":0},0,2.3308529982283588,{"$f":"0","v":0},0,{"$f":"0","v":0},0,1.3669519172699998E-2,null,1190,0.80826609999999999,0.19173390000000001,1.6013999999999997E-2,0.28724270000000002,0,1.4385050454922058E-2,855191.9,12317.59,46157.84,3.2056442927011966,420208.3,941669.1,1.3714047701099998E-2,2.3570640833392842,null,0,0,null,1.4103469900000009E-2]
[1194,0.19633049999999999,0.29465760000000002,11364.98,390751.6,864373.5,390751.6,864373.5,1.6013999999999997E-2,1.4103469900000009E-2,3.1444999609912792,{"$f":"0","v":0},0,2.3210329509436569,{"$f":"0","v":0},0,{"$f":"0","v":0},0,1.3654676596799998E-2,null,1191,0.80711699999999997,0.192883,1.6013999999999997E-2,0.28909639999999998,0,1.4333868499143924E-2,841251.4,12079.43,45091.68,3.1912644401819183,412844.1,922345.2,1.3699205125199997E-2,2.3488223177503138,null,0,0,null,1.4103469900000009E-2]
[1195,0.19747970000000001,0.29651129999999998,11126.83,383387.4,845049.6,383387.4,845049.6,1.6013999999999997E-2,1.4103469900000009E-2,3.1275769543826355,{"$f":"0","v":0},0,2.3105848891760852,{"$f":"0","v":0},0,{"$f":"0","v":0},0,1.3639834020899999E-2,null,1192,0.80596780000000001,0.19403219999999999,1.6013999999999997E-2,0.29095009999999999,0,1.4282868648573239E-2,827310.9,11841.28,44025.52,3.1763030122869598,405479.9,903021.3,1.3684362549299998E-2,2.3400996085667645,null,0,0,null,1.4103469900000009E-2]
[1196,0.19862879999999999,0.29836509999999999,10888.67,376023.2,825725.8,376023.2,825725.8,1.6013999999999997E-2,1.4103469900000009E-2,3.1099170437405732,{"$f":"0","v":0},0,2.2994457580293437,{"$f":"0","v":0},0,{"$f":"0","v":0},0,1.3624990644299997E-2,null,1193,0.80481860000000005,0.1951814,1.6013999999999997E-2,0.29280390000000001,0,1.4232050255280361E-2,813370.5,11603.13,42959.360000000001,3.1607274287196647,398115.8,883697.4,1.3669519172699998E-2,2.3308529982283588,null,0,0,null,1.4103469900000009E-2]
[1197,0.19977800000000001,0.30021880000000001,10650.52,368659,806401.9,368659,806401.9,1.6013999999999997E-2,1.4103469900000009E-2,3.0914639222623248,{"$f":"0","v":0},0,2.2875464374503065,{"$f":"0","v":0},0,{"$f":"0","v":0},0,1.3610148068399996E-2,null,1194,0.80366950000000004,0.19633049999999999,1.6013999999999997E-2,0.29465760000000002,0,1.4181412673640965E-2,799430,11364.98,41893.21,3.1444999609912792,390751.6,864373.5,1.3654676596799998E-2,2.3210329509436569,null,0,0,null,1.4103469900000009E-2]
[1198,0.2009271,0.30207250000000002,10412.370000000001,361294.9,787078,361294.9,787078,1.6013999999999997E-2,1.4103469900000009E-2,3.072167647711328,{"$f":"0","v":0},0,2.2748053821811101,{"$f":"0","v":0},0,{"$f":"0","v":0},0,1.3595305492499998E-2,null,1195,0.80252029999999996,0.19747970000000001,1.6013999999999997E-2,0.29651129999999998,0,1.4130955260327866E-2,785489.6,11126.83,40827.050000000003,3.1275769543826355,383387.4,845049.6,1.3639834020899999E-2,2.3105848891760852,null,0,0,null,1.4103469900000009E-2]
[1199,0.20207629999999999,0.30392629999999998,10174.219999999999,353930.7,767754.1,353930.7,767754.1,1.6013999999999997E-2,1.4103469900000009E-2,3.0519670467777056,{"$f":"0","v":0},0,2.2611304980816378,{"$f":"0","v":0},0,{"$f":"0","v":0},0,1.3580462115899996E-2,null,1196,0.80137119999999995,0.19862879999999999,1.6013999999999997E-2,0.29836509999999999,0,1.4080677374302837E-2,771549.1,10888.67,39760.89,3.1099170437405732,376023.2,825725.8,1.3624990644299997E-2,2.2994457580293437,null,0,0,null,1.4103469900000009E-2]
[1200,0.2032254,0.30578,9936.0650000000005,346566.5,748430.3,346566.5,748430.3,1.6013999999999997E-2,1.4103469900000009E-2,3.0307998983165536,{"$f":"0","v":0},0,2.2464141296926807,{"$f":"0","v":0},0,{"$f":"0","v":0},0,1.3565619539999997E-2,null,1197,0.80022199999999999,0.19977800000000001,1.6013999999999997E-2,0.30021880000000001,0,1.4030578376808453E-2,757608.7,10650.52,38694.730000000003,3.0914639222623248,368659,806401.9,1.3610148068399996E-2,2.2875464374503065,null,0,0,null,1.4103469900000009E-2]
[1201,0.2045448,0.30772929999999998,9740.1710000000003,340305.5,732863.9,340305.5,732863.9,1.6013999999999997E-2,1.4103469900000009E-2,3.0176404543274105,{"$f":"0","v":0},0,2.2407193119232378,{"$f":"0","v":0},0,{"$f":"0","v":0},0,1.3550011494899997E-2,null,1198,0.79907289999999997,0.2009271,1.6013999999999997E-2,0.30207250000000002,0,1.3980657631359993E-2,743668.3,10412.370000000001,37628.58,3.072167647711328,361294.9,787078,1.3595305492499998E-2,2.2748053821811101,null,0,0,null,1.4103469900000009E-2]
[1202,0.2058642,0.30967869999999997,9544.2749999999996,334044.40000000002,717297.5,334044.40000000002,717297.5,1.6013999999999997E-2,1.4103469900000009E-2,3.0039405166971824,{"$f":"0","v":0},0,2.2346894077571382,{"$f":"0","v":0},0,{"$f":"0","v":0},0,1.3534402649099997E-2,null,1199,0.79792370000000001,0.20207629999999999,1.6013999999999997E-2,0.30392629999999998,0,1.3930914503737337E-2,729727.8,10174.219999999999,36562.42,3.0519670467777056,353930.7,767754.1,1.3580462115899996E-2,2.2611304980816378,null,0,0,null,1.4103469900000009E-2]
[1203,0.2071836,0.31162800000000002,9348.3809999999994,327783.40000000002,701731.1,327783.40000000002,701731.1,1.6013999999999997E-2,1.4103469900000009E-2,2.9896667267840287,{"$f":"0","v":0},0,2.2282922412580577,{"$f":"0","v":0},0,{"$f":"0","v":0},0,1.3518794603999996E-2,null,1200,0.7967746,0.2032254,1.6013999999999997E-2,0.30578,0,1.3881348361976933E-2,715787.3,9936.0650000000005,35496.26,3.0307998983165536,346566.5,748430.3,1.3565619539999997E-2,2.2464141296926807,null,0,0,null,1.4103469900000009E-2]
[1204,0.20850299999999999,0.3135773,9152.4850000000006,321522.3,686164.8,321522.3,686164.8,1.6013999999999997E-2,1.4103469900000009E-2,2.9747815984766253,{"$f":"0","v":0},0,2.2214932053469458,{"$f":"0","v":0},0,{"$f":"0","v":0},0,1.3503186558899998E-2,null,1201,0.79545520000000003,0.2045448,1.6013999999999997E-2,0.30772929999999998,0,1.3831958576363738E-2,703665.1,9740.1710000000003,34668.26,3.0176404543274105,340305.5,732863.9,1.3550011494899997E-2,2.2407193119232378,null,0,0,null,1.4103469900000009E-2]
[1205,0.20982239999999999,0.31552669999999999,8956.5910000000003,315261.3,670598.40000000002,315261.3,670598.40000000002,1.6013999999999997E-2,1.4103469900000009E-2,2.9592445617236884,{"$f":"0","v":0},0,2.2142515594169692,{"$f":"0","v":0},0,{"$f":"0","v":0},0,1.3487577713099998E-2,null,1202,0.79413579999999995,0.2058642,1.6013999999999997E-2,0.30967869999999997,0,1.3782744519423244E-2,691542.9,9544.2749999999996,33840.25,3.0039405166971824,334044.40000000002,717297.5,1.3534402649099997E-2,2.2346894077571382,null,0,0,null,1.4103469900000009E-2]
[1206,0.21114179999999999,0.31747599999999998,8760.6949999999997,309000.3,655032.1,309000.3,655032.1,1.6013999999999997E-2,1.4103469900000009E-2,2.9430146285958672,{"$f":"0","v":0},0,2.2065262047267082,{"$f":"0","v":0},0,{"$f":"0","v":0},0,1.3471969667999996E-2,null,1203,0.79281639999999998,0.2071836,1.6013999999999997E-2,0.31162800000000002,0,1.3733705565913487E-2,679420.8,9348.3809999999994,33012.25,2.9896667267840287,327783.40000000002,701731.1,1.3518794603999996E-2,2.2282922412580577,null,0,0,null,1.4103469900000009E-2]
[1207,0.21246119999999999,0.31942530000000002,8564.8009999999995,302739.20000000001,639465.69999999995,302739.20000000001,639465.69999999995,1.6013999999999997E-2,1.4103469900000009E-2,2.9260402888130934,{"$f":"0","v":0},0,2.1982650565251145,{"$f":"0","v":0},0,{"$f":"0","v":0},0,1.3456361622899997E-2,null,1204,0.79149700000000001,0.20850299999999999,1.6013999999999997E-2,0.3135773,0,1.3684841092817115E-2,667298.6,9152.4850000000006,32184.240000000002,2.9747815984766253,321522.3,686164.8,1.3503186558899998E-2,2.2214932053469458,null,0,0,null,1.4103469900000009E-2]
[1208,0.21378059999999999,0.32137470000000001,8368.9060000000009,296478.2,623899.30000000005,296478.2,623899.30000000005,1.6013999999999997E-2,1.4103469900000009E-2,2.908272907275256,{"$f":"0","v":0},0,2.1894079060148273,{"$f":"0","v":0},0,{"$f":"0","v":0},0,1.3440752777099997E-2,null,1205,0.79017760000000004,0.20982239999999999,1.6013999999999997E-2,0.31552669999999999,0,1.3636150479333468E-2,655176.4,8956.5910000000003,31356.23,2.9592445617236884,315261.3,670598.40000000002,1.3487577713099998E-2,2.2142515594169692,null,0,0,null,1.4103469900000009E-2]
[1209,0.21510000000000001,0.323324,8173.0110000000004,290217.09999999998,608333,290217.09999999998,608333,1.6013999999999997E-2,1.4103469900000009E-2,2.8896525864213323,{"$f":"0","v":0},0,2.179893937285033,{"$f":"0","v":0},0,{"$f":"0","v":0},0,1.3425144731999999E-2,null,1206,0.78885819999999995,0.21114179999999999,1.6013999999999997E-2,0.31747599999999998,0,1.3587633106870698E-2,643054.30000000005,8760.6949999999997,30528.23,2.9430146285958672,309000.3,655032.1,1.3471969667999996E-2,2.2065262047267082,null,0,0,null,1.4103469900000009E-2]
[1210,0.21641940000000001,0.32527329999999999,7977.116,283956.09999999998,592766.6,283956.09999999998,592766.6,1.6013999999999997E-2,1.4103469900000009E-2,2.8701189962220264,{"$f":"0","v":0},0,2.1696420856016649,{"$f":"0","v":0},0,{"$f":"0","v":0},0,1.3409536686899997E-2,null,1207,0.78753879999999998,0.21246119999999999,1.6013999999999997E-2,0.31942530000000002,0,1.3539288359037893E-2,630932.1,8564.8009999999995,29700.22,2.9260402888130934,302739.20000000001,639465.69999999995,1.3456361622899997E-2,2.1982650565251145,null,0,0,null,1.4103469900000009E-2]
[1211,0.21773880000000001,0.32722259999999997,7781.2209999999995,277695,577200.30000000005,277695,577200.30000000005,1.6013999999999997E-2,1.4103469900000009E-2,2.8496005907470483,{"$f":"0","v":0},0,2.1585641871367907,{"$f":"0","v":0},0,{"$f":"0","v":0},0,1.3393928641799998E-2,null,1208,0.78621940000000001,0.21378059999999999,1.6013999999999997E-2,0.32137470000000001,0,1.3491115621637269E-2,618809.9,8368.9060000000009,28872.22,2.908272907275256,296478.2,623899.30000000005,1.3440752777099997E-2,2.1894079060148273,null,0,0,null,1.4103469900000009E-2]
[1212,0.21905820000000001,0.32917200000000002,7585.326,271434,561633.9,271434,561633.9,1.6013999999999997E-2,1.4103469900000009E-2,2.8280237065618539,{"$f":"0","v":0},0,2.1465573706584782,{"$f":"0","v":0},0,{"$f":"0","v":0},0,1.3378319795999998E-2,null,1209,0.78490000000000004,0.21510000000000001,1.6013999999999997E-2,0.323324,0,1.3443114282656351E-2,606687.80000000005,8173.0110000000004,28044.21,2.8896525864213323,290217.09999999998,608333,1.3425144731999999E-2,2.179893937285033,null,0,0,null,1.4103469900000009E-2]
[1213,0.22058420000000001,0.33121240000000002,7426.1880000000001,266176.40000000002,549251.1,266176.40000000002,549251.1,1.6013999999999997E-2,1.4103469900000009E-2,2.8151147668224938,{"$f":"0","v":0},0,2.143155827485427,{"$f":"0","v":0},0,{"$f":"0","v":0},0,1.3361982313199997E-2,null,1210,0.78358059999999996,0.21641940000000001,1.6013999999999997E-2,0.32527329999999999,0,1.3395283732260201E-2,594565.6,7977.116,27216.21,2.8701189962220264,283956.09999999998,592766.6,1.3409536686899997E-2,2.1696420856016649,null,0,0,null,1.4103469900000009E-2]
[1214,0.22211030000000001,0.33325280000000002,7267.05,260918.8,536868.19999999995,260918.8,536868.19999999995,1.6013999999999997E-2,1.4103469900000009E-2,2.8016390763789984,{"$f":"0","v":0},0,2.1395389218083558,{"$f":"0","v":0},0,{"$f":"0","v":0},0,1.3345644830399999E-2,null,1211,0.78226119999999999,0.21773880000000001,1.6013999999999997E-2,0.32722259999999997,0,1.3347623362783672E-2,582443.4,7781.2209999999995,26388.2,2.8496005907470483,277695,577200.30000000005,1.3393928641799998E-2,2.1585641871367907,null,0,0,null,1.4103469900000009E-2]
[1215,0.22363630000000001,0.33529320000000001,7107.9129999999996,255661.2,524485.4,255661.2,524485.4,1.6013999999999997E-2,1.4103469900000009E-2,2.7875609139185209,{"$f":"0","v":0},0,2.1356855320642247,{"$f":"0","v":0},0,{"$f":"0","v":0},0,1.3329307347599998E-2,null,1212,0.78094180000000002,0.21905820000000001,1.6013999999999997E-2,0.32917200000000002,0,1.3300132568723689E-2,570321.19999999995,7585.326,25560.2,2.8280237065618539,271434,561633.9,1.3378319795999998E-2,2.1465573706584782,null,0,0,null,1.4103469900000009E-2]
[1216,{"$f":"W1221","v":0.22516230000000001},{"$f":"Y1221","v":0.33733360000000001},{"$f":"AC1221","v":6948.7740000000003},{"$f":"AF1221","v":250403.6},{"$f":"AG1221","v":512102.5},{"$f":"E1218","v":250403.6},{"$f":"F1218","v":512102.5},{"$f":"X1221","v":1.6013999999999997E-2},{"$f":"AN1221","v":1.4103469900000009E-2},{"$f":"AE1221","v":2.7728388849601382},{"$f":"0","v":0},{"$f":"AL1221","v":0},{"$f":"AI1221","v":2.1315708050616373},{"$f":"0","v":0},{"$f":"AK1221","v":0},{"$f":"0","v":0},{"$f":"Z1221","v":0},{"$f":"AH1221","v":1.3312969864799998E-2},null,1213,0.77941579999999999,0.22058420000000001,1.6013999999999997E-2,0.33121240000000002,0,1.3252810746731552E-2,559910.1,7426.1880000000001,24928.09,2.8151147668224938,266176.40000000002,549251.1,1.3361982313199997E-2,2.143155827485427,null,0,0,null,1.4103469900000009E-2]
[1217,0.22668830000000001,0.33937400000000001,6789.6369999999997,245146,499719.7,245146,499719.7,1.6013999999999997E-2,1.4103469900000009E-2,2.7574257590403337,{"$f":"0","v":0},0,2.1271691311624488,{"$f":"0","v":0},0,{"$f":"0","v":0},0,1.3296632381999997E-2,null,1214,0.77788970000000002,0.22211030000000001,1.6013999999999997E-2,0.33325280000000002,0,1.3205657295605279E-2,549498.9,7267.05,24295.97,2.8016390763789984,260918.8,536868.19999999995,1.3345644830399999E-2,2.1395389218083558,null,0,0,null,1.4103469900000009E-2]
[1218,0.22821440000000001,0.34141440000000001,6630.4989999999998,239888.4,487336.8,239888.4,487336.8,1.6013999999999997E-2,1.4103469900000009E-2,2.7412732749576363,{"$f":"0","v":0},0,2.1224483682244308,{"$f":"0","v":0},0,{"$f":"0","v":0},0,1.3280294899199997E-2,null,1215,0.77636369999999999,0.22363630000000001,1.6013999999999997E-2,0.33529320000000001,0,1.3158671616281949E-2,539087.80000000005,7107.9129999999996,23663.86,2.7875609139185209,255661.2,524485.4,1.3329307347599998E-2,2.1356855320642247,null,0,0,null,1.4103469900000009E-2]
[1219,0.22974040000000001,0.3434548,6471.3609999999999,234630.8,474954,234630.8,474954,1.6013999999999997E-2,1.4103469900000009E-2,2.7243263756006399,{"$f":"0","v":0},0,2.117371538701081,{"$f":"0","v":0},0,{"$f":"0","v":0},0,1.3263957416399998E-2,null,1216,0.77483769999999996,0.22516230000000001,1.6013999999999997E-2,0.33733360000000001,0,1.3111853111830121E-2,528676.69999999995,6948.7740000000003,23031.75,2.7728388849601382,250403.6,512102.5,1.3312969864799998E-2,2.1315708050616373,null,0,0,null,1.4103469900000009E-2]
[1220,0.23126640000000001,0.3454952,6312.223,229373.2,462571.2,229373.2,462571.2,1.6013999999999997E-2,1.4103469900000009E-2,2.7065249767527755,{"$f":"0","v":0},0,2.1118986557888708,{"$f":"0","v":0},0,{"$f":"0","v":0},0,1.3247619933599998E-2,null,1217,0.77331170000000005,0.22668830000000001,1.6013999999999997E-2,0.33937400000000001,0,1.3065201187442227E-2,518265.59999999998,6789.6369999999997,22399.64,2.7574257590403337,245146,499719.7,1.3296632381999997E-2,2.1271691311624488,null,0,0,null,1.4103469900000009E-2]
[1221,0.23279240000000001,0.3475356,6153.085,224115.6,450188.3,224115.6,450188.3,1.6013999999999997E-2,1.4103469900000009E-2,2.6878027783353122,{"$f":"0","v":0},0,2.1059809044537974,{"$f":"0","v":0},0,{"$f":"0","v":0},0,1.3231282450799997E-2,null,1218,0.77178559999999996,0.22821440000000001,1.6013999999999997E-2,0.34141440000000001,0,1.301871525042702E-2,507854.4,6630.4989999999998,21767.53,2.7412732749576363,239888.4,487336.8,1.3280294899199997E-2,2.1224483682244308,null,0,0,null,1.4103469900000009E-2]
[1222,0.23431850000000001,0.349576,5993.9470000000001,218858,437805.5,218858,437805.5,1.6013999999999997E-2,1.4103469900000009E-2,2.668086439258361,{"$f":"0","v":0},0,2.0995614149828201,{"$f":"0","v":0},0,{"$f":"0","v":0},0,1.3214944967999999E-2,null,1219,0.77025960000000004,0.22974040000000001,1.6013999999999997E-2,0.3434548,0,1.2972394710202048E-2,497443.3,6471.3609999999999,21135.42,2.7243263756006399,234630.8,474954,1.3263957416399998E-2,2.117371538701081,null,0,0,null,1.4103469900000009E-2]
[1223,0.23584450000000001,0.3516164,5834.8090000000002,213600.4,425422.7,213600.4,425422.7,1.6013999999999997E-2,1.4103469900000009E-2,2.647294617241684,{"$f":"0","v":0},0,2.0925724046910079,{"$f":"0","v":0},0,{"$f":"0","v":0},0,1.3198607485199998E-2,null,1220,0.76873360000000002,0.23126640000000001,1.6013999999999997E-2,0.3454952,0,1.292623897828615E-2,487032.2,6312.223,20503.310000000001,2.7065249767527755,229373.2,462571.2,1.3247619933599998E-2,2.1118986557888708,null,0,0,null,1.4103469900000009E-2]
[1224,0.23737050000000001,0.35365679999999999,5675.6710000000003,208342.8,413039.8,208342.8,413039.8,1.6013999999999997E-2,1.4103469900000009E-2,2.6253368471028944,{"$f":"0","v":0},0,2.0849374506829621,{"$f":"0","v":0},0,{"$f":"0","v":0},0,1.3182270002399998E-2,null,1221,0.76720759999999999,0.23279240000000001,1.6013999999999997E-2,0.3475356,0,1.2880247468291976E-2,476621,6153.085,19871.2,2.6878027783353122,224115.6,450188.3,1.3231282450799997E-2,2.1059809044537974,null,0,0,null,1.4103469900000009E-2]
[1225,0.23913970000000001,0.35365679999999999,5548.299,203992.8,403335.7,203992.8,403335.7,1.6013999999999997E-2,1.4103469900000009E-2,2.61279562889455,{"$f":"0","v":0},0,2.0849376520520937,null,0,{"$f":"0","v":0},0,1.3182270002399998E-2,null,1222,0.76568159999999996,0.23431850000000001,1.6013999999999997E-2,0.349576,0,1.2834419595918545E-2,466209.9,5993.9470000000001,19239.09,2.668086439258361,218858,437805.5,1.3214944967999999E-2,2.0995614149828201,null,0,0,null,1.4103469900000009E-2]
[1226,0.24090890000000001,0.35365679999999999,5420.9260000000004,199642.7,393631.6,199642.7,393631.6,1.6013999999999997E-2,1.4103469900000009E-2,2.5996656444550865,{"$f":"0","v":0},0,2.0849378670644492,null,0,{"$f":"0","v":0},0,1.3182270002399998E-2,null,1223,0.76415549999999999,0.23584450000000001,1.6013999999999997E-2,0.3516164,0,1.2788754778943813E-2,455798.8,5834.8090000000002,18606.98,2.647294617241684,213600.4,425422.7,1.3198607485199998E-2,2.0925724046910079,null,0,0,null,1.4103469900000009E-2]
[1227,0.242678,0.35365679999999999,5293.5540000000001,195292.6,383927.5,195292.6,383927.5,1.6013999999999997E-2,1.4103469900000009E-2,2.5859013150711228,{"$f":"0","v":0},0,2.0849367697933872,null,0,{"$f":"0","v":0},0,1.3182270002399998E-2,null,1224,0.76262949999999996,0.23737050000000001,1.6013999999999997E-2,0.35365679999999999,0,1.2743252437217278E-2,445387.7,5675.6710000000003,17974.87,2.6253368471028944,208342.8,413039.8,1.3182270002399998E-2,2.0849374506829621,null,0,0,null,1.4103469900000009E-2]
[1228,0.2444472,0.35365679999999999,5166.1819999999998,190942.5,374223.4,190942.5,374223.4,1.6013999999999997E-2,1.4103469900000009E-2,2.5714602034281153,{"$f":"0","v":0},0,2.0849369683723964,null,0,{"$f":"0","v":0},0,1.3182270002399998E-2,null,1225,0.76086030000000004,0.23913970000000001,1.6013999999999997E-2,0.35365679999999999,0,1.2697911992652616E-2,436577.5,5548.299,17501.900000000001,2.61279562889455,203992.8,403335.7,1.3182270002399998E-2,2.0849376520520937,null,0,0,null,1.4103469900000009E-2]
[1229,0.2462164,0.35365679999999999,5038.8090000000002,186592.5,364519.3,186592.5,364519.3,1.6013999999999997E-2,1.4103469900000009E-2,2.5562896162565401,{"$f":"0","v":0},0,2.0849371819275992,null,0,{"$f":"0","v":0},0,1.3182270002399998E-2,null,1226,0.75909110000000002,0.24090890000000001,1.6013999999999997E-2,0.35365679999999999,0,1.2652732869220331E-2,427767.3,5420.9260000000004,17028.93,2.5996656444550865,199642.7,393631.6,1.3182270002399998E-2,2.0849378670644492,null,0,0,null,1.4103469900000009E-2]
[1230,0.2479855,0.35365679999999999,4911.4369999999999,182242.4,354815.2,182242.4,354815.2,1.6013999999999997E-2,1.4103469900000009E-2,2.5403315346744075,{"$f":"0","v":0},0,2.0849374122195705,null,0,{"$f":"0","v":0},0,1.3182270002399998E-2,null,1227,0.75732200000000005,0.242678,1.6013999999999997E-2,0.35365679999999999,0,1.2607714492940434E-2,418957.2,5293.5540000000001,16555.95,2.5859013150711228,195292.6,383927.5,1.3182270002399998E-2,2.0849367697933872,null,0,0,null,1.4103469900000009E-2]
[1231,0.2497547,0.35365679999999999,4784.0640000000003,177892.3,345111.1,177892.3,345111.1,1.6013999999999997E-2,1.4103469900000009E-2,2.5235222605717649,{"$f":"0","v":0},0,2.0849376612960961,null,0,{"$f":"0","v":0},0,1.3182270002399998E-2,null,1228,0.75555280000000002,0.2444472,1.6013999999999997E-2,0.35365679999999999,0,1.2562856291875162E-2,410147,5166.1819999999998,16082.98,2.5714602034281153,190942.5,374223.4,1.3182270002399998E-2,2.0849369683723964,null,0,0,null,1.4103469900000009E-2]
[1232,0.25152390000000002,0.35365679999999999,4656.6909999999998,173542.3,335407,173542.3,335407,1.6013999999999997E-2,1.4103469900000009E-2,2.505795576372436,{"$f":"0","v":0},0,2.0849363220056594,null,0,{"$f":"0","v":0},0,1.3182270002399998E-2,null,1229,0.7537836,0.2462164,1.6013999999999997E-2,0.35365679999999999,0,1.2518157696121692E-2,401336.9,5038.8090000000002,15610.01,2.5562896162565401,186592.5,364519.3,1.3182270002399998E-2,2.0849371819275992,null,0,0,null,1.4103469900000009E-2]
[1233,0.25329309999999999,0.35365679999999999,4529.3190000000004,169192.2,325702.8,169192.2,325702.8,1.6013999999999997E-2,1.4103469900000009E-2,2.4870712076142132,{"$f":"0","v":0},0,2.0849365447909087,null,0,{"$f":"0","v":0},0,1.3182270002399998E-2,null,1230,0.75201450000000003,0.2479855,1.6013999999999997E-2,0.35365679999999999,0,1.2473618137804928E-2,392526.7,4911.4369999999999,15137.04,2.5403315346744075,182242.4,354815.2,1.3182270002399998E-2,2.0849374122195705,null,0,0,null,1.4103469900000009E-2]
[1234,0.25506230000000002,0.35365679999999999,4401.9470000000001,164842.1,315998.8,164842.1,315998.8,1.6013999999999997E-2,1.4103469900000009E-2,2.4672632454835703,{"$f":"0","v":0},0,2.0849367882817904,null,0,{"$f":"0","v":0},0,1.3182270002399998E-2,null,1231,0.7502453,0.2497547,1.6013999999999997E-2,0.35365679999999999,0,1.2429237051070262E-2,383716.6,4784.0640000000003,14664.06,2.5235222605717649,177892.3,345111.1,1.3182270002399998E-2,2.0849376612960961,null,0,0,null,1.4103469900000009E-2]
[1235,0.25683139999999999,0.35365679999999999,4274.5739999999996,160492,306294.59999999998,160492,306294.59999999998,1.6013999999999997E-2,1.4103469900000009E-2,2.4462731841816288,{"$f":"0","v":0},0,2.0849370555055495,null,0,{"$f":"0","v":0},0,1.3182270002399998E-2,null,1232,0.74847609999999998,0.25152390000000002,1.6013999999999997E-2,0.35365679999999999,0,1.2385013872076394E-2,374906.4,4656.6909999999998,14191.09,2.505795576372436,173542.3,335407,1.3182270002399998E-2,2.0849363220056594,null,0,0,null,1.4103469900000009E-2]
[1236,0.25860060000000001,0.35365679999999999,4147.2020000000002,156142,296590.5,156142,296590.5,1.6013999999999997E-2,1.4103469900000009E-2,2.423995483380522,{"$f":"0","v":0},0,2.0849354107248765,null,0,{"$f":"0","v":0},0,1.3182270002399998E-2,null,1233,0.74670700000000001,0.25329309999999999,1.6013999999999997E-2,0.35365679999999999,0,1.2340948038988176E-2,366096.3,4529.3190000000004,13718.12,2.4870712076142132,169192.2,325702.8,1.3182270002399998E-2,2.0849365447909087,null,0,0,null,1.4103469900000009E-2]
[1237,0.26064920000000003,0.35365679999999999,4047.1010000000001,152605.6,289119.59999999998,152605.6,289119.59999999998,1.6013999999999997E-2,1.4103469900000009E-2,2.4119537149348798,{"$f":"0","v":0},0,2.0849351023621301,null,0,{"$f":"0","v":0},0,1.3182270002399998E-2,null,1234,0.74493779999999998,0.25506230000000002,1.6013999999999997E-2,0.35365679999999999,0,1.2297038991969465E-2,357286.1,4401.9470000000001,13245.15,2.4672632454835703,164842.1,315998.8,1.3182270002399998E-2,2.0849367882817904,null,0,0,null,1.4103469900000009E-2]
[1238,0.26269779999999998,0.35365679999999999,3947,149069.20000000001,281648.59999999998,149069.20000000001,281648.59999999998,1.6013999999999997E-2,1.4103469900000009E-2,2.3993011569968754,{"$f":"0","v":0},0,2.0849353170192901,null,0,{"$f":"0","v":0},0,1.3182270002399998E-2,null,1235,0.74316859999999996,0.25683139999999999,1.6013999999999997E-2,0.35365679999999999,0,1.2253286173176005E-2,348475.9,4274.5739999999996,12772.17,2.4462731841816288,160492,306294.59999999998,1.3182270002399998E-2,2.0849370555055495,null,0,0,null,1.4103469900000009E-2]
[1239,0.2647465,0.35365679999999999,3846.8989999999999,145532.79999999999,274177.7,145532.79999999999,274177.7,1.6013999999999997E-2,1.4103469900000009E-2,2.3859901291057204,{"$f":"0","v":0},0,2.0849349837459368,null,0,{"$f":"0","v":0},0,1.3182270002399998E-2,null,1236,0.74139940000000004,0.25860060000000001,1.6013999999999997E-2,0.35365679999999999,0,1.2209689026748358E-2,339665.8,4147.2020000000002,12299.2,2.423995483380522,156142,296590.5,1.3182270002399998E-2,2.0849354107248765,null,0,0,null,1.4103469900000009E-2]
[1240,0.26679510000000001,0.35365679999999999,3746.799,141996.4,266706.7,141996.4,266706.7,1.6013999999999997E-2,1.4103469900000009E-2,2.3719670777642463,{"$f":"0","v":0},0,2.0849346262515156,null,0,{"$f":"0","v":0},0,1.3182270002399998E-2,null,1237,0.73935079999999997,0.26064920000000003,1.6013999999999997E-2,0.35365679999999999,0,1.2166246998804831E-2,332346,4047.1010000000001,11953.6,2.4119537149348798,152605.6,289119.59999999998,1.3182270002399998E-2,2.0849351023621301,null,0,0,null,1.4103469900000009E-2]
[1241,0.26884370000000002,0.35365679999999999,3646.6979999999999,138460,259235.8,138460,259235.8,1.6013999999999997E-2,1.4103469900000009E-2,2.357174970343034,{"$f":"0","v":0},0,2.0849365468368157,null,0,{"$f":"0","v":0},0,1.3182270002399998E-2,null,1238,0.73730220000000002,0.26269779999999998,1.6013999999999997E-2,0.35365679999999999,0,1.2122959537434429E-2,325026.2,3947,11608,2.3993011569968754,149069.20000000001,281648.59999999998,1.3182270002399998E-2,2.0849353170192901,null,0,0,null,1.4103469900000009E-2]
[1242,0.27089229999999997,0.35365679999999999,3546.5970000000002,134923.6,251764.8,134923.6,251764.8,1.6013999999999997E-2,1.4103469900000009E-2,2.3415478626412871,{"$f":"0","v":0},0,2.0849362225761512,null,0,{"$f":"0","v":0},0,1.3182270002399998E-2,null,1239,0.73525359999999995,0.2647465,1.6013999999999997E-2,0.35365679999999999,0,1.2079826092689872E-2,317706.3,3846.8989999999999,11262.4,2.3859901291057204,145532.79999999999,274177.7,1.3182270002399998E-2,2.0849349837459368,null,0,0,null,1.4103469900000009E-2]
[1243,0.27294099999999999,0.35365679999999999,3446.4969999999998,131387.20000000001,244293.8,131387.20000000001,244293.8,1.6013999999999997E-2,1.4103469900000009E-2,2.3250118767935484,{"$f":"0","v":0},0,2.0849358718660582,null,0,{"$f":"0","v":0},0,1.3182270002399998E-2,null,1240,0.73320490000000005,0.26679510000000001,1.6013999999999997E-2,0.35365679999999999,0,1.2036846116580574E-2,310386.5,3746.799,10916.8,2.3719670777642463,141996.4,266706.7,1.3182270002399998E-2,2.0849346262515156,null,0,0,null,1.4103469900000009E-2]
[1244,0.2749896,0.35365679999999999,3346.3960000000002,127850.8,236822.9,127850.8,236822.9,1.6013999999999997E-2,1.4103469900000009E-2,2.3074874681099704,{"$f":"0","v":0},0,2.0849354913327849,null,0,{"$f":"0","v":0},0,1.3182270002399998E-2,null,1241,0.73115629999999998,0.26884370000000002,1.6013999999999997E-2,0.35365679999999999,0,1.1994019063065705E-2,303066.7,3646.6979999999999,10571.2,2.357174970343034,138460,259235.8,1.3182270002399998E-2,2.0849365468368157,null,0,0,null,1.4103469900000009E-2]
[1245,0.27703820000000001,0.35365679999999999,3246.2950000000001,124314.4,229351.9,124314.4,229351.9,1.6013999999999997E-2,1.4103469900000009E-2,2.2888829291032806,{"$f":"0","v":0},0,2.0849342626608984,null,0,{"$f":"0","v":0},0,1.3182270002399998E-2,null,1242,0.72910770000000003,0.27089229999999997,1.6013999999999997E-2,0.35365679999999999,0,1.1951344388047246E-2,295746.90000000002,3546.5970000000002,10225.6,2.3415478626412871,134923.6,251764.8,1.3182270002399998E-2,2.0849362225761512,null,0,0,null,1.4103469900000009E-2]
[1246,0.27908680000000002,0.35365679999999999,3146.194,120778,221881,120778,221881,1.6013999999999997E-2,1.4103469900000009E-2,2.2690938903746352,{"$f":"0","v":0},0,2.0849340560428953,null,0,{"$f":"0","v":0},0,1.3182270002399998E-2,null,1243,0.72705900000000001,0.27294099999999999,1.6013999999999997E-2,0.35365679999999999,0,1.1908821549363079E-2,288427.09999999998,3446.4969999999998,9879.9989999999998,2.3250118767935484,131387.20000000001,244293.8,1.3182270002399998E-2,2.0849358718660582,null,0,0,null,1.4103469900000009E-2]
[1247,0.28113549999999998,0.35365679999999999,3046.0940000000001,117241.60000000001,214410,117241.60000000001,214410,1.6013999999999997E-2,1.4103469900000009E-2,2.2480039738322808,{"$f":"0","v":0},0,2.0849335313807429,null,0,{"$f":"0","v":0},0,1.3182270002399998E-2,null,1244,0.72501040000000005,0.2749896,1.6013999999999997E-2,0.35365679999999999,0,1.1866450006780088E-2,281107.3,3346.3960000000002,9534.3979999999992,2.3074874681099704,127850.8,236822.9,1.3182270002399998E-2,2.0849354913327849,null,0,0,null,1.4103469900000009E-2]
[1248,0.28318409999999999,0.35365679999999999,2945.9929999999999,113705.2,206939,113705.2,206939,1.6013999999999997E-2,1.4103469900000009E-2,2.2254811167802053,{"$f":"0","v":0},0,2.0849332661276221,null,0,{"$f":"0","v":0},0,1.3182270002399998E-2,null,1245,0.72296179999999999,0.27703820000000001,1.6013999999999997E-2,0.35365679999999999,0,1.1824229221987316E-2,273787.5,3246.2950000000001,9188.7990000000009,2.2888829291032806,124314.4,229351.9,1.3182270002399998E-2,2.0849342626608984,null,0,0,null,1.4103469900000009E-2]
[1249,0.28554869999999999,0.35365679999999999,2869.1030000000001,110897,201320.2,110897,201320.2,1.6013999999999997E-2,1.4103469900000009E-2,2.2140723221392422,{"$f":"0","v":0},0,2.0849330114571365,null,0,{"$f":"0","v":0},0,1.3182270002399998E-2,null,1246,0.72091320000000003,0.27908680000000002,1.6013999999999997E-2,0.35365679999999999,0,1.1782158658589103E-2,266467.7,3146.194,8843.1980000000003,2.2690938903746352,120778,221881,1.3182270002399998E-2,2.0849340560428953,null,0,0,null,1.4103469900000009E-2]
[1250,0.28791329999999998,0.35365679999999999,2792.2130000000002,108088.8,195701.3,108088.8,195701.3,1.6013999999999997E-2,1.4103469900000009E-2,2.2020348346156493,{"$f":"0","v":0},0,2.0849330739172971,null,0,{"$f":"0","v":0},0,1.3182270002399998E-2,null,1247,0.71886459999999996,0.28113549999999998,1.6013999999999997E-2,0.35365679999999999,0,1.1740237782098293E-2,259147.8,3046.0940000000001,8497.5990000000002,2.2480039738322808,117241.60000000001,214410,1.3182270002399998E-2,2.0849335313807429,null,0,0,null,1.4103469900000009E-2]
[1251,0.29027789999999998,0.35365679999999999,2715.3240000000001,105280.6,190082.4,105280.6,190082.4,1.6013999999999997E-2,1.4103469900000009E-2,2.1893149767762523,{"$f":"0","v":0},0,2.0849331407576717,null,0,{"$f":"0","v":0},0,1.3182270002399998E-2,null,1248,0.71681589999999995,0.28318409999999999,1.6013999999999997E-2,0.35365679999999999,0,1.1698466059929429E-2,251828,2945.9929999999999,8151.9979999999996,2.2254811167802053,113705.2,206939,1.3182270002399998E-2,2.0849332661276221,null,0,0,null,1.4103469900000009E-2]
[1252,0.29264250000000003,0.35365679999999999,2638.4340000000002,102472.4,184463.6,102472.4,184463.6,1.6013999999999997E-2,1.4103469900000009E-2,2.1758544083346409,{"$f":"0","v":0},0,2.0849332124557693,null,0,{"$f":"0","v":0},0,1.3182270002399998E-2,null,1249,0.71445130000000001,0.28554869999999999,1.6013999999999997E-2,0.35365679999999999,0,1.1656842961391986E-2,245885.2,2869.1030000000001,7906.4989999999998,2.2140723221392422,110897,201320.2,1.3182270002399998E-2,2.0849330114571365,null,0,0,null,1.4103469900000009E-2]
[1253,0.29500710000000002,0.35365679999999999,2561.5439999999999,99664.24,178844.7,99664.24,178844.7,1.6013999999999997E-2,1.4103469900000009E-2,2.1615861371110552,{"$f":"0","v":0},0,2.0849319396951156,null,0,{"$f":"0","v":0},0,1.3182270002399998E-2,null,1250,0.71208669999999996,0.28791329999999998,1.6013999999999997E-2,0.35365679999999999,0,1.1615367957683642E-2,239942.39999999999,2792.2130000000002,7660.9989999999998,2.2020348346156493,108088.8,195701.3,1.3182270002399998E-2,2.0849330739172971,null,0,0,null,1.4103469900000009E-2]
[1254,0.29737170000000002,0.35365679999999999,2484.654,96856.04,173225.8,96856.04,173225.8,1.6013999999999997E-2,1.4103469900000009E-2,2.146434775224237,{"$f":"0","v":0},0,2.0849319699473337,null,0,{"$f":"0","v":0},0,1.3182270002399998E-2,null,1251,0.70972210000000002,0.29027789999999998,1.6013999999999997E-2,0.35365679999999999,0,1.1574040521883544E-2,233999.6,2715.3240000000001,7415.5,2.1893149767762523,105280.6,190082.4,1.3182270002399998E-2,2.0849331407576717,null,0,0,null,1.4103469900000009E-2]
[1255,0.29973630000000001,0.35365679999999999,2407.7649999999999,94047.84,167606.9,94047.84,167606.9,1.6013999999999997E-2,1.4103469900000009E-2,2.130314195252998,{"$f":"0","v":0},0,2.084931600093773,null,0,{"$f":"0","v":0},0,1.3182270002399998E-2,null,1252,0.70735749999999997,0.29264250000000003,1.6013999999999997E-2,0.35365679999999999,0,1.1532860128945633E-2,228056.8,2638.4340000000002,7170,2.1758544083346409,102472.4,184463.6,1.3182270002399998E-2,2.0849332124557693,null,0,0,null,1.4103469900000009E-2]
[1256,0.30210090000000001,0.35365679999999999,2330.875,91239.64,161988.1,91239.64,161988.1,1.6013999999999997E-2,1.4103469900000009E-2,2.1131316386907635,{"$f":"0","v":0},0,2.084931618479239,null,0,{"$f":"0","v":0},0,1.3182270002399998E-2,null,1253,0.70499290000000003,0.29500710000000002,1.6013999999999997E-2,0.35365679999999999,0,1.1491826255691952E-2,222114,2561.5439999999999,6924.5010000000002,2.1615861371110552,99664.24,178844.7,1.3182270002399998E-2,2.0849319396951156,null,0,0,null,1.4103469900000009E-2]
[1257,0.3044655,0.35365679999999999,2253.9850000000001,88431.44,156369.20000000001,88431.44,156369.20000000001,1.6013999999999997E-2,1.4103469900000009E-2,2.0947763442673013,{"$f":"0","v":0},0,2.0849316384975727,null,0,{"$f":"0","v":0},0,1.3182270002399998E-2,null,1254,0.70262829999999998,0.29737170000000002,1.6013999999999997E-2,0.35365679999999999,0,1.1450938380806011E-2,216171.2,2484.654,6679.0020000000004,2.146434775224237,96856.04,173225.8,1.3182270002399998E-2,2.0849319699473337,null,0,0,null,1.4103469900000009E-2]
[1258,0.30683009999999999,0.35365679999999999,2177.0949999999998,85623.23,150750.29999999999,85623.23,150750.29999999999,1.6013999999999997E-2,1.4103469900000009E-2,2.0751249754068306,{"$f":"0","v":0},0,2.084929996870164,null,0,{"$f":"0","v":0},0,1.3182270002399998E-2,null,1255,0.70026370000000004,0.29973630000000001,1.6013999999999997E-2,0.35365679999999999,0,1.141019598482616E-2,210228.4,2407.7649999999999,6433.5020000000004,2.130314195252998,94047.84,167606.9,1.3182270002399998E-2,2.084931600093773,null,0,0,null,1.4103469900000009E-2]
[1259,0.30919469999999999,0.35365679999999999,2100.2060000000001,82815.039999999994,145131.5,82815.039999999994,145131.5,1.6013999999999997E-2,1.4103469900000009E-2,2.0540334694152227,{"$f":"0","v":0},0,2.0849299398109666,null,0,{"$f":"0","v":0},0,1.3182270002399998E-2,null,1256,0.69789909999999999,0.30210090000000001,1.6013999999999997E-2,0.35365679999999999,0,1.1369598550139E-2,204285.6,2330.875,6188.0029999999997,2.1131316386907635,91239.64,161988.1,1.3182270002399998E-2,2.084931618479239,null,0,0,null,1.4103469900000009E-2]
[1260,0.31155929999999998,0.35365679999999999,2023.316,80006.84,139512.6,80006.84,139512.6,1.6013999999999997E-2,1.4103469900000009E-2,2.031339724821366,{"$f":"0","v":0},0,2.0849293712099182,null,0,{"$f":"0","v":0},0,1.3182270002399998E-2,null,1257,0.69553449999999994,0.3044655,1.6013999999999997E-2,0.35365679999999999,0,1.132914556097279E-2,198342.8,2253.9850000000001,5942.5029999999997,2.0947763442673013,88431.44,156369.20000000001,1.3182270002399998E-2,2.0849316384975727,null,0,0,null,1.4103469900000009E-2]
[1261,0.31427630000000001,0.35365679999999999,1965.924,77841.7,135408.4,77841.7,135408.4,1.6013999999999997E-2,1.4103469900000009E-2,2.0206887448344899,{"$f":"0","v":0},0,2.0849298980816853,null,0,{"$f":"0","v":0},0,1.3182270002399998E-2,null,1258,0.69316990000000001,0.30683009999999999,1.6013999999999997E-2,0.35365679999999999,0,1.1288836503390907E-2,192400,2177.0949999999998,5697.0039999999999,2.0751249754068306,85623.23,150750.29999999999,1.3182270002399998E-2,2.084929996870164,null,0,0,null,1.4103469900000009E-2]
[1262,0.31699319999999997,0.35365679999999999,1908.5309999999999,75676.58,131304.29999999999,75676.58,131304.29999999999,1.6013999999999997E-2,1.4103469900000009E-2,2.0093980003468639,{"$f":"0","v":0},0,2.0849285024425872,null,0,{"$f":"0","v":0},0,1.3182270002399998E-2,null,1259,0.69080529999999996,0.30919469999999999,1.6013999999999997E-2,0.35365679999999999,0,1.1248670865285309E-2,186457.2,2100.2060000000001,5451.5050000000001,2.0540334694152227,82815.039999999994,145131.5,1.3182270002399998E-2,2.0849299398109666,null,0,0,null,1.4103469900000009E-2]
[1263,0.3197102,0.35365679999999999,1851.1389999999999,73511.45,127200.1,73511.45,127200.1,1.6013999999999997E-2,1.4103469900000009E-2,1.9974057638747467,{"$f":"0","v":0},0,2.0849290358001089,null,0,{"$f":"0","v":0},0,1.3182270002399998E-2,null,1260,0.68844070000000002,0.31155929999999998,1.6013999999999997E-2,0.35365679999999999,0,1.1208648136370042E-2,180514.3,2023.316,5206.0050000000001,2.031339724821366,80006.84,139512.6,1.3182270002399998E-2,2.0849293712099182,null,0,0,null,1.4103469900000009E-2]
[1264,0.32242710000000002,0.35365679999999999,1793.7470000000001,71346.320000000007,123095.9,71346.320000000007,123095.9,1.6013999999999997E-2,1.4103469900000009E-2,1.98464668744626,{"$f":"0","v":0},0,2.0849275073978255,null,0,{"$f":"0","v":0},0,1.3182270002399998E-2,null,1261,0.68572370000000005,0.31427630000000001,1.6013999999999997E-2,0.35365679999999999,0,1.1168767808174733E-2,175827.6,1965.924,5037.3959999999997,2.0206887448344899,77841.7,135408.4,1.3182270002399998E-2,2.0849298980816853,null,0,0,null,1.4103469900000009E-2]
[1265,0.32514409999999999,0.35365679999999999,1736.355,69181.19,118991.7,69181.19,118991.7,1.6013999999999997E-2,1.4103469900000009E-2,1.9710435797979104,{"$f":"0","v":0},0,2.0849280434576167,null,0,{"$f":"0","v":0},0,1.3182270002399998E-2,null,1262,0.68300680000000003,0.31699319999999997,1.6013999999999997E-2,0.35365679999999999,0,1.1129029374038158E-2,171140.9,1908.5309999999999,4868.7860000000001,2.0093980003468639,75676.58,131304.29999999999,1.3182270002399998E-2,2.0849285024425872,null,0,0,null,1.4103469900000009E-2]
[1266,0.32786100000000001,0.35365679999999999,1678.963,67016.06,114887.6,67016.06,114887.6,1.6013999999999997E-2,1.4103469900000009E-2,1.9565110775718901,{"$f":"0","v":0},0,2.0849279969369969,null,0,{"$f":"0","v":0},0,1.3182270002399998E-2,null,1263,0.6802899,0.3197102,1.6013999999999997E-2,0.35365679999999999,0,1.1089432329101784E-2,166454.1,1851.1389999999999,4700.1760000000004,1.9974057638747467,73511.45,127200.1,1.3182270002399998E-2,2.0849290358001089,null,0,0,null,1.4103469900000009E-2]
[1267,0.33057789999999998,0.35365679999999999,1621.5709999999999,64850.93,110783.4,64850.93,110783.4,1.6013999999999997E-2,1.4103469900000009E-2,1.9409492656606875,{"$f":"0","v":0},0,2.084926889227646,null,0,{"$f":"0","v":0},0,1.3182270002399998E-2,null,1264,0.67757290000000003,0.32242710000000002,1.6013999999999997E-2,0.35365679999999999,0,1.1049976170303363E-2,161767.4,1793.7470000000001,4531.567,1.98464668744626,71346.320000000007,123095.9,1.3182270002399998E-2,2.0849275073978255,null,0,0,null,1.4103469900000009E-2]
[1268,0.33329490000000001,0.35365679999999999,1564.1790000000001,62685.8,106679.2,62685.8,106679.2,1.6013999999999997E-2,1.4103469900000009E-2,1.9242454827740305,{"$f":"0","v":0},0,2.084926789674832,null,0,{"$f":"0","v":0},0,1.3182270002399998E-2,null,1265,0.67485589999999995,0.32514409999999999,1.6013999999999997E-2,0.35365679999999999,0,1.1010660396370544E-2,157080.6,1736.355,4362.9570000000003,1.9710435797979104,69181.19,118991.7,1.3182270002399998E-2,2.0849280434576167,null,0,0,null,1.4103469900000009E-2]
[1269,0.33601180000000003,0.35365679999999999,1506.787,60520.68,102575.1,60520.68,102575.1,1.6013999999999997E-2,1.4103469900000009E-2,1.9062699030011099,{"$f":"0","v":0},0,2.084925529977228,null,0,{"$f":"0","v":0},0,1.3182270002399998E-2,null,1266,0.67213900000000004,0.32786100000000001,1.6013999999999997E-2,0.35365679999999999,0,1.0971484507814502E-2,152393.9,1678.963,4194.348,1.9565110775718901,67016.06,114887.6,1.3182270002399998E-2,2.0849279969369969,null,0,0,null,1.4103469900000009E-2]
[1270,0.3387288,0.35365679999999999,1449.395,58355.55,98470.9,58355.55,98470.9,1.6013999999999997E-2,1.4103469900000009E-2,1.8868700676259178,{"$f":"0","v":0},0,2.0849253580072622,null,0,{"$f":"0","v":0},0,1.3182270002399998E-2,null,1267,0.66942199999999996,0.33057789999999998,1.6013999999999997E-2,0.35365679999999999,0,1.0932448006923584E-2,147707.1,1621.5709999999999,4025.7379999999998,1.9409492656606875,64850.93,110783.4,1.3182270002399998E-2,2.084926889227646,null,0,0,null,1.4103469900000009E-2]
[1271,0.34144570000000002,0.35365679999999999,1392.002,56190.42,94366.73,56190.42,94366.73,1.6013999999999997E-2,1.4103469900000009E-2,1.8658722592831527,{"$f":"0","v":0},0,2.0849251692753845,null,0,{"$f":"0","v":0},0,1.3182270002399998E-2,null,1268,0.66670510000000005,0.33329490000000001,1.6013999999999997E-2,0.35365679999999999,0,1.0893550397757005E-2,143020.4,1564.1790000000001,3857.1280000000002,1.9242454827740305,62685.8,106679.2,1.3182270002399998E-2,2.084926789674832,null,0,0,null,1.4103469900000009E-2]
[1272,0.34416269999999999,0.35365679999999999,1334.61,54025.29,90262.56,54025.29,90262.56,1.6013999999999997E-2,1.4103469900000009E-2,1.843067450416227,{"$f":"0","v":0},0,2.0849236329547645,null,0,{"$f":"0","v":0},0,1.3182270002399998E-2,null,1269,0.66398820000000003,0.33601180000000003,1.6013999999999997E-2,0.35365679999999999,0,1.085479118613852E-2,138333.6,1506.787,3688.5189999999998,1.9062699030011099,60520.68,102575.1,1.3182270002399998E-2,2.084925529977228,null,0,0,null,1.4103469900000009E-2]
[1273,0.34726839999999998,0.35365679999999999,1293.279,52416.480000000003,87372.26,52416.480000000003,87372.26,1.6013999999999997E-2,1.4103469900000009E-2,1.8332825902222183,{"$f":"0","v":0},0,2.0849235595091415,null,0,{"$f":"0","v":0},0,1.3182270002399998E-2,null,1270,0.66127119999999995,0.3387288,1.6013999999999997E-2,0.35365679999999999,0,1.0816169879650181E-2,133646.9,1449.395,3519.9090000000001,1.8868700676259178,58355.55,98470.9,1.3182270002399998E-2,2.0849253580072622,null,0,0,null,1.4103469900000009E-2]
[1274,0.35037420000000002,0.35365679999999999,1251.9480000000001,50807.68,84481.95,50807.68,84481.95,1.6013999999999997E-2,1.4103469900000009E-2,1.8228524667158701,{"$f":"0","v":0},0,2.0849234810873778,null,0,{"$f":"0","v":0},0,1.3182270002399998E-2,null,1271,0.65855430000000004,0.34144570000000002,1.6013999999999997E-2,0.35365679999999999,0,1.0777685987626039E-2,128960.2,1392.002,3351.299,1.8658722592831527,56190.42,94366.73,1.3182270002399998E-2,2.0849251692753845,null,0,0,null,1.4103469900000009E-2]
[1275,0.35347990000000001,0.35365679999999999,1210.617,49198.87,81591.64,49198.87,81591.64,1.6013999999999997E-2,1.4103469900000009E-2,1.8117093391221171,{"$f":"0","v":0},0,2.0849210267128977,null,0,{"$f":"0","v":0},0,1.3182270002399998E-2,null,1272,0.65583729999999996,0.34416269999999999,1.6013999999999997E-2,0.35365679999999999,0,1.0739339021145948E-2,124273.4,1334.61,3182.69,1.843067450416227,54025.29,90262.56,1.3182270002399998E-2,2.0849236329547645,null,0,0,null,1.4103469900000009E-2]
[1276,0.35658570000000001,0.35365679999999999,1169.2860000000001,47590.07,78701.34,47590.07,78701.34,1.6013999999999997E-2,1.4103469900000009E-2,1.7997793097668153,{"$f":"0","v":0},0,2.0849208505541363,null,0,{"$f":"0","v":0},0,1.3182270002399998E-2,null,1273,0.65273150000000002,0.34726839999999998,1.6013999999999997E-2,0.35365679999999999,0,1.0701128493029337E-2,120709.2,1293.279,3071.4720000000002,1.8332825902222183,52416.480000000003,87372.26,1.3182270002399998E-2,2.0849235595091415,null,0,0,null,1.4103469900000009E-2]
[1277,0.35969139999999999,0.35365679999999999,1127.9559999999999,45981.26,75811.03,45981.26,75811.03,1.6013999999999997E-2,1.4103469900000009E-2,1.786972039098452,{"$f":"0","v":0},0,2.0849206611099684,null,0,{"$f":"0","v":0},0,1.3182270002399998E-2,null,1274,0.64962580000000003,0.35037420000000002,1.6013999999999997E-2,0.35365679999999999,0,1.0663053917829016E-2,117145,1251.9480000000001,2960.2550000000001,1.8228524667158701,50807.68,84481.95,1.3182270002399998E-2,2.0849234810873778,null,0,0,null,1.4103469900000009E-2]
[1278,0.36279719999999999,0.35365679999999999,1086.625,44372.45,72920.73,44372.45,72920.73,1.6013999999999997E-2,1.4103469900000009E-2,1.7731935657042066,{"$f":"0","v":0},0,2.0849199269951084,null,0,{"$f":"0","v":0},0,1.3182270002399998E-2,null,1275,0.64652010000000004,0.35347990000000001,1.6013999999999997E-2,0.35365679999999999,0,1.0625114811825015E-2,113580.8,1210.617,2849.0369999999998,1.8117093391221171,49198.87,81591.64,1.3182270002399998E-2,2.0849210267128977,null,0,0,null,1.4103469900000009E-2]
[1279,0.36590289999999998,0.35365679999999999,1045.2940000000001,42763.65,70030.42,42763.65,70030.42,1.6013999999999997E-2,1.4103469900000009E-2,1.7583245319817515,{"$f":"0","v":0},0,2.0849191329996088,null,0,{"$f":"0","v":0},0,1.3182270002399998E-2,null,1276,0.64341429999999999,0.35658570000000001,1.6013999999999997E-2,0.35365679999999999,0,1.0587310693018442E-2,110016.7,1169.2860000000001,2737.82,1.7997793097668153,47590.07,78701.34,1.3182270002399998E-2,2.0849208505541363,null,0,0,null,1.4103469900000009E-2]
[1280,{"$f":"W1285","v":0.36900870000000002},{"$f":"Y1285","v":0.35365679999999999},{"$f":"AC1285","v":1003.963},{"$f":"AF1285","v":41154.839999999997},{"$f":"AG1285","v":67140.11},{"$f":"E1282","v":41154.839999999997},{"$f":"F1282","v":67140.11},{"$f":"X1285","v":1.6013999999999997E-2},{"$f":"AN1285","v":1.4103469900000009E-2},{"$f":"AE1285","v":1.7422312459058089},{"$f":"0","v":0},{"$f":"AL1285","v":0},{"$f":"AI1285","v":2.0849182714853982},null,0,{"$f":"0","v":0},{"$f":"Z1285","v":0},{"$f":"AH1285","v":1.3182270002399998E-2},null,1277,0.64030860000000001,0.35969139999999999,1.6013999999999997E-2,0.35365679999999999,0,1.0549641081125351E-2,106452.5,1127.9559999999999,2626.6019999999999,1.786972039098452,45981.26,75811.03,1.3182270002399998E-2,2.0849206611099684,null,0,0,null,1.4103469900000009E-2]
[1281,0.37211440000000001,0.35365679999999999,962.63170000000002,39546.04,64249.8,39546.04,64249.8,1.6013999999999997E-2,1.4103469900000009E-2,1.724757761284335,{"$f":"0","v":0},0,2.0849173334576854,null,0,{"$f":"0","v":0},0,1.3182270002399998E-2,null,1278,0.63720279999999996,0.36279719999999999,1.6013999999999997E-2,0.35365679999999999,0,1.051210549757065E-2,102888.3,1086.625,2515.3850000000002,1.7731935657042066,44372.45,72920.73,1.3182270002399998E-2,2.0849199269951084,null,0,0,null,1.4103469900000009E-2]
[1282,0.3752202,0.35365679999999999,921.30070000000001,37937.230000000003,61359.5,37937.230000000003,61359.5,1.6013999999999997E-2,1.4103469900000009E-2,1.7057146714784146,{"$f":"0","v":0},0,2.0849163082497295,null,0,{"$f":"0","v":0},0,1.3182270002399998E-2,null,1279,0.63409709999999997,0.36590289999999998,1.6013999999999997E-2,0.35365679999999999,0,1.0474703465482007E-2,99324.09,1045.2940000000001,2404.1669999999999,1.7583245319817515,42763.65,70030.42,1.3182270002399998E-2,2.0849191329996088,null,0,0,null,1.4103469900000009E-2]
[1283,0.37832589999999999,0.35365679999999999,879.96969999999999,36328.43,58469.19,36328.43,58469.19,1.6013999999999997E-2,1.4103469900000009E-2,1.6848838611526435,{"$f":"0","v":0},0,2.0849151831154296,null,0,{"$f":"0","v":0},0,1.3182270002399998E-2,null,1280,0.63099130000000003,0.36900870000000002,1.6013999999999997E-2,0.35365679999999999,0,1.0437434509683808E-2,95759.9,1003.963,2292.9490000000001,1.7422312459058089,41154.839999999997,67140.11,1.3182270002399998E-2,2.0849182714853982,null,0,0,null,1.4103469900000009E-2]
[1284,0.38143169999999998,0.35365679999999999,838.63869999999997,34719.620000000003,55578.89,34719.620000000003,55578.89,1.6013999999999997E-2,1.4103469900000009E-2,1.6619986304392267,{"$f":"0","v":0},0,2.0849139426966801,null,0,{"$f":"0","v":0},0,1.3182270002399998E-2,null,1281,0.62788560000000004,0.37211440000000001,1.6013999999999997E-2,0.35365679999999999,0,1.0400298156691107E-2,92195.71,962.63170000000002,2181.732,1.724757761284335,39546.04,64249.8,1.3182270002399998E-2,2.0849173334576854,null,0,0,null,1.4103469900000009E-2]
[1285,0.38496269999999999,0.35365679999999999,810.17179999999996,33577.879999999997,53633.8,33577.879999999997,53633.8,1.6013999999999997E-2,1.4103469900000009E-2,1.6531678116501549,{"$f":"0","v":0},0,2.0849130821259885,null,0,{"$f":"0","v":0},0,1.3182270002399998E-2,null,1282,0.6247798,0.3752202,1.6013999999999997E-2,0.35365679999999999,0,1.0363293934703617E-2,88631.52,921.30070000000001,2070.5140000000001,1.7057146714784146,37937.230000000003,61359.5,1.3182270002399998E-2,2.0849163082497295,null,0,0,null,1.4103469900000009E-2]
[1286,0.3884937,0.35365679999999999,781.70479999999998,32436.15,51688.72,32436.15,51688.72,1.6013999999999997E-2,1.4103469900000009E-2,1.6436928194206648,{"$f":"0","v":0},0,2.0849111251154335,null,0,{"$f":"0","v":0},0,1.3182270002399998E-2,null,1283,0.62167410000000001,0.37832589999999999,1.6013999999999997E-2,0.35365679999999999,0,1.0326421373599718E-2,85067.33,879.96969999999999,1959.297,1.6848838611526435,36328.43,58469.19,1.3182270002399998E-2,2.0849151831154296,null,0,0,null,1.4103469900000009E-2]
[1287,0.3920247,0.35365679999999999,753.23779999999999,31294.41,49743.64,31294.41,49743.64,1.6013999999999997E-2,1.4103469900000009E-2,1.6335029809532484,{"$f":"0","v":0},0,2.0849104881728904,null,0,{"$f":"0","v":0},0,1.3182270002399998E-2,null,1284,0.61856829999999996,0.38143169999999998,1.6013999999999997E-2,0.35365679999999999,0,1.0289680004930475E-2,81503.14,838.63869999999997,1848.079,1.6619986304392267,34719.620000000003,55578.89,1.3182270002399998E-2,2.0849139426966801,null,0,0,null,1.4103469900000009E-2]
[1288,0.39555570000000001,0.35365679999999999,724.77080000000001,30152.67,47798.55,30152.67,47798.55,1.6013999999999997E-2,1.4103469900000009E-2,1.6225113051831928,{"$f":"0","v":0},0,2.0849098049396648,null,0,{"$f":"0","v":0},0,1.3182270002399998E-2,null,1285,0.61503730000000001,0.38496269999999999,1.6013999999999997E-2,0.35365679999999999,0,1.0253069361913697E-2,78912.479999999996,810.17179999999996,1778.193,1.6531678116501549,33577.879999999997,53633.8,1.3182270002399998E-2,2.0849130821259885,null,0,0,null,1.4103469900000009E-2]
[1289,0.39908670000000002,0.35365679999999999,696.30380000000002,29010.93,45853.47,29010.93,45853.47,1.6013999999999997E-2,1.4103469900000009E-2,1.6106223198360641,{"$f":"0","v":0},0,2.0849090701791093,null,0,{"$f":"0","v":0},0,1.3182270002399998E-2,null,1286,0.61150629999999995,0.3884937,1.6013999999999997E-2,0.35365679999999999,0,1.0216588979427999E-2,76321.83,781.70479999999998,1708.306,1.6436928194206648,32436.15,51688.72,1.3182270002399998E-2,2.0849111251154335,null,0,0,null,1.4103469900000009E-2]
[1290,0.40261770000000002,0.35365679999999999,667.83680000000004,27869.200000000001,43908.39,27869.200000000001,43908.39,1.6013999999999997E-2,1.4103469900000009E-2,1.5977182848664024,{"$f":"0","v":0},0,2.0849082778337573,null,0,{"$f":"0","v":0},0,1.3182270002399998E-2,null,1287,0.6079753,0.3920247,1.6013999999999997E-2,0.35365679999999999,0,1.0180238394006901E-2,73731.17,753.23779999999999,1638.42,1.6335029809532484,31294.41,49743.64,1.3182270002399998E-2,2.0849104881728904,null,0,0,null,1.4103469900000009E-2]
[1291,0.40614869999999997,0.35365679999999999,639.36980000000005,26727.46,41963.3,26727.46,41963.3,1.6013999999999997E-2,1.4103469900000009E-2,1.5836667475796742,{"$f":"0","v":0},0,2.0849052805901489,null,0,{"$f":"0","v":0},0,1.3182270002399998E-2,null,1288,0.60444430000000005,0.39555570000000001,1.6013999999999997E-2,0.35365679999999999,0,1.0144017143832932E-2,71140.52,724.77080000000001,1568.5329999999999,1.6225113051831928,30152.67,47798.55,1.3182270002399998E-2,2.0849098049396648,null,0,0,null,1.4103469900000009E-2]
[1292,0.40967969999999998,0.35365679999999999,610.90279999999996,25585.72,40018.22,25585.72,40018.22,1.6013999999999997E-2,1.4103469900000009E-2,1.5683040193409932,{"$f":"0","v":0},0,2.0849042597394587,null,0,{"$f":"0","v":0},0,1.3182270002399998E-2,null,1289,0.60091329999999998,0.39908670000000002,1.6013999999999997E-2,0.35365679999999999,0,1.0107924768731761E-2,68549.86,696.30380000000002,1498.6469999999999,1.6106223198360641,29010.93,45853.47,1.3182270002399998E-2,2.0849090701791093,null,0,0,null,1.4103469900000009E-2]
[1293,0.41321069999999999,0.35365679999999999,582.43589999999995,24443.98,38073.14,24443.98,38073.14,1.6013999999999997E-2,1.4103469900000009E-2,1.5514392012923657,{"$f":"0","v":0},0,2.084903148224091,null,0,{"$f":"0","v":0},0,1.3182270002399998E-2,null,1290,0.59738230000000003,0.40261770000000002,1.6013999999999997E-2,0.35365679999999999,0,1.0071960810166366E-2,65959.199999999997,667.83680000000004,1428.76,1.5977182848664024,27869.200000000001,43908.39,1.3182270002399998E-2,2.0849082778337573,null,0,0,null,1.4103469900000009E-2]
[1294,0.41674169999999999,0.35365679999999999,553.96889999999996,23302.25,36128.050000000003,23302.25,36128.050000000003,1.6013999999999997E-2,1.4103469900000009E-2,1.5328432922859028,{"$f":"0","v":0},0,2.0849014261203531,null,0,{"$f":"0","v":0},0,1.3182270002399998E-2,null,1291,0.59385129999999997,0.40614869999999997,1.6013999999999997E-2,0.35365679999999999,0,1.003612481123119E-2,63368.54,639.36980000000005,1358.874,1.5836667475796742,26727.46,41963.3,1.3182270002399998E-2,2.0849052805901489,null,0,0,null,1.4103469900000009E-2]
[1295,0.4202727,0.35365679999999999,525.50189999999998,22160.51,34182.97,22160.51,34182.97,1.6013999999999997E-2,1.4103469900000009E-2,1.5122307597746083,{"$f":"0","v":0},0,2.0848980426899817,null,0,{"$f":"0","v":0},0,1.3182270002399998E-2,null,1292,0.59032030000000002,0.40967969999999998,1.6013999999999997E-2,0.35365679999999999,0,1.0000416316646348E-2,60777.89,610.90279999999996,1288.9870000000001,1.5683040193409932,25585.72,40018.22,1.3182270002399998E-2,2.0849042597394587,null,0,0,null,1.4103469900000009E-2]
[1296,0.42380370000000001,0.35365679999999999,497.03489999999999,21018.77,32237.88,21018.77,32237.88,1.6013999999999997E-2,1.4103469900000009E-2,1.4892591294897,{"$f":"0","v":0},0,2.0848964418328495,null,0,{"$f":"0","v":0},0,1.3182270002399998E-2,null,1293,0.58678929999999996,0.41321069999999999,1.6013999999999997E-2,0.35365679999999999,0,9.9648348727518384E-3,58187.23,582.43589999999995,1219.0999999999999,1.5514392012923657,24443.98,38073.14,1.3182270002399998E-2,2.084903148224091,null,0,0,null,1.4103469900000009E-2]
[1297,0.42779630000000002,0.35365679999999999,478.48180000000002,20253.37,31000.6,20253.37,31000.6,1.6013999999999997E-2,1.4103469900000009E-2,1.4814430942479597,{"$f":"0","v":0},0,2.0848960920613955,null,0,{"$f":"0","v":0},0,1.3182270002399998E-2,null,1294,0.58325830000000001,0.41674169999999999,1.6013999999999997E-2,0.35365679999999999,0,9.9293800275017767E-3,55596.57,553.96889999999996,1149.2139999999999,1.5328432922859028,23302.25,36128.050000000003,1.3182270002399998E-2,2.0849014261203531,null,0,0,null,1.4103469900000009E-2]
[1298,0.43178899999999998,0.35365679999999999,459.92880000000002,19487.96,29763.31,19487.96,29763.31,1.6013999999999997E-2,1.4103469900000009E-2,1.4729964724974822,{"$f":"0","v":0},0,2.0848934450809518,null,0,{"$f":"0","v":0},0,1.3182270002399998E-2,null,1295,0.57972729999999995,0.4202727,1.6013999999999997E-2,0.35365679999999999,0,9.8940513304586596E-3,53005.91,525.50189999999998,1079.327,1.5122307597746083,22160.51,34182.97,1.3182270002399998E-2,2.0848980426899817,null,0,0,null,1.4103469900000009E-2]
[1299,0.43578159999999999,0.35365679999999999,441.37580000000003,18722.55,28526.02,18722.55,28526.02,1.6013999999999997E-2,1.4103469900000009E-2,1.4638397521265705,{"$f":"0","v":0},0,2.0848923476127279,null,0,{"$f":"0","v":0},0,1.3182270002399998E-2,null,1296,0.57619629999999999,0.42380370000000001,1.6013999999999997E-2,0.35365679999999999,0,9.8588483327876411E-3,50415.26,497.03489999999999,1009.441,1.4892591294897,21018.77,32237.88,1.3182270002399998E-2,2.0848964418328495,null,0,0,null,1.4103469900000009E-2]
[1300,0.4397742,0.35365679999999999,422.8227,17957.14,27288.73,17957.14,27288.73,1.6013999999999997E-2,1.4103469900000009E-2,1.45388016655681,{"$f":"0","v":0},0,2.084891810934471,null,0,{"$f":"0","v":0},0,1.3182270002399998E-2,null,1297,0.57220369999999998,0.42779630000000002,1.6013999999999997E-2,0.35365679999999999,0,9.8237705872508217E-3,48634.74,478.48180000000002,968.02120000000002,1.4814430942479597,20253.37,31000.6,1.3182270002399998E-2,2.0848960920613955,null,0,0,null,1.4103469900000009E-2]
[1301,0.44376680000000002,0.35365679999999999,404.2697,17191.73,26051.439999999999,17191.73,26051.439999999999,1.6013999999999997E-2,1.4103469900000009E-2,1.4430056943833947,{"$f":"0","v":0},0,2.084888703079089,null,0,{"$f":"0","v":0},0,1.3182270002399998E-2,null,1298,0.56821109999999997,0.43178899999999998,1.6013999999999997E-2,0.35365679999999999,0,9.7888176482015775E-3,46854.23,459.92880000000002,926.60159999999996,1.4729964724974822,19487.96,29763.31,1.3182270002399998E-2,2.0848934450809518,null,0,0,null,1.4103469900000009E-2]
[1302,0.44775939999999997,0.35365679999999999,385.7167,16426.32,24814.15,16426.32,24814.15,1.6013999999999997E-2,1.4103469900000009E-2,1.4310850964797051,{"$f":"0","v":0},0,2.0848871925637074,null,0,{"$f":"0","v":0},0,1.3182270002399998E-2,null,1299,0.56421840000000001,0.43578159999999999,1.6013999999999997E-2,0.35365679999999999,0,9.7539890715788915E-3,45073.71,441.37580000000003,885.18200000000002,1.4638397521265705,18722.55,28526.02,1.3182270002399998E-2,2.0848923476127279,null,0,0,null,1.4103469900000009E-2]
[1303,0.45175209999999999,0.35365679999999999,367.16359999999997,15660.91,23576.86,15660.91,23576.86,1.6013999999999997E-2,1.4103469900000009E-2,1.4179603225011048,{"$f":"0","v":0},0,2.0848845662040469,null,0,{"$f":"0","v":0},0,1.3182270002399998E-2,null,1300,0.5602258,0.4397742,1.6013999999999997E-2,0.35365679999999999,0,9.7192844149017136E-3,43293.2,422.8227,843.76250000000005,1.45388016655681,17957.14,27288.73,1.3182270002399998E-2,2.084891810934471,null,0,0,null,1.4103469900000009E-2]
[1304,0.4557447,0.35365679999999999,348.61059999999998,14895.5,22339.57,14895.5,22339.57,1.6013999999999997E-2,1.4103469900000009E-2,1.4034382727700576,{"$f":"0","v":0},0,2.0848824659959599,null,0,{"$f":"0","v":0},0,1.3182270002399998E-2,null,1301,0.55623319999999998,0.44376680000000002,1.6013999999999997E-2,0.35365679999999999,0,9.6847032372633403E-3,41512.69,404.2697,802.34289999999999,1.4430056943833947,17191.73,26051.439999999999,1.3182270002399998E-2,2.084888703079089,null,0,0,null,1.4103469900000009E-2]
[1305,0.45973730000000002,0.35365679999999999,330.05759999999998,14130.09,21102.29,14130.09,21102.29,1.6013999999999997E-2,1.4103469900000009E-2,1.3872833105494315,{"$f":"0","v":0},0,2.0848798812402207,null,0,{"$f":"0","v":0},0,1.3182270002399998E-2,null,1302,0.55224059999999997,0.44775939999999997,1.6013999999999997E-2,0.35365679999999999,0,9.6502450993258167E-3,39732.17,385.7167,760.92330000000004,1.4310850964797051,16426.32,24814.15,1.3182270002399998E-2,2.0848871925637074,null,0,0,null,1.4103469900000009E-2]
[1306,0.46372989999999997,0.35365679999999999,311.50450000000001,13364.68,19865,13364.68,19865,1.6013999999999997E-2,1.4103469900000009E-2,1.3692046048558955,{"$f":"0","v":0},0,2.084877368128168,null,0,{"$f":"0","v":0},0,1.3182270002399998E-2,null,1303,0.54824790000000001,0.45175209999999999,1.6013999999999997E-2,0.35365679999999999,0,9.615909563314342E-3,37951.660000000003,367.16359999999997,719.50369999999998,1.4179603225011048,15660.91,23576.86,1.3182270002399998E-2,2.0848845662040469,null,0,0,null,1.4103469900000009E-2]
[1307,0.46772259999999999,0.35365679999999999,292.95150000000001,12599.27,18627.71,12599.27,18627.71,1.6013999999999997E-2,1.4103469900000009E-2,1.3488353447584327,{"$f":"0","v":0},0,2.084873751001652,null,0,{"$f":"0","v":0},0,1.3182270002399998E-2,null,1304,0.5442553,0.4557447,1.6013999999999997E-2,0.35365679999999999,0,9.5816961930117253E-3,36171.14,348.61059999999998,678.08420000000001,1.4034382727700576,14895.5,22339.57,1.3182270002399998E-2,2.0848824659959599,null,0,0,null,1.4103469900000009E-2]
[1308,0.4717152,0.35365679999999999,274.39839999999998,11833.86,17390.419999999998,11833.86,17390.419999999998,1.6013999999999997E-2,1.4103469900000009E-2,1.3257126620757749,{"$f":"0","v":0},0,2.0848706663283418,null,0,{"$f":"0","v":0},0,1.3182270002399998E-2,null,1305,0.54026269999999998,0.45973730000000002,1.6013999999999997E-2,0.35365679999999999,0,9.547604553752826E-3,34390.629999999997,330.05759999999998,636.66459999999995,1.3872833105494315,14130.09,21102.29,1.3182270002399998E-2,2.0848798812402207,null,0,0,null,1.4103469900000009E-2]
[1309,0.47620590000000002,0.35365679999999999,263.10610000000003,11355.68,16656.45,11355.68,16656.45,1.6013999999999997E-2,1.4103469900000009E-2,1.3189488796851663,{"$f":"0","v":0},0,2.0848680856619386,null,0,{"$f":"0","v":0},0,1.3182270002399998E-2,null,1306,0.53627000000000002,0.46372989999999997,1.6013999999999997E-2,0.35365679999999999,0,9.5136342124190511E-3,32610.12,311.50450000000001,595.245,1.3692046048558955,13364.68,19865,1.3182270002399998E-2,2.084877368128168,null,0,0,null,1.4103469900000009E-2]
[1310,0.48069659999999997,0.35365679999999999,251.81389999999999,10877.5,15922.48,10877.5,15922.48,1.6013999999999997E-2,1.4103469900000009E-2,1.3115781303838538,{"$f":"0","v":0},0,2.0848656972708701,null,0,{"$f":"0","v":0},0,1.3182270002399998E-2,null,1307,0.53227740000000001,0.46772259999999999,1.6013999999999997E-2,0.35365679999999999,0,9.4797847374328333E-3,30829.599999999999,292.95150000000001,553.82539999999995,1.3488353447584327,12599.27,18627.71,1.3182270002399998E-2,2.084873751001652,null,0,0,null,1.4103469900000009E-2]
[1311,0.48518729999999999,0.35365679999999999,240.52160000000001,10399.31,15188.51,10399.31,15188.51,1.6013999999999997E-2,1.4103469900000009E-2,1.3035156371264232,{"$f":"0","v":0},0,2.0848627613930728,null,0,{"$f":"0","v":0},0,1.3182270002399998E-2,null,1308,0.5282848,0.4717152,1.6013999999999997E-2,0.35365679999999999,0,9.4460556987521586E-3,29049.09,274.39839999999998,512.40589999999997,1.3257126620757749,11833.86,17390.419999999998,1.3182270002399998E-2,2.0848706663283418,null,0,0,null,1.4103469900000009E-2]
[1312,0.489678,0.35365679999999999,229.22929999999999,9921.1270000000004,14454.54,9921.1270000000004,14454.54,1.6013999999999997E-2,1.4103469900000009E-2,1.2946592305899234,{"$f":"0","v":0},0,2.0848606464790462,null,0,{"$f":"0","v":0},0,1.3182270002399998E-2,null,1309,0.52379410000000004,0.47620590000000002,1.6013999999999997E-2,0.35365679999999999,0,9.4124466678651049E-3,27907.18,263.10610000000003,489.53930000000003,1.3189488796851663,11355.68,16656.45,1.3182270002399998E-2,2.0848680856619386,null,0,0,null,1.4103469900000009E-2]
[1313,0.49416870000000002,0.35365679999999999,217.93700000000001,9442.9429999999993,13720.57,9442.9429999999993,13720.57,1.6013999999999997E-2,1.4103469900000009E-2,1.2848850432311476,{"$f":"0","v":0},0,2.0848581160326436,null,0,{"$f":"0","v":0},0,1.3182270002399998E-2,null,1310,0.51930339999999997,0.48069659999999997,1.6013999999999997E-2,0.35365679999999999,0,9.378957217784388E-3,26765.27,251.81389999999999,466.6728,1.3115781303838538,10877.5,15922.48,1.3182270002399998E-2,2.0848656972708701,null,0,0,null,1.4103469900000009E-2]
[1314,0.49865939999999997,0.35365679999999999,206.6447,8964.759,12986.6,8964.759,12986.6,1.6013999999999997E-2,1.4103469900000009E-2,1.2740421320588751,{"$f":"0","v":0},0,2.0848545379392545,null,0,{"$f":"0","v":0},0,1.3182270002399998E-2,null,1311,0.51481270000000001,0.48518729999999999,1.6013999999999997E-2,0.35365679999999999,0,9.3455869230419444E-3,25623.360000000001,240.52160000000001,443.80619999999999,1.3035156371264232,10399.31,15188.51,1.3182270002399998E-2,2.0848627613930728,null,0,0,null,1.4103469900000009E-2]
[1315,0.50315010000000004,0.35365679999999999,195.35239999999999,8486.5740000000005,12252.63,8486.5740000000005,12252.63,1.6013999999999997E-2,1.4103469900000009E-2,1.2619461888703016,{"$f":"0","v":0},0,2.0848506679867289,null,0,{"$f":"0","v":0},0,1.3182270002399998E-2,null,1312,0.51032200000000005,0.489678,1.6013999999999997E-2,0.35365679999999999,0,9.3123353596835309E-3,24481.45,229.22929999999999,420.93970000000002,1.2946592305899234,9921.1270000000004,14454.54,1.3182270002399998E-2,2.0848606464790462,null,0,0,null,1.4103469900000009E-2]
[1316,0.5076408,0.35365679999999999,184.06010000000001,8008.39,11518.66,8008.39,11518.66,1.6013999999999997E-2,1.4103469900000009E-2,1.2483655021738369,{"$f":"0","v":0},0,2.0848469297245242,null,0,{"$f":"0","v":0},0,1.3182270002399998E-2,null,1313,0.50583129999999998,0.49416870000000002,1.6013999999999997E-2,0.35365679999999999,0,9.2792021052633226E-3,23339.55,217.93700000000001,398.07319999999999,1.2848850432311476,9442.9429999999993,13720.57,1.3182270002399998E-2,2.0848581160326436,null,0,0,null,1.4103469900000009E-2]
[1317,0.51213149999999996,0.35365679999999999,172.7679,7530.2060000000001,10784.69,7530.2060000000001,10784.69,1.6013999999999997E-2,1.4103469900000009E-2,1.2330090688142881,{"$f":"0","v":0},0,2.0848423782184859,null,0,{"$f":"0","v":0},0,1.3182270002399998E-2,null,1314,0.50134060000000003,0.49865939999999997,1.6013999999999997E-2,0.35365679999999999,0,9.246186738838558E-3,22197.64,206.6447,375.20659999999998,1.2740421320588751,8964.759,12986.6,1.3182270002399998E-2,2.0848545379392545,null,0,0,null,1.4103469900000009E-2]
[1318,0.51662220000000003,0.35365679999999999,161.47559999999999,7052.0219999999999,10050.719999999999,7052.0219999999999,10050.719999999999,1.6013999999999997E-2,1.4103469900000009E-2,1.215505314734858,{"$f":"0","v":0},0,2.0848379072986201,null,0,{"$f":"0","v":0},0,1.3182270002399998E-2,null,1315,0.49684990000000001,0.50315010000000004,1.6013999999999997E-2,0.35365679999999999,0,9.2132888409641941E-3,21055.73,195.35239999999999,352.34010000000001,1.2619461888703016,8486.5740000000005,12252.63,1.3182270002399998E-2,2.0848506679867289,null,0,0,null,1.4103469900000009E-2]
[1319,0.52111289999999999,0.35365679999999999,150.1833,6573.8370000000004,9316.7510000000002,6573.8370000000004,9316.7510000000002,1.6013999999999997E-2,1.4103469900000009E-2,1.1953700078504066,{"$f":"0","v":0},0,2.0848338596299429,null,0,{"$f":"0","v":0},0,1.3182270002399998E-2,null,1316,0.4923592,0.5076408,1.6013999999999997E-2,0.35365679999999999,0,9.1805079936875655E-3,19913.82,184.06010000000001,329.4735,1.2483655021738369,8008.39,11518.66,1.3182270002399998E-2,2.0848469297245242,null,0,0,null,1.4103469900000009E-2]
[1320,0.52560359999999995,0.35365679999999999,138.89099999999999,6095.6530000000002,8582.7810000000009,6095.6530000000002,8582.7810000000009,1.6013999999999997E-2,1.4103469900000009E-2,1.1719605661993939,{"$f":"0","v":0},0,2.0848284941866577,null,0,{"$f":"0","v":0},0,1.3182270002399998E-2,null,1317,0.48786849999999998,0.51213149999999996,1.6013999999999997E-2,0.35365679999999999,0,9.1478437805430825E-3,18771.91,172.7679,306.60700000000003,1.2330090688142881,7530.2060000000001,10784.69,1.3182270002399998E-2,2.0848423782184859,null,0,0,null,1.4103469900000009E-2]
[1321,0.53062880000000001,0.35365679999999999,132.57759999999999,5821.9660000000003,8183.6120000000001,5821.9660000000003,8183.6120000000001,1.6013999999999997E-2,1.4103469900000009E-2,1.1662621237172295,{"$f":"0","v":0},0,2.0848241590214065,null,0,{"$f":"0","v":0},0,1.3182270002399998E-2,null,1318,0.48337780000000002,0.51662220000000003,1.6013999999999997E-2,0.35365679999999999,0,9.1152957865469394E-3,17630.009999999998,161.47559999999999,283.74040000000002,1.215505314734858,7052.0219999999999,10050.719999999999,1.3182270002399998E-2,2.0848379072986201,null,0,0,null,1.4103469900000009E-2]
[1322,0.53565410000000002,0.35365679999999999,126.26430000000001,5548.2780000000002,7784.4440000000004,5548.2780000000002,7784.4440000000004,1.6013999999999997E-2,1.4103469900000009E-2,1.1599932641292905,{"$f":"0","v":0},0,2.0848201229585301,null,0,{"$f":"0","v":0},0,1.3182270002399998E-2,null,1319,0.47888710000000001,0.52111289999999999,1.6013999999999997E-2,0.35365679999999999,0,9.0828635981918381E-3,16488.099999999999,150.1833,260.87389999999999,1.1953700078504066,6573.8370000000004,9316.7510000000002,1.3182270002399998E-2,2.0848338596299429,null,0,0,null,1.4103469900000009E-2]
[1323,0.54067929999999997,0.35365679999999999,119.9509,5274.59,7385.2749999999996,5274.59,7385.2749999999996,1.6013999999999997E-2,1.4103469900000009E-2,1.1530650944122414,{"$f":"0","v":0},0,2.0848158038557325,null,0,{"$f":"0","v":0},0,1.3182270002399998E-2,null,1320,0.4743964,0.52560359999999995,1.6013999999999997E-2,0.35365679999999999,0,9.0505468034417433E-3,15346.19,138.89099999999999,238.00739999999999,1.1719605661993939,6095.6530000000002,8582.7810000000009,1.3182270002399998E-2,2.0848284941866577,null,0,0,null,1.4103469900000009E-2]
[1324,0.54570450000000004,0.35365679999999999,113.6375,5000.9030000000002,6986.1059999999998,5000.9030000000002,6986.1059999999998,1.6013999999999997E-2,1.4103469900000009E-2,1.1453679829868366,{"$f":"0","v":0},0,2.0848111708576886,null,0,{"$f":"0","v":0},0,1.3182270002399998E-2,null,1321,0.46937119999999999,0.53062880000000001,1.6013999999999997E-2,0.35365679999999999,0,9.0183449917266394E-3,14674.02,132.57759999999999,226.4331,1.1662621237172295,5821.9660000000003,8183.6120000000001,1.3182270002399998E-2,2.0848241590214065,null,0,0,null,1.4103469900000009E-2]
[1325,0.55072969999999999,0.35365679999999999,107.3242,4727.2150000000001,6586.9380000000001,4727.2150000000001,6586.9380000000001,1.6013999999999997E-2,1.4103469900000009E-2,1.1367628021763343,{"$f":"0","v":0},0,2.0848072617348428,null,0,{"$f":"0","v":0},0,1.3182270002399998E-2,null,1322,0.46434589999999998,0.53565410000000002,1.6013999999999997E-2,0.35365679999999999,0,8.9862577539373129E-3,14001.86,126.26430000000001,214.85890000000001,1.1599932641292905,5548.2780000000002,7784.4440000000004,1.3182270002399998E-2,2.0848201229585301,null,0,0,null,1.4103469900000009E-2]
[1326,0.55575490000000005,0.35365679999999999,101.0108,4453.527,6187.7690000000002,4453.527,6187.7690000000002,1.6013999999999997E-2,1.4103469900000009E-2,1.1270845955745985,{"$f":"0","v":0},0,2.084801930906226,null,0,{"$f":"0","v":0},0,1.3182270002399998E-2,null,1323,0.45932070000000003,0.54067929999999997,1.6013999999999997E-2,0.35365679999999999,0,8.9542846824201706E-3,13329.69,119.9509,203.28460000000001,1.1530650944122414,5274.59,7385.2749999999996,1.3182270002399998E-2,2.0848158038557325,null,0,0,null,1.4103469900000009E-2]
[1327,0.56078019999999995,0.35365679999999999,94.697419999999994,4179.84,5788.6,4179.84,5788.6,1.6013999999999997E-2,1.4103469900000009E-2,1.1161145062522997,{"$f":"0","v":0},0,2.0847961652517424,null,0,{"$f":"0","v":0},0,1.3182270002399998E-2,null,1324,0.45429550000000002,0.54570450000000004,1.6013999999999997E-2,0.35365679999999999,0,8.9224253709720407E-3,12657.52,113.6375,191.71039999999999,1.1453679829868366,5000.9030000000002,6986.1059999999998,1.3182270002399998E-2,2.0848111708576886,null,0,0,null,1.4103469900000009E-2]
[1328,0.56580540000000001,0.35365679999999999,88.384050000000002,3906.152,5389.4309999999996,3906.152,5389.4309999999996,1.6013999999999997E-2,1.4103469900000009E-2,1.1035770170070278,{"$f":"0","v":0},0,2.0847899093074287,null,0,{"$f":"0","v":0},0,1.3182270002399998E-2,null,1325,0.44927030000000001,0.55072969999999999,1.6013999999999997E-2,0.35365679999999999,0,8.8906794148350191E-3,11985.35,107.3242,180.1361,1.1367628021763343,4727.2150000000001,6586.9380000000001,1.3182270002399998E-2,2.0848072617348428,null,0,0,null,1.4103469900000009E-2]
[1329,0.57083059999999997,0.35365679999999999,82.070679999999996,3632.4639999999999,4990.2629999999999,3632.4639999999999,4990.2629999999999,1.6013999999999997E-2,1.4103469900000009E-2,1.0891118281624248,{"$f":"0","v":0},0,2.0847823206643836,null,0,{"$f":"0","v":0},0,1.3182270002399998E-2,null,1326,0.4442451,0.55575490000000005,1.6013999999999997E-2,0.35365679999999999,0,8.8590464106913357E-3,11313.18,101.0108,168.56190000000001,1.1270845955745985,4453.527,6187.7690000000002,1.3182270002399998E-2,2.084801930906226,null,0,0,null,1.4103469900000009E-2]
[1330,0.57585589999999998,0.35365679999999999,75.757310000000004,3358.777,4591.0940000000001,3358.777,4591.0940000000001,1.6013999999999997E-2,1.4103469900000009E-2,1.072234354898117,{"$f":"0","v":0},0,2.0847769757767871,null,0,{"$f":"0","v":0},0,1.3182270002399998E-2,null,1327,0.43921979999999999,0.56078019999999995,1.6013999999999997E-2,0.35365679999999999,0,8.8275259566582189E-3,10641.02,94.697419999999994,156.98759999999999,1.1161145062522997,4179.84,5788.6,1.3182270002399998E-2,2.0847961652517424,null,0,0,null,1.4103469900000009E-2]
[1331,0.58088110000000004,0.35365679999999999,69.443950000000001,3085.0889999999999,4191.9250000000002,3085.0889999999999,4191.9250000000002,1.6013999999999997E-2,1.4103469900000009E-2,1.0522893222999747,{"$f":"0","v":0},0,2.0847688699976175,null,0,{"$f":"0","v":0},0,1.3182270002399998E-2,null,1328,0.43419459999999999,0.56580540000000001,1.6013999999999997E-2,0.35365679999999999,0,8.7961176522827964E-3,9968.8490000000002,88.384050000000002,145.41329999999999,1.1035770170070278,3906.152,5389.4309999999996,1.3182270002399998E-2,2.0847899093074287,null,0,0,null,1.4103469900000009E-2]
[1332,0.58590629999999999,0.35365679999999999,63.130580000000002,2811.4009999999998,3792.7559999999999,2811.4009999999998,3792.7559999999999,1.6013999999999997E-2,1.4103469900000009E-2,1.0283545496757145,{"$f":"0","v":0},0,2.0847590371527227,null,0,{"$f":"0","v":0},0,1.3182270002399998E-2,null,1329,0.42916939999999998,0.57083059999999997,1.6013999999999997E-2,0.35365679999999999,0,8.764821098537004E-3,9296.6810000000005,82.070679999999996,133.8391,1.0891118281624248,3632.4639999999999,4990.2629999999999,1.3182270002399998E-2,2.0847823206643836,null,0,0,null,1.4103469900000009E-2]
[1333,0.59150239999999998,0.35365679999999999,59.956980000000001,2671.0450000000001,3598.1010000000001,2671.0450000000001,3598.1010000000001,1.6013999999999997E-2,1.4103469900000009E-2,1.0237135442779137,{"$f":"0","v":0},0,2.0847525121308808,null,0,{"$f":"0","v":0},0,1.3182270002399998E-2,null,1330,0.42414410000000002,0.57585589999999998,1.6013999999999997E-2,0.35365679999999999,0,8.7336358978125205E-3,8624.5139999999992,75.757310000000004,122.26479999999999,1.072234354898117,3358.777,4591.0940000000001,1.3182270002399998E-2,2.0847769757767871,null,0,0,null,1.4103469900000009E-2]
[1334,0.59709849999999998,0.35365679999999999,56.783380000000001,2530.6880000000001,3403.4459999999999,2530.6880000000001,3403.4459999999999,1.6013999999999997E-2,1.4103469900000009E-2,1.0185537710740946,{"$f":"0","v":0},0,2.0847480592141898,null,0,{"$f":"0","v":0},0,1.3182270002399998E-2,null,1331,0.41911890000000002,0.58088110000000004,1.6013999999999997E-2,0.35365679999999999,0,8.7025616539157108E-3,7952.3459999999995,69.443950000000001,110.6906,1.0522893222999747,3085.0889999999999,4191.9250000000002,1.3182270002399998E-2,2.0847688699976175,null,0,0,null,1.4103469900000009E-2]
[1335,0.60269459999999997,0.35365679999999999,53.609780000000001,2390.3319999999999,3208.7910000000002,2390.3319999999999,3208.7910000000002,1.6013999999999997E-2,1.4103469900000009E-2,1.0127830997752025,{"$f":"0","v":0},0,2.0847406916760218,null,0,{"$f":"0","v":0},0,1.3182270002399998E-2,null,1332,0.41409370000000001,0.58590629999999999,1.6013999999999997E-2,0.35365679999999999,0,8.6715979720625967E-3,7280.1779999999999,63.130580000000002,99.116349999999997,1.0283545496757145,2811.4009999999998,3792.7559999999999,1.3182270002399998E-2,2.0847590371527227,null,0,0,null,1.4103469900000009E-2]
[1336,0.60829080000000002,0.35365679999999999,50.436190000000003,2249.9749999999999,3014.1350000000002,2249.9749999999999,3014.1350000000002,1.6013999999999997E-2,1.4103469900000009E-2,1.0062859046913202,{"$f":"0","v":0},0,2.0847338674549523,null,0,{"$f":"0","v":0},0,1.3182270002399998E-2,null,1333,0.40849760000000002,0.59150239999999998,1.6013999999999997E-2,0.35365679999999999,0,8.6407444588738388E-3,6924.7190000000001,59.956980000000001,93.855469999999997,1.0237135442779137,2671.0450000000001,3598.1010000000001,1.3182270002399998E-2,2.0847525121308808,null,0,0,null,1.4103469900000009E-2]
[1337,0.61388690000000001,0.35365679999999999,47.262590000000003,2109.6190000000001,2819.48,2109.6190000000001,2819.48,1.6013999999999997E-2,1.4103469900000009E-2,0.9989162764179168,{"$f":"0","v":0},0,2.0847249032931958,null,0,{"$f":"0","v":0},0,1.3182270002399998E-2,null,1334,0.40290150000000002,0.59709849999999998,1.6013999999999997E-2,0.35365679999999999,0,8.6100007223697452E-3,6569.2610000000004,56.783380000000001,88.594589999999997,1.0185537710740946,2530.6880000000001,3403.4459999999999,1.3182270002399998E-2,2.0847480592141898,null,0,0,null,1.4103469900000009E-2]
[1338,0.61948300000000001,0.35365679999999999,44.088990000000003,1969.2619999999999,2624.8249999999998,1969.2619999999999,2624.8249999999998,1.6013999999999997E-2,1.4103469900000009E-2,0.99048591836646749,{"$f":"0","v":0},0,2.0847169255573128,null,0,{"$f":"0","v":0},0,1.3182270002399998E-2,null,1335,0.39730539999999998,0.60269459999999997,1.6013999999999997E-2,0.35365679999999999,0,8.579366371965276E-3,6213.8019999999997,53.609780000000001,83.333709999999996,1.0127830997752025,2390.3319999999999,3208.7910000000002,1.3182270002399998E-2,2.0847406916760218,null,0,0,null,1.4103469900000009E-2]
[1339,0.62507919999999995,0.35365679999999999,40.915390000000002,1828.9059999999999,2430.1689999999999,1828.9059999999999,2430.1689999999999,1.6013999999999997E-2,1.4103469900000009E-2,0.98074775978753548,{"$f":"0","v":0},0,2.0847079944040292,null,0,{"$f":"0","v":0},0,1.3182270002399998E-2,null,1336,0.39170919999999998,0.60829080000000002,1.6013999999999997E-2,0.35365679999999999,0,8.5488410184651042E-3,5858.3440000000001,50.436190000000003,78.072829999999996,1.0062859046913202,2249.9749999999999,3014.1350000000002,1.3182270002399998E-2,2.0847338674549523,null,0,0,null,1.4103469900000009E-2]
[1340,0.63067530000000005,0.35365679999999999,37.741790000000002,1688.549,2235.5140000000001,1688.549,2235.5140000000001,1.6013999999999997E-2,1.4103469900000009E-2,0.96937189297769566,{"$f":"0","v":0},0,2.0846983037757445,null,0,{"$f":"0","v":0},0,1.3182270002399998E-2,null,1337,0.38611309999999999,0.61388690000000001,1.6013999999999997E-2,0.35365679999999999,0,8.518424274058644E-3,5502.8850000000002,47.262590000000003,72.811940000000007,0.9989162764179168,2109.6190000000001,2819.48,1.3182270002399998E-2,2.0847249032931958,null,0,0,null,1.4103469900000009E-2]
[1341,0.63627140000000004,0.35365679999999999,34.568199999999997,1548.193,2040.8589999999999,1548.193,2040.8589999999999,1.6013999999999997E-2,1.4103469900000009E-2,0.95590682573386332,{"$f":"0","v":0},0,2.0846874229323795,null,0,{"$f":"0","v":0},0,1.3182270002399998E-2,null,1338,0.38051699999999999,0.61948300000000001,1.6013999999999997E-2,0.35365679999999999,0,8.4881157523151521E-3,5147.4269999999997,44.088990000000003,67.551060000000007,0.99048591836646749,1969.2619999999999,2624.8249999999998,1.3182270002399998E-2,2.0847169255573128,null,0,0,null,1.4103469900000009E-2]
[1342,0.64186750000000004,0.35365679999999999,31.394600000000001,1407.836,1846.204,1407.836,1846.204,1.6013999999999997E-2,1.4103469900000009E-2,0.93972025974743001,{"$f":"0","v":0},0,2.0846762205809668,null,0,{"$f":"0","v":0},0,1.3182270002399998E-2,null,1339,0.3749208,0.62507919999999995,1.6013999999999997E-2,0.35365679999999999,0,8.4579150681787941E-3,4791.9679999999998,40.915390000000002,62.290179999999999,0.98074775978753548,1828.9059999999999,2430.1689999999999,1.3182270002399998E-2,2.0847079944040292,null,0,0,null,1.4103469900000009E-2]
[1343,0.64746369999999998,0.35365679999999999,28.221,1267.48,1651.548,1267.48,1651.548,1.6013999999999997E-2,1.4103469900000009E-2,0.91989245597250269,{"$f":"0","v":0},0,2.0846635646584524,null,0,{"$f":"0","v":0},0,1.3182270002399998E-2,null,1340,0.36932470000000001,0.63067530000000005,1.6013999999999997E-2,0.35365679999999999,0,8.4278218379637681E-3,4436.51,37.741790000000002,57.029299999999999,0.96937189297769566,1688.549,2235.5140000000001,1.3182270002399998E-2,2.0846983037757445,null,0,0,null,1.4103469900000009E-2]
[1344,{"$f":"W1349","v":0.65305979999999997},{"$f":"Y1349","v":0.35365679999999999},{"$f":"AC1349","v":25.047409999999999},{"$f":"AF1349","v":1127.123},{"$f":"AG1349","v":1456.893},{"$f":"E1346","v":1127.123},{"$f":"F1346","v":1456.893},{"$f":"X1349","v":1.6013999999999997E-2},{"$f":"AN1349","v":1.4103469900000009E-2},{"$f":"AE1349","v":0.89503996288105914},{"$f":"0","v":0},{"$f":"AL1349","v":0},{"$f":"AI1349","v":2.0846481642818824},null,0,{"$f":"0","v":0},{"$f":"Z1349","v":0},{"$f":"AH1349","v":1.3182270002399998E-2},null,1341,0.36372860000000001,0.63627140000000004,1.6013999999999997E-2,0.35365679999999999,0,8.3978356793494215E-3,4081.0509999999999,34.568199999999997,51.768419999999999,0.95590682573386332,1548.193,2040.8589999999999,1.3182270002399998E-2,2.0846874229323795,null,0,0,null,1.4103469900000009E-2]
[1345,0.6592633,0.35365679999999999,23.653960000000001,1064.5450000000001,1374.31,1064.5450000000001,1374.31,1.6013999999999997E-2,1.4103469900000009E-2,0.89143375288253346,{"$f":"0","v":0},0,2.0846399073080231,null,0,{"$f":"0","v":0},0,1.3182270002399998E-2,null,1342,0.35813250000000002,0.64186750000000004,1.6013999999999997E-2,0.35365679999999999,0,8.3679562113754043E-3,3725.5929999999998,31.394600000000001,46.507550000000002,0.93972025974743001,1407.836,1846.204,1.3182270002399998E-2,2.0846762205809668,null,0,0,null,1.4103469900000009E-2]
[1346,0.66546689999999997,0.35365679999999999,22.26052,1001.967,1291.7260000000001,1001.967,1291.7260000000001,1.6013999999999997E-2,1.4103469900000009E-2,0.88737497297158086,{"$f":"0","v":0},0,2.0846295451271217,null,0,{"$f":"0","v":0},0,1.3182270002399998E-2,null,1343,0.35253630000000002,0.64746369999999998,1.6013999999999997E-2,0.35365679999999999,0,8.3381830544368117E-3,3370.134,28.221,41.246659999999999,0.91989245597250269,1267.48,1651.548,1.3182270002399998E-2,2.0846635646584524,null,0,0,null,1.4103469900000009E-2]
[1347,0.6716704,0.35365679999999999,20.867080000000001,939.38890000000004,1209.1420000000001,939.38890000000004,1209.1420000000001,1.6013999999999997E-2,1.4103469900000009E-2,0.88277460638159877,{"$f":"0","v":0},0,2.084618456266901,null,0,{"$f":"0","v":0},0,1.3182270002399998E-2,null,1344,0.34694019999999998,0.65305979999999997,1.6013999999999997E-2,0.35365679999999999,0,8.3085158302793755E-3,3014.6759999999999,25.047409999999999,35.985779999999998,0.89503996288105914,1127.123,1456.893,1.3182270002399998E-2,2.0846481642818824,null,0,0,null,1.4103469900000009E-2]
[1348,0.67787399999999998,0.35365679999999999,19.47364,876.81079999999997,1126.559,876.81079999999997,1126.559,1.6013999999999997E-2,1.4103469900000009E-2,0.87751587958560051,{"$f":"0","v":0},0,2.0846061260414577,null,0,{"$f":"0","v":0},0,1.3182270002399998E-2,null,1345,0.3407367,0.6592633,1.6013999999999997E-2,0.35365679999999999,0,8.2789541619946623E-3,2850.6120000000001,23.653960000000001,33.898499999999999,0.89143375288253346,1064.5450000000001,1374.31,1.3182270002399998E-2,2.0846399073080231,null,0,0,null,1.4103469900000009E-2]
[1349,0.68407759999999995,0.35365679999999999,18.080190000000002,814.23270000000002,1043.9749999999999,814.23270000000002,1043.9749999999999,1.6013999999999997E-2,1.4103469900000009E-2,0.87144680172055711,{"$f":"0","v":0},0,2.0845933177993605,null,0,{"$f":"0","v":0},0,1.3182270002399998E-2,null,1346,0.33453310000000003,0.66546689999999997,1.6013999999999997E-2,0.35365679999999999,0,8.2494976740152687E-3,2686.549,22.26052,31.811209999999999,0.88737497297158086,1001.967,1291.7260000000001,1.3182270002399998E-2,2.0846295451271217,null,0,0,null,1.4103469900000009E-2]
[1350,0.69028109999999998,0.35365679999999999,16.68675,751.65470000000005,961.39170000000001,751.65470000000005,961.39170000000001,1.6013999999999997E-2,1.4103469900000009E-2,0.86436386654081832,{"$f":"0","v":0},0,2.0845795057478971,null,0,{"$f":"0","v":0},0,1.3182270002399998E-2,null,1347,0.3283296,0.6716704,1.6013999999999997E-2,0.35365679999999999,0,8.2201459921100572E-3,2522.4850000000001,20.867080000000001,29.723929999999999,0.88277460638159877,939.38890000000004,1209.1420000000001,1.3182270002399998E-2,2.084618456266901,null,0,0,null,1.4103469900000009E-2]
[1351,0.69648460000000001,0.35365679999999999,15.29331,689.07659999999998,878.80820000000006,689.07659999999998,878.80820000000006,1.6013999999999997E-2,1.4103469900000009E-2,0.85599021729109015,{"$f":"0","v":0},0,2.0845645670682451,null,0,{"$f":"0","v":0},0,1.3182270002399998E-2,null,1348,0.32212600000000002,0.67787399999999998,1.6013999999999997E-2,0.35365679999999999,0,8.1908987433794139E-3,2358.4209999999998,19.47364,27.636649999999999,0.87751587958560051,876.81079999999997,1126.559,1.3182270002399998E-2,2.0846061260414577,null,0,0,null,1.4103469900000009E-2]
[1352,0.70268819999999999,0.35365679999999999,13.89987,626.49850000000004,796.22450000000003,626.49850000000004,796.22450000000003,1.6013999999999997E-2,1.4103469900000009E-2,0.84593695840320826,{"$f":"0","v":0},0,2.0845483580533788,null,0,{"$f":"0","v":0},0,1.3182270002399998E-2,null,1349,0.31592239999999999,0.68407759999999995,1.6013999999999997E-2,0.35365679999999999,0,8.1617555562504881E-3,2194.3580000000002,18.080190000000002,25.54936,0.87144680172055711,814.23270000000002,1043.9749999999999,1.3182270002399998E-2,2.0845933177993605,null,0,0,null,1.4103469900000009E-2]
[1353,0.70889170000000001,0.35365679999999999,12.50643,563.92049999999995,713.64099999999996,563.92049999999995,713.64099999999996,1.6013999999999997E-2,1.4103469900000009E-2,0.83364427338577041,{"$f":"0","v":0},0,2.0845327357445189,null,0,{"$f":"0","v":0},0,1.3182270002399998E-2,null,1350,0.30971890000000002,0.69028109999999998,1.6013999999999997E-2,0.35365679999999999,0,8.1327160604724932E-3,2030.2940000000001,16.68675,23.46208,0.86436386654081832,751.65470000000005,961.39170000000001,1.3182270002399998E-2,2.0845795057478971,null,0,0,null,1.4103469900000009E-2]
[1354,0.71509529999999999,0.35365679999999999,11.11299,501.3424,631.05740000000003,501.3424,631.05740000000003,1.6013999999999997E-2,1.4103469900000009E-2,0.81826886823438161,{"$f":"0","v":0},0,2.0845135410638886,null,0,{"$f":"0","v":0},0,1.3182270002399998E-2,null,1351,0.30351539999999999,0.69648460000000001,1.6013999999999997E-2,0.35365679999999999,0,8.10377988711199E-3,1866.231,15.29331,21.3748,0.85599021729109015,689.07659999999998,878.80820000000006,1.3182270002399998E-2,2.0845645670682451,null,0,0,null,1.4103469900000009E-2]
[1355,0.72129889999999997,0.35365679999999999,9.7195429999999998,438.76429999999999,548.47379999999998,438.76429999999999,548.47379999999998,1.6013999999999997E-2,1.4103469900000009E-2,0.79848481987956299,{"$f":"0","v":0},0,2.0844918914920134,null,0,{"$f":"0","v":0},0,1.3182270002399998E-2,null,1352,0.29731180000000001,0.70268819999999999,1.6013999999999997E-2,0.35365679999999999,0,8.0749466685482024E-3,1702.1669999999999,13.89987,19.287510000000001,0.84593695840320826,626.49850000000004,796.22450000000003,1.3182270002399998E-2,2.0845483580533788,null,0,0,null,1.4103469900000009E-2]
[1356,0.72750239999999999,0.35365679999999999,8.3261009999999995,376.18619999999999,465.89030000000002,376.18619999999999,465.89030000000002,1.6013999999999997E-2,1.4103469900000009E-2,0.77207910701539662,{"$f":"0","v":0},0,2.0844686375663484,null,0,{"$f":"0","v":0},0,1.3182270002399998E-2,null,1353,0.29110829999999999,0.70889170000000001,1.6013999999999997E-2,0.35365679999999999,0,8.046216038468345E-3,1538.1030000000001,12.50643,17.200230000000001,0.83364427338577041,563.92049999999995,713.64099999999996,1.3182270002399998E-2,2.0845327357445189,null,0,0,null,1.4103469900000009E-2]
[1357,0.73434969999999999,0.35365679999999999,7.8134129999999997,352.96660000000003,436.7122,352.96660000000003,436.7122,1.6013999999999997E-2,1.4103469900000009E-2,0.76948122734584767,{"$f":"0","v":0},0,2.0844526624480828,null,0,{"$f":"0","v":0},0,1.3182270002399998E-2,null,1354,0.28490470000000001,0.71509529999999999,1.6013999999999997E-2,0.35365679999999999,0,8.01758763186298E-3,1374.04,11.11299,15.11295,0.81826886823438161,501.3424,631.05740000000003,1.3182270002399998E-2,2.0845135410638886,null,0,0,null,1.4103469900000009E-2]
[1358,0.74119690000000005,0.35365679999999999,7.3007249999999999,329.74700000000001,407.5342,329.74700000000001,407.5342,1.6013999999999997E-2,1.4103469900000009E-2,0.76651779446561819,{"$f":"0","v":0},0,2.0844374455593346,null,0,{"$f":"0","v":0},0,1.3182270002399998E-2,null,1355,0.27870109999999998,0.72129889999999997,1.6013999999999997E-2,0.35365679999999999,0,7.9890610850213654E-3,1209.9760000000001,9.7195429999999998,13.02566,0.79848481987956299,438.76429999999999,548.47379999999998,1.3182270002399998E-2,2.0844918914920134,null,0,0,null,1.4103469900000009E-2]
[1359,0.7480443,0.35365679999999999,6.7880370000000001,306.5274,378.3562,306.5274,378.3562,1.6013999999999997E-2,1.4103469900000009E-2,0.76310715822556652,{"$f":"0","v":0},0,2.0844185779338509,null,0,{"$f":"0","v":0},0,1.3182270002399998E-2,null,1356,0.27249760000000001,0.72750239999999999,1.6013999999999997E-2,0.35365679999999999,0,7.9606360355268437E-3,1045.912,8.3261009999999995,10.93838,0.77207910701539662,376.18619999999999,465.89030000000002,1.3182270002399998E-2,2.0844686375663484,null,0,0,null,1.4103469900000009E-2]
[1360,0.75489150000000005,0.35365679999999999,6.2753490000000003,283.30779999999999,349.1782,283.30779999999999,349.1782,1.6013999999999997E-2,1.4103469900000009E-2,0.75913955144168066,{"$f":"0","v":0},0,2.0844002133246802,null,0,{"$f":"0","v":0},0,1.3182270002399998E-2,null,1357,0.26565030000000001,0.73434969999999999,1.6013999999999997E-2,0.35365679999999999,0,7.9323121222522296E-3,982.50369999999998,7.8134129999999997,10.244540000000001,0.76948122734584767,352.96660000000003,436.7122,1.3182270002399998E-2,2.0844526624480828,null,0,0,null,1.4103469900000009E-2]
[1361,0.76173880000000005,0.35365679999999999,5.7626609999999996,260.08819999999997,320.00020000000001,260.08819999999997,320.00020000000001,1.6013999999999997E-2,1.4103469900000009E-2,0.75446562360687197,{"$f":"0","v":0},0,2.0843796301801758,null,0,{"$f":"0","v":0},0,1.3182270002399998E-2,null,1358,0.25880310000000001,0.74119690000000005,1.6013999999999997E-2,0.35365679999999999,0,7.9040889853552333E-3,919.0951,7.3007249999999999,9.5506949999999993,0.76651779446561819,329.74700000000001,407.5342,1.3182270002399998E-2,2.0844374455593346,null,0,0,null,1.4103469900000009E-2]
[1362,0.76858599999999999,0.35365679999999999,5.2499729999999998,236.86859999999999,290.82209999999998,236.86859999999999,290.82209999999998,1.6013999999999997E-2,1.4103469900000009E-2,0.74887882756730384,{"$f":"0","v":0},0,2.0843574338933313,null,0,{"$f":"0","v":0},0,1.3182270002399998E-2,null,1359,0.2519557,0.7480443,1.6013999999999997E-2,0.35365679999999999,0,7.8759662662738796E-3,855.68640000000005,6.7880370000000001,8.8568529999999992,0.76310715822556652,306.5274,378.3562,1.3182270002399998E-2,2.0844185779338509,null,0,0,null,1.4103469900000009E-2]
[1363,0.77543329999999999,0.35365679999999999,4.737285,213.6489,261.64409999999998,213.6489,261.64409999999998,1.6013999999999997E-2,1.4103469900000009E-2,0.74208278053779753,{"$f":"0","v":0},0,2.0843342162288705,null,0,{"$f":"0","v":0},0,1.3182270002399998E-2,null,1360,0.24510850000000001,0.75489150000000005,1.6013999999999997E-2,0.35365679999999999,0,7.8479436077219539E-3,792.27779999999996,6.2753490000000003,8.1630129999999994,0.75913955144168066,283.30779999999999,349.1782,1.3182270002399998E-2,2.0844002133246802,null,0,0,null,1.4103469900000009E-2]
[1364,0.78228059999999999,0.35365679999999999,4.2245970000000002,190.42930000000001,232.46610000000001,190.42930000000001,232.46610000000001,1.6013999999999997E-2,1.4103469900000009E-2,0.73363722622536531,{"$f":"0","v":0},0,2.0843082015181849,null,0,{"$f":"0","v":0},0,1.3182270002399998E-2,null,1361,0.23826120000000001,0.76173880000000005,1.6013999999999997E-2,0.35365679999999999,0,7.8200206536844664E-3,728.8691,5.7626609999999996,7.4691710000000002,0.75446562360687197,260.08819999999997,320.00020000000001,1.3182270002399998E-2,2.0843796301801758,null,0,0,null,1.4103469900000009E-2]
[1365,0.78912780000000005,0.35365679999999999,3.7119089999999999,167.2097,203.28809999999999,167.2097,203.28809999999999,1.6013999999999997E-2,1.4103469900000009E-2,0.72285867595353237,{"$f":"0","v":0},0,2.0842802035695347,null,0,{"$f":"0","v":0},0,1.3182270002399998E-2,null,1362,0.23141400000000001,0.76858599999999999,1.6013999999999997E-2,0.35365679999999999,0,7.7921970494131305E-3,665.46040000000005,5.2499729999999998,6.7753290000000002,0.74887882756730384,236.86859999999999,290.82209999999998,1.3182270002399998E-2,2.0843574338933313,null,0,0,null,1.4103469900000009E-2]
[1366,0.79597510000000005,0.35365679999999999,3.1992210000000001,143.99010000000001,174.11009999999999,143.99010000000001,174.11009999999999,1.6013999999999997E-2,1.4103469900000009E-2,0.70862582641211713,{"$f":"0","v":0},0,2.0842492610945391,null,0,{"$f":"0","v":0},0,1.3182270002399998E-2,null,1363,0.22456670000000001,0.77543329999999999,1.6013999999999997E-2,0.35365679999999999,0,7.764472441421845E-3,602.05179999999996,4.737285,6.0814870000000001,0.74208278053779753,213.6489,261.64409999999998,1.3182270002399998E-2,2.0843342162288705,null,0,0,null,1.4103469900000009E-2]
[1367,0.80282240000000005,0.35365679999999999,2.6865329999999998,120.7705,144.93209999999999,120.7705,144.93209999999999,1.6013999999999997E-2,1.4103469900000009E-2,0.68896031613979802,{"$f":"0","v":0},0,2.0842156617719141,null,0,{"$f":"0","v":0},0,1.3182270002399998E-2,null,1364,0.21771940000000001,0.78228059999999999,1.6013999999999997E-2,0.35365679999999999,0,7.7368464774822182E-3,538.64319999999998,4.2245970000000002,5.387645,0.73363722622536531,190.42930000000001,232.46610000000001,1.3182270002399998E-2,2.0843082015181849,null,0,0,null,1.4103469900000009E-2]
[1368,0.80966970000000005,0.35365679999999999,2.1738460000000002,97.55086,115.754,97.55086,115.754,1.6013999999999997E-2,1.4103469900000009E-2,0.66001827329688167,{"$f":"0","v":0},0,2.0841792335085252,null,0,{"$f":"0","v":0},0,1.3182270002399998E-2,null,1365,0.21087220000000001,0.78912780000000005,1.6013999999999997E-2,0.35365679999999999,0,7.709318806619082E-3,475.2346,3.7119089999999999,4.6938029999999999,0.72285867595353237,167.2097,203.28809999999999,1.3182270002399998E-2,2.0842802035695347,null,0,0,null,1.4103469900000009E-2]
[1369,0.81719719999999996,0.35365679999999999,2.0257269999999998,90.861689999999996,107.74509999999999,90.861689999999996,107.74509999999999,1.6013999999999997E-2,1.4103469900000009E-2,0.65845753565674625,{"$f":"0","v":0},0,2.0841544661437927,null,0,{"$f":"0","v":0},0,1.3182270002399998E-2,null,1366,0.20402490000000001,0.79597510000000005,1.6013999999999997E-2,0.35365679999999999,0,7.6818890791060359E-3,411.82589999999999,3.1992210000000001,3.999962,0.70862582641211713,143.99010000000001,174.11009999999999,1.3182270002399998E-2,2.0842492610945391,null,0,0,null,1.4103469900000009E-2]
[1370,0.82472469999999998,0.35365679999999999,1.8776090000000001,84.172539999999998,99.736189999999993,84.172539999999998,99.736189999999993,1.6013999999999997E-2,1.4103469900000009E-2,0.65664991575278264,{"$f":"0","v":0},0,2.0841265593124514,null,0,{"$f":"0","v":0},0,1.3182270002399998E-2,null,1367,0.19717760000000001,0.80282240000000005,1.6013999999999997E-2,0.35365679999999999,0,7.6545569464610093E-3,348.41719999999998,2.6865329999999998,3.3061199999999999,0.68896031613979802,120.7705,144.93209999999999,1.3182270002399998E-2,2.0842156617719141,null,0,0,null,1.4103469900000009E-2]
[1371,0.83225229999999994,0.35365679999999999,1.72949,77.483379999999997,91.727270000000004,77.483379999999997,91.727270000000004,1.6013999999999997E-2,1.4103469900000009E-2,0.65453336918205174,{"$f":"0","v":0},0,2.0840993035622901,null,0,{"$f":"0","v":0},0,1.3182270002399998E-2,null,1368,0.19033030000000001,0.80966970000000005,1.6013999999999997E-2,0.35365679999999999,0,7.6273220614418245E-3,285.0086,2.1738460000000002,2.6122779999999999,0.66001827329688167,97.55086,115.754,1.3182270002399998E-2,2.0841792335085252,null,0,0,null,1.4103469900000009E-2]
[1372,0.83977979999999997,0.35365679999999999,1.581372,70.794219999999996,83.718350000000001,70.794219999999996,83.718350000000001,1.6013999999999997E-2,1.4103469900000009E-2,0.6520202077689502,{"$f":"0","v":0},0,2.0840684993339567,null,0,{"$f":"0","v":0},0,1.3182270002399998E-2,null,1369,0.18280279999999999,0.81719719999999996,1.6013999999999997E-2,0.35365679999999999,0,7.6001840780417929E-3,265.77839999999998,2.0257269999999998,2.4311240000000001,0.65845753565674625,90.861689999999996,107.74509999999999,1.3182270002399998E-2,2.0841544661437927,null,0,0,null,1.4103469900000009E-2]
[1373,0.84730729999999999,0.35365679999999999,1.433254,64.105059999999995,75.709440000000001,64.105059999999995,75.709440000000001,1.6013999999999997E-2,1.4103469900000009E-2,0.64898690904287271,{"$f":"0","v":0},0,2.0840358206071308,null,0,{"$f":"0","v":0},0,1.3182270002399998E-2,null,1370,0.17527529999999999,0.82472469999999998,1.6013999999999997E-2,0.35365679999999999,0,7.5731426514853151E-3,246.54810000000001,1.8776090000000001,2.2499699999999998,0.65664991575278264,84.172539999999998,99.736189999999993,1.3182270002399998E-2,2.0841265593124514,null,0,0,null,1.4103469900000009E-2]
[1374,0.85483480000000001,0.35365679999999999,1.2851349999999999,57.415900000000001,67.700519999999997,57.415900000000001,67.700519999999997,1.6013999999999997E-2,1.4103469900000009E-2,0.6452553298550997,{"$f":"0","v":0},0,2.0840001145395797,null,0,{"$f":"0","v":0},0,1.3182270002399998E-2,null,1371,0.1677477,0.83225229999999994,1.6013999999999997E-2,0.35365679999999999,0,7.546197438223501E-3,227.31790000000001,1.72949,2.068816,0.65453336918205174,77.483379999999997,91.727270000000004,1.3182270002399998E-2,2.0840993035622901,null,0,0,null,1.4103469900000009E-2]
[1375,0.86236230000000003,0.35365679999999999,1.1370169999999999,50.726739999999999,59.691609999999997,50.726739999999999,59.691609999999997,1.6013999999999997E-2,1.4103469900000009E-2,0.64055048575937457,{"$f":"0","v":0},0,2.0839619812380992,null,0,{"$f":"0","v":0},0,1.3182270002399998E-2,null,1372,0.16022020000000001,0.83977979999999997,1.6013999999999997E-2,0.35365679999999999,0,7.5193480959298096E-3,208.08770000000001,1.581372,1.8876630000000001,0.6520202077689502,70.794219999999996,83.718350000000001,1.3182270002399998E-2,2.0840684993339567,null,0,0,null,1.4103469900000009E-2]
[1376,0.86988989999999999,0.35365679999999999,0.98889850000000001,44.037579999999998,51.682690000000001,44.037579999999998,51.682690000000001,1.6013999999999997E-2,1.4103469900000009E-2,0.63443785771070893,{"$f":"0","v":0},0,2.0839206052097956,null,0,{"$f":"0","v":0},0,1.3182270002399998E-2,null,1373,0.15269269999999999,0.84730729999999999,1.6013999999999997E-2,0.35365679999999999,0,7.4925942834956948E-3,188.85740000000001,1.433254,1.7065090000000001,0.64898690904287271,64.105059999999995,75.709440000000001,1.3182270002399998E-2,2.0840358206071308,null,0,0,null,1.4103469900000009E-2]
[1377,0.87741740000000001,0.35365679999999999,0.84078010000000003,37.348419999999997,43.673769999999998,37.348419999999997,43.673769999999998,1.6013999999999997E-2,1.4103469900000009E-2,0.62616996505190048,{"$f":"0","v":0},0,2.0838755544612799,null,0,{"$f":"0","v":0},0,1.3182270002399998E-2,null,1374,0.14516519999999999,0.85483480000000001,1.6013999999999997E-2,0.35365679999999999,0,7.465935661026271E-3,169.62719999999999,1.2851349999999999,1.525355,0.6452553298550997,57.415900000000001,67.700519999999997,1.3182270002399998E-2,2.0840001145395797,null,0,0,null,1.4103469900000009E-2]
[1378,0.88494490000000003,0.35365679999999999,0.69266179999999999,30.65926,35.664859999999997,30.65926,35.664859999999997,1.6013999999999997E-2,1.4103469900000009E-2,0.61436647966824032,{"$f":"0","v":0},0,2.0838257637959319,null,0,{"$f":"0","v":0},0,1.3182270002399998E-2,null,1375,0.1376377,0.86236230000000003,1.6013999999999997E-2,0.35365679999999999,0,7.4393718898360019E-3,150.39699999999999,1.1370169999999999,1.344201,0.64055048575937457,50.726739999999999,59.691609999999997,1.3182270002399998E-2,2.0839619812380992,null,0,0,null,1.4103469900000009E-2]
[1379,0.89247240000000005,0.35365679999999999,0.54454340000000001,23.970099999999999,27.655940000000001,23.970099999999999,27.655940000000001,1.6013999999999997E-2,1.4103469900000009E-2,0.59614200019074082,{"$f":"0","v":0},0,2.0837716999191307,null,0,{"$f":"0","v":0},0,1.3182270002399998E-2,null,1376,0.13011010000000001,0.86988989999999999,1.6013999999999997E-2,0.35365679999999999,0,7.4129026324443893E-3,131.16669999999999,0.98889850000000001,1.1630480000000001,0.63443785771070893,44.037579999999998,51.682690000000001,1.3182270002399998E-2,2.0839206052097956,null,0,0,null,1.4103469900000009E-2]
[1380,0.9,0.35365679999999999,0.39642490000000002,17.280940000000001,19.647020000000001,17.280940000000001,19.647020000000001,1.6013999999999997E-2,1.4103469900000009E-2,0.56429943183017339,{"$f":"0","v":0},0,2.0837114869501066,null,0,{"$f":"0","v":0},0,1.3182270002399998E-2,null,1377,0.1225826,0.87741740000000001,1.6013999999999997E-2,0.35365679999999999,0,7.3865275525716893E-3,111.9365,0.84078010000000003,0.98189380000000004,0.62616996505190048,37.348419999999997,43.673769999999998,1.3182270002399998E-2,2.0838755544612799,null,0,0,null,1.4103469900000009E-2]
[null,null,null,null,null,null,null,null,null,null,null,null,null,null,null,null,null,null,null,null,1378,0.11505509999999999,0.88494490000000003,1.6013999999999997E-2,0.35365679999999999,0,7.3602463151346441E-3,92.70626,0.69266179999999999,0.80074000000000001,0.61436647966824032,30.65926,35.664859999999997,1.3182270002399998E-2,2.0838257637959319,null,0,0,null,1.4103469900000009E-2]
[null,null,null,null,null,null,null,null,null,null,null,null,null,null,null,null,null,null,null,null,1379,0.1075276,0.89247240000000005,1.6013999999999997E-2,0.35365679999999999,0,7.3340585862422146E-3,73.476020000000005,0.54454340000000001,0.61958619999999998,0.59614200019074082,23.970099999999999,27.655940000000001,1.3182270002399998E-2,2.0837716999191307,null,0,0,null,1.4103469900000009E-2]
[null,null,null,null,null,null,null,null,null,null,null,null,null,null,null,null,null,null,null,null,1380,0.1,0.9,1.6013999999999997E-2,0.35365679999999999,0,7.3079640331913534E-3,54.245780000000003,0.39642490000000002,0.4384325,0.56429943183017339,17.280940000000001,19.647020000000001,1.3182270002399998E-2,2.0837114869501066,null,0,0,null,1.4103469900000009E-2]

{"sheet":"Feminino","index":6,"n_rows":1385,"n_cols":40,"rows_kept":1385,"cut":false,"hidden":true,"merged":[[1,20,3,20],[1,21,2,22],[1,23,2,23],[1,24,2,24],[1,25,2,25]]}
["Idade","qx","qxi","Dx","lxaa","Dxaa","lxpi","Dxaapi","ix","vx","ax","cx","Peculio Ax","aix","cix","Peculio Aix","Hx masculino","Wx","pxai",null,null,2,{"$f":"V1+1","v":3},{"$f":"W1+1","v":4},5,6,7,8,9,10,11,12,13,14,15,16,17,18,19,20]
[0,{"$f":"W5","v":1.4534999999999999E-3},{"$f":"Y5","v":7.2896009999999997E-3},{"$f":"AC5","v":10000000},{"$f":"AF5","v":10000000},{"$f":"AG5","v":100000000000},{"$f":"E2","v":10000000},{"$f":"F2","v":100000000000},{"$f":"X5","v":0},{"$f":"AN5","v":0},{"$f":"AE5","v":22.568783333333332},{"$f":"0","v":0},{"$f":"AL5","v":0},{"$f":"AI5","v":19.429033333333333},{"$f":"0","v":0},{"$f":"AK5","v":0},{"$f":"0","v":0},{"$f":"Z5","v":0},{"$f":"AH5","v":0},null,"IDADE (em meses)","AT-2000 (suavizada em 10%) D10%",null,"LIGHT MÉDIA D40%","MI - 85 Female D20%","Rotatividade"]
[1,1.3833750000000001E-3,7.2901340000000002E-3,9963948,9998754,99639140000,9998754,99639140000,0,0,22.568761047327826,{"$f":"0","v":0},0,19.426999768122645,{"$f":"0","v":0},0,{"$f":"0","v":0},0,0]
[2,1.31325E-3,7.2906669999999998E-3,9927895,9997508,99278280000,9997508,99278280000,0,0,22.568750999918244,{"$f":"0","v":0},0,19.424939426788683,{"$f":"0","v":0},0,{"$f":"0","v":0},0,0,null,null,"px","qx","ix","qxi","wx","vx","lx","Dx","Nx","ax(12)","lxaa","Dxaa","pxai","axi(12)",null,"AxI","Ax",null,"vx (morbidez)"]
[3,1.2431250000000001E-3,7.2912009999999998E-3,9891843,9996262,98917420000,9996262,98917420000,0,0,22.568738542959082,{"$f":"0","v":0},0,19.422874246686757,{"$f":"0","v":0},0,{"$f":"0","v":0},0,0,null,0,0.9985465,1.4534999999999999E-3,0,7.2896009999999997E-3,0,1,10000000,10000000,231104500,22.568783333333332,10000000,100000000000,0,19.429033333333333,null,0,0,null,0]
[4,1.173E-3,7.2917340000000002E-3,9855790,9995015,98556560000,9995015,98556560000,0,0,22.568718193400358,{"$f":"0","v":0},0,19.420789942975698,{"$f":"0","v":0},0,{"$f":"0","v":0},0,0,null,1,0.99861659999999997,1.3833750000000001E-3,0,7.2901340000000002E-3,0,0.99644200373585612,9998754,9963948,230271100,22.568761047327826,9998754,99639140000,0,19.426999768122645,null,0,0,null,0]
[5,1.1028749999999999E-3,7.2922669999999998E-3,9819738,9993769,98195700000,9993769,98195700000,0,0,22.568705524526212,{"$f":"0","v":0},0,19.418678107592633,{"$f":"0","v":0},0,{"$f":"0","v":0},0,0,null,2,0.99868670000000004,1.31325E-3,0,7.2906669999999998E-3,0,0.99289666680912791,9997508,9927895,229437800,22.568750999918244,9997508,99278280000,0,19.424939426788683,null,0,0,null,0]
[6,1.03275E-3,7.2928000000000003E-3,9783686,9992523,97834840000,9992523,97834840000,0,0,22.568692762284751,{"$f":"0","v":0},0,19.416560942431826,{"$f":"0","v":0},0,{"$f":"0","v":0},0,0,null,3,0.99875689999999995,1.2431250000000001E-3,0,7.2912009999999998E-3,0,0.98936394417794016,9996262,9891843,228604500,22.568738542959082,9996262,98917420000,0,19.422874246686757,null,0,0,null,0]
[7,9.6262500000000005E-4,7.2933329999999999E-3,9747633,9991277,97473990000,9991277,97473990000,0,0,22.568672017606733,{"$f":"0","v":0},0,19.414423978184693,{"$f":"0","v":0},0,{"$f":"0","v":0},0,0,null,4,0.99882700000000002,1.173E-3,0,7.2917340000000002E-3,0,0.98584379096067642,9995015,9855790,227771100,22.568718193400358,9995015,98556560000,0,19.420789942975698,null,0,0,null,0]
[8,8.9249999999999996E-4,7.2938660000000004E-3,9711581,9990031,97113130000,9990031,97113130000,0,0,22.568659036223522,{"$f":"0","v":0},0,19.412258691462529,{"$f":"0","v":0},0,{"$f":"0","v":0},0,0,null,5,0.99889709999999998,1.1028749999999999E-3,0,7.2922669999999998E-3,0,0.98233616243540889,9993769,9819738,226937800,22.568705524526212,9993769,98195700000,0,19.418678107592633,null,0,0,null,0]
[9,8.2237499999999997E-4,7.2944000000000004E-3,9675528,9988784,96752270000,9988784,96752270000,0,0,22.568648346632866,{"$f":"0","v":0},0,19.41008548388157,{"$f":"0","v":0},0,{"$f":"0","v":0},0,0,null,6,0.99896720000000006,1.03275E-3,0,7.2928000000000003E-3,0,0.97884101403933033,9992523,9783686,226104500,22.568692762284751,9992523,97834840000,0,19.416560942431826,null,0,0,null,0]
[10,7.5224999999999999E-4,7.294933E-3,9639476,9987538,96391410000,9987538,96391410000,0,0,22.56862480560838,{"$f":"0","v":0},0,19.407893830193608,{"$f":"0","v":0},0,{"$f":"0","v":0},0,0,null,7,0.99903739999999996,9.6262500000000005E-4,0,7.2933329999999999E-3,0,0.97535830136818757,9991277,9747633,225271100,22.568672017606733,9991277,97473990000,0,19.414423978184693,null,0,0,null,0]
[11,6.8212500000000001E-4,7.2954659999999996E-3,9603423,9986292,96030550000,9986292,96030550000,0,0,22.568613907249528,{"$f":"0","v":0},0,19.405675113966311,{"$f":"0","v":0},0,{"$f":"0","v":0},0,0,null,8,0.99910750000000004,8.9249999999999996E-4,0,7.2938660000000004E-3,0,0.97188798017571787,9990031,9711581,224437800,22.568659036223522,9990031,97113130000,0,19.412258691462529,null,0,0,null,0]
[12,6.1200000000000002E-4,7.2960000000000004E-3,9567371,9985046,95669690000,9985046,95669690000,0,0,22.568600511223686,{"$f":"0","v":0},0,19.403445820352928,{"$f":"0","v":0},0,{"$f":"0","v":0},0,0,null,9,0.9991776,8.2237499999999997E-4,0,7.2944000000000004E-3,0,0.96843000637308629,9988784,9675528,223604500,22.568648346632866,9988784,96752270000,0,19.41008548388157,null,0,0,null,0]
[13,5.8747499999999995E-4,7.296599E-3,9533521,9984502,95330890000,9984502,95330890000,0,0,22.567025284607158,{"$f":"0","v":0},0,19.401317004874521,{"$f":"0","v":0},0,{"$f":"0","v":0},0,0,null,10,0.99924769999999996,7.5224999999999999E-4,0,7.294933E-3,0,0.96498433602832601,9987538,9639476,222771100,22.56862480560838,9987538,96391410000,0,19.407893830193608,null,0,0,null,0]
[14,5.6295E-4,7.2972000000000002E-3,9499671,9983958,94992080000,9983958,94992080000,0,0,22.56543883203955,{"$f":"0","v":0},0,19.399170711170107,{"$f":"0","v":0},0,{"$f":"0","v":0},0,0,null,11,0.99931789999999998,6.8212500000000001E-4,0,7.2954659999999996E-3,0,0.96155092536577991,9986292,9603423,221937800,22.568613907249528,9986292,96030550000,0,19.405675113966311,null,0,0,null,0]
[15,5.3842500000000004E-4,7.2978000000000001E-3,9465821,9983414,94653280000,9983414,94653280000,0,0,22.56384103308806,{"$f":"0","v":0},0,19.397006723100034,{"$f":"0","v":0},0,{"$f":"0","v":0},0,0,null,12,0.99938800000000005,6.1200000000000002E-4,0,7.2960000000000004E-3,0,0.95812973076554442,9985046,9567371,221104500,22.568600511223686,9985046,95669690000,0,19.403445820352928,null,0,0,null,0]
[16,5.1389999999999997E-4,7.2984E-3,9431971,9982870,94314470000,9982870,94314470000,0,0,22.562231765591022,{"$f":"0","v":0},0,19.394814133235776,{"$f":"0","v":0},0,{"$f":"0","v":0},0,0,null,13,0.99941250000000004,5.8747499999999995E-4,0,7.296599E-3,0,0.95472070876291548,9984502,9533521,220307200,22.567025284607158,9984502,95330890000,0,19.401317004874521,null,0,0,null,0]
[17,4.8937500000000001E-4,7.2989989999999996E-3,9398121,9982326,93975670000,9982326,93975670000,0,0,22.560621546051596,{"$f":"0","v":0},0,19.392614049205179,{"$f":"0","v":0},0,{"$f":"0","v":0},0,0,null,14,0.99943700000000002,5.6295E-4,0,7.2972000000000002E-3,0,0.95132381604783622,9983958,9499671,219509900,22.56543883203955,9983958,94992080000,0,19.399170711170107,null,0,0,null,0]
[18,4.6485E-4,7.2995999999999998E-3,9364272,9981782,93636860000,9981782,93636860000,0,0,22.558986539476852,{"$f":"0","v":0},0,19.390397748312225,{"$f":"0","v":0},0,{"$f":"0","v":0},0,0,null,15,0.99946159999999995,5.3842500000000004E-4,0,7.2978000000000001E-3,0,0.94793900946434695,9983414,9465821,218712600,22.56384103308806,9983414,94653280000,0,19.397006723100034,null,0,0,null,0]
[19,4.4032499999999998E-4,7.3001999999999997E-3,9330422,9981237,93298060000,9981237,93298060000,0,0,22.557342145582123,{"$f":"0","v":0},0,19.388160712278474,{"$f":"0","v":0},0,{"$f":"0","v":0},0,0,null,16,0.99948610000000004,5.1389999999999997E-4,0,7.2984E-3,0,0.94456624601003658,9982870,9431971,217915300,22.562231765591022,9982870,94314470000,0,19.394814133235776,null,0,0,null,0]
[20,4.1580000000000002E-4,7.3007999999999997E-3,9296572,9980693,92959250000,9980693,92959250000,0,0,22.555685776793137,{"$f":"0","v":0},0,19.385904845678755,{"$f":"0","v":0},0,{"$f":"0","v":0},0,0,null,17,0.99951060000000003,4.8937500000000001E-4,0,7.2989989999999996E-3,0,0.94120548283549643,9982326,9398121,217118100,22.560621546051596,9982326,93975670000,0,19.392614049205179,null,0,0,null,0]
[21,3.9127500000000001E-4,7.3013990000000001E-3,9262722,9980149,92620450000,9980149,92620450000,0,0,22.554017301825532,{"$f":"0","v":0},0,19.383618996169332,{"$f":"0","v":0},0,{"$f":"0","v":0},0,0,null,18,0.99953510000000001,4.6485E-4,0,7.2995999999999998E-3,0,0.93785667724377608,9981782,9364272,216320800,22.558986539476852,9981782,93636860000,0,19.390397748312225,null,0,0,null,0]
[22,3.6675E-4,7.3020000000000003E-3,9228872,9979605,92281640000,9979605,92281640000,0,0,22.552336587468833,{"$f":"0","v":0},0,19.381324701755585,{"$f":"0","v":0},0,{"$f":"0","v":0},0,0,null,19,0.99955970000000005,4.4032499999999998E-4,0,7.3001999999999997E-3,0,0.93451978668984037,9981237,9330422,215523500,22.557342145582123,9981237,93298060000,0,19.388160712278474,null,0,0,null,0]
[23,3.4222499999999998E-4,7.3026000000000002E-3,9195022,9979061,91942840000,9979061,91942840000,0,0,22.550654374000771,{"$f":"0","v":0},0,19.379010847827946,{"$f":"0","v":0},0,{"$f":"0","v":0},0,0,null,20,0.99958420000000003,4.1580000000000002E-4,0,7.3007999999999997E-3,0,0.93119476878002938,9980693,9296572,214726200,22.555685776793137,9980693,92959250000,0,19.385904845678755,null,0,0,null,0]
[24,3.1770000000000002E-4,7.3032000000000001E-3,9161172,9978517,91604030000,9978517,91604030000,0,0,22.548948813536082,{"$f":"0","v":0},0,19.376677183190008,{"$f":"0","v":0},0,{"$f":"0","v":0},0,0,null,21,0.99960870000000002,3.9127500000000001E-4,0,7.3013990000000001E-3,0,0.92788158127151965,9980149,9262722,213928900,22.554017301825532,9980149,92620450000,0,19.383618996169332,null,0,0,null,0]
[25,3.1080000000000002E-4,7.3038E-3,9128975,9978218,91281780000,9978218,91281780000,0,0,22.546763304934743,{"$f":"0","v":0},0,19.374447596849752,{"$f":"0","v":0},0,{"$f":"0","v":0},0,0,null,22,0.99963329999999995,3.6675E-4,0,7.3020000000000003E-3,0,0.92458018207178772,9979605,9228872,213131600,22.552336587468833,9979605,92281640000,0,19.381324701755585,null,0,0,null,0]
[26,3.0390000000000001E-4,7.3044E-3,9096777,9977919,90959530000,9977919,90959530000,0,0,22.544553870563167,{"$f":"0","v":0},0,19.37219970227833,{"$f":"0","v":0},0,{"$f":"0","v":0},0,0,null,23,0.99965780000000004,3.4222499999999998E-4,0,7.3026000000000002E-3,0,0.92129052923807486,9979061,9195022,212334400,22.550654374000771,9979061,91942840000,0,19.379010847827946,null,0,0,null,0]
[27,2.9700000000000001E-4,7.3049999999999999E-3,9064580,9977620,90637270000,9977620,90637270000,0,0,22.54233722540555,{"$f":"0","v":0},0,19.369933273039202,{"$f":"0","v":0},0,{"$f":"0","v":0},0,0,null,24,0.99968230000000002,3.1770000000000002E-4,0,7.3032000000000001E-3,0,0.91801258097685468,9978517,9161172,211537100,22.548948813536082,9978517,91604030000,0,19.376677183190008,null,0,0,null,0]
[28,2.901E-4,7.3055999999999998E-3,9032382,9977321,90315020000,9977321,90315020000,0,0,22.540107332705812,{"$f":"0","v":0},0,19.367648078946271,{"$f":"0","v":0},0,{"$f":"0","v":0},0,0,null,25,0.99968919999999994,3.1080000000000002E-4,0,7.3038E-3,0,0.9147462956433019,9978218,9128975,210773700,22.546763304934743,9978218,91281780000,0,19.374447596849752,null,0,0,null,0]
[29,2.832E-4,7.3061999999999997E-3,9000185,9977022,89992770000,9977022,89992770000,0,0,22.53785892086292,{"$f":"0","v":0},0,19.365343885985961,{"$f":"0","v":0},0,{"$f":"0","v":0},0,0,null,26,0.99969609999999998,3.0390000000000001E-4,0,7.3044E-3,0,0.91149163174076364,9977919,9096777,210010200,22.544553870563167,9977919,90959530000,0,19.37219970227833,null,0,0,null,0]
[30,2.7629999999999999E-4,7.3067999999999996E-3,8967988,9976723,89670520000,9976723,89670520000,0,0,22.535583213685538,{"$f":"0","v":0},0,19.363020456237315,{"$f":"0","v":0},0,{"$f":"0","v":0},0,0,null,27,0.99970300000000001,2.9700000000000001E-4,0,7.3049999999999999E-3,0,0.90824854792023157,9977620,9064580,209246800,22.54233722540555,9977620,90637270000,0,19.369933273039202,null,0,0,null,0]
[31,2.6939999999999999E-4,7.3074000000000004E-3,8935790,9976424,89348260000,9976424,89348260000,0,0,22.53330488033701,{"$f":"0","v":0},0,19.360677547790115,{"$f":"0","v":0},0,{"$f":"0","v":0},0,0,null,28,0.99970990000000004,2.901E-4,0,7.3055999999999998E-3,0,0.90501700297981735,9977321,9032382,208483400,22.540107332705812,9977321,90315020000,0,19.367648078946271,null,0,0,null,0]
[32,2.6249999999999998E-4,7.3080000000000003E-3,8903593,9976125,89026000000,9976125,89026000000,0,0,22.531007477355864,{"$f":"0","v":0},0,19.358314914660912,{"$f":"0","v":0},0,{"$f":"0","v":0},0,0,null,29,0.99971679999999996,2.832E-4,0,7.3061999999999997E-3,0,0.90179695586422848,9977022,9000185,207720000,22.53785892086292,9977022,89992770000,0,19.365343885985961,null,0,0,null,0]
[33,2.5559999999999998E-4,7.3086000000000002E-3,8871395,9975826,88703750000,9975826,88703750000,0,0,22.528684726772582,{"$f":"0","v":0},0,19.355932306706929,{"$f":"0","v":0},0,{"$f":"0","v":0},0,0,null,30,0.99972369999999999,2.7629999999999999E-4,0,7.3067999999999996E-3,0,0.89858836566424727,9976723,8967988,206956500,22.535583213685538,9976723,89670520000,0,19.363020456237315,null,0,0,null,0]
[34,2.4869999999999997E-4,7.3092000000000001E-3,8839198,9975527,88381500000,9975527,88381500000,0,0,22.526353757810757,{"$f":"0","v":0},0,19.353540992523961,{"$f":"0","v":0},0,{"$f":"0","v":0},0,0,null,31,0.99973060000000002,2.6939999999999999E-4,0,7.3074000000000004E-3,0,0.89539119161621072,9976424,8935790,206193100,22.53330488033701,9976424,89348260000,0,19.360677547790115,null,0,0,null,0]
[35,2.418E-4,7.3098E-3,8807000,9975228,88059250000,9975228,88059250000,0,0,22.524008364558494,{"$f":"0","v":0},0,19.351117716536873,{"$f":"0","v":0},0,{"$f":"0","v":0},0,0,null,32,0.99973749999999995,2.6249999999999998E-4,0,7.3080000000000003E-3,0,0.89220539310149294,9976125,8903593,205429700,22.531007477355864,9976125,89026000000,0,19.358314914660912,null,0,0,null,0]
[36,2.3489999999999999E-4,7.3103999999999999E-3,8774803,9974929,87736990000,9974929,87736990000,0,0,22.521643130715677,{"$f":"0","v":0},0,19.348673689867216,{"$f":"0","v":0},0,{"$f":"0","v":0},0,0,null,33,0.99974439999999998,2.5559999999999998E-4,0,7.3086000000000002E-3,0,0.88903092964598884,9975826,8871395,204666200,22.528684726772582,9975826,88703750000,0,19.355932306706929,null,0,0,null,0]
[37,2.31E-4,7.3110670000000001E-3,8744022,9974699,87428920000,9974699,87428920000,0,0,22.519197086878325,{"$f":"0","v":0},0,19.346337153358075,{"$f":"0","v":0},0,{"$f":"0","v":0},0,0,null,34,0.99975130000000001,2.4869999999999997E-4,0,7.3092000000000001E-3,0,0.88586776091960007,9975527,8839198,203902800,22.526353757810757,9975527,88381500000,0,19.353540992523961,null,0,0,null,0]
[38,2.2709999999999999E-4,7.3117329999999999E-3,8713240,9974469,87120860000,9974469,87120860000,0,0,22.516747884063026,{"$f":"0","v":0},0,19.343990814533534,{"$f":"0","v":0},0,{"$f":"0","v":0},0,0,null,35,0.99975820000000004,2.418E-4,0,7.3098E-3,0,0.88271584673572256,9975228,8807000,203139400,22.524008364558494,9975228,88059250000,0,19.351117716536873,null,0,0,null,0]
[39,2.232E-4,7.3124000000000001E-3,8682458,9974239,86812780000,9974239,86812780000,0,0,22.51428131488418,{"$f":"0","v":0},0,19.34161570084563,{"$f":"0","v":0},0,{"$f":"0","v":0},0,0,null,36,0.99976509999999996,2.3489999999999999E-4,0,7.3103999999999999E-3,0,0.87957514705073636,9974929,8774803,202376000,22.521643130715677,9974929,87736990000,0,19.348673689867216,null,0,0,null,0]
[40,2.1929999999999999E-4,7.3130670000000004E-3,8651677,9974009,86504710000,9974009,86504710000,0,0,22.511782970900708,{"$f":"0","v":0},0,19.33923038478693,{"$f":"0","v":0},0,{"$f":"0","v":0},0,0,null,37,0.99976900000000002,2.31E-4,0,7.3110670000000001E-3,0,0.87644562196349596,9974699,8744022,201644700,22.519197086878325,9974699,87428920000,0,19.346337153358075,null,0,0,null,0]
[41,2.154E-4,7.3137330000000002E-3,8620896,9973779,86196640000,9973779,86196640000,0,0,22.509278385912555,{"$f":"0","v":0},0,19.336815729936838,{"$f":"0","v":0},0,{"$f":"0","v":0},0,0,null,38,0.99977289999999996,2.2709999999999999E-4,0,7.3117329999999999E-3,0,0.87332723171482474,9974469,8713240,200913500,22.516747884063026,9974469,87120860000,0,19.343990814533534,null,0,0,null,0]
[42,2.1149999999999999E-4,7.3144000000000004E-3,8590114,9973548,85888570000,9973548,85888570000,0,0,22.506746893386204,{"$f":"0","v":0},0,19.334392825730003,{"$f":"0","v":0},0,{"$f":"0","v":0},0,0,null,39,0.99977680000000002,2.232E-4,0,7.3124000000000001E-3,0,0.87021993668700826,9974239,8682458,200182300,22.51428131488418,9974239,86812780000,0,19.34161570084563,null,0,0,null,0]
[43,2.076E-4,7.3150669999999998E-3,8559332,9973318,85580500000,9973318,85580500000,0,0,22.504208875957453,{"$f":"0","v":0},0,19.33193526555138,{"$f":"0","v":0},0,{"$f":"0","v":0},0,0,null,40,0.99978069999999997,2.1929999999999999E-4,0,7.3130670000000004E-3,0,0.86712369740329232,9974009,8651677,199451000,22.511782970900708,9974009,86504710000,0,19.33923038478693,null,0,0,null,0]
[44,2.0369999999999999E-4,7.3157329999999996E-3,8528551,9973088,85272430000,9973088,85272430000,0,0,22.501649835749745,{"$f":"0","v":0},0,19.329469025875373,{"$f":"0","v":0},0,{"$f":"0","v":0},0,0,null,41,0.99978460000000002,2.154E-4,0,7.3137330000000002E-3,0,0.86403847452738081,9973779,8620896,198719800,22.509278385912555,9973779,86196640000,0,19.336815729936838,null,0,0,null,0]
[45,1.998E-4,7.3163999999999998E-3,8497770,9972858,84964360000,9972858,84964360000,0,0,22.499060488810592,{"$f":"0","v":0},0,19.326972265806301,{"$f":"0","v":0},0,{"$f":"0","v":0},0,0,null,42,0.99978849999999997,2.1149999999999999E-4,0,7.3144000000000004E-3,0,0.86096422886293578,9973548,8590114,197988500,22.506746893386204,9973548,85888570000,0,19.334392825730003,null,0,0,null,0]
[46,1.9589999999999999E-4,7.317067E-3,8466988,9972628,84656290000,9972628,84656290000,0,0,22.49646684669133,{"$f":"0","v":0},0,19.324466419066503,{"$f":"0","v":0},0,{"$f":"0","v":0},0,0,null,43,0.99979240000000003,2.076E-4,0,7.3150669999999998E-3,0,0.85790092135307994,9973318,8559332,197257300,22.504208875957453,9973318,85580500000,0,19.33193526555138,null,0,0,null,0]
[47,1.92E-4,7.3177329999999999E-3,8436206,9972398,84348220000,9972398,84348220000,0,0,22.493854277226831,{"$f":"0","v":0},0,19.3219246191676,{"$f":"0","v":0},0,{"$f":"0","v":0},0,0,null,44,0.99979629999999997,2.0369999999999999E-4,0,7.3157329999999996E-3,0,0.85484851307990017,9973088,8528551,196526100,22.501649835749745,9973088,85272430000,0,19.329469025875373,null,0,0,null,0]
[48,1.8809999999999999E-4,7.3184000000000001E-3,8405425,9972168,84040150000,9972168,84040150000,0,0,22.491219832231366,{"$f":"0","v":0},0,19.31937569644893,{"$f":"0","v":0},0,{"$f":"0","v":0},0,0,null,45,0.99980020000000003,1.998E-4,0,7.3163999999999998E-3,0,0.85180696526395294,9972858,8497770,195794800,22.499060488810592,9972858,84964360000,0,19.326972265806301,null,0,0,null,0]
[49,1.8525E-4,7.3191330000000002E-3,8375971,9971977,83745370000,9971977,83745370000,0,0,22.488582602343456,{"$f":"0","v":0},0,19.31692529658967,{"$f":"0","v":0},0,{"$f":"0","v":0},0,0,null,46,0.99980409999999997,1.9589999999999999E-4,0,7.317067E-3,0,0.8487762392637721,9972628,8466988,195063600,22.49646684669133,9972628,84656290000,0,19.324466419066503,null,0,0,null,0]
[50,1.8239999999999999E-4,7.3198669999999999E-3,8346516,9971786,83450590000,9971786,83450590000,0,0,22.485929518376288,{"$f":"0","v":0},0,19.314467088460127,{"$f":"0","v":0},0,{"$f":"0","v":0},0,0,null,47,0.99980800000000003,1.92E-4,0,7.3177329999999999E-3,0,0.84575629657537754,9972398,8436206,194332400,22.493854277226831,9972398,84348220000,0,19.3219246191676,null,0,0,null,0]
[51,1.7955E-4,7.3206E-3,8317062,9971595,83155820000,9971595,83155820000,0,0,22.483266897613603,{"$f":"0","v":0},0,19.311988605440934,{"$f":"0","v":0},0,{"$f":"0","v":0},0,0,null,48,0.99981189999999998,1.8809999999999999E-4,0,7.3184000000000001E-3,0,0.84274709883178622,9972168,8405425,193601200,22.491219832231366,9972168,84040150000,0,19.31937569644893,null,0,0,null,0]
[52,1.7670000000000001E-4,7.3213330000000002E-3,8287608,9971404,82861050000,9971404,82861050000,0,0,22.480573284836829,{"$f":"0","v":0},0,19.309489595657531,{"$f":"0","v":0},0,{"$f":"0","v":0},0,0,null,49,0.99981469999999995,1.8525E-4,0,7.3191330000000002E-3,0,0.83974860780252458,9971977,8375971,192900700,22.488582602343456,9971977,83745370000,0,19.31692529658967,null,0,0,null,0]
[53,1.7385E-4,7.3220660000000003E-3,8258153,9971213,82566280000,9971213,82566280000,0,0,22.477875354412379,{"$f":"0","v":0},0,19.30696980304597,{"$f":"0","v":0},0,{"$f":"0","v":0},0,0,null,50,0.99981759999999997,1.8239999999999999E-4,0,7.3198669999999999E-3,0,0.83676078539314325,9971786,8346516,192200200,22.485929518376288,9971786,83450590000,0,19.314467088460127,null,0,0,null,0]
[54,1.7100000000000001E-4,7.3228E-3,8228699,9971022,82271500000,9971022,82271500000,0,0,22.475143159528216,{"$f":"0","v":0},0,19.304428967265437,{"$f":"0","v":0},0,{"$f":"0","v":0},0,0,null,51,0.9998205,1.7955E-4,0,7.3206E-3,0,0.83378359364473231,9971595,8317062,191499800,22.483266897613603,9971595,83155820000,0,19.311988605440934,null,0,0,null,0]
[55,1.6814999999999999E-4,7.3235330000000001E-3,8199244,9970830,81976720000,9970830,81976720000,0,0,22.472406338112798,{"$f":"0","v":0},0,19.301866823608606,{"$f":"0","v":0},0,{"$f":"0","v":0},0,0,null,52,0.99982329999999997,1.7670000000000001E-4,0,7.3213330000000002E-3,0,0.83081699473343995,9971404,8287608,190799300,22.480573284836829,9971404,82861050000,0,19.309489595657531,null,0,0,null,0]
[56,1.6530000000000001E-4,7.3242669999999998E-3,8169790,9970639,81681950000,9970639,81681950000,0,0,22.469634725413176,{"$f":"0","v":0},0,19.29928310290968,{"$f":"0","v":0},0,{"$f":"0","v":0},0,0,null,53,0.99982610000000005,1.7385E-4,0,7.3220660000000003E-3,0,0.82786095096999102,9971213,8258153,190098900,22.477875354412379,9971213,82566280000,0,19.30696980304597,null,0,0,null,0]
[57,1.6244999999999999E-4,7.3249999999999999E-3,8140335,9970448,81387180000,9970448,81387180000,0,0,22.466858166770777,{"$f":"0","v":0},0,19.296677531450161,{"$f":"0","v":0},0,{"$f":"0","v":0},0,0,null,54,0.99982899999999997,1.7100000000000001E-4,0,7.3228E-3,0,0.82491542479920932,9971022,8228699,189398400,22.475143159528216,9971022,82271500000,0,19.304428967265437,null,0,0,null,0]
[58,1.596E-4,7.3257330000000001E-3,8110881,9970257,81092400000,9970257,81092400000,0,0,22.464046276230658,{"$f":"0","v":0},0,19.29404983086215,{"$f":"0","v":0},0,{"$f":"0","v":0},0,0,null,55,0.9998319,1.6814999999999999E-4,0,7.3235330000000001E-3,0,0.821980378799539,9970830,8199244,188698000,22.472406338112798,9970830,81976720000,0,19.301866823608606,null,0,0,null,0]
[59,1.5674999999999999E-4,7.3264660000000002E-3,8081427,9970066,80797620000,9970066,80797620000,0,0,22.461226263010232,{"$f":"0","v":0},0,19.291399718029236,{"$f":"0","v":0},0,{"$f":"0","v":0},0,0,null,56,0.99983469999999997,1.6530000000000001E-4,0,7.3242669999999998E-3,0,0.81905577568257071,9970639,8169790,187997500,22.469634725413176,9970639,81681950000,0,19.29928310290968,null,0,0,null,0]
[60,1.539E-4,7.3271999999999999E-3,8051972,9969875,80502850000,9969875,80502850000,0,0,22.458376055786914,{"$f":"0","v":0},0,19.288726904984795,{"$f":"0","v":0},0,{"$f":"0","v":0},0,0,null,57,0.99983759999999999,1.6244999999999999E-4,0,7.3249999999999999E-3,0,0.81614157829256662,9970448,8140335,187297100,22.466858166770777,9970448,81387180000,0,19.296677531450161,null,0,0,null,0]
[61,1.5165E-4,7.3280000000000003E-3,8023778,9969712,80220700000,9969712,80220700000,0,0,22.455567304662051,{"$f":"0","v":0},0,19.286172968683172,{"$f":"0","v":0},0,{"$f":"0","v":0},0,0,null,58,0.99984039999999996,1.596E-4,0,7.3257330000000001E-3,0,0.81323774960598927,9970257,8110881,186596600,22.464046276230658,9970257,81092400000,0,19.29404983086215,null,0,0,null,0]
[62,1.494E-4,7.3287999999999999E-3,7995585,9969550,79938550000,9969550,79938550000,0,0,22.452735869232832,{"$f":"0","v":0},0,19.283595482851879,{"$f":"0","v":0},0,{"$f":"0","v":0},0,0,null,59,0.99984320000000004,1.5674999999999999E-4,0,7.3264660000000002E-3,0,0.81034425273103039,9970066,8081427,185896200,22.461226263010232,9970066,80797620000,0,19.291399718029236,null,0,0,null,0]
[63,1.4715E-4,7.3296000000000004E-3,7967391,9969387,79656400000,9969387,79656400000,0,0,22.449887281168955,{"$f":"0","v":0},0,19.280999313294004,{"$f":"0","v":0},0,{"$f":"0","v":0},0,0,null,60,0.99984609999999996,1.539E-4,0,7.3271999999999999E-3,0,0.80746105090714293,9969875,8051972,185195700,22.458376055786914,9969875,80502850000,0,19.288726904984795,null,0,0,null,0]
[64,{"$f":"W69","v":1.449E-4},{"$f":"Y69","v":7.3303999999999999E-3},{"$f":"AC69","v":7939197},{"$f":"AF69","v":9969224},{"$f":"AG69","v":79374250000},{"$f":"E66","v":9969224},{"$f":"F66","v":79374250000},{"$f":"X69","v":0},{"$f":"AN69","v":0},{"$f":"AE69","v":22.447018461060985},{"$f":"0","v":0},{"$f":"AL69","v":0},{"$f":"AI69","v":19.278394698073239},{"$f":"0","v":0},{"$f":"AK69","v":0},{"$f":"0","v":0},{"$f":"Z69","v":0},{"$f":"AH69","v":0},null,61,0.99984839999999997,1.5165E-4,0,7.3280000000000003E-3,0,0.80458810750457366,9969712,8023778,184524700,22.455567304662051,9969712,80220700000,0,19.286172968683172,null,0,0,null,0]
[65,1.4265E-4,7.3312000000000004E-3,7911003,9969062,79092110000,9969062,79092110000,0,0,22.444129192594161,{"$f":"0","v":0},0,19.275755303860457,{"$f":"0","v":0},0,{"$f":"0","v":0},0,0,null,62,0.99985060000000003,1.494E-4,0,7.3287999999999999E-3,0,0.80172538602389787,9969550,7995585,183853700,22.452735869232832,9969550,79938550000,0,19.283595482851879,null,0,0,null,0]
[66,1.404E-4,7.332E-3,7882809,9968899,78809960000,9968899,78809960000,0,0,22.441219256358995,{"$f":"0","v":0},0,19.273093863654498,{"$f":"0","v":0},0,{"$f":"0","v":0},0,0,null,63,0.99985279999999999,1.4715E-4,0,7.3296000000000004E-3,0,0.79887285009555553,9969387,7967391,183182700,22.449887281168955,9969387,79656400000,0,19.280999313294004,null,0,0,null,0]
[67,1.3815E-4,7.3328000000000004E-3,7854615,9968736,78527810000,9968736,78527810000,0,0,22.43828842979573,{"$f":"0","v":0},0,19.270423324055393,{"$f":"0","v":0},0,{"$f":"0","v":0},0,0,null,64,0.9998551,1.449E-4,0,7.3303999999999999E-3,0,0.79603046347938955,9969224,7939197,182511700,22.447018461060985,9969224,79374250000,0,19.278394698073239,null,0,0,null,0]
[68,1.359E-4,7.3336E-3,7826422,9968574,78245660000,9968574,78245660000,0,0,22.43533355131289,{"$f":"0","v":0},0,19.267714380145343,{"$f":"0","v":0},0,{"$f":"0","v":0},0,0,null,65,0.99985740000000001,1.4265E-4,0,7.3312000000000004E-3,0,0.79319819006418513,9969062,7911003,181840700,22.444129192594161,9969062,79092110000,0,19.275755303860457,null,0,0,null,0]
[69,1.3365E-4,7.3343999999999996E-3,7798228,9968411,77963510000,9968411,77963510000,0,0,22.432360253295148,{"$f":"0","v":0},0,19.264985164335851,{"$f":"0","v":0},0,{"$f":"0","v":0},0,0,null,66,0.99985959999999996,1.404E-4,0,7.332E-3,0,0.79037599386721114,9968899,7882809,181169700,22.441219256358995,9968899,78809960000,0,19.273093863654498,null,0,0,null,0]
[70,1.314E-4,7.3352000000000001E-3,7770034,9968248,77681360000,9968248,77681360000,0,0,22.429365377723357,{"$f":"0","v":0},0,19.26224615746624,{"$f":"0","v":0},0,{"$f":"0","v":0},0,0,null,67,0.99986180000000002,1.3815E-4,0,7.3328000000000004E-3,0,0.78756383903376259,9968736,7854615,180498700,22.43828842979573,9968736,78527810000,0,19.270423324055393,null,0,0,null,0]
[71,1.2915E-4,7.3359999999999996E-3,7741840,9968086,77399210000,9968086,77399210000,0,0,22.426348688856049,{"$f":"0","v":0},0,19.259470335061202,{"$f":"0","v":0},0,{"$f":"0","v":0},0,0,null,68,0.99986410000000003,1.359E-4,0,7.3336E-3,0,0.78476168983670569,9968574,7826422,179827700,22.43533355131289,9968574,78245660000,0,19.267714380145343,null,0,0,null,0]
[72,1.2689999999999999E-4,7.3368000000000001E-3,7713646,9967923,77117060000,9967923,77117060000,0,0,22.423309947505153,{"$f":"0","v":0},0,19.256670731210406,{"$f":"0","v":0},0,{"$f":"0","v":0},0,0,null,69,0.99986640000000004,1.3365E-4,0,7.3343999999999996E-3,0,0.78196951067602338,9968411,7798228,179156700,22.432360253295148,9968411,77963510000,0,19.264985164335851,null,0,0,null,0]
[73,1.2517499999999999E-4,7.3375999999999997E-3,7686654,9967783,76846950000,9967783,76846950000,0,0,22.420326939393913,{"$f":"0","v":0},0,19.25401194935338,{"$f":"0","v":0},0,{"$f":"0","v":0},0,0,null,70,0.9998686,1.314E-4,0,7.3352000000000001E-3,0,0.77918726607836375,9968248,7770034,178485700,22.429365377723357,9968248,77681360000,0,19.26224615746624,null,0,0,null,0]
[74,1.2344999999999999E-4,7.3384000000000001E-3,7659661,9967643,76576830000,9967643,76576830000,0,0,22.417325904936696,{"$f":"0","v":0},0,19.251317702232807,{"$f":"0","v":0},0,{"$f":"0","v":0},0,0,null,71,0.99987079999999995,1.2915E-4,0,7.3359999999999996E-3,0,0.77641492069658846,9968086,7741840,177814700,22.426348688856049,9968086,77399210000,0,19.259470335061202,null,0,0,null,0]
[75,1.21725E-4,7.3391999999999997E-3,7632669,9967502,76306720000,9967502,76306720000,0,0,22.414300636513911,{"$f":"0","v":0},0,19.248614899672926,{"$f":"0","v":0},0,{"$f":"0","v":0},0,0,null,72,0.99987309999999996,1.2689999999999999E-4,0,7.3368000000000001E-3,0,0.77365243930932448,9967923,7713646,177143700,22.423309947505153,9967923,77117060000,0,19.256670731210406,null,0,0,null,0]
[76,1.2E-4,7.3400000000000002E-3,7605676,9967362,76036600000,9967362,76036600000,0,0,22.411256913038805,{"$f":"0","v":0},0,19.245875973306344,{"$f":"0","v":0},0,{"$f":"0","v":0},0,0,null,73,0.99987479999999995,1.2517499999999999E-4,0,7.3375999999999997E-3,0,0.77089978682051608,9967783,7686654,176500900,22.420326939393913,9967783,76846950000,0,19.25401194935338,null,0,0,null,0]
[77,1.18275E-4,7.3407999999999998E-3,7578684,9967222,75766490000,9967222,75766490000,0,0,22.408188479688558,{"$f":"0","v":0},0,19.243128048615141,{"$f":"0","v":0},0,{"$f":"0","v":0},0,0,null,74,0.9998766,1.2344999999999999E-4,0,7.3384000000000001E-3,0,0.7681569282589793,9967643,7659661,175858100,22.417325904936696,9967643,76576830000,0,19.251317702232807,null,0,0,null,0]
[78,1.1655E-4,7.3416000000000002E-3,7551691,9967082,75496370000,9967082,75496370000,0,0,22.405101149972015,{"$f":"0","v":0},0,19.240343321369235,{"$f":"0","v":0},0,{"$f":"0","v":0},0,0,null,75,0.9998783,1.21725E-4,0,7.3391999999999997E-3,0,0.76542382877795767,9967502,7632669,175215300,22.414300636513911,9967502,76306720000,0,19.248614899672926,null,0,0,null,0]
[79,1.14825E-4,7.3423999999999998E-3,7524699,9966942,75226260000,9966942,75226260000,0,0,22.40198862107308,{"$f":"0","v":0},0,19.237549136072715,{"$f":"0","v":0},0,{"$f":"0","v":0},0,0,null,76,0.99987999999999999,1.2E-4,0,7.3400000000000002E-3,0,0.76270045365467909,9967362,7605676,174572500,22.411256913038805,9967362,76036600000,0,19.245875973306344,null,0,0,null,0]
[80,1.131E-4,7.3432000000000002E-3,7497706,9966802,74956140000,9966802,74956140000,0,0,22.398856741426421,{"$f":"0","v":0},0,19.234717448445892,{"$f":"0","v":0},0,{"$f":"0","v":0},0,0,null,77,0.99988169999999998,1.18275E-4,0,7.3407999999999998E-3,0,0.75998676828991485,9967222,7578684,173929700,22.408188479688558,9967222,75766490000,0,19.243128048615141,null,0,0,null,0]
[81,1.11375E-4,7.3439999999999998E-3,7470714,9966662,74686030000,9966662,74686030000,0,0,22.395699159410999,{"$f":"0","v":0},0,19.231875825453983,{"$f":"0","v":0},0,{"$f":"0","v":0},0,0,null,78,0.99988350000000004,1.1655E-4,0,7.3416000000000002E-3,0,0.75728273820754055,9967082,7551691,173286900,22.405101149972015,9967082,75496370000,0,19.240343321369235,null,0,0,null,0]
[82,1.0965E-4,7.3448000000000003E-3,7443721,9966521,74415920000,9966521,74415920000,0,0,22.392521758718971,{"$f":"0","v":0},0,19.228995978464507,{"$f":"0","v":0},0,{"$f":"0","v":0},0,0,null,79,0.99988520000000003,1.14825E-4,0,7.3423999999999998E-3,0,0.75458832905409756,9966942,7524699,172644100,22.40198862107308,9966942,75226260000,0,19.237549136072715,null,0,0,null,0]
[83,1.0792499999999999E-4,7.3455999999999999E-3,7416729,9966381,74145800000,9966381,74145800000,0,0,22.389318138090253,{"$f":"0","v":0},0,19.226105700419915,{"$f":"0","v":0},0,{"$f":"0","v":0},0,0,null,80,0.99988690000000002,1.131E-4,0,7.3432000000000002E-3,0,0.75190350659835647,9966802,7497706,172001300,22.398856741426421,9966802,74956140000,0,19.234717448445892,null,0,0,null,0]
[84,1.0620000000000001E-4,7.3464000000000003E-3,7389736,9966241,73875690000,9966241,73875690000,0,0,22.386094216807383,{"$f":"0","v":0},0,19.223176453911023,{"$f":"0","v":0},0,{"$f":"0","v":0},0,0,null,81,0.99988860000000002,1.11375E-4,0,7.3439999999999998E-3,0,0.7492282367308829,9966662,7470714,171358500,22.395699159410999,9966662,74686030000,0,19.231875825453983,null,0,0,null,0]
[85,1.0620000000000001E-4,7.3473330000000002E-3,7363889,9966118,73617050000,9966118,73617050000,0,0,22.382945586451218,{"$f":"0","v":0},0,19.220385989589214,{"$f":"0","v":0},0,{"$f":"0","v":0},0,0,null,82,0.99989030000000001,1.0965E-4,0,7.3448000000000003E-3,0,0.74656248546360338,9966521,7443721,170715700,22.392521758718971,9966521,74415920000,0,19.228995978464507,null,0,0,null,0]
[86,1.0620000000000001E-4,7.3482670000000003E-3,7338042,9965995,73358410000,9965995,73358410000,0,0,22.379774775069425,{"$f":"0","v":0},0,19.217586910315902,{"$f":"0","v":0},0,{"$f":"0","v":0},0,0,null,83,0.99989209999999995,1.0792499999999999E-4,0,7.3455999999999999E-3,0,0.74390621892937392,9966381,7416729,170072900,22.389318138090253,9966381,74145800000,0,19.226105700419915,null,0,0,null,0]
[87,1.0620000000000001E-4,7.3492000000000002E-3,7312196,9965872,73099760000,9965872,73099760000,0,0,22.376578413197166,{"$f":"0","v":0},0,19.214750354524273,{"$f":"0","v":0},0,{"$f":"0","v":0},0,0,null,84,0.99989380000000005,1.0620000000000001E-4,0,7.3464000000000003E-3,0,0.74125940338154972,9966241,7389736,169430100,22.386094216807383,9966241,73875690000,0,19.223176453911023,null,0,0,null,0]
[88,1.0620000000000001E-4,7.350133E-3,7286349,9965749,72841130000,9965749,72841130000,0,0,22.373348795809807,{"$f":"0","v":0},0,19.2118902934197,{"$f":"0","v":0},0,{"$f":"0","v":0},0,0,null,85,0.99989380000000005,1.0620000000000001E-4,0,7.3473330000000002E-3,0,0.7386220051935567,9966118,7363889,168814300,22.382945586451218,9966118,73617050000,0,19.220385989589214,null,0,0,null,0]
[89,1.0620000000000001E-4,7.3510670000000002E-3,7260502,9965626,72582490000,9965626,72582490000,0,0,22.370109957043372,{"$f":"0","v":0},0,19.209006433619042,{"$f":"0","v":0},0,{"$f":"0","v":0},0,0,null,86,0.99989380000000005,1.0620000000000001E-4,0,7.3482670000000003E-3,0,0.73599399085846351,9965995,7338042,168198500,22.379774775069425,9965995,73358410000,0,19.217586910315902,null,0,0,null,0]
[90,1.0620000000000001E-4,7.352E-3,7234655,9965503,72323840000,9965503,72323840000,0,0,22.366847975703976,{"$f":"0","v":0},0,19.206101351650371,{"$f":"0","v":0},0,{"$f":"0","v":0},0,0,null,87,0.99989380000000005,1.0620000000000001E-4,0,7.3492000000000002E-3,0,0.73337532698855679,9965872,7312196,167582700,22.376578413197166,9965872,73099760000,0,19.214750354524273,null,0,0,null,0]
[91,1.0620000000000001E-4,7.3529329999999999E-3,7208808,9965380,72065200000,9965380,72065200000,0,0,22.363562602860277,{"$f":"0","v":0},0,19.203169006226073,{"$f":"0","v":0},0,{"$f":"0","v":0},0,0,null,88,0.99989380000000005,1.0620000000000001E-4,0,7.350133E-3,0,0.73076598031491624,9965749,7286349,166966800,22.373348795809807,9965749,72841130000,0,19.2118902934197,null,0,0,null,0]
[92,1.0620000000000001E-4,7.353867E-3,7182961,9965257,71806570000,9965257,71806570000,0,0,22.360253585997938,{"$f":"0","v":0},0,19.200211952219231,{"$f":"0","v":0},0,{"$f":"0","v":0},0,0,null,89,0.99989380000000005,1.0620000000000001E-4,0,7.3510670000000002E-3,0,0.72816591768699235,9965626,7260502,166351000,22.370109957043372,9965626,72582490000,0,19.209006433619042,null,0,0,null,0]
[93,1.0620000000000001E-4,7.3547999999999999E-3,7157114,9965134,71547930000,9965134,71547930000,0,0,22.356920668954924,{"$f":"0","v":0},0,19.197229876008659,{"$f":"0","v":0},0,{"$f":"0","v":0},0,0,null,90,0.99989380000000005,1.0620000000000001E-4,0,7.352E-3,0,0.72557510607218512,9965503,7234655,165735200,22.366847975703976,9965503,72323840000,0,19.206101351650371,null,0,0,null,0]
[94,1.0620000000000001E-4,7.3557329999999997E-3,7131267,9965011,71289290000,9965011,71289290000,0,0,22.353563591855416,{"$f":"0","v":0},0,19.194222458642979,{"$f":"0","v":0},0,{"$f":"0","v":0},0,0,null,91,0.99989380000000005,1.0620000000000001E-4,0,7.3529329999999999E-3,0,0.72299351255542454,9965380,7208808,165119400,22.363562602860277,9965380,72065200000,0,19.203169006226073,null,0,0,null,0]
[95,1.0620000000000001E-4,7.3566669999999999E-3,7105421,9964888,71030640000,9964888,71030640000,0,0,22.350164795536628,{"$f":"0","v":0},0,19.19120424398595,{"$f":"0","v":0},0,{"$f":"0","v":0},0,0,null,92,0.99989380000000005,1.0620000000000001E-4,0,7.353867E-3,0,0.72042110433875206,9965257,7182961,164503600,22.360253585997938,9965257,71806570000,0,19.200211952219231,null,0,0,null,0]
[96,1.0620000000000001E-4,7.3575999999999997E-3,7079574,9964765,70772010000,9964765,70772010000,0,0,22.346758540838756,{"$f":"0","v":0},0,19.188145229278973,{"$f":"0","v":0},0,{"$f":"0","v":0},0,0,null,93,0.99989380000000005,1.0620000000000001E-4,0,7.3547999999999999E-3,0,0.71785784874090441,9965134,7157114,163887800,22.356920668954924,9965134,71547930000,0,19.197229876008659,null,0,0,null,0]
[97,1.06425E-4,7.3585999999999999E-3,7054812,9964642,70524230000,9964642,70524230000,0,0,22.343478961593874,{"$f":"0","v":0},0,19.185231069615547,{"$f":"0","v":0},0,{"$f":"0","v":0},0,0,null,94,0.99989380000000005,1.0620000000000001E-4,0,7.3557329999999997E-3,0,0.71530371319689789,9965011,7131267,163272000,22.353563591855416,9965011,71289290000,0,19.194222458642979,null,0,0,null,0]
[98,1.0665E-4,7.3596E-3,7030050,9964519,70276460000,9964519,70276460000,0,0,22.340162054323937,{"$f":"0","v":0},0,19.182289984772151,{"$f":"0","v":0},0,{"$f":"0","v":0},0,0,null,95,0.99989380000000005,1.0620000000000001E-4,0,7.3566669999999999E-3,0,0.71275866525761511,9964888,7105421,162656100,22.350164795536628,9964888,71030640000,0,19.19120424398595,null,0,0,null,0]
[99,1.06875E-4,7.3606000000000001E-3,7005288,9964396,70028690000,9964396,70028690000,0,0,22.336821698122904,{"$f":"0","v":0},0,19.179327605103833,{"$f":"0","v":0},0,{"$f":"0","v":0},0,0,null,96,0.99989380000000005,1.0620000000000001E-4,0,7.3575999999999997E-3,0,0.71022267258939242,9964765,7079574,162040300,22.346758540838756,9964765,70772010000,0,19.188145229278973,null,0,0,null,0]
[100,1.071E-4,7.3616000000000003E-3,6980526,9964273,69780910000,9964273,69780910000,0,0,22.333471969017808,{"$f":"0","v":0},0,19.176337678313594,{"$f":"0","v":0},0,{"$f":"0","v":0},0,0,null,97,0.99989349999999999,1.06425E-4,0,7.3585999999999999E-3,0,0.70769570297360906,9964642,7054812,161450400,22.343478961593874,9964642,70524230000,0,19.185231069615547,null,0,0,null,0]
[101,1.0732500000000001E-4,7.3626000000000004E-3,6955764,9964150,69533140000,9964150,69533140000,0,0,22.330084013776201,{"$f":"0","v":0},0,19.173325872045904,{"$f":"0","v":0},0,{"$f":"0","v":0},0,0,null,98,0.99989340000000004,1.0665E-4,0,7.3596E-3,0,0.70517772430627834,9964519,7030050,160860400,22.340162054323937,9964519,70276460000,0,19.182289984772151,null,0,0,null,0]
[102,1.0755E-4,7.3635999999999997E-3,6931001,9964028,69285360000,9964028,69285360000,0,0,22.326675150049272,{"$f":"0","v":0},0,19.170301182615823,{"$f":"0","v":0},0,{"$f":"0","v":0},0,0,null,99,0.99989309999999998,1.06875E-4,0,7.3606000000000001E-3,0,0.70266870459763897,9964396,7005288,160270400,22.336821698122904,9964396,70028690000,0,19.179327605103833,null,0,0,null,0]
[103,1.07775E-4,7.3645999999999998E-3,6906239,9963905,69037590000,9963905,69037590000,0,0,22.323253009585486,{"$f":"0","v":0},0,19.16723573741773,{"$f":"0","v":0},0,{"$f":"0","v":0},0,0,null,100,0.99989289999999997,1.071E-4,0,7.3616000000000003E-3,0,0.70016861197174984,9964273,6980526,159680500,22.333471969017808,9964273,69780910000,0,19.176337678313594,null,0,0,null,0]
[104,1.08E-4,7.3655999999999999E-3,6881477,9963782,68789810000,9963782,68789810000,0,0,22.319791709202349,{"$f":"0","v":0},0,19.164147498250401,{"$f":"0","v":0},0,{"$f":"0","v":0},0,0,null,101,0.99989269999999997,1.0732500000000001E-4,0,7.3626000000000004E-3,0,0.69767741466608357,9964150,6955764,159090500,22.330084013776201,9964150,69533140000,0,19.173325872045904,null,0,0,null,0]
[105,1.08225E-4,7.3666000000000001E-3,6856715,9963659,68542040000,9963659,68542040000,0,0,22.316319993125958,{"$f":"0","v":0},0,19.161030066175034,{"$f":"0","v":0},0,{"$f":"0","v":0},0,0,null,102,0.99989249999999996,1.0755E-4,0,7.3635999999999997E-3,0,0.69519508103112415,9964028,6931001,158500500,22.326675150049272,9964028,69285360000,0,19.170301182615823,null,0,0,null,0]
[106,1.0844999999999999E-4,7.3676000000000002E-3,6831953,9963536,68294270000,9963536,68294270000,0,0,22.312808473897093,{"$f":"0","v":0},0,19.157889203541146,{"$f":"0","v":0},0,{"$f":"0","v":0},0,0,null,103,0.99989220000000001,1.07775E-4,0,7.3645999999999998E-3,0,0.69272157952996416,9963905,6906239,157910600,22.323253009585486,9963905,69037590000,0,19.16723573741773,null,0,0,null,0]
[107,1.08675E-4,7.3686000000000003E-3,6807191,9963413,68046500000,9963413,68046500000,0,0,22.309271407496375,{"$f":"0","v":0},0,19.154718450585573,{"$f":"0","v":0},0,{"$f":"0","v":0},0,0,null,104,0.999892,1.08E-4,0,7.3655999999999999E-3,0,0.69025687873790476,9963782,6881477,157320600,22.319791709202349,9963782,68789810000,0,19.164147498250401,null,0,0,null,0]
[108,1.089E-4,7.3695999999999996E-3,6782429,9963290,67798720000,9963290,67798720000,0,0,22.305723258093327,{"$f":"0","v":0},0,19.151523608115024,{"$f":"0","v":0},0,{"$f":"0","v":0},0,0,null,105,0.9998918,1.08225E-4,0,7.3666000000000001E-3,0,0.68780094734205566,9963659,6856715,156730700,22.316319993125958,9963659,68542040000,0,19.161030066175034,null,0,0,null,0]
[109,1.09275E-4,7.370667E-3,6758705,9963165,67561340000,9963165,67561340000,0,0,22.302295305338323,{"$f":"0","v":0},0,19.148492376175646,{"$f":"0","v":0},0,{"$f":"0","v":0},0,0,null,106,0.99989159999999999,1.0844999999999999E-4,0,7.3676000000000002E-3,0,0.68535375414093802,9963536,6831953,156140700,22.312808473897093,9963536,68294270000,0,19.157889203541146,null,0,0,null,0]
[110,1.0965E-4,7.3717330000000001E-3,6734981,9963040,67323960000,9963040,67323960000,0,0,22.298843202626209,{"$f":"0","v":0},0,19.145420391519227,{"$f":"0","v":0},0,{"$f":"0","v":0},0,0,null,107,0.99989130000000004,1.08675E-4,0,7.3686000000000003E-3,0,0.68291526804408753,9963413,6807191,155550700,22.309271407496375,9963413,68046500000,0,19.154718450585573,null,0,0,null,0]
[111,1.10025E-4,7.3727999999999997E-3,6711257,9962914,67086590000,9962914,67086590000,0,0,22.29536669384985,{"$f":"0","v":0},0,19.142323043901744,{"$f":"0","v":0},0,{"$f":"0","v":0},0,0,null,108,0.99989110000000003,1.089E-4,0,7.3695999999999996E-3,0,0.68048545807165994,9963290,6782429,154960800,22.305723258093327,9963290,67798720000,0,19.151523608115024,null,0,0,null,0]
[112,1.104E-4,7.3738670000000001E-3,6687533,9962789,66849210000,9962789,66849210000,0,0,22.291865519267965,{"$f":"0","v":0},0,19.139200017918135,{"$f":"0","v":0},0,{"$f":"0","v":0},0,0,null,109,0.99989070000000002,1.09275E-4,0,7.370667E-3,0,0.67806429335403673,9963165,6758705,154395600,22.302295305338323,9963165,67561340000,0,19.148492376175646,null,0,0,null,0]
[113,1.10775E-4,7.3749330000000002E-3,6663808,9962664,66611830000,9962664,66611830000,0,0,22.288342841410394,{"$f":"0","v":0},0,19.13605099291189,{"$f":"0","v":0},0,{"$f":"0","v":0},0,0,null,110,0.99989030000000001,1.0965E-4,0,7.3717330000000001E-3,0,0.67565174313143372,9963040,6734981,153830400,22.298843202626209,9963040,67323960000,0,19.145420391519227,null,0,0,null,0]
[114,1.1115E-4,7.3759999999999997E-3,6640084,9962539,66374450000,9962539,66374450000,0,0,22.284791552837785,{"$f":"0","v":0},0,19.13287564286528,{"$f":"0","v":0},0,{"$f":"0","v":0},0,0,null,111,0.99988999999999995,1.10025E-4,0,7.3727999999999997E-3,0,0.67324777675350977,9962914,6711257,153265200,22.29536669384985,9962914,67086590000,0,19.142323043901744,null,0,0,null,0]
[115,1.11525E-4,7.3770670000000002E-3,6616360,9962414,66137070000,9962414,66137070000,0,0,22.281214796857082,{"$f":"0","v":0},0,19.129673636286846,{"$f":"0","v":0},0,{"$f":"0","v":0},0,0,null,112,0.99988960000000005,1.104E-4,0,7.3738670000000001E-3,0,0.67085236367897771,9962789,6687533,152700000,22.291865519267965,9962789,66849210000,0,19.139200017918135,null,0,0,null,0]
[116,1.119E-4,7.3781330000000003E-3,6592636,9962289,65899690000,9962289,65899690000,0,0,22.277612298530258,{"$f":"0","v":0},0,19.126460865530909,{"$f":"0","v":0},0,{"$f":"0","v":0},0,0,null,113,0.99988929999999998,1.10775E-4,0,7.3749330000000002E-3,0,0.66846547347521579,9962664,6663808,152134800,22.288342841410394,9962664,66611830000,0,19.13605099291189,null,0,0,null,0]
[117,1.1227500000000001E-4,7.3791999999999998E-3,6568912,9962164,65662310000,9962164,65662310000,0,0,22.273983778947461,{"$f":"0","v":0},0,19.123204597638203,{"$f":"0","v":0},0,{"$f":"0","v":0},0,0,null,114,0.99988880000000002,1.1115E-4,0,7.3759999999999997E-3,0,0.66608707581788185,9962539,6640084,151569600,22.284791552837785,9962539,66374450000,0,19.13287564286528,null,0,0,null,0]
[118,1.1265E-4,7.3802670000000003E-3,6545188,9962038,65424930000,9962038,65424930000,0,0,22.270328955155044,{"$f":"0","v":0},0,19.119920645312643,{"$f":"0","v":0},0,{"$f":"0","v":0},0,0,null,115,0.99988849999999996,1.11525E-4,0,7.3770670000000002E-3,0,0.66371714049052721,9962414,6616360,151004400,22.281214796857082,9962414,66137070000,0,19.129673636286846,null,0,0,null,0]
[119,1.13025E-4,7.3813339999999998E-3,6521463,9961913,65187560000,9961913,65187560000,0,0,22.266651037504928,{"$f":"0","v":0},0,19.116608653991982,{"$f":"0","v":0},0,{"$f":"0","v":0},0,0,null,116,0.99988809999999995,1.119E-4,0,7.3781330000000003E-3,0,0.66135563738421377,9962289,6592636,150439200,22.277612298530258,9962289,65899690000,0,19.126460865530909,null,0,0,null,0]
[120,1.1340000000000001E-4,7.3823999999999999E-3,6497739,9961788,64950180000,9961788,64950180000,0,0,22.262942752086531,{"$f":"0","v":0},0,19.113268263033373,{"$f":"0","v":0},0,{"$f":"0","v":0},0,0,null,117,0.99988770000000005,1.1227500000000001E-4,0,7.3791999999999998E-3,0,0.65900253649713014,9962164,6568912,149874000,22.273983778947461,9962164,65662310000,0,19.123204597638203,null,0,0,null,0]
[121,1.13925E-4,7.3835339999999998E-3,6475009,9961659,64722750000,9961659,64722750000,0,0,22.259367277842134,{"$f":"0","v":0},0,19.110088192277789,{"$f":"0","v":0},0,{"$f":"0","v":0},0,0,null,118,0.99988730000000003,1.1265E-4,0,7.3802670000000003E-3,0,0.65665780793421213,9962038,6545188,149308800,22.270328955155044,9962038,65424930000,0,19.119920645312643,null,0,0,null,0]
[122,1.1445E-4,7.3846670000000001E-3,6452278,9961530,64495320000,9961530,64495320000,0,0,22.25577014557236,{"$f":"0","v":0},0,19.106885238093732,{"$f":"0","v":0},0,{"$f":"0","v":0},0,0,null,119,0.99988699999999997,1.13025E-4,0,7.3813339999999998E-3,0,0.65432142190676124,9961913,6521463,148743600,22.266651037504928,9961913,65187560000,0,19.116608653991982,null,0,0,null,0]
[123,1.14975E-4,7.3857999999999997E-3,6429547,9961401,64267890000,9961401,64267890000,0,0,22.252147578722628,{"$f":"0","v":0},0,19.103652549047396,{"$f":"0","v":0},0,{"$f":"0","v":0},0,0,null,120,0.99988659999999996,1.1340000000000001E-4,0,7.3823999999999999E-3,0,0.65199334873206771,9961788,6497739,148178400,22.262942752086531,9961788,64950180000,0,19.113268263033373,null,0,0,null,0]
[124,1.155E-4,7.3869340000000004E-3,6406817,9961272,64040460000,9961272,64040460000,0,0,22.248495749397346,{"$f":"0","v":0},0,19.100393053145304,{"$f":"0","v":0},0,{"$f":"0","v":0},0,0,null,121,0.9998861,1.13925E-4,0,7.3835339999999998E-3,0,0.64967355883303235,9961659,6475009,147636900,22.259367277842134,9961659,64722750000,0,19.110088192277789,null,0,0,null,0]
[125,1.16025E-4,7.3880669999999999E-3,6384086,9961143,63813030000,9961143,63813030000,0,0,22.244821485278653,{"$f":"0","v":0},0,19.097109724969705,{"$f":"0","v":0},0,{"$f":"0","v":0},0,0,null,122,0.99988560000000004,1.1445E-4,0,7.3846670000000001E-3,0,0.64736202273779142,9961530,6452278,147095400,22.25577014557236,9961530,64495320000,0,19.106885238093732,null,0,0,null,0]
[126,1.1655E-4,7.3892000000000003E-3,6361355,9961014,63585600000,9961014,63585600000,0,0,22.241136682619764,{"$f":"0","v":0},0,19.093778696672977,{"$f":"0","v":0},0,{"$f":"0","v":0},0,0,null,123,0.99988500000000002,1.14975E-4,0,7.3857999999999997E-3,0,0.64505871107934165,9961401,6429547,146553900,22.252147578722628,9961401,64267890000,0,19.103652549047396,null,0,0,null,0]
[127,1.17075E-4,7.3903329999999998E-3,6338625,9960886,63358170000,9960886,63358170000,0,0,22.237406081760632,{"$f":"0","v":0},0,19.090436691048669,{"$f":"0","v":0},0,{"$f":"0","v":0},0,0,null,124,0.99988449999999995,1.155E-4,0,7.3869340000000004E-3,0,0.64276359459516796,9961272,6406817,146012400,22.248495749397346,9961272,64040460000,0,19.100393053145304,null,0,0,null,0]
[128,{"$f":"W133","v":1.176E-4},{"$f":"Y133","v":7.3914669999999997E-3},{"$f":"AC133","v":6315894},{"$f":"AF133","v":9960757},{"$f":"AG133","v":63130750000},{"$f":"E130","v":9960757},{"$f":"F130","v":63130750000},{"$f":"X133","v":0},{"$f":"AN133","v":0},{"$f":"AE133","v":22.233652235138841},{"$f":"0","v":0},{"$f":"AL133","v":0},{"$f":"AI133","v":19.087069854247577},{"$f":"0","v":0},{"$f":"AK133","v":0},{"$f":"0","v":0},{"$f":"Z133","v":0},{"$f":"AH133","v":0},null,125,0.99988390000000005,1.16025E-4,0,7.3880669999999999E-3,0,0.64047664412687066,9961143,6384086,145470900,22.244821485278653,9961143,63813030000,0,19.097109724969705,null,0,0,null,0]
[129,1.18125E-4,7.3926E-3,6293163,9960628,62903320000,9960628,62903320000,0,0,22.229871270615426,{"$f":"0","v":0},0,19.083671142802793,{"$f":"0","v":0},0,{"$f":"0","v":0},0,0,null,126,0.99988350000000004,1.1655E-4,0,7.3892000000000003E-3,0,0.63819783061979596,9961014,6361355,144929500,22.241136682619764,9961014,63585600000,0,19.093778696672977,null,0,0,null,0]
[130,1.1865E-4,7.3937339999999999E-3,6270433,9960499,62675890000,9960499,62675890000,0,0,22.226075210170226,{"$f":"0","v":0},0,19.0802469056128,{"$f":"0","v":0},0,{"$f":"0","v":0},0,0,null,127,0.99988290000000002,1.17075E-4,0,7.3903329999999998E-3,0,0.63592712512266591,9960886,6338625,144388000,22.237406081760632,9960886,63358170000,0,19.090436691048669,null,0,0,null,0]
[131,1.19175E-4,7.3948670000000003E-3,6247702,9960370,62448460000,9960370,62448460000,0,0,22.222239166229972,{"$f":"0","v":0},0,19.076790032506764,{"$f":"0","v":0},0,{"$f":"0","v":0},0,0,null,128,0.99988239999999995,1.176E-4,0,7.3914669999999997E-3,0,0.63366449878721176,9960757,6315894,143846500,22.233652235138841,9960757,63130750000,0,19.087069854247577,null,0,0,null,0]
[132,1.197E-4,7.3959999999999998E-3,6224971,9960241,62221030000,9960241,62221030000,0,0,22.218375107021917,{"$f":"0","v":0},0,19.073303510037487,{"$f":"0","v":0},0,{"$f":"0","v":0},0,0,null,129,0.99988189999999999,1.18125E-4,0,7.3926E-3,0,0.63140992286780628,9960628,6293163,143305000,22.229871270615426,9960628,62903320000,0,19.083671142802793,null,0,0,null,0]
[133,1.20375E-4,7.3971999999999996E-3,6203192,9960107,62003130000,9960107,62003130000,0,0,22.214649758812342,{"$f":"0","v":0},0,19.069983378830159,{"$f":"0","v":0},0,{"$f":"0","v":0},0,0,null,130,0.99988129999999997,1.1865E-4,0,7.3937339999999999E-3,0,0.62916336872109924,9960499,6270433,142763600,22.226075210170226,9960499,62675890000,0,19.0802469056128,null,0,0,null,0]
[134,1.2105E-4,7.3984000000000003E-3,6181412,9959973,61785220000,9959973,61785220000,0,0,22.210918017868192,{"$f":"0","v":0},0,19.066632502131945,{"$f":"0","v":0},0,{"$f":"0","v":0},0,0,null,131,0.99988089999999996,1.19175E-4,0,7.3948670000000003E-3,0,0.62692480780565341,9960370,6247702,142222100,22.222239166229972,9960370,62448460000,0,19.076790032506764,null,0,0,null,0]
[135,1.21725E-4,7.3996000000000001E-3,6159632,9959839,61567320000,9959839,61567320000,0,0,22.207159886607943,{"$f":"0","v":0},0,19.063253945800394,{"$f":"0","v":0},0,{"$f":"0","v":0},0,0,null,132,0.99988030000000006,1.197E-4,0,7.3959999999999998E-3,0,0.62469421168158179,9960241,6224971,141680600,22.218375107021917,9960241,62221030000,0,19.073303510037487,null,0,0,null,0]
[136,1.2239999999999999E-4,7.4007999999999999E-3,6137853,9959705,61349420000,9959705,61349420000,0,0,22.203355086053705,{"$f":"0","v":0},0,19.05983317893746,{"$f":"0","v":0},0,{"$f":"0","v":0},0,0,null,133,0.99987959999999998,1.20375E-4,0,7.3971999999999996E-3,0,0.62247155201018645,9960107,6203192,141161800,22.214649758812342,9960107,62003130000,0,19.069983378830159,null,0,0,null,0]
[137,1.23075E-4,7.4019999999999997E-3,6116073,9959571,61131510000,9959571,61131510000,0,0,22.199526906398926,{"$f":"0","v":0},0,19.056398164741406,{"$f":"0","v":0},0,{"$f":"0","v":0},0,0,null,134,0.99987890000000001,1.2105E-4,0,7.3984000000000003E-3,0,0.62025680055359833,9959973,6181412,140643100,22.210918017868192,9959973,61785220000,0,19.066632502131945,null,0,0,null,0]
[138,1.2375E-4,7.4032000000000004E-3,6094293,9959436,60913610000,9959436,60913610000,0,0,22.195687772970548,{"$f":"0","v":0},0,19.052937906340077,{"$f":"0","v":0},0,{"$f":"0","v":0},0,0,null,135,0.9998783,1.21725E-4,0,7.3996000000000001E-3,0,0.61804992917441881,9959839,6159632,140124400,22.207159886607943,9959839,61567320000,0,19.063253945800394,null,0,0,null,0]
[139,1.24425E-4,7.4044009999999997E-3,6072514,9959302,60695700000,9959302,60695700000,0,0,22.191817356589599,{"$f":"0","v":0},0,19.049445082911703,{"$f":"0","v":0},0,{"$f":"0","v":0},0,0,null,136,0.99987760000000003,1.2239999999999999E-4,0,7.4007999999999999E-3,0,0.61585090983536184,9959705,6137853,139605600,22.203355086053705,9959705,61349420000,0,19.05983317893746,null,0,0,null,0]
[140,1.2510000000000001E-4,7.4056010000000004E-3,6050734,9959168,60477800000,9959168,60477800000,0,0,22.187906307455151,{"$f":"0","v":0},0,19.045922798909238,{"$f":"0","v":0},0,{"$f":"0","v":0},0,0,null,137,0.99987689999999996,1.23075E-4,0,7.4019999999999997E-3,0,0.61365971459889801,9959571,6116073,139086800,22.199526906398926,9959571,61131510000,0,19.056398164741406,null,0,0,null,0]
[141,1.2577500000000001E-4,7.4068010000000002E-3,6028955,9959034,60259900000,9959034,60259900000,0,0,22.183979817674317,{"$f":"0","v":0},0,19.042374208850113,{"$f":"0","v":0},0,{"$f":"0","v":0},0,0,null,138,0.99987630000000005,1.2375E-4,0,7.4032000000000004E-3,0,0.61147631562689952,9959436,6094293,138568100,22.195687772970548,9959436,60913610000,0,19.052937906340077,null,0,0,null,0]
[142,1.2645000000000001E-4,7.408001E-3,6007175,9958900,60041990000,9958900,60041990000,0,0,22.180011992603287,{"$f":"0","v":0},0,19.038791888759242,{"$f":"0","v":0},0,{"$f":"0","v":0},0,0,null,139,0.99987550000000003,1.24425E-4,0,7.4044009999999997E-3,0,0.60930068518028657,9959302,6072514,138049400,22.191817356589599,9959302,60695700000,0,19.049445082911703,null,0,0,null,0]
[143,1.2712499999999999E-4,7.4092009999999998E-3,5985395,9958766,59824090000,9958766,59824090000,0,0,22.176031998166646,{"$f":"0","v":0},0,19.035178966038611,{"$f":"0","v":0},0,{"$f":"0","v":0},0,0,null,140,0.99987490000000001,1.2510000000000001E-4,0,7.4056010000000004E-3,0,0.60713279561867484,9959168,6050734,137530600,22.187906307455151,9959168,60477800000,0,19.045922798909238,null,0,0,null,0]
[144,1.2779999999999999E-4,7.4104009999999996E-3,5963616,9958632,59606190000,9958632,59606190000,0,0,22.172002355617799,{"$f":"0","v":0},0,19.031538619127009,{"$f":"0","v":0},0,{"$f":"0","v":0},0,0,null,141,0.99987420000000005,1.2577500000000001E-4,0,7.4068010000000002E-3,0,0.60497261940002445,9959034,6028955,137011900,22.183979817674317,9959034,60259900000,0,19.042374208850113,null,0,0,null,0]
[145,1.2855000000000001E-4,7.4117339999999997E-3,5942747,9958491,59397400000,9958491,59397400000,0,0,22.168150863845735,{"$f":"0","v":0},0,19.028067181859637,{"$f":"0","v":0},0,{"$f":"0","v":0},0,0,null,142,0.99987360000000003,1.2645000000000001E-4,0,7.408001E-3,0,0.60282012908028981,9958900,6007175,136493100,22.180011992603287,9958900,60041990000,0,19.038791888759242,null,0,0,null,0]
[146,1.293E-4,7.4130669999999997E-3,5921878,9958350,59188620000,9958350,59188620000,0,0,22.164255339831946,{"$f":"0","v":0},0,19.024567178428416,{"$f":"0","v":0},0,{"$f":"0","v":0},0,0,null,143,0.99987289999999995,1.2712499999999999E-4,0,7.4092009999999998E-3,0,0.60067529731307134,9958766,5985395,135974400,22.176031998166646,9958766,59824090000,0,19.035178966038611,null,0,0,null,0]
[147,1.3004999999999999E-4,7.4144010000000002E-3,5901009,9958210,58979840000,9958210,58979840000,0,0,22.160332262668977,{"$f":"0","v":0},0,19.02103825477376,{"$f":"0","v":0},0,{"$f":"0","v":0},0,0,null,144,0.99987219999999999,1.2779999999999999E-4,0,7.4104009999999996E-3,0,0.59853809684926795,9958632,5963616,135455600,22.172002355617799,9958632,59606190000,0,19.031538619127009,null,0,0,null,0]
[148,1.3080000000000001E-4,7.4157340000000002E-3,5880140,9958069,58771050000,9958069,58771050000,0,0,22.156398345390869,{"$f":"0","v":0},0,19.017476422025702,{"$f":"0","v":0},0,{"$f":"0","v":0},0,0,null,145,0.99987139999999997,1.2855000000000001E-4,0,7.4117339999999997E-3,0,0.59640850053673045,9958491,5942747,134958700,22.168150863845735,9958491,59397400000,0,19.028067181859637,null,0,0,null,0]
[149,1.3155E-4,7.4170670000000003E-3,5859271,9957928,58562270000,9957928,58562270000,0,0,22.15241933823053,{"$f":"0","v":0},0,19.013888557672196,{"$f":"0","v":0},0,{"$f":"0","v":0},0,0,null,146,0.9998707,1.293E-4,0,7.4130669999999997E-3,0,0.59428648131991724,9958350,5921878,134461700,22.164255339831946,9958350,59188620000,0,19.024567178428416,null,0,0,null,0]
[150,1.3229999999999999E-4,7.4184000000000003E-3,5838401,9957788,58353480000,9957788,58353480000,0,0,22.148415772001044,{"$f":"0","v":0},0,19.010270675056226,{"$f":"0","v":0},0,{"$f":"0","v":0},0,0,null,147,0.99986989999999998,1.3004999999999999E-4,0,7.4144010000000002E-3,0,0.59217201223954974,9958210,5901009,133964700,22.160332262668977,9958210,58979840000,0,19.02103825477376,null,0,0,null,0]
[151,1.3305000000000001E-4,7.4197330000000004E-3,5817532,9957647,58144690000,9957647,58144690000,0,0,22.144396770543477,{"$f":"0","v":0},0,19.006622395868558,{"$f":"0","v":0},0,{"$f":"0","v":0},0,0,null,148,0.99986920000000001,1.3080000000000001E-4,0,7.4157340000000002E-3,0,0.59006506643227086,9958069,5880140,133467800,22.156398345390869,9958069,58771050000,0,19.017476422025702,null,0,0,null,0]
[152,1.338E-4,7.4210669999999999E-3,5796663,9957506,57935910000,9957506,57935910000,0,0,22.140331579565689,{"$f":"0","v":0},0,19.002943335416219,{"$f":"0","v":0},0,{"$f":"0","v":0},0,0,null,149,0.99986850000000005,1.3155E-4,0,7.4170670000000003E-3,0,0.58796561713030304,9957928,5859271,132970800,22.15241933823053,9957928,58562270000,0,19.013888557672196,null,0,0,null,0]
[153,1.3454999999999999E-4,7.4224E-3,5775794,9957365,57727120000,9957365,57727120000,0,0,22.136237012031014,{"$f":"0","v":0},0,18.999233102487267,{"$f":"0","v":0},0,{"$f":"0","v":0},0,0,null,150,0.99986770000000003,1.3229999999999999E-4,0,7.4184000000000003E-3,0,0.58587363766110834,9957788,5838401,132473800,22.148415772001044,9957788,58353480000,0,19.010270675056226,null,0,0,null,0]
[154,1.3530000000000001E-4,7.4237330000000001E-3,5754925,9957224,57518340000,9957224,57518340000,0,0,22.132130124777181,{"$f":"0","v":0},0,18.995491299212119,{"$f":"0","v":0},0,{"$f":"0","v":0},0,0,null,151,0.99986699999999995,1.3305000000000001E-4,0,7.4197330000000004E-3,0,0.58378910144704976,9957647,5817532,131976900,22.144396770543477,9957647,58144690000,0,19.006622395868558,null,0,0,null,0]
[155,1.3605E-4,7.4250669999999996E-3,5734056,9957084,57309560000,9957084,57309560000,0,0,22.127975903967453,{"$f":"0","v":0},0,18.991717520921327,{"$f":"0","v":0},0,{"$f":"0","v":0},0,0,null,152,0.99986620000000004,1.338E-4,0,7.4210669999999999E-3,0,0.58171198200505325,9957506,5796663,131479900,22.140331579565689,9957506,57935910000,0,19.002943335416219,null,0,0,null,0]
[156,1.3679999999999999E-4,7.4263999999999997E-3,5713187,9956943,57100770000,9956943,57100770000,0,0,22.123791334270461,{"$f":"0","v":0},0,18.987911355999685,{"$f":"0","v":0},0,{"$f":"0","v":0},0,0,null,153,0.99986549999999996,1.3454999999999999E-4,0,7.4224E-3,0,0.57964225294627147,9957365,5775794,130982900,22.136237012031014,9957365,57727120000,0,18.999233102487267,null,0,0,null,0]
[157,1.3770000000000001E-4,7.4278670000000003E-3,5693190,9956795,56900720000,9956795,56900720000,0,0,22.119776215092067,{"$f":"0","v":0},0,18.984272105402606,{"$f":"0","v":0},0,{"$f":"0","v":0},0,0,null,154,0.99986470000000005,1.3530000000000001E-4,0,7.4237330000000001E-3,0,0.57757988797574877,9957224,5754925,130486000,22.132130124777181,9957224,57518340000,0,18.995491299212119,null,0,0,null,0]
[158,1.3860000000000001E-4,7.4293329999999998E-3,5673194,9956646,56700670000,9956646,56700670000,0,0,22.115728796982204,{"$f":"0","v":0},0,18.980626025028347,{"$f":"0","v":0},0,{"$f":"0","v":0},0,0,null,155,0.99986390000000003,1.3605E-4,0,7.4250669999999996E-3,0,0.57552486089208643,9957084,5734056,129989000,22.127975903967453,9957084,57309560000,0,18.991717520921327,null,0,0,null,0]
[159,1.395E-4,7.4308000000000004E-3,5653197,9956498,56500620000,9956498,56500620000,0,0,22.111656753691758,{"$f":"0","v":0},0,18.976949807408637,{"$f":"0","v":0},0,{"$f":"0","v":0},0,0,null,156,0.99986319999999995,1.3679999999999999E-4,0,7.4263999999999997E-3,0,0.57347714558711049,9956943,5713187,129492000,22.123791334270461,9956943,57100770000,0,18.987911355999685,null,0,0,null,0]
[160,1.404E-4,7.4322670000000002E-3,5633200,9956350,56300570000,9956350,56300570000,0,0,22.10755580013728,{"$f":"0","v":0},0,18.973219761039392,{"$f":"0","v":0},0,{"$f":"0","v":0},0,0,null,157,0.99986229999999998,1.3770000000000001E-4,0,7.4278670000000003E-3,0,0.57143671604553969,9956795,5693190,129015900,22.119776215092067,9956795,56900720000,0,18.984272105402606,null,0,0,null,0]
[161,1.4129999999999999E-4,7.4337329999999997E-3,5613203,9956202,56100520000,9956202,56100520000,0,0,22.103425627340872,{"$f":"0","v":0},0,18.969478122538547,{"$f":"0","v":0},0,{"$f":"0","v":0},0,0,null,158,0.99986140000000001,1.3860000000000001E-4,0,7.4293329999999998E-3,0,0.56940354634465506,9956646,5673194,128539800,22.115728796982204,9956646,56700670000,0,18.980626025028347,null,0,0,null,0]
[162,1.4219999999999999E-4,7.4352000000000003E-3,5593206,9956054,55900470000,9956054,55900470000,0,0,22.099265921905968,{"$f":"0","v":0},0,18.965701234206509,{"$f":"0","v":0},0,{"$f":"0","v":0},0,0,null,159,0.99986050000000004,1.395E-4,0,7.4308000000000004E-3,0,0.56737761065397041,9956498,5653197,128063700,22.111656753691758,9956498,56500620000,0,18.976949807408637,null,0,0,null,0]
[163,1.4310000000000001E-4,7.4366670000000001E-3,5573210,9955905,55700420000,9955905,55700420000,0,0,22.095072304231611,{"$f":"0","v":0},0,18.961888749725485,{"$f":"0","v":0},0,{"$f":"0","v":0},0,0,null,160,0.99985959999999996,1.404E-4,0,7.4322670000000002E-3,0,0.5653588832349048,9956350,5633200,127587600,22.10755580013728,9956350,56300570000,0,18.973219761039392,null,0,0,null,0]
[164,1.44E-4,7.4381330000000004E-3,5553213,9955757,55500370000,9955757,55500370000,0,0,22.090852561391035,{"$f":"0","v":0},0,18.958047957604492,{"$f":"0","v":0},0,{"$f":"0","v":0},0,0,null,161,0.99985869999999999,1.4129999999999999E-4,0,7.4337329999999997E-3,0,0.56334733844045448,9956202,5613203,127111500,22.103425627340872,9956202,56100520000,0,18.969478122538547,null,0,0,null,0]
[165,1.449E-4,7.4396000000000002E-3,5533216,9955609,55300320000,9955609,55300320000,0,0,22.086602318314217,{"$f":"0","v":0},0,18.954174611592649,{"$f":"0","v":0},0,{"$f":"0","v":0},0,0,null,162,0.99985780000000002,1.4219999999999999E-4,0,7.4352000000000003E-3,0,0.56134295071486795,9956054,5593206,126635400,22.099265921905968,9956054,55900470000,0,18.965701234206509,null,0,0,null,0]
[166,1.4579999999999999E-4,7.441067E-3,5513219,9955460,55100270000,9955460,55100270000,0,0,22.082321243118887,{"$f":"0","v":0},0,18.950262395511967,{"$f":"0","v":0},0,{"$f":"0","v":0},0,0,null,163,0.99985690000000005,1.4310000000000001E-4,0,7.4366670000000001E-3,0,0.55934569459332084,9955905,5573210,126159300,22.095072304231611,9955905,55700420000,0,18.961888749725485,null,0,0,null,0]
[167,1.4669999999999999E-4,7.4425339999999998E-3,5493223,9955312,54900220000,9955312,54900220000,0,0,22.07800488134804,{"$f":"0","v":0},0,18.946322663254641,{"$f":"0","v":0},0,{"$f":"0","v":0},0,0,null,164,0.99985599999999997,1.44E-4,0,7.4381330000000004E-3,0,0.55735554470159299,9955757,5553213,125683200,22.090852561391035,9955757,55500370000,0,18.958047957604492,null,0,0,null,0]
[168,1.4760000000000001E-4,7.4440000000000001E-3,5473226,9955164,54700170000,9955164,54700170000,0,0,22.073661112599162,{"$f":"0","v":0},0,18.942349108503262,{"$f":"0","v":0},0,{"$f":"0","v":0},0,0,null,165,0.9998551,1.449E-4,0,7.4396000000000002E-3,0,0.55537247575574478,9955609,5533216,125207100,22.086602318314217,9955609,55300320000,0,18.954174611592649,null,0,0,null,0]
[169,1.4857499999999999E-4,7.4455340000000002E-3,5454064,9955007,54508480000,9955007,54508480000,3.5000000000000245E-6,0,22.069490811500071,{"$f":"0","v":0},0,18.938561886236844,{"$f":"0","v":0},0,{"$f":"0","v":0},0,3.4869703155000245E-6,null,166,0.99985420000000003,1.4579999999999999E-4,0,7.441067E-3,0,0.55339646256179753,9955460,5513219,124731000,22.082321243118887,9955460,55100270000,0,18.950262395511967,null,0,0,null,0]
[170,1.4955E-4,7.4470669999999999E-3,5434902,9954850,54316800000,9954850,54316800000,6.9999999999999745E-6,0,22.065291103685034,{"$f":"0","v":0},0,18.934745407561593,{"$f":"0","v":0},0,{"$f":"0","v":0},0,6.9739352654999745E-6,null,167,0.99985329999999994,1.4669999999999999E-4,0,7.4425339999999998E-3,0,0.5514274800154122,9955312,5493223,124254900,22.07800488134804,9955312,54900220000,0,18.946322663254641,null,0,0,null,0]
[171,1.5052500000000001E-4,7.4485999999999997E-3,5415741,9954692,54125110000,9954692,54125110000,1.0499999999999999E-5,0,22.061057503488442,{"$f":"0","v":0},0,18.930901457958708,{"$f":"0","v":0},0,{"$f":"0","v":0},0,1.0460894849999999E-5,null,168,0.99985239999999997,1.4760000000000001E-4,0,7.4440000000000001E-3,0,0.54946550310157105,9955164,5473226,123778800,22.073661112599162,9955164,54700170000,0,18.942349108503262,null,0,0,null,0]
[172,1.515E-4,7.4501339999999997E-3,5396579,9954535,53933420000,9954535,53933420000,1.4000000000000024E-5,0,22.056798027355232,{"$f":"0","v":0},0,18.927019547225907,{"$f":"0","v":0},0,{"$f":"0","v":0},0,1.3947849062000025E-5,null,169,0.99985139999999995,1.4857499999999999E-4,3.5000000000000245E-6,7.4455340000000002E-3,0,0.54751050689425984,9955007,5454064,123322700,22.069490811500071,9955007,54508480000,3.4869703155000245E-6,18.938561886236844,null,0,0,null,0]
[173,1.5247500000000001E-4,7.4516670000000004E-3,5377418,9954378,53741740000,9954378,53741740000,1.7499999999999975E-5,0,22.052503992932419,{"$f":"0","v":0},0,18.923107222379123,{"$f":"0","v":0},0,{"$f":"0","v":0},0,1.7434797913749975E-5,null,170,0.99985049999999998,1.4955E-4,6.9999999999999745E-6,7.4470669999999999E-3,0,0.54556246655615048,9954850,5434902,122866600,22.065291103685034,9954850,54316800000,6.9739352654999745E-6,18.934745407561593,null,0,0,null,0]
[174,1.5344999999999999E-4,7.4532000000000001E-3,5358256,9954221,53550050000,9954221,53550050000,2.0999999999999999E-5,0,22.048183463674249,{"$f":"0","v":0},0,18.919160184920674,{"$f":"0","v":0},0,{"$f":"0","v":0},0,2.0921741399999999E-5,null,171,0.99984949999999995,1.5052500000000001E-4,1.0499999999999999E-5,7.4485999999999997E-3,0,0.54362135733828654,9954692,5415741,122410500,22.061057503488442,9954692,54125110000,1.0460894849999999E-5,18.930901457958708,null,0,0,null,0]
[175,1.54425E-4,7.4547329999999998E-3,5339094,9954064,53358360000,9954064,53358360000,2.4500000000000023E-5,0,22.043831921670606,{"$f":"0","v":0},0,18.915186083033166,{"$f":"0","v":0},0,{"$f":"0","v":0},0,2.4408679520750023E-5,null,172,0.99984850000000003,1.515E-4,1.4000000000000024E-5,7.4501339999999997E-3,0,0.54168715457976813,9954535,5396579,121954400,22.056798027355232,9954535,53933420000,1.3947849062000025E-5,18.927019547225907,null,0,0,null,0]
[176,1.5540000000000001E-4,7.4562669999999999E-3,5319933,9953907,53166670000,9953907,53166670000,2.7999999999999972E-5,0,22.039444787180589,{"$f":"0","v":0},0,18.911170197379473,{"$f":"0","v":0},0,{"$f":"0","v":0},0,2.7895612261999973E-5,null,173,0.9998475,1.5247500000000001E-4,1.7499999999999975E-5,7.4516670000000004E-3,0,0.53975983370743863,9954378,5377418,121498300,22.052503992932419,9954378,53741740000,1.7434797913749975E-5,18.923107222379123,null,0,0,null,0]
[177,1.5637499999999999E-4,7.4577999999999997E-3,5300771,9953750,52974990000,9953750,52974990000,3.15E-5,0,22.035030194978553,{"$f":"0","v":0},0,18.907126432411221,{"$f":"0","v":0},0,{"$f":"0","v":0},0,3.1382539649999999E-5,null,174,0.99984660000000003,1.5344999999999999E-4,2.0999999999999999E-5,7.4532000000000001E-3,0,0.53783937023557271,9954221,5358256,121042200,22.048183463674249,9954221,53550050000,2.0921741399999999E-5,18.919160184920674,null,0,0,null,0]
[178,1.5735E-4,7.4593330000000003E-3,5281609,9953592,52783300000,9953592,52783300000,3.5000000000000024E-5,0,22.030583569956299,{"$f":"0","v":0},0,18.903048234864279,{"$f":"0","v":0},0,{"$f":"0","v":0},0,3.4869461672500028E-5,null,175,0.9998456,1.54425E-4,2.4500000000000023E-5,7.4547329999999998E-3,0,0.53592573976556501,9954064,5339094,120586100,22.043831921670606,9954064,53358360000,2.4408679520750023E-5,18.915186083033166,null,0,0,null,0]
[179,1.5832500000000001E-4,7.4608670000000004E-3,5262448,9953435,52591620000,9953435,52591620000,3.8499999999999974E-5,0,22.026100273738255,{"$f":"0","v":0},0,18.898931055639995,{"$f":"0","v":0},0,{"$f":"0","v":0},0,3.8356378310249972E-5,null,176,0.99984459999999997,1.5540000000000001E-4,2.7999999999999972E-5,7.4562669999999999E-3,0,0.53401891798562062,9953907,5319933,120130000,22.039444787180589,9953907,53166670000,2.7895612261999973E-5,18.911170197379473,null,0,0,null,0]
[180,1.593E-4,7.4624000000000001E-3,5243286,9953278,52399930000,9953278,52399930000,4.1999999999999998E-5,0,22.021588513386451,{"$f":"0","v":0},0,18.894782643583699,{"$f":"0","v":0},0,{"$f":"0","v":0},0,4.1843289599999992E-5,null,177,0.99984360000000005,1.5637499999999999E-4,3.15E-5,7.4577999999999997E-3,0,0.53211888067044555,9953750,5300771,119673900,22.035030194978553,9953750,52974990000,3.1382539649999999E-5,18.907126432411221,null,0,0,null,0]
[181,1.6027500000000001E-4,7.4640669999999996E-3,5224925,9953111,52216250000,9953111,52216250000,4.3000000000000008E-5,2.6903108333333809E-5,22.017260016491463,{"$f":"0","v":0},0,18.890830518296937,{"$f":"0","v":0},0,{"$f":"0","v":0},0,4.2839522559500013E-5,null,178,0.99984260000000003,1.5735E-4,3.5000000000000024E-5,7.4593330000000003E-3,0,0.53022560368093974,9953592,5281609,119217800,22.030583569956299,9953592,52783300000,3.4869461672500028E-5,18.903048234864279,null,0,0,null,0]
[182,1.6124999999999999E-4,7.4657329999999996E-3,5206563,9952944,52032580000,9952944,52032580000,4.3999999999999992E-5,5.3806216666667049E-5,22.012886116042385,{"$f":"0","v":0},0,18.886850116513163,{"$f":"0","v":0},0,{"$f":"0","v":0},0,4.3835753873999992E-5,null,179,0.99984170000000006,1.5832500000000001E-4,3.8499999999999974E-5,7.4608670000000004E-3,0,0.52833906296388955,9953435,5262448,118761700,22.026100273738255,9953435,52591620000,3.8356378310249972E-5,18.898931055639995,null,0,0,null,0]
[183,1.62225E-4,7.4673999999999999E-3,5188202,9952778,51848900000,9952778,51848900000,4.4999999999999996E-5,8.0709325000000859E-5,22.008496183584729,{"$f":"0","v":0},0,18.882828321778121,{"$f":"0","v":0},0,{"$f":"0","v":0},0,4.4831983499999999E-5,null,180,0.99984070000000003,1.593E-4,4.1999999999999998E-5,7.4624000000000001E-3,0,0.52645923455166277,9953278,5243286,118305600,22.021588513386451,9953278,52399930000,4.1843289599999992E-5,18.894782643583699,null,0,0,null,0]
[184,1.6320000000000001E-4,7.4690659999999999E-3,5169840,9952611,51665230000,9952611,51665230000,4.6000000000000007E-5,1.0761243333333467E-4,22.004060086965939,{"$f":"0","v":0},0,18.878777313755222,{"$f":"0","v":0},0,{"$f":"0","v":0},0,4.5828211482000005E-5,null,181,0.9998397,1.6027500000000001E-4,4.3000000000000008E-5,7.4640669999999996E-3,0,0.52458609456190386,9953111,5224925,117868700,22.017260016491463,9953111,52216250000,4.2839522559500013E-5,18.890830518296937,null,0,0,null,2.6903108333333809E-5]
[185,1.6417499999999999E-4,7.4707330000000002E-3,5151479,9952444,51481550000,9952444,51481550000,4.699999999999999E-5,1.3451554166666791E-4,21.999607402391945,{"$f":"0","v":0},0,18.874696850756994,{"$f":"0","v":0},0,{"$f":"0","v":0},0,4.6824437774499991E-5,null,182,0.99983880000000003,1.6124999999999999E-4,4.3999999999999992E-5,7.4657329999999996E-3,0,0.52271961919723087,9952944,5206563,117431700,22.012886116042385,9952944,52032580000,4.3835753873999992E-5,18.886850116513163,null,0,0,null,5.3806216666667049E-5]
[186,1.6515E-4,7.4723999999999997E-3,5133117,9952277,51297880000,9952277,51297880000,4.8000000000000001E-5,1.6141865000000172E-4,21.995127254064148,{"$f":"0","v":0},0,18.870577861953045,{"$f":"0","v":0},0,{"$f":"0","v":0},0,4.7820662400000004E-5,null,183,0.9998378,1.62225E-4,4.4999999999999996E-5,7.4673999999999999E-3,0,0.52085978474493233,9952778,5188202,116994800,22.008496183584729,9952778,51848900000,4.4831983499999999E-5,18.882828321778121,null,0,0,null,8.0709325000000859E-5]
[187,1.6612500000000001E-4,7.474067E-3,5114755,9952110,51114210000,9952110,51114210000,4.9000000000000012E-5,1.8832175833333553E-4,21.990595386940981,{"$f":"0","v":0},0,18.866424229993338,{"$f":"0","v":0},0,{"$f":"0","v":0},0,4.8816885358500009E-5,null,184,0.99983679999999997,1.6320000000000001E-4,4.6000000000000007E-5,7.4690659999999999E-3,0,0.51900656757666708,9952611,5169840,116557800,22.004060086965939,9952611,51665230000,4.5828211482000005E-5,18.878777313755222,null,0,0,null,1.0761243333333467E-4]
[188,1.671E-4,7.475733E-3,5096394,9951943,50930530000,9951943,50930530000,4.9999999999999996E-5,2.1522486666666877E-4,21.986046065119769,{"$f":"0","v":0},0,18.862239903114471,{"$f":"0","v":0},0,{"$f":"0","v":0},0,4.9813106674999996E-5,null,185,0.99983580000000005,1.6417499999999999E-4,4.699999999999999E-5,7.4707330000000002E-3,0,0.51715994414816313,9952444,5151479,116120900,21.999607402391945,9952444,51481550000,4.6824437774499991E-5,18.874696850756994,null,0,0,null,1.3451554166666791E-4]
[189,1.6807500000000001E-4,7.4774000000000004E-3,5078032,9951776,50746850000,9951776,50746850000,5.1000000000000006E-5,2.4212797500000258E-4,21.98146828010011,{"$f":"0","v":0},0,18.858015679303069,{"$f":"0","v":0},0,{"$f":"0","v":0},0,5.0809326300000008E-5,null,186,0.99983480000000002,1.6515E-4,4.8000000000000001E-5,7.4723999999999997E-3,0,0.51531989099891917,9952277,5133117,115684000,21.995127254064148,9952277,51297880000,4.7820662400000004E-5,18.870577861953045,null,0,0,null,1.6141865000000172E-4]
[190,1.6904999999999999E-4,7.4790660000000004E-3,5059671,9951610,50563180000,9951610,50563180000,5.200000000000001E-5,2.6903108333333641E-4,21.97683305396734,{"$f":"0","v":0},0,18.85375547329906,{"$f":"0","v":0},0,{"$f":"0","v":0},0,5.1805544284000014E-5,null,187,0.99983390000000005,1.6612500000000001E-4,4.9000000000000012E-5,7.474067E-3,0,0.513486384751906,9952110,5114755,115247000,21.990595386940981,9952110,51114210000,4.8816885358500009E-5,18.866424229993338,null,0,0,null,1.8832175833333553E-4]
[191,1.70025E-4,7.4807329999999998E-3,5041309,9951443,50379510000,9951443,50379510000,5.3000000000000001E-5,2.959341916666696E-4,21.972188365825886,{"$f":"0","v":0},0,18.84945895866284,{"$f":"0","v":0},0,{"$f":"0","v":0},0,5.2801760575499999E-5,null,188,0.99983290000000002,1.671E-4,4.9999999999999996E-5,7.475733E-3,0,0.51165940211326999,9951943,5096394,114810100,21.986046065119769,9951943,50930530000,4.9813106674999996E-5,18.862239903114471,null,0,0,null,2.1522486666666877E-4]
[192,{"$f":"W197","v":1.7100000000000001E-4},{"$f":"Y197","v":7.4824000000000002E-3},{"$f":"AC197","v":5022948},{"$f":"AF197","v":9951276},{"$f":"AG197","v":50195830000},{"$f":"E194","v":9951276},{"$f":"F194","v":50195830000},{"$f":"X197","v":5.4000000000000005E-5},{"$f":"AN197","v":3.2283730000000344E-4},{"$f":"AE197","v":21.967485329332494},{"$f":"0","v":0},{"$f":"AL197","v":0},{"$f":"AI197","v":18.845125396745708},{"$f":"0","v":0},{"$f":"AK197","v":0},{"$f":"0","v":0},{"$f":"Z197","v":0},{"$f":"AH197","v":5.3797975200000004E-5},null,189,0.9998319,1.6807500000000001E-4,5.1000000000000006E-5,7.4774000000000004E-3,0,0.50983891987203689,9951776,5078032,114373200,21.98146828010011,9951776,50746850000,5.0809326300000008E-5,18.858015679303069,null,0,0,null,2.4212797500000258E-4]
[193,1.7205000000000001E-4,7.4841990000000004E-3,5005353,9951090,50019790000,9951090,50019790000,5.4999999999999988E-5,3.9223875000000258E-4,21.962999837374106,{"$f":"0","v":0},0,18.841004933991027,{"$f":"0","v":0},0,{"$f":"0","v":0},0,5.4794184527499987E-5,null,190,0.99983100000000003,1.6904999999999999E-4,5.200000000000001E-5,7.4790660000000004E-3,0,0.50802491489981716,9951610,5059671,113936200,21.97683305396734,9951610,50563180000,5.1805544284000014E-5,18.85375547329906,null,0,0,null,2.6903108333333641E-4]
[194,1.7310000000000001E-4,7.4859999999999996E-3,4987758,9950903,49843740000,9950903,49843740000,5.6000000000000019E-5,4.6164020000000465E-4,21.958462649952143,{"$f":"0","v":0},0,18.836846155415138,{"$f":"0","v":0},0,{"$f":"0","v":0},0,5.5790392000000019E-5,null,191,0.99982990000000005,1.70025E-4,5.3000000000000001E-5,7.4807329999999998E-3,0,0.50621736415051155,9951443,5041309,113499300,21.972188365825886,9951443,50379510000,5.2801760575499999E-5,18.84945895866284,null,0,0,null,2.959341916666696E-4]
[195,1.7415E-4,7.4878000000000002E-3,4970164,9950717,49667700000,9950717,49667700000,5.7000000000000003E-5,5.310416500000038E-4,21.953888811985546,{"$f":"0","v":0},0,18.832652964834796,{"$f":"0","v":0},0,{"$f":"0","v":0},0,5.6786597700000002E-5,null,192,0.99982899999999997,1.7100000000000001E-4,5.4000000000000005E-5,7.4824000000000002E-3,0,0.50441624466001922,9951276,5022948,113062300,21.967485329332494,9951276,50195830000,5.3797975200000004E-5,18.845125396745708,null,0,0,null,3.2283730000000344E-4]
[196,1.752E-4,7.4895999999999999E-3,4952569,9950530,49491650000,9950530,49491650000,5.7999999999999994E-5,6.0044310000000295E-4,21.949287018178509,{"$f":"0","v":0},0,18.828424933360008,{"$f":"0","v":0},0,{"$f":"0","v":0},0,5.7782801599999991E-5,null,193,0.99982789999999999,1.7205000000000001E-4,5.4999999999999988E-5,7.4841990000000004E-3,0,0.50262153354594541,9951090,5005353,112643800,21.962999837374106,9951090,50019790000,5.4794184527499987E-5,18.841004933991027,null,0,0,null,3.9223875000000258E-4]
[197,1.7625E-4,7.4913999999999996E-3,4934975,9950344,49315610000,9950344,49315610000,5.9000000000000018E-5,6.6984455000000502E-4,21.944647853670315,{"$f":"0","v":0},0,18.824166036095257,{"$f":"0","v":0},0,{"$f":"0","v":0},0,5.8779003700000017E-5,null,194,0.99982689999999996,1.7310000000000001E-4,5.6000000000000019E-5,7.4859999999999996E-3,0,0.50083320800731068,9950903,4987758,112225200,21.958462649952143,9950903,49843740000,5.5790392000000019E-5,18.836846155415138,null,0,0,null,4.6164020000000465E-4]
[198,1.773E-4,7.4932000000000002E-3,4917380,9950158,49139560000,9950158,49139560000,6.0000000000000008E-5,7.3924600000000416E-4,21.940000399941972,{"$f":"0","v":0},0,18.819867024879972,{"$f":"0","v":0},0,{"$f":"0","v":0},0,5.9775204000000008E-5,null,195,0.99982579999999999,1.7415E-4,5.7000000000000003E-5,7.4878000000000002E-3,0,0.49905124532426148,9950717,4970164,111806600,21.953888811985546,9950717,49667700000,5.6786597700000002E-5,18.832652964834796,null,0,0,null,5.310416500000038E-4]
[199,1.7835E-4,7.4949999999999999E-3,4899785,9949971,48963520000,9949971,48963520000,6.0999999999999992E-5,8.0864745000000331E-4,21.935299159384883,{"$f":"0","v":0},0,18.815531842693929,{"$f":"0","v":0},0,{"$f":"0","v":0},0,6.0771402499999989E-5,null,196,0.99982479999999996,1.752E-4,5.7999999999999994E-5,7.4895999999999999E-3,0,0.49727562285778143,9950530,4952569,111388000,21.949287018178509,9950530,49491650000,5.7782801599999991E-5,18.828424933360008,null,0,0,null,6.0044310000000295E-4]
[200,1.794E-4,7.4967999999999996E-3,4882191,9949785,48787480000,9949785,48787480000,6.2000000000000016E-5,8.7804890000000538E-4,21.930559430182061,{"$f":"0","v":0},0,18.811164495166601,{"$f":"0","v":0},0,{"$f":"0","v":0},0,6.1767599200000022E-5,null,197,0.99982369999999998,1.7625E-4,5.9000000000000018E-5,7.4913999999999996E-3,0,0.49550631804940359,9950344,4934975,110969400,21.944647853670315,9950344,49315610000,5.8779003700000017E-5,18.824166036095257,null,0,0,null,6.6984455000000502E-4]
[201,1.8045E-4,7.4986000000000002E-3,4864596,9949598,48611430000,9949598,48611430000,6.3E-5,9.4745035000000453E-4,21.925790034773698,{"$f":"0","v":0},0,18.806755605884447,{"$f":"0","v":0},0,{"$f":"0","v":0},0,6.2763794099999999E-5,null,198,0.99982269999999995,1.773E-4,6.0000000000000008E-5,7.4932000000000002E-3,0,0.49374330842092418,9950158,4917380,110550900,21.940000399941972,9950158,49139560000,5.9775204000000008E-5,18.819867024879972,null,0,0,null,7.3924600000000416E-4]
[202,1.8149999999999999E-4,7.5003999999999999E-3,4847001,9949412,48435390000,9949412,48435390000,6.3999999999999984E-5,1.0168518000000038E-3,21.920986012794302,{"$f":"0","v":0},0,18.802309146977798,{"$f":"0","v":0},0,{"$f":"0","v":0},0,6.375998719999998E-5,null,199,0.99982170000000004,1.7835E-4,6.0999999999999992E-5,7.4949999999999999E-3,0,0.49198657157411652,9949971,4899785,110132300,21.935299159384883,9949971,48963520000,6.0771402499999989E-5,18.815531842693929,null,0,0,null,8.0864745000000331E-4]
[203,1.8254999999999999E-4,7.5021999999999997E-3,4829407,9949225,48259350000,9949225,48259350000,6.5000000000000021E-5,1.0862532500000056E-3,21.916163042032558,{"$f":"0","v":0},0,18.797824636176795,{"$f":"0","v":0},0,{"$f":"0","v":0},0,6.475617850000002E-5,null,200,0.99982059999999995,1.794E-4,6.2000000000000016E-5,7.4967999999999996E-3,0,0.49023608519044687,9949785,4882191,109713700,21.930559430182061,9949785,48787480000,6.1767599200000022E-5,18.811164495166601,null,0,0,null,8.7804890000000538E-4]
[204,1.8359999999999999E-4,7.5040000000000003E-3,4811812,9949039,48083300000,9949039,48083300000,6.6000000000000005E-5,1.1556547000000049E-3,21.911288685703706,{"$f":"0","v":0},0,18.793306119526452,{"$f":"0","v":0},0,{"$f":"0","v":0},0,6.575236800000001E-5,null,201,0.99981960000000003,1.8045E-4,6.3E-5,7.4986000000000002E-3,0,0.48849182703079069,9949598,4864596,109295100,21.925790034773698,9949598,48611430000,6.2763794099999999E-5,18.806755605884447,null,0,0,null,9.4745035000000453E-4]
[205,1.84725E-4,7.5059330000000002E-3,4794952,9948832,47914570000,9948832,47914570000,6.6999999999999989E-5,1.2232397333333373E-3,21.906608102298694,{"$f":"0","v":0},0,18.789000042093026,{"$f":"0","v":0},0,{"$f":"0","v":0},1.0816777508333203E-2,6.674855124449999E-5,null,202,0.99981850000000005,1.8149999999999999E-4,6.3999999999999984E-5,7.5003999999999999E-3,0,0.48675377493515032,9949412,4847001,108876500,21.920986012794302,9949412,48435390000,6.375998719999998E-5,18.802309146977798,null,0,0,null,1.0168518000000038E-3]
[206,1.8584999999999999E-4,7.5078669999999997E-3,4778092,9948626,47745850000,9948626,47745850000,6.8000000000000013E-5,1.2908247666666727E-3,21.90189448703234,{"$f":"0","v":0},0,18.784663037894948,{"$f":"0","v":0},0,{"$f":"0","v":0},2.1633555016666868E-2,6.7744732522000015E-5,null,203,0.99981739999999997,1.8254999999999999E-4,6.5000000000000021E-5,7.5021999999999997E-3,0,0.48502190682237312,9949225,4829407,108458000,21.916163042032558,9949225,48259350000,6.475617850000002E-5,18.797824636176795,null,0,0,null,1.0862532500000056E-3]
[207,1.86975E-4,7.5097999999999996E-3,4761233,9948419,47577120000,9948419,47577120000,6.8999999999999997E-5,1.3584098000000051E-3,21.897142776181436,{"$f":"0","v":0},0,18.780287915564255,{"$f":"0","v":0},0,{"$f":"0","v":0},3.245033252500007E-2,6.8740911899999992E-5,null,204,0.99981640000000005,1.8359999999999999E-4,6.6000000000000005E-5,7.5040000000000003E-3,0,0.48329620068987128,9949039,4811812,108039400,21.911288685703706,9949039,48083300000,6.575236800000001E-5,18.793306119526452,null,0,0,null,1.1556547000000049E-3]
[208,1.8809999999999999E-4,7.5117329999999996E-3,4744373,9948212,47408390000,9948212,47408390000,6.999999999999998E-5,1.4259948333333375E-3,21.892362023741949,{"$f":"0","v":0},0,18.775881033362886,{"$f":"0","v":0},0,{"$f":"0","v":0},4.3267110033333271E-2,6.9737089344999972E-5,null,205,0.99981529999999996,1.84725E-4,6.6999999999999989E-5,7.5059330000000002E-3,1.0816777508333203E-2,0.48157663461334171,9948832,4794952,107638400,21.906608102298694,9948832,47914570000,6.674855124449999E-5,18.789000042093026,null,0,0,null,1.2232397333333373E-3]
[209,1.8922500000000001E-4,7.5136669999999999E-3,4727513,9948005,47239660000,9948005,47239660000,7.1000000000000005E-5,1.493579866666673E-3,21.88756832433177,{"$f":"0","v":0},0,18.771430343083818,{"$f":"0","v":0},0,{"$f":"0","v":0},5.4083887541666938E-2,7.0733264821500004E-5,null,206,0.99981419999999999,1.8584999999999999E-4,6.8000000000000013E-5,7.5078669999999997E-3,2.1633555016666868E-2,0.47986318674648848,9948626,4778092,107237400,21.90189448703234,9948626,47745850000,6.7744732522000015E-5,18.784663037894948,null,0,0,null,1.2908247666666727E-3]
[210,1.9034999999999999E-4,7.5155999999999999E-3,4710653,9947798,47070930000,9947798,47070930000,7.1999999999999988E-5,1.5611649000000054E-3,21.882719081975825,{"$f":"0","v":0},0,18.766946991148085,{"$f":"0","v":0},0,{"$f":"0","v":0},6.4900665050000139E-2,7.1729438399999981E-5,null,207,0.99981299999999995,1.86975E-4,6.8999999999999997E-5,7.5097999999999996E-3,3.245033252500007E-2,0.47815583532074435,9948419,4761233,106836400,21.897142776181436,9948419,47577120000,6.8740911899999992E-5,18.780287915564255,null,0,0,null,1.3584098000000051E-3]
[211,1.9147500000000001E-4,7.5175329999999999E-3,4693793,9947592,46902200000,9947592,46902200000,7.2999999999999985E-5,1.6287499333333378E-3,21.877835002878623,{"$f":"0","v":0},0,18.762421236290322,{"$f":"0","v":0},0,{"$f":"0","v":0},7.5717442558333348E-2,7.2725610045499989E-5,null,208,0.99981189999999998,1.8809999999999999E-4,6.999999999999998E-5,7.5117329999999996E-3,4.3267110033333271E-2,0.47645455864499453,9948212,4744373,106435400,21.892362023741949,9948212,47408390000,6.9737089344999972E-5,18.775881033362886,null,0,0,null,1.4259948333333375E-3]
[212,1.9259999999999999E-4,7.5194670000000002E-3,4676933,9947385,46733470000,9947385,46733470000,7.400000000000001E-5,1.6963349666666732E-3,21.872915710288485,{"$f":"0","v":0},0,18.757861906962322,{"$f":"0","v":0},0,{"$f":"0","v":0},8.6534220066667E-2,7.3721779721000013E-5,null,209,0.9998108,1.8922500000000001E-4,7.1000000000000005E-5,7.5136669999999999E-3,5.4083887541666938E-2,0.47475933510530133,9948005,4727513,106034500,21.88756832433177,9948005,47239660000,7.0733264821500004E-5,18.771430343083818,null,0,0,null,1.493579866666673E-3]
[213,1.9372500000000001E-4,7.5214000000000001E-3,4660073,9947178,46564740000,9947178,46564740000,7.4999999999999993E-5,1.7639200000000056E-3,21.867960822001429,{"$f":"0","v":0},0,18.753261607941138,{"$f":"0","v":0},0,{"$f":"0","v":0},9.7350997575000209E-2,7.4717947499999991E-5,null,210,0.99980959999999997,1.9034999999999999E-4,7.1999999999999988E-5,7.5155999999999999E-3,6.4900665050000139E-2,0.47307014316462931,9947798,4710653,105633500,21.882719081975825,9947798,47070930000,7.1729438399999981E-5,18.766946991148085,null,0,0,null,1.5611649000000054E-3]
[214,1.9484999999999999E-4,7.5233330000000001E-3,4643213,9946972,46396010000,9946972,46396010000,7.5999999999999977E-5,1.831505033333338E-3,21.862969950262169,{"$f":"0","v":0},0,18.748626810472079,{"$f":"0","v":0},0,{"$f":"0","v":0},0.10816777508333342,7.5714113345999972E-5,null,211,0.99980849999999999,1.9147500000000001E-4,7.2999999999999985E-5,7.5175329999999999E-3,7.5717442558333348E-2,0.47138696136257152,9947592,4693793,105232500,21.877835002878623,9947592,46902200000,7.2725610045499989E-5,18.762421236290322,null,0,0,null,1.6287499333333378E-3]
[215,1.9597500000000001E-4,7.5252670000000004E-3,4626354,9946765,46227280000,9946765,46227280000,7.7000000000000001E-5,1.8990900666666735E-3,21.857959475215253,{"$f":"0","v":0},0,18.743945135053195,{"$f":"0","v":0},0,{"$f":"0","v":0},0.11898455259166707,7.6710277220500003E-5,null,212,0.99980740000000001,1.9259999999999999E-4,7.400000000000001E-5,7.5194670000000002E-3,8.6534220066667E-2,0.46970976831507733,9947385,4676933,104831500,21.872915710288485,9947385,46733470000,7.3721779721000013E-5,18.757861906962322,null,0,0,null,1.6963349666666732E-3]
[216,1.9709999999999999E-4,7.5272000000000004E-3,4609494,9946558,46058550000,9946558,46058550000,7.7999999999999985E-5,1.9666751000000059E-3,21.852895513043297,{"$f":"0","v":0},0,18.739227962533135,{"$f":"0","v":0},0,{"$f":"0","v":0},0.12980133010000028,7.7706439199999982E-5,null,213,0.99980630000000004,1.9372500000000001E-4,7.4999999999999993E-5,7.5214000000000001E-3,9.7350997575000209E-2,0.46803854271418044,9947178,4660073,104430500,21.867960822001429,9947178,46564740000,7.4717947499999991E-5,18.753261607941138,null,0,0,null,1.7639200000000056E-3]
[217,1.9822500000000001E-4,7.529333E-3,4593338,9946330,45419620000,9946330,45419620000,7.9499999999999967E-5,2.0324437166666714E-3,21.848020310429291,{"$f":"0","v":0},0,18.734738573750345,{"$f":"0","v":0},0,{"$f":"0","v":0},0.13033889130833359,7.9200709013249967E-5,null,214,0.99980519999999995,1.9484999999999999E-4,7.5999999999999977E-5,7.5233330000000001E-3,0.10816777508333342,0.46637326332772799,9946972,4643213,104029500,21.862969950262169,9946972,46396010000,7.5714113345999972E-5,18.748626810472079,null,0,0,null,1.831505033333338E-3]
[218,1.9934999999999999E-4,7.531467E-3,4577182,9946102,44780690000,9946102,44780690000,8.1000000000000004E-5,2.0982123333333396E-3,21.843132539482443,{"$f":"0","v":0},0,18.73021215742731,{"$f":"0","v":0},0,{"$f":"0","v":0},0.13087645251666691,8.069497558650001E-5,null,215,0.99980400000000003,1.9597500000000001E-4,7.7000000000000001E-5,7.5252670000000004E-3,0.11898455259166707,0.46471390899911136,9946765,4626354,103628600,21.857959475215253,9946765,46227280000,7.6710277220500003E-5,18.743945135053195,null,0,0,null,1.8990900666666735E-3]
[219,2.0047500000000001E-4,7.5335999999999997E-3,4561026,9945874,44141760000,9945874,44141760000,8.2499999999999986E-5,2.1639809500000051E-3,21.838210141753191,{"$f":"0","v":0},0,18.725648253573961,{"$f":"0","v":0},0,{"$f":"0","v":0},0.13141401372500022,8.2189238999999989E-5,null,216,0.99980290000000005,1.9709999999999999E-4,7.7999999999999985E-5,7.5272000000000004E-3,0.12980133010000028,0.46306045864699685,9946558,4609494,103227600,21.852895513043297,9946558,46058550000,7.7706439199999982E-5,18.739227962533135,null,0,0,null,1.9666751000000059E-3]
[220,2.0159999999999999E-4,7.5357330000000002E-3,4544870,9945647,43502830000,9945647,43502830000,8.3999999999999968E-5,2.2297495666666707E-3,21.833252747970054,{"$f":"0","v":0},0,18.721043886139253,{"$f":"0","v":0},0,{"$f":"0","v":0},0.13195157493333354,8.3683499213999964E-5,null,217,0.99980179999999996,1.9822500000000001E-4,7.9499999999999967E-5,7.529333E-3,0.13033889130833359,0.46141289126505808,9946330,4593338,102843400,21.848020310429291,9946330,45419620000,7.9200709013249967E-5,18.734738573750345,null,0,0,null,2.0324437166666714E-3]
[221,2.0272500000000001E-4,7.5378670000000002E-3,4528714,9945419,42863890000,9945419,42863890000,8.5500000000000018E-5,2.2955181833333388E-3,21.828259983592105,{"$f":"0","v":0},0,18.716403586017705,{"$f":"0","v":0},0,{"$f":"0","v":0},0.13248913614166685,8.5177756185750018E-5,null,218,0.99980060000000004,1.9934999999999999E-4,8.1000000000000004E-5,7.531467E-3,0.13087645251666691,0.45977118592170918,9946102,4577182,102459300,21.843132539482443,9946102,44780690000,8.069497558650001E-5,18.73021215742731,null,0,0,null,2.0982123333333396E-3]
[222,2.0384999999999999E-4,7.5399999999999998E-3,4512558,9945191,42224960000,9945191,42224960000,8.7000000000000001E-5,2.3612868000000044E-3,21.823209308334651,{"$f":"0","v":0},0,18.711726712355215,{"$f":"0","v":0},0,{"$f":"0","v":0},0.13302669735000017,8.667201E-5,null,219,0.99979949999999995,2.0047500000000001E-4,8.2499999999999986E-5,7.5335999999999997E-3,0.13141401372500022,0.45813532175983879,9945874,4561026,102075200,21.838210141753191,9945874,44141760000,8.2189238999999989E-5,18.725648253573961,null,0,0,null,2.1639809500000051E-3]
[223,2.0497500000000001E-4,7.5421330000000003E-3,4496402,9944963,41586030000,9944963,41586030000,8.8499999999999969E-5,2.4270554166666699E-3,21.818144577968486,{"$f":"0","v":0},0,18.707010641145121,{"$f":"0","v":0},0,{"$f":"0","v":0},0.13356425855833348,8.8166260614749964E-5,null,220,0.99979839999999998,2.0159999999999999E-4,8.3999999999999968E-5,7.5357330000000002E-3,0.13195157493333354,0.45650527799654489,9945647,4544870,101691100,21.833252747970054,9945647,43502830000,8.3683499213999964E-5,18.721043886139253,null,0,0,null,2.2297495666666707E-3]
[224,2.061E-4,7.5442670000000003E-3,4480246,9944735,40947100000,9944735,40947100000,9.0000000000000019E-5,2.4928240333333381E-3,21.8130433202403,{"$f":"0","v":0},0,18.702249584213373,{"$f":"0","v":0},0,{"$f":"0","v":0},0.1341018197666668,8.9660507985000017E-5,null,221,0.9997973,2.0272500000000001E-4,8.5500000000000018E-5,7.5378670000000002E-3,0.13248913614166685,0.45488103392287127,9945419,4528714,101307000,21.828259983592105,9945419,42863890000,8.5177756185750018E-5,18.716403586017705,null,0,0,null,2.2955181833333388E-3]
[225,2.0722500000000001E-4,7.5464E-3,4464090,9944508,40308170000,9944508,40308170000,9.1500000000000001E-5,2.5585926500000036E-3,21.807893938070244,{"$f":"0","v":0},0,18.697450653477819,{"$f":"0","v":0},0,{"$f":"0","v":0},0.13463938097500011,9.1154752200000002E-5,null,222,0.99979620000000002,2.0384999999999999E-4,8.7000000000000001E-5,7.5399999999999998E-3,0.13302669735000017,0.45326256890354377,9945191,4512558,100922800,21.823209308334651,9945191,42224960000,8.667201E-5,18.711726712355215,null,0,0,null,2.3612868000000044E-3]
[226,2.0835E-4,7.5485329999999996E-3,4447935,9944280,39669240000,9944280,39669240000,9.2999999999999984E-5,2.6243612666666692E-3,21.802706621162404,{"$f":"0","v":0},0,18.69261079179493,{"$f":"0","v":0},0,{"$f":"0","v":0},0.13517694218333343,9.2648993215499982E-5,null,223,0.99979499999999999,2.0497500000000001E-4,8.8499999999999969E-5,7.5421330000000003E-3,0.13356425855833348,0.45164986237670873,9944963,4496402,100538700,21.818144577968486,9944963,41586030000,8.8166260614749964E-5,18.707010641145121,null,0,0,null,2.4270554166666699E-3]
[227,2.0947500000000001E-4,7.5506669999999996E-3,4431779,9944052,39030300000,9944052,39030300000,9.450000000000002E-5,2.6901298833333373E-3,21.79748878309741,{"$f":"0","v":0},0,18.68772947326077,{"$f":"0","v":0},0,{"$f":"0","v":0},0.13571450339166674,9.414323098425002E-5,null,224,0.99979390000000001,2.061E-4,9.0000000000000019E-5,7.5442670000000003E-3,0.1341018197666668,0.45004289385367136,9944735,4480246,100154600,21.8130433202403,9944735,40947100000,8.9660507985000017E-5,18.702249584213373,null,0,0,null,2.4928240333333381E-3]
[228,2.106E-4,7.5528000000000001E-3,4415623,9943824,38391370000,9943824,38391370000,9.6000000000000002E-5,2.7558985000000029E-3,21.792230498014284,{"$f":"0","v":0},0,18.682806162923168,{"$f":"0","v":0},0,{"$f":"0","v":0},0.13625206460000006,9.5637465600000008E-5,null,225,0.99979280000000004,2.0722500000000001E-4,9.1500000000000001E-5,7.5464E-3,0.13463938097500011,0.44844164291863547,9944508,4464090,99770450,21.807893938070244,9944508,40308170000,9.1154752200000002E-5,18.697450653477819,null,0,0,null,2.5585926500000036E-3]
[229,2.118E-4,7.5550000000000001E-3,4400142,9943570,37838950000,9943570,37838950000,9.7499999999999985E-5,2.819850700000002E-3,21.787180902343604,{"$f":"0","v":0},0,18.678126465530717,{"$f":"0","v":0},0,{"$f":"0","v":0},0.13663105984166674,9.7131693749999981E-5,null,226,0.9997916,2.0835E-4,9.2999999999999984E-5,7.5485329999999996E-3,0.13517694218333343,0.44684608922844449,9944280,4447935,99386320,21.802706621162404,9944280,39669240000,9.2648993215499982E-5,18.69261079179493,null,0,0,null,2.6243612666666692E-3]
[230,2.13E-4,7.5572E-3,4384660,9943316,37286520000,9943316,37286520000,9.9000000000000021E-5,2.8838029000000038E-3,21.782103021290894,{"$f":"0","v":0},0,18.673405738863952,{"$f":"0","v":0},0,{"$f":"0","v":0},0.13701005508333342,9.862591860000002E-5,null,227,0.99979050000000003,2.0947500000000001E-4,9.450000000000002E-5,7.5506669999999996E-3,0.13571450339166674,0.44525621251232228,9944052,4431779,99002200,21.79748878309741,9944052,39030300000,9.414323098425002E-5,18.68772947326077,null,0,0,null,2.6901298833333373E-3]
[231,2.142E-4,7.5594E-3,4369179,9943063,36734100000,9943063,36734100000,1.005E-4,2.9477551000000029E-3,21.776981756755674,{"$f":"0","v":0},0,18.668645896216574,{"$f":"0","v":0},0,{"$f":"0","v":0},0.13738905032500009,1.0012014015E-4,null,228,0.99978940000000005,2.106E-4,9.6000000000000002E-5,7.5528000000000001E-3,0.13625206460000006,0.4436719925716166,9943824,4415623,98618070,21.792230498014284,9943824,38391370000,9.5637465600000008E-5,18.682806162923168,null,0,0,null,2.7558985000000029E-3]
[232,2.154E-4,7.5615999999999999E-3,4353698,9942809,36181680000,9942809,36181680000,1.0199999999999999E-4,3.011707300000002E-3,21.771824071551737,{"$f":"0","v":0},0,18.663848877720582,{"$f":"0","v":0},0,{"$f":"0","v":0},0.13776804556666677,1.0161435839999998E-4,null,229,0.99978820000000002,2.118E-4,9.7499999999999985E-5,7.5550000000000001E-3,0.13663105984166674,0.44209340927954155,9943570,4400142,98250100,21.787180902343604,9943570,37838950000,9.7131693749999981E-5,18.678126465530717,null,0,0,null,2.819850700000002E-3]
[233,2.1660000000000001E-4,7.5637999999999999E-3,4338217,9942555,35629260000,9942555,35629260000,1.0350000000000002E-4,3.0756595000000038E-3,21.766629575775791,{"$f":"0","v":0},0,18.659006690303915,{"$f":"0","v":0},0,{"$f":"0","v":0},0.13814704080833345,1.0310857335000002E-4,null,230,0.99978699999999998,2.13E-4,9.9000000000000021E-5,7.5572E-3,0.13701005508333342,0.44052044258092238,9943316,4384660,97882140,21.782103021290894,9943316,37286520000,9.862591860000002E-5,18.673405738863952,null,0,0,null,2.8838029000000038E-3]
[234,2.1780000000000001E-4,7.5659999999999998E-3,4322735,9942302,35076830000,9942302,35076830000,1.05E-4,3.1396117000000029E-3,21.761403033419043,{"$f":"0","v":0},0,18.654131641707959,{"$f":"0","v":0},0,{"$f":"0","v":0},0.13852603605000013,1.0460278500000001E-4,null,231,0.99978579999999995,2.142E-4,1.005E-4,7.5594E-3,0.13738905032500009,0.43895307249194038,9943063,4369179,97514170,21.776981756755674,9943063,36734100000,1.0012014015E-4,18.668645896216574,null,0,0,null,2.9477551000000029E-3]
[235,2.1900000000000001E-4,7.5681999999999998E-3,4307254,9942048,34524410000,9942048,34524410000,1.0649999999999999E-4,3.203563900000002E-3,21.756133741667739,{"$f":"0","v":0},0,18.649210388723212,{"$f":"0","v":0},0,{"$f":"0","v":0},0.13890503129166681,1.0609699334999999E-4,null,232,0.99978460000000002,2.154E-4,1.0199999999999999E-4,7.5615999999999999E-3,0.13776804556666677,0.43739127909987963,9942809,4353698,97146200,21.771824071551737,9942809,36181680000,1.0161435839999998E-4,18.663848877720582,null,0,0,null,3.011707300000002E-3]
[236,2.2020000000000001E-4,7.5703999999999997E-3,4291773,9941794,33971990000,9941794,33971990000,1.0800000000000002E-4,3.2675161000000038E-3,21.750826435834327,{"$f":"0","v":0},0,18.644244813050193,{"$f":"0","v":0},0,{"$f":"0","v":0},0.13928402653333349,1.0759119840000002E-4,null,233,0.99978339999999999,2.1660000000000001E-4,1.0350000000000002E-4,7.5637999999999999E-3,0.13814704080833345,0.43583504256287314,9942555,4338217,96778230,21.766629575775791,9942555,35629260000,1.0310857335000002E-4,18.659006690303915,null,0,0,null,3.0756595000000038E-3]
[237,2.2139999999999999E-4,7.5725999999999996E-3,4276292,9941540,33419570000,9941540,33419570000,1.0950000000000001E-4,3.3314683000000029E-3,21.745480703063929,{"$f":"0","v":0},0,18.639244904875472,{"$f":"0","v":0},0,{"$f":"0","v":0},0.13966302177500017,1.0908540015E-4,null,234,0.99978219999999995,2.1780000000000001E-4,1.05E-4,7.5659999999999998E-3,0.13852603605000013,0.43428434310965147,9942302,4322735,96410260,21.761403033419043,9942302,35076830000,1.0460278500000001E-4,18.654131641707959,null,0,0,null,3.1396117000000029E-3]
[238,2.2259999999999999E-4,7.5747999999999996E-3,4260811,9941286,32867140000,9941286,32867140000,1.1099999999999999E-4,3.395420500000002E-3,21.740096124501491,{"$f":"0","v":0},0,18.634197139377175,{"$f":"0","v":0},0,{"$f":"0","v":0},0.14004201701666685,1.1057959859999998E-4,null,235,0.99978100000000003,2.1900000000000001E-4,1.0649999999999999E-4,7.5681999999999998E-3,0.13890503129166681,0.43273916103929111,9942048,4307254,96042290,21.756133741667739,9942048,34524410000,1.0609699334999999E-4,18.649210388723212,null,0,0,null,3.203563900000002E-3]
[239,2.2379999999999999E-4,7.5770000000000004E-3,4245329,9941033,32314720000,9941033,32314720000,1.1250000000000002E-4,3.4593727000000038E-3,21.734679877970979,{"$f":"0","v":0},0,18.629106114218036,{"$f":"0","v":0},0,{"$f":"0","v":0},0.14042101225833353,1.1207379375000002E-4,null,236,0.9997798,2.2020000000000001E-4,1.0800000000000002E-4,7.5703999999999997E-3,0.13928402653333349,0.43119947672096459,9941794,4291773,95674320,21.750826435834327,9941794,33971990000,1.0759119840000002E-4,18.644244813050193,null,0,0,null,3.2675161000000038E-3]
[240,2.2499999999999999E-4,7.5792000000000003E-3,4229848,9940779,31762300000,9940779,31762300000,1.1400000000000001E-4,3.5233249000000029E-3,21.729216353243267,{"$f":"0","v":0},0,18.623973771948613,{"$f":"0","v":0},0,{"$f":"0","v":0},0.14080000750000021,1.1356798560000002E-4,null,237,0.99977859999999996,2.2139999999999999E-4,1.0950000000000001E-4,7.5725999999999996E-3,0.13966302177500017,0.42966527059369058,9941540,4276292,95306350,21.745480703063929,9941540,33419570000,1.0908540015E-4,18.639244904875472,null,0,0,null,3.3314683000000029E-3]
[241,2.2612500000000001E-4,7.5816670000000003E-3,4215013,9940499,31293660000,9940499,31293660000,1.1599999999999997E-4,3.5854606833333352E-3,21.723972846188929,{"$f":"0","v":0},0,18.619088801369021,{"$f":"0","v":0},0,{"$f":"0","v":0},0.14103665317500022,1.1556026331399997E-4,null,238,0.99977740000000004,2.2259999999999999E-4,1.1099999999999999E-4,7.5747999999999996E-3,0.14004201701666685,0.42813652316608591,9941286,4260811,94938380,21.740096124501491,9941286,32867140000,1.1057959859999998E-4,18.634197139377175,null,0,0,null,3.395420500000002E-3]
[242,2.2724999999999999E-4,7.5841329999999998E-3,4200179,9940218,30825030000,9940218,30825030000,1.1800000000000004E-4,3.6475964666666705E-3,21.71868699921281,{"$f":"0","v":0},0,18.614166019663397,{"$f":"0","v":0},0,{"$f":"0","v":0},0.1412732988500002,1.1755253615300004E-4,null,239,0.9997762,2.2379999999999999E-4,1.1250000000000002E-4,7.5770000000000004E-3,0.14042101225833353,0.42661321501611743,9941033,4245329,94570420,21.734679877970979,9941033,32314720000,1.1207379375000002E-4,18.629106114218036,null,0,0,null,3.4593727000000038E-3]
[243,2.2837500000000001E-4,7.5865999999999998E-3,4185344,9939938,30356390000,9939938,30356390000,1.2E-4,3.7097322500000028E-3,21.713369000652435,{"$f":"0","v":0},0,18.60920518711352,{"$f":"0","v":0},0,{"$f":"0","v":0},0.14150994452500021,1.1954480400000001E-4,null,240,0.99977499999999997,2.2499999999999999E-4,1.1400000000000001E-4,7.5792000000000003E-3,0.14080000750000021,0.42509532679085571,9940779,4229848,94202450,21.729216353243267,9940779,31762300000,1.1356798560000002E-4,18.623973771948613,null,0,0,null,3.5233249000000029E-3]
[244,2.2949999999999999E-4,7.5890660000000002E-3,4170509,9939657,29887760000,9939657,29887760000,1.2199999999999997E-4,3.7718680333333351E-3,21.708015566365319,{"$f":"0","v":0},0,18.604197743018805,{"$f":"0","v":0},0,{"$f":"0","v":0},0.14174659020000022,1.2153706697399997E-4,null,241,0.99977389999999999,2.2612500000000001E-4,1.1599999999999997E-4,7.5816670000000003E-3,0.14103665317500022,0.4235828392062288,9940499,4215013,93849960,21.723972846188929,9940499,31293660000,1.1556026331399997E-4,18.619088801369021,null,0,0,null,3.5854606833333352E-3]
[245,2.3062500000000001E-4,7.5915330000000001E-3,4155674,9939377,29419120000,9939377,29419120000,1.2400000000000003E-4,3.8340038166666704E-3,21.702621504157126,{"$f":"0","v":0},0,18.599153771409913,{"$f":"0","v":0},0,{"$f":"0","v":0},0.1419832358750002,1.2352932495400003E-4,null,242,0.99977269999999996,2.2724999999999999E-4,1.1800000000000004E-4,7.5841329999999998E-3,0.1412732988500002,0.42207573304677765,9940218,4200179,93497470,21.71868699921281,9940218,30825030000,1.1755253615300004E-4,18.614166019663397,null,0,0,null,3.6475964666666705E-3]
[246,2.3175E-4,7.5940000000000001E-3,4140840,9939096,28950480000,9939096,28950480000,1.26E-4,3.8961396000000027E-3,21.697183421721196,{"$f":"0","v":0},0,18.594067454950135,{"$f":"0","v":0},0,{"$f":"0","v":0},0.1422198815500002,1.2552157799999999E-4,null,243,0.99977170000000004,2.2837500000000001E-4,1.2E-4,7.5865999999999998E-3,0.14150994452500021,0.42057398916541133,9939938,4185344,93144980,21.713369000652435,9939938,30356390000,1.1954480400000001E-4,18.60920518711352,null,0,0,null,3.7097322500000028E-3]
[247,2.3287500000000001E-4,7.596467E-3,4126005,9938816,28481850000,9938816,28481850000,1.2799999999999997E-4,3.9582753833333354E-3,21.691714049061986,{"$f":"0","v":0},0,18.58893007467238,{"$f":"0","v":0},0,{"$f":"0","v":0},0.14245652722500021,1.2751382611199996E-4,null,244,0.99977050000000001,2.2949999999999999E-4,1.2199999999999997E-4,7.5890660000000002E-3,0.14174659020000022,0.41907758848316479,9939657,4170509,92792500,21.708015566365319,9939657,29887760000,1.2153706697399997E-4,18.604197743018805,null,0,0,null,3.7718680333333351E-3]
[248,2.34E-4,7.5989330000000004E-3,4111170,9938536,28013210000,9938536,28013210000,1.3000000000000002E-4,4.0204111666666698E-3,21.686202771960293,{"$f":"0","v":0},0,18.583757419808887,{"$f":"0","v":0},0,{"$f":"0","v":0},0.14269317290000019,1.2950606935500003E-4,null,245,0.99976940000000003,2.3062500000000001E-4,1.2400000000000003E-4,7.5915330000000001E-3,0.1419832358750002,0.41758651198895519,9939377,4155674,92440010,21.702621504157126,9939377,29419120000,1.2352932495400003E-4,18.599153771409913,null,0,0,null,3.8340038166666704E-3]
[249,2.3512500000000001E-4,7.6014000000000003E-3,4096335,9938255,27544580000,9938255,27544580000,1.3200000000000001E-4,4.0825469500000025E-3,21.680651576348126,{"$f":"0","v":0},0,18.578535368988749,{"$f":"0","v":0},0,{"$f":"0","v":0},0.1429298185750002,1.3149830760000002E-4,null,246,0.99976830000000005,2.3175E-4,1.26E-4,7.5940000000000001E-3,0.1422198815500002,0.41610074073934172,9939096,4140840,92087520,21.697183421721196,9939096,28950480000,1.2552157799999999E-4,18.594067454950135,null,0,0,null,3.8961396000000027E-3]
[250,2.3625E-4,7.6038670000000003E-3,4081501,9937975,27075940000,9937975,27075940000,1.3399999999999998E-4,4.1446827333333353E-3,21.675057033756289,{"$f":"0","v":0},0,18.573274171289906,{"$f":"0","v":0},0,{"$f":"0","v":0},0.14316646425000021,1.3349054091099996E-4,null,247,0.99976710000000002,2.3287500000000001E-4,1.2799999999999997E-4,7.596467E-3,0.14245652722500021,0.4146202558582836,9938816,4126005,91735040,21.691714049061986,9938816,28481850000,1.2751382611199996E-4,18.58893007467238,null,0,0,null,3.9582753833333354E-3]
[251,2.3737500000000001E-4,7.6063329999999998E-3,4066666,9937694,26607300000,9937694,26607300000,1.3600000000000003E-4,4.2068185166666697E-3,21.669424679413879,{"$f":"0","v":0},0,18.567965000830554,{"$f":"0","v":0},0,{"$f":"0","v":0},0.14340310992500019,1.3548276935600002E-4,null,248,0.99976600000000004,2.34E-4,1.3000000000000002E-4,7.5989330000000004E-3,0.14269317290000019,0.41314503853690143,9938536,4111170,91382550,21.686202771960293,9938536,28013210000,1.2950606935500003E-4,18.583757419808887,null,0,0,null,4.0204111666666698E-3]
[252,2.385E-4,7.6087999999999998E-3,4051831,9937414,26138670000,9937414,26138670000,1.3799999999999999E-4,4.2689543000000024E-3,21.663751081506934,{"$f":"0","v":0},0,18.562607494944508,{"$f":"0","v":0},0,{"$f":"0","v":0},0.1436397556000002,1.3747499279999998E-4,null,249,0.99976489999999996,2.3512500000000001E-4,1.3200000000000001E-4,7.6014000000000003E-3,0.1429298185750002,0.41167507003323756,9938255,4096335,91030060,21.680651576348126,9938255,27544580000,1.3149830760000002E-4,18.578535368988749,null,0,0,null,4.0825469500000025E-3]
[253,2.397E-4,7.6113999999999999E-3,4037616,9937103,25747020000,9937103,25747020000,1.3999999999999996E-4,4.3292736666666687E-3,21.658299848227269,{"$f":"0","v":0},0,18.557519475270364,{"$f":"0","v":0},0,{"$f":"0","v":0},0.14374956290833352,1.3946720199999995E-4,null,250,0.99976370000000003,2.3625E-4,1.3399999999999998E-4,7.6038670000000003E-3,0.14316646425000021,0.4102103316720182,9937975,4081501,90677580,21.675057033756289,9937975,27075940000,1.3349054091099996E-4,18.573274171289906,null,0,0,null,4.1446827333333353E-3]
[254,2.409E-4,7.6140000000000001E-3,4023402,9936791,25355360000,9936791,25355360000,1.4200000000000004E-4,4.3895930333333368E-3,21.652809550226401,{"$f":"0","v":0},0,18.552389421858344,{"$f":"0","v":0},0,{"$f":"0","v":0},0.14385937021666684,1.4145940600000003E-4,null,251,0.9997627,2.3737500000000001E-4,1.3600000000000003E-4,7.6063329999999998E-3,0.14340310992500019,0.40875080484441589,9937694,4066666,90325090,21.669424679413879,9937694,26607300000,1.3548276935600002E-4,18.567965000830554,null,0,0,null,4.2068185166666697E-3]
[255,2.421E-4,7.6166000000000003E-3,4009187,9936480,24963710000,9936480,24963710000,1.44E-4,4.4499124000000031E-3,21.647280868082895,{"$f":"0","v":0},0,18.547214170956774,{"$f":"0","v":0},0,{"$f":"0","v":0},0.14396917752500016,1.4345160480000002E-4,null,252,0.99976149999999997,2.385E-4,1.3799999999999999E-4,7.6087999999999998E-3,0.1436397556000002,0.40729647100781369,9937414,4051831,89972600,21.663751081506934,9937414,26138670000,1.3747499279999998E-4,18.562607494944508,null,0,0,null,4.2689543000000024E-3]
[256,{"$f":"W261","v":2.433E-4},{"$f":"Y261","v":7.6191999999999996E-3},{"$f":"AC261","v":3994972},{"$f":"AF261","v":9936169},{"$f":"AG261","v":24572050000},{"$f":"E258","v":9936169},{"$f":"F258","v":24572050000},{"$f":"X261","v":1.4599999999999997E-4},{"$f":"AN261","v":4.5102317666666693E-3},{"$f":"AE261","v":21.641715344521394},{"$f":"0","v":0},{"$f":"AL261","v":0},{"$f":"AI261","v":18.54199554522361},{"$f":"0","v":0},{"$f":"AK261","v":0},{"$f":"0","v":0},{"$f":"Z261","v":0.14407898483333348},{"$f":"AH261","v":1.4544379839999999E-4},null,253,0.99976030000000005,2.397E-4,1.3999999999999996E-4,7.6113999999999999E-3,0.14374956290833352,0.40584731168556887,9937103,4037616,89634940,21.658299848227269,9937103,25747020000,1.3946720199999995E-4,18.557519475270364,null,0,0,null,4.3292736666666687E-3]
[257,2.4449999999999998E-4,7.6217999999999998E-3,3980757,9935857,24180400000,9935857,24180400000,1.4800000000000002E-4,4.5705511333333374E-3,21.636110072782639,{"$f":"0","v":0},0,18.536739125297135,{"$f":"0","v":0},0,{"$f":"0","v":0},0.1441887921416668,1.4743598680000002E-4,null,254,0.99975910000000001,2.409E-4,1.4200000000000004E-4,7.6140000000000001E-3,0.14385937021666684,0.40440330846677885,9936791,4023402,89297300,21.652809550226401,9936791,25355360000,1.4145940600000003E-4,18.552389421858344,null,0,0,null,4.3895930333333368E-3]
[258,2.4570000000000001E-4,7.6243999999999999E-3,3966543,9935546,23788750000,9935546,23788750000,1.5000000000000001E-4,4.6308705000000037E-3,21.630459035739683,{"$f":"0","v":0},0,18.53142999747573,{"$f":"0","v":0},0,{"$f":"0","v":0},0.14429859945000012,1.4942817E-4,null,255,0.99975789999999998,2.421E-4,1.44E-4,7.6166000000000003E-3,0.14396917752500016,0.40296444300604661,9936480,4009187,88959640,21.647280868082895,9936480,24963710000,1.4345160480000002E-4,18.547214170956774,null,0,0,null,4.4499124000000031E-3]
[259,2.4689999999999998E-4,7.6270000000000001E-3,3952328,9935235,23397090000,9935235,23397090000,1.5199999999999998E-4,4.69118986666667E-3,21.624770430659261,{"$f":"0","v":0},0,18.526081720944752,{"$f":"0","v":0},0,{"$f":"0","v":0},0.14440840675833344,1.5142034799999998E-4,null,256,0.99975670000000005,2.433E-4,1.4599999999999997E-4,7.6191999999999996E-3,0.14407898483333348,0.40153069702324828,9936169,3994972,88621990,21.641715344521394,9936169,24572050000,1.4544379839999999E-4,18.54199554522361,null,0,0,null,4.5102317666666693E-3]
[260,2.4810000000000001E-4,7.6295989999999999E-3,3938113,9934923,23005440000,9934923,23005440000,1.5400000000000003E-4,4.751509233333338E-3,21.619043297724907,{"$f":"0","v":0},0,18.520688137760274,{"$f":"0","v":0},0,{"$f":"0","v":0},0.14451821406666676,1.5341252087700005E-4,null,257,0.99975550000000002,2.4449999999999998E-4,1.4800000000000002E-4,7.6217999999999998E-3,0.1441887921416668,0.40010205230330048,9935857,3980757,88284340,21.636110072782639,9935857,24180400000,1.4743598680000002E-4,18.536739125297135,null,0,0,null,4.5705511333333374E-3]
[261,2.4929999999999999E-4,7.6321999999999996E-3,3923898,9934612,22613790000,9934612,22613790000,1.56E-4,4.8118286000000043E-3,21.613274669728927,{"$f":"0","v":0},0,18.515242991608414,{"$f":"0","v":0},0,{"$f":"0","v":0},0.14462802137500008,1.554046884E-4,null,258,0.99975429999999998,2.4570000000000001E-4,1.5000000000000001E-4,7.6243999999999999E-3,0.14429859945000012,0.39867849069592903,9935546,3966543,87946690,21.630459035739683,9935546,23788750000,1.4942817E-4,18.53142999747573,null,0,0,null,4.6308705000000037E-3]
[262,2.5050000000000002E-4,7.6347990000000003E-3,3909684,9934301,22222130000,9934301,22222130000,1.5799999999999999E-4,4.8721479666666706E-3,21.607455871113878,{"$f":"0","v":0},0,18.509757028156312,{"$f":"0","v":0},0,{"$f":"0","v":0},0.1447378286833334,1.5739685087899998E-4,null,259,0.99975309999999995,2.4689999999999998E-4,1.5199999999999998E-4,7.6270000000000001E-3,0.14440840675833344,0.39725999411543844,9935235,3952328,87609030,21.624770430659261,9935235,23397090000,1.5142034799999998E-4,18.526081720944752,null,0,0,null,4.69118986666667E-3]
[263,2.5169999999999999E-4,7.6373999999999999E-3,3895469,9933989,21830480000,9933989,21830480000,1.6000000000000004E-4,4.9324673333333386E-3,21.601602860057842,{"$f":"0","v":0},0,18.504218269990915,{"$f":"0","v":0},0,{"$f":"0","v":0},0.14484763599166672,1.5938900800000004E-4,null,260,0.99975190000000003,2.4810000000000001E-4,1.5400000000000003E-4,7.6295989999999999E-3,0.14451821406666676,0.3958465445404819,9934923,3938113,87271380,21.619043297724907,9934923,23005440000,1.5341252087700005E-4,18.520688137760274,null,0,0,null,4.751509233333338E-3]
[264,2.5290000000000002E-4,7.6400000000000001E-3,3881254,9933678,21438820000,9933678,21438820000,1.6200000000000001E-4,4.9927867000000049E-3,21.595706975975634,{"$f":"0","v":0},0,18.498640550918424,{"$f":"0","v":0},0,{"$f":"0","v":0},0.14495744330000004,1.6138116E-4,null,261,0.99975069999999999,2.4929999999999999E-4,1.56E-4,7.6321999999999996E-3,0.14462802137500008,0.3944381240138326,9934612,3923898,86933730,21.613274669728927,9934612,22613790000,1.554046884E-4,18.515242991608414,null,0,0,null,4.8118286000000043E-3]
[265,2.5417499999999998E-4,7.6428659999999999E-3,3867633,9933335,21115280000,9933335,21115280000,1.6449999999999996E-4,5.0512896500000039E-3,21.59004283110626,{"$f":"0","v":0},0,18.493332742383053,{"$f":"0","v":0},0,{"$f":"0","v":0},0.14495521824166671,1.6387137427149994E-4,null,262,0.99974949999999996,2.5050000000000002E-4,1.5799999999999999E-4,7.6347990000000003E-3,0.1447378286833334,0.39303471464215545,9934301,3909684,86596070,21.607455871113878,9934301,22222130000,1.5739685087899998E-4,18.509757028156312,null,0,0,null,4.8721479666666706E-3]
[266,2.5545E-4,7.645733E-3,3854013,9932992,20791740000,9932992,20791740000,1.6700000000000005E-4,5.1097926000000056E-3,21.584332908321791,{"$f":"0","v":0},0,18.487984101944257,{"$f":"0","v":0},0,{"$f":"0","v":0},0.14495299318333341,1.6636158129450004E-4,null,263,0.99974830000000003,2.5169999999999999E-4,1.6000000000000004E-4,7.6373999999999999E-3,0.14484763599166672,0.39163629859577981,9933989,3895469,86258420,21.601602860057842,9933989,21830480000,1.5938900800000004E-4,18.504218269990915,null,0,0,null,4.9324673333333386E-3]
[267,2.5672500000000002E-4,7.6485989999999998E-3,3840392,9932649,20468190000,9932649,20468190000,1.695E-4,5.1682955500000046E-3,21.578590848711972,{"$f":"0","v":0},0,18.482591065550409,{"$f":"0","v":0},0,{"$f":"0","v":0},0.14495076812500007,1.6885178123475001E-4,null,264,0.9997471,2.5290000000000002E-4,1.6200000000000001E-4,7.6400000000000001E-3,0.14495744330000004,0.39024285810847292,9933678,3881254,85920770,21.595706975975634,9933678,21438820000,1.6138116E-4,18.498640550918424,null,0,0,null,4.9927867000000049E-3]
[268,2.5799999999999998E-4,7.651466E-3,3826771,9932306,20144650000,9932306,20144650000,1.7199999999999998E-4,5.2267985000000036E-3,21.572805299385127,{"$f":"0","v":0},0,18.477150009737066,{"$f":"0","v":0},0,{"$f":"0","v":0},0.14494854306666674,1.7134197392399997E-4,null,265,0.99974580000000002,2.5417499999999998E-4,1.6449999999999996E-4,7.6428659999999999E-3,0.14495521824166671,0.38885437547721413,9933335,3867633,85597330,21.59004283110626,9933335,21115280000,1.6387137427149994E-4,18.493332742383053,null,0,0,null,5.0512896500000039E-3]
[269,2.59275E-4,7.6543330000000001E-3,3813150,9931963,19821110000,9931963,19821110000,1.7450000000000004E-4,5.2853014500000052E-3,21.566978416794512,{"$f":"0","v":0},0,18.471672352591423,{"$f":"0","v":0},0,{"$f":"0","v":0},0.14494631800833344,1.7383215944575005E-4,null,266,0.99974450000000004,2.5545E-4,1.6700000000000005E-4,7.645733E-3,0.14495299318333341,0.38747083306197017,9932992,3854013,85273890,21.584332908321791,9932992,20791740000,1.6636158129450004E-4,18.487984101944257,null,0,0,null,5.1097926000000056E-3]
[270,2.6055000000000002E-4,7.6572000000000003E-3,3799529,9931620,19497560000,9931620,19497560000,1.7700000000000002E-4,5.3438044000000042E-3,21.561109756411035,{"$f":"0","v":0},0,18.46614277056435,{"$f":"0","v":0},0,{"$f":"0","v":0},0.1449440929500001,1.7632233780000002E-4,null,267,0.9997433,2.5672500000000002E-4,1.695E-4,7.6485989999999998E-3,0.14495076812500007,0.386092213285471,9932649,3840392,84950460,21.578590848711972,9932649,20468190000,1.6885178123475001E-4,18.482591065550409,null,0,0,null,5.1682955500000046E-3]
[271,2.6182499999999998E-4,7.6600660000000001E-3,3785908,9931277,19174020000,9931277,19174020000,1.7949999999999997E-4,5.4023073500000032E-3,21.555198867308274,{"$f":"0","v":0},0,18.46056651587169,{"$f":"0","v":0},0,{"$f":"0","v":0},0.14494186789166677,1.7881250907649998E-4,null,268,0.99974200000000002,2.5799999999999998E-4,1.7199999999999998E-4,7.651466E-3,0.14494854306666674,0.38471849863298624,9932306,3826771,84627020,21.572805299385127,9932306,20144650000,1.7134197392399997E-4,18.477150009737066,null,0,0,null,5.2267985000000036E-3]
[272,2.631E-4,7.6629330000000002E-3,3772288,9930934,18850480000,9930934,18850480000,1.8200000000000003E-4,5.4608103000000048E-3,21.549239435942678,{"$f":"0","v":0},0,18.454942995095216,{"$f":"0","v":0},0,{"$f":"0","v":0},0.14493964283333347,1.8130267309700003E-4,null,269,0.99974070000000004,2.59275E-4,1.7450000000000004E-4,7.6543330000000001E-3,0.14494631800833344,0.3833496716521031,9931963,3813150,84303580,21.566978416794512,9931963,19821110000,1.7383215944575005E-4,18.471672352591423,null,0,0,null,5.2853014500000052E-3]
[273,2.6437500000000002E-4,7.6658000000000004E-3,3758667,9930591,18526930000,9930591,18526930000,1.8450000000000001E-4,5.5193132500000039E-3,21.543242690826293,{"$f":"0","v":0},0,18.449268471011003,{"$f":"0","v":0},0,{"$f":"0","v":0},0.14493741777500013,1.8379282995000001E-4,null,270,0.9997395,2.6055000000000002E-4,1.7700000000000002E-4,7.6572000000000003E-3,0.1449440929500001,0.38198571495250411,9931620,3799529,83980140,21.561109756411035,9931620,19497560000,1.7632233780000002E-4,18.46614277056435,null,0,0,null,5.3438044000000042E-3]
[274,2.6564999999999998E-4,7.6686669999999997E-3,3745046,9930248,18203390000,9930248,18203390000,1.8699999999999996E-4,5.5778162000000029E-3,21.537202324528632,{"$f":"0","v":0},0,18.443548583790371,{"$f":"0","v":0},0,{"$f":"0","v":0},0.1449351927166668,1.8628297963549996E-4,null,271,0.99973820000000002,2.6182499999999998E-4,1.7949999999999997E-4,7.6600660000000001E-3,0.14494186789166677,0.38062661120574676,9931277,3785908,83656700,21.555198867308274,9931277,19174020000,1.7881250907649998E-4,18.46056651587169,null,0,0,null,5.4023073500000032E-3]
[275,2.66925E-4,7.6715330000000003E-3,3731425,9929905,17879840000,9929905,17879840000,1.8950000000000005E-4,5.6363191500000045E-3,21.531120539293521,{"$f":"0","v":0},0,18.437779588630114,{"$f":"0","v":0},0,{"$f":"0","v":0},0.14493296765833349,1.8877312224825006E-4,null,272,0.99973690000000004,2.631E-4,1.8200000000000003E-4,7.6629330000000002E-3,0.14493964283333347,0.37927234314504299,9930934,3772288,83333260,21.549239435942678,9930934,18850480000,1.8130267309700003E-4,18.454942995095216,null,0,0,null,5.4608103000000048E-3]
[276,2.6820000000000001E-4,7.6743999999999996E-3,3717804,9929562,17556300000,9929562,17556300000,1.92E-4,5.6948221000000035E-3,21.524991500358812,{"$f":"0","v":0},0,18.431957676147995,{"$f":"0","v":0},0,{"$f":"0","v":0},0.14493074260000016,1.9126325760000001E-4,null,273,0.9997357,2.6437500000000002E-4,1.8450000000000001E-4,7.6658000000000004E-3,0.14493741777500013,0.37792289356503983,9930591,3758667,83009820,21.543242690826293,9930591,18526930000,1.8379282995000001E-4,18.449268471011003,null,0,0,null,5.5193132500000039E-3]
[277,2.6939999999999999E-4,7.6774670000000003E-3,3704753,9929182,17291330000,9929182,17291330000,1.9449999999999996E-4,5.7515086333333361E-3,21.51910229687827,{"$f":"0","v":0},0,18.42643284363535,{"$f":"0","v":0},0,{"$f":"0","v":0},0.14483058597500018,1.9375336633424998E-4,null,274,0.99973429999999996,2.6564999999999998E-4,1.8699999999999996E-4,7.6686669999999997E-3,0.1449351927166668,0.376578245321601,9930248,3745046,82686380,21.537202324528632,9930248,18203390000,1.8628297963549996E-4,18.443548583790371,null,0,0,null,5.5778162000000029E-3]
[278,2.7060000000000002E-4,7.6805329999999998E-3,3691701,9928802,17026370000,9928802,17026370000,1.9700000000000005E-4,5.8081951666666713E-3,21.513172010680169,{"$f":"0","v":0},0,18.420856240837264,{"$f":"0","v":0},0,{"$f":"0","v":0},0.14473042935000016,1.9624346749950005E-4,null,275,0.99973310000000004,2.66925E-4,1.8950000000000005E-4,7.6715330000000003E-3,0.14493296765833349,0.37523838133158893,9929905,3731425,82362950,21.531120539293521,9929905,17879840000,1.8877312224825006E-4,18.437779588630114,null,0,0,null,5.6363191500000045E-3]
[279,2.7179999999999999E-4,7.6835999999999996E-3,3678649,9928421,16761400000,9928421,16761400000,1.995E-4,5.8648817000000039E-3,21.507205079455346,{"$f":"0","v":0},0,18.415239412812081,{"$f":"0","v":0},0,{"$f":"0","v":0},0.14463027272500018,1.9873356089999999E-4,null,276,0.99973179999999995,2.6820000000000001E-4,1.92E-4,7.6743999999999996E-3,0.14493074260000016,0.37390328457264771,9929562,3717804,82039510,21.524991500358812,9929562,17556300000,1.9126325760000001E-4,18.431957676147995,null,0,0,null,5.6948221000000035E-3]
[280,2.7300000000000002E-4,7.686666E-3,3665597,9928041,16496430000,9928041,16496430000,2.0199999999999995E-4,5.9215682333333365E-3,21.501192927554957,{"$f":"0","v":0},0,18.409575734926786,{"$f":"0","v":0},0,{"$f":"0","v":0},0.14453011610000019,2.0122364673399995E-4,null,277,0.99973060000000002,2.6939999999999999E-4,1.9449999999999996E-4,7.6774670000000003E-3,0.14483058597500018,0.37257293808298708,9929182,3704753,81729700,21.51910229687827,9929182,17291330000,1.9375336633424998E-4,18.42643284363535,null,0,0,null,5.7515086333333361E-3]
[281,2.742E-4,7.6897329999999998E-3,3652546,9927661,16231460000,9927661,16231460000,2.0450000000000004E-4,5.9782547666666717E-3,21.495131774749265,{"$f":"0","v":0},0,18.40385847888933,{"$f":"0","v":0},0,{"$f":"0","v":0},0.14442995947500017,2.0371372480075002E-4,null,278,0.99972939999999999,2.7060000000000002E-4,1.9700000000000005E-4,7.6805329999999998E-3,0.14473042935000016,0.37124732496116675,9928802,3691701,81419870,21.513172010680169,9928802,17026370000,1.9624346749950005E-4,18.420856240837264,null,0,0,null,5.8081951666666713E-3]
[282,2.7540000000000003E-4,7.6927999999999996E-3,3639494,9927280,15966500000,9927280,15966500000,2.0699999999999999E-4,6.0349413000000043E-3,21.489035952983208,{"$f":"0","v":0},0,18.398099301588665,{"$f":"0","v":0},0,{"$f":"0","v":0},0.14432980285000019,2.062037952E-4,null,279,0.99972819999999996,2.7179999999999999E-4,1.995E-4,7.6835999999999996E-3,0.14463027272500018,0.36992642836588152,9928421,3678649,81110060,21.507205079455346,9928421,16761400000,1.9873356089999999E-4,18.415239412812081,null,0,0,null,5.8648817000000039E-3]
[283,2.766E-4,7.695866E-3,3626442,9926900,15701530000,9926900,15701530000,2.0949999999999994E-4,6.0916278333333369E-3,21.482890736981314,{"$f":"0","v":0},0,18.392285290728143,{"$f":"0","v":0},0,{"$f":"0","v":0},0.1442296462250002,2.0869385803649995E-4,null,280,0.99972700000000003,2.7300000000000002E-4,2.0199999999999995E-4,7.686666E-3,0.14453011610000019,0.36861023151574762,9928041,3665597,80800240,21.501192927554957,9928041,16496430000,2.0122364673399995E-4,18.409575734926786,null,0,0,null,5.9215682333333365E-3]
[284,2.7779999999999998E-4,7.6989329999999998E-3,3613390,9926520,15436560000,9926520,15436560000,2.1200000000000003E-4,6.1483143666666721E-3,21.476706661426896,{"$f":"0","v":0},0,18.386428178534459,{"$f":"0","v":0},0,{"$f":"0","v":0},0.14412948960000019,2.1118391310200003E-4,null,281,0.9997258,2.742E-4,2.0450000000000004E-4,7.6897329999999998E-3,0.14442995947500017,0.36729871768908934,9927661,3652546,80490420,21.495131774749265,9927661,16231460000,2.0371372480075002E-4,18.40385847888933,null,0,0,null,5.9782547666666717E-3]
[285,2.7900000000000001E-4,7.7019999999999996E-3,3600339,9926140,15171600000,9926140,15171600000,2.1449999999999998E-4,6.2050009000000047E-3,21.470468857238163,{"$f":"0","v":0},0,18.380521171885135,{"$f":"0","v":0},0,{"$f":"0","v":0},0.1440293329750002,2.1367396049999998E-4,null,282,0.99972459999999996,2.7540000000000003E-4,2.0699999999999999E-4,7.6927999999999996E-3,0.14432980285000019,0.36599187022372676,9927280,3639494,80180610,21.489035952983208,9927280,15966500000,2.062037952E-4,18.398099301588665,null,0,0,null,6.0349413000000043E-3]
[286,2.8019999999999998E-4,7.705066E-3,3587287,9925760,14906630000,9925760,14906630000,2.1699999999999993E-4,6.2616874333333373E-3,21.464191799633909,{"$f":"0","v":0},0,18.374557369219112,{"$f":"0","v":0},0,{"$f":"0","v":0},0.14392917635000022,2.1616400033899993E-4,null,283,0.99972340000000004,2.766E-4,2.0949999999999994E-4,7.695866E-3,0.1442296462250002,0.36468967251676371,9926900,3626442,79870780,21.482890736981314,9926900,15701530000,2.0869385803649995E-4,18.392285290728143,null,0,0,null,6.0916278333333369E-3]
[287,2.8140000000000001E-4,7.7081329999999998E-3,3574235,9925379,14641660000,9925379,14641660000,2.1950000000000002E-4,6.3183739666666724E-3,21.457868898286392,{"$f":"0","v":0},0,18.368548616933126,{"$f":"0","v":0},0,{"$f":"0","v":0},0.1438290197250002,2.1865403240325002E-4,null,284,0.99972220000000001,2.7779999999999998E-4,2.1200000000000003E-4,7.6989329999999998E-3,0.14412948960000019,0.36339210802437721,9926520,3613390,79560970,21.476706661426896,9926520,15436560000,2.1118391310200003E-4,18.386428178534459,null,0,0,null,6.1483143666666721E-3]
[288,2.8259999999999998E-4,7.7111999999999997E-3,3561183,9924999,14376690000,9924999,14376690000,2.2199999999999998E-4,6.375060500000005E-3,21.451502457189086,{"$f":"0","v":0},0,18.362488015927202,{"$f":"0","v":0},0,{"$f":"0","v":0},0.14372886310000021,2.2114405679999997E-4,null,285,0.99972099999999997,2.7900000000000001E-4,2.1449999999999998E-4,7.7019999999999996E-3,0.1440293329750002,0.36209916026160716,9926140,3600339,79251150,21.470468857238163,9926140,15171600000,2.1367396049999998E-4,18.380521171885135,null,0,0,null,6.2050009000000047E-3]
[289,2.83875E-4,7.7144659999999997E-3,3548677,9924582,14161050000,9924582,14161050000,2.2549999999999992E-4,6.4299306166666704E-3,21.445380900637993,{"$f":"0","v":0},0,18.356727567325958,{"$f":"0","v":0},0,{"$f":"0","v":0},0.14354417050833354,2.2463019395849995E-4,null,286,0.99971980000000005,2.8019999999999998E-4,2.1699999999999993E-4,7.705066E-3,0.14392917635000022,0.36081081280214672,9925760,3587287,78941330,21.464191799633909,9925760,14906630000,2.1616400033899993E-4,18.374557369219112,null,0,0,null,6.2616874333333373E-3]
[290,2.8515000000000002E-4,7.7177330000000001E-3,3536171,9924166,13945410000,9924166,13945410000,2.2900000000000004E-4,6.4848007333333391E-3,21.439218873088056,{"$f":"0","v":0},0,18.350919436632044,{"$f":"0","v":0},0,{"$f":"0","v":0},0.14335947791666684,2.2811631957150004E-4,null,287,0.99971860000000001,2.8140000000000001E-4,2.1950000000000002E-4,7.7081329999999998E-3,0.1438290197250002,0.35952704927813395,9925379,3574235,78631510,21.457868898286392,9925379,14641660000,2.1865403240325002E-4,18.368548616933126,null,0,0,null,6.3183739666666724E-3]
[291,2.8642499999999998E-4,7.7210000000000004E-3,3523665,9923749,13729760000,9923749,13729760000,2.3249999999999999E-4,6.5396708500000044E-3,21.433010267718412,{"$f":"0","v":0},0,18.345069413435848,{"$f":"0","v":0},0,{"$f":"0","v":0},0.14317478532500016,2.3160243374999997E-4,null,288,0.99971739999999998,2.8259999999999998E-4,2.2199999999999998E-4,7.7111999999999997E-3,0.14372886310000021,0.35824785337994369,9924999,3561183,78321700,21.451502457189086,9924999,14376690000,2.2114405679999997E-4,18.362488015927202,null,0,0,null,6.375060500000005E-3]
[292,2.877E-4,7.7242659999999996E-3,3511159,9923333,13514120000,9923333,13514120000,2.3599999999999994E-4,6.5945409666666698E-3,21.426757434890682,{"$f":"0","v":0},0,18.339164149791895,{"$f":"0","v":0},0,{"$f":"0","v":0},0.14299009273333349,2.3508853661199992E-4,null,289,0.9997161,2.83875E-4,2.2549999999999992E-4,7.7144659999999997E-3,0.14354417050833354,0.35697320885598033,9924582,3548677,78024930,21.445380900637993,9924582,14161050000,2.2463019395849995E-4,18.356727567325958,null,0,0,null,6.4299306166666704E-3]
[293,2.8897500000000002E-4,7.727533E-3,3498653,9922916,13298480000,9922916,13298480000,2.3950000000000005E-4,6.6494110833333385E-3,21.420462758572132,{"$f":"0","v":0},0,18.333212799312658,{"$f":"0","v":0},0,{"$f":"0","v":0},0.14280540014166679,2.3857462792325004E-4,null,290,0.99971489999999996,2.8515000000000002E-4,2.2900000000000004E-4,7.7177330000000001E-3,0.14335947791666684,0.35570309951247125,9924166,3536171,77728170,21.439218873088056,9924166,13945410000,2.2811631957150004E-4,18.350919436632044,null,0,0,null,6.4848007333333391E-3]
[294,2.9024999999999998E-4,7.7308000000000003E-3,3486147,9922500,13082830000,9922500,13082830000,2.43E-4,6.7042812000000038E-3,21.414120051449348,{"$f":"0","v":0},0,18.327214392972433,{"$f":"0","v":0},0,{"$f":"0","v":0},0.14262070755000011,2.420607078E-4,null,291,0.99971359999999998,2.8642499999999998E-4,2.3249999999999999E-4,7.7210000000000004E-3,0.14317478532500016,0.3544375092132615,9923749,3523665,77431400,21.433010267718412,9923749,13729760000,2.3160243374999997E-4,18.345069413435848,null,0,0,null,6.5396708500000044E-3]
[295,2.91525E-4,7.7340669999999999E-3,3473641,9922083,12867190000,9922083,12867190000,2.4649999999999997E-4,6.7591513166666692E-3,21.407734552400012,{"$f":"0","v":0},0,18.321158797683324,{"$f":"0","v":0},0,{"$f":"0","v":0},0.14243601495833344,2.4554677624224997E-4,null,292,0.9997123,2.877E-4,2.3599999999999994E-4,7.7242659999999996E-3,0.14299009273333349,0.35317642187960829,9923333,3511159,77134630,21.426757434890682,9923333,13514120000,2.3508853661199992E-4,18.339164149791895,null,0,0,null,6.5945409666666698E-3]
[296,2.9280000000000002E-4,7.7373329999999999E-3,3461135,9921666,12651540000,9921666,12651540000,2.5000000000000006E-4,6.8140214333333379E-3,21.401302908342686,{"$f":"0","v":0},0,18.315051800760781,{"$f":"0","v":0},0,{"$f":"0","v":0},0.14225132236666674,2.4903283337500008E-4,null,293,0.99971100000000002,2.8897500000000002E-4,2.3950000000000005E-4,7.727533E-3,0.14280540014166679,0.35191982148997691,9922916,3498653,76837870,21.420462758572132,9922916,13298480000,2.3857462792325004E-4,18.333212799312658,null,0,0,null,6.6494110833333385E-3]
[297,2.9407499999999998E-4,7.7406000000000003E-3,3448629,9921250,12435900000,9921250,12435900000,2.5350000000000004E-4,6.8688915500000032E-3,21.394821717557903,{"$f":"0","v":0},0,18.308899279759174,{"$f":"0","v":0},0,{"$f":"0","v":0},0.14206662977500006,2.5251887895000005E-4,null,294,0.99970970000000003,2.9024999999999998E-4,2.43E-4,7.7308000000000003E-3,0.14262070755000011,0.35066769207983745,9922500,3486147,76541100,21.414120051449348,9922500,13082830000,2.420607078E-4,18.327214392972433,null,0,0,null,6.7042812000000038E-3]
[298,2.9535E-4,7.7438669999999998E-3,3436123,9920833,12220260000,9920833,12220260000,2.5699999999999996E-4,6.9237616666666685E-3,21.388293349316463,{"$f":"0","v":0},0,18.302691003833573,{"$f":"0","v":0},0,{"$f":"0","v":0},0.14188193718333339,2.5600491309049996E-4,null,295,0.9997085,2.91525E-4,2.4649999999999997E-4,7.7340669999999999E-3,0.14243601495833344,0.34942001774146142,9922083,3473641,76244340,21.407734552400012,9922083,12867190000,2.4554677624224997E-4,18.321158797683324,null,0,0,null,6.7591513166666692E-3]
[299,2.9662500000000001E-4,7.7471340000000001E-3,3423617,9920417,12004610000,9920417,12004610000,2.6050000000000004E-4,6.9786317833333373E-3,21.381720207507634,{"$f":"0","v":0},0,18.296432440830205,{"$f":"0","v":0},0,{"$f":"0","v":0},0.14169724459166669,2.5949093579650005E-4,null,296,0.99970720000000002,2.9280000000000002E-4,2.5000000000000006E-4,7.7373329999999999E-3,0.14225132236666674,0.3481767826237202,9921666,3461135,75947580,21.401302908342686,9921666,12651540000,2.4903283337500008E-4,18.315051800760781,null,0,0,null,6.8140214333333379E-3]
[300,2.9789999999999998E-4,7.7504000000000002E-3,3411111,9920000,11788970000,9920000,11788970000,2.6400000000000002E-4,7.0335019000000026E-3,21.375095936485209,{"$f":"0","v":0},0,18.29011321858313,{"$f":"0","v":0},0,{"$f":"0","v":0},0.14151255200000001,2.6297694720000002E-4,null,297,0.99970590000000004,2.9407499999999998E-4,2.5350000000000004E-4,7.7406000000000003E-3,0.14206662977500006,0.34693797093188339,9921250,3448629,75650810,21.394821717557903,9921250,12435900000,2.5251887895000005E-4,18.308899279759174,null,0,0,null,6.8688915500000032E-3]
[301,2.9910000000000001E-4,7.7539339999999997E-3,3399128,9919536,11614180000,9919536,11614180000,2.6749999999999994E-4,7.0865556000000015E-3,21.36873505989379,{"$f":"0","v":0},0,18.284113387514267,{"$f":"0","v":0},0,{"$f":"0","v":0},0.14125601384166672,2.6646291132749998E-4,null,298,0.9997047,2.9535E-4,2.5699999999999996E-4,7.7438669999999998E-3,0.14188193718333339,0.34570356692741805,9920833,3436123,75354040,21.388293349316463,9920833,12220260000,2.5600491309049996E-4,18.302691003833573,null,0,0,null,6.9237616666666685E-3]
[302,3.0029999999999998E-4,7.7574669999999997E-3,3387145,9919073,11439390000,9919073,11439390000,2.7100000000000008E-4,7.1396093000000039E-3,21.362323271762303,{"$f":"0","v":0},0,18.278070519252662,{"$f":"0","v":0},0,{"$f":"0","v":0},0.1409994756833334,2.6994886322150008E-4,null,299,0.99970329999999996,2.9662500000000001E-4,2.6050000000000004E-4,7.7471340000000001E-3,0.14169724459166669,0.34447355492778908,9920417,3423617,75057280,21.381720207507634,9920417,12004610000,2.5949093579650005E-4,18.296432440830205,null,0,0,null,6.9786317833333373E-3]
[303,3.0150000000000001E-4,7.7609999999999997E-3,3375162,9918609,11264600000,9918609,11264600000,2.745E-4,7.1926630000000028E-3,21.35587188111267,{"$f":"0","v":0},0,18.271973826035069,{"$f":"0","v":0},0,{"$f":"0","v":0},0.14074293752500011,2.7343480275000002E-4,null,300,0.99970210000000004,2.9789999999999998E-4,2.6400000000000002E-4,7.7504000000000002E-3,0.14151255200000001,0.3432479193062597,9920000,3411111,74760510,21.375095936485209,9920000,11788970000,2.6297694720000002E-4,18.29011321858313,null,0,0,null,7.0335019000000026E-3]
[304,3.0269999999999999E-4,7.764534E-3,3363179,9918145,11089810000,9918145,11089810000,2.7799999999999998E-4,7.2457167000000017E-3,21.349368571124721,{"$f":"0","v":0},0,18.265823059166323,{"$f":"0","v":0},0,{"$f":"0","v":0},0.14048639936666682,2.7692072977399996E-4,null,301,0.9997009,2.9910000000000001E-4,2.6749999999999994E-4,7.7539339999999997E-3,0.14125601384166672,0.34202664449169284,9919536,3399128,74476260,21.36873505989379,9919536,11614180000,2.6646291132749998E-4,18.284113387514267,null,0,0,null,7.0865556000000015E-3]
[305,3.0390000000000001E-4,7.768067E-3,3351196,9917682,10915020000,9917682,10915020000,2.8150000000000007E-4,7.298770400000004E-3,21.342824720885716,{"$f":"0","v":0},0,18.25962744094188,{"$f":"0","v":0},0,{"$f":"0","v":0},0.1402298612083335,2.8040664456975008E-4,null,302,0.99969969999999997,3.0029999999999998E-4,2.7100000000000008E-4,7.7574669999999997E-3,0.1409994756833334,0.34080971496835377,9919073,3387145,74191990,21.362323271762303,9919073,11439390000,2.6994886322150008E-4,18.278070519252662,null,0,0,null,7.1396093000000039E-3]
[306,3.0509999999999999E-4,7.7716E-3,3339213,9917218,10740230000,9917218,10740230000,2.8499999999999999E-4,7.3518241000000029E-3,21.336230909798207,{"$f":"0","v":0},0,18.253369264150308,{"$f":"0","v":0},0,{"$f":"0","v":0},0.13997332305000021,2.8389254699999998E-4,null,303,0.99969850000000005,3.0150000000000001E-4,2.745E-4,7.7609999999999997E-3,0.14074293752500011,0.33959711527571246,9918609,3375162,73907740,21.35587188111267,9918609,11264600000,2.7343480275000002E-4,18.271973826035069,null,0,0,null,7.1926630000000028E-3]
[307,3.0630000000000002E-4,7.775133E-3,3327230,9916754,10565440000,9916754,10565440000,2.8849999999999997E-4,7.4048778000000018E-3,21.329589603564123,{"$f":"0","v":0},0,18.247068559000855,{"$f":"0","v":0},0,{"$f":"0","v":0},0.13971678489166692,2.8737843706474998E-4,null,304,0.99969730000000001,3.0269999999999999E-4,2.7799999999999998E-4,7.764534E-3,0.14048639936666682,0.33838883000824743,9918145,3363179,73623470,21.349368571124721,9918145,11089810000,2.7692072977399996E-4,18.265823059166323,null,0,0,null,7.2457167000000017E-3]
[308,3.0749999999999999E-4,7.7786660000000001E-3,3315246,9916291,10390650000,9916291,10390650000,2.9200000000000005E-4,7.4579315000000042E-3,21.322906882324869,{"$f":"0","v":0},0,18.240714326172533,{"$f":"0","v":0},0,{"$f":"0","v":0},0.1394602467333336,2.9086431476400002E-4,null,305,0.99969609999999998,3.0390000000000001E-4,2.8150000000000007E-4,7.768067E-3,0.1402298612083335,0.33718484381525005,9917682,3351196,73339220,21.342824720885716,9917682,10915020000,2.8040664456975008E-4,18.25962744094188,null,0,0,null,7.298770400000004E-3]
[309,3.0870000000000002E-4,7.7822000000000004E-3,3303263,9915827,10215860000,9915827,10215860000,2.9550000000000003E-4,7.5109852000000031E-3,21.316169055163535,{"$f":"0","v":0},0,18.234299034250462,{"$f":"0","v":0},0,{"$f":"0","v":0},0.13920370857500031,2.9435017995000002E-4,null,306,0.99969490000000005,3.0509999999999999E-4,2.8499999999999999E-4,7.7716E-3,0.13997332305000021,0.33598514140062946,9917218,3339213,73054960,21.336230909798207,9917218,10740230000,2.8389254699999998E-4,18.253369264150308,null,0,0,null,7.3518241000000029E-3]
[310,3.099E-4,7.7857330000000004E-3,3291280,9915363,10041070000,9915363,10041070000,2.9899999999999995E-4,7.564038900000002E-3,21.30938216539867,{"$f":"0","v":0},0,18.227831990303084,{"$f":"0","v":0},0,{"$f":"0","v":0},0.13894717041666702,2.9783603291649993E-4,null,307,0.99969370000000002,3.0630000000000002E-4,2.8849999999999997E-4,7.775133E-3,0.13971678489166692,0.33478970752271819,9916754,3327230,72770700,21.329589603564123,9916754,10565440000,2.8737843706474998E-4,18.247068559000855,null,0,0,null,7.4048778000000018E-3]
[311,3.1110000000000003E-4,7.7892660000000004E-3,3279297,9914900,9866277000,9914900,9866277000,3.0250000000000003E-4,7.6170926000000035E-3,21.302545675185868,{"$f":"0","v":0},0,18.221306073615199,{"$f":"0","v":0},0,{"$f":"0","v":0},0.1386906322583337,3.0132187351750004E-4,null,308,0.99969249999999998,3.0749999999999999E-4,2.9200000000000005E-4,7.7786660000000001E-3,0.1394602467333336,0.33359852699407855,9916291,3315246,72486440,21.322906882324869,9916291,10390650000,2.9086431476400002E-4,18.240714326172533,null,0,0,null,7.4579315000000042E-3]
[312,3.123E-4,7.7927999999999999E-3,3267314,9914436,9691486000,9914436,9691486000,3.0600000000000001E-4,7.6701463000000032E-3,21.295659038790475,{"$f":"0","v":0},0,18.214730690471335,{"$f":"0","v":0},0,{"$f":"0","v":0},0.1384340941000004,3.0480770159999998E-4,null,309,0.99969129999999995,3.0870000000000002E-4,2.9550000000000003E-4,7.7822000000000004E-3,0.13920370857500031,0.33241158468130966,9915827,3303263,72202180,21.316169055163535,9915827,10215860000,2.9435017995000002E-4,18.234299034250462,null,0,0,null,7.5109852000000031E-3]
[313,3.1342499999999999E-4,7.7966670000000002E-3,3255832,9913926,9550137000,9913926,9550137000,3.0949999999999999E-4,7.7213835833333357E-3,21.289042043119341,{"$f":"0","v":0},0,18.208484006289751,{"$f":"0","v":0},0,{"$f":"0","v":0},0.13811769557500039,3.0829346578174999E-4,null,310,0.99969010000000003,3.099E-4,2.9899999999999995E-4,7.7857330000000004E-3,0.13894717041666702,0.33122886550485547,9915363,3291280,71917920,21.30938216539867,9915363,10041070000,2.9783603291649993E-4,18.227831990303084,null,0,0,null,7.564038900000002E-3]
[314,3.1454999999999998E-4,7.8005330000000001E-3,3244350,9913416,9408790000,9913416,9408790000,3.1300000000000007E-4,7.7726208666666699E-3,21.282381293633545,{"$f":"0","v":0},0,18.202189255594874,{"$f":"0","v":0},0,{"$f":"0","v":0},0.13780129705000035,3.1177921658550006E-4,null,311,0.99968889999999999,3.1110000000000003E-4,3.0250000000000003E-4,7.7892660000000004E-3,0.1386906322583337,0.33005035443881253,9914900,3279297,71633660,21.302545675185868,9914900,9866277000,3.0132187351750004E-4,18.221306073615199,null,0,0,null,7.6170926000000035E-3]
[315,3.1567500000000002E-4,7.8044000000000004E-3,3232869,9912906,9267442000,9912906,9267442000,3.165E-4,7.8238581500000015E-3,21.275666482310292,{"$f":"0","v":0},0,18.195838358623398,{"$f":"0","v":0},0,{"$f":"0","v":0},0.13748489852500034,3.1526495369999999E-4,null,312,0.99968769999999996,3.123E-4,3.0600000000000001E-4,7.7927999999999999E-3,0.1384340941000004,0.32887603651073993,9914436,3267314,71349400,21.295659038790475,9914436,9691486000,3.0480770159999998E-4,18.214730690471335,null,0,0,null,7.6701463000000032E-3]
[316,3.168E-4,7.8082669999999998E-3,3221387,9912396,9126093000,9912396,9126093000,3.1999999999999997E-4,7.8750954333333349E-3,21.268907474223575,{"$f":"0","v":0},0,18.189438122047953,{"$f":"0","v":0},0,{"$f":"0","v":0},0.13716850000000033,3.1875067728000001E-4,null,313,0.99968659999999998,3.1342499999999999E-4,3.0949999999999999E-4,7.7966670000000002E-3,0.13811769557500039,0.32770589680146822,9913926,3255832,71077120,21.289042043119341,9913926,9550137000,3.0829346578174999E-4,18.208484006289751,null,0,0,null,7.7213835833333357E-3]
[317,3.1792499999999999E-4,7.8121329999999998E-3,3209905,9911886,8984744000,9911886,8984744000,3.2350000000000006E-4,7.9263327166666699E-3,21.262100111477857,{"$f":"0","v":0},0,18.182984153388141,{"$f":"0","v":0},0,{"$f":"0","v":0},0.13685210147500029,3.2223638748725007E-4,null,314,0.9996855,3.1454999999999998E-4,3.1300000000000007E-4,7.8005330000000001E-3,0.13780129705000035,0.3265399204449107,9913416,3244350,70804850,21.282381293633545,9913416,9408790000,3.1177921658550006E-4,18.202189255594874,null,0,0,null,7.7726208666666699E-3]
[318,3.1904999999999998E-4,7.816E-3,3198423,9911376,8843396000,9911376,8843396000,3.2700000000000003E-4,7.9775700000000015E-3,21.255243873308814,{"$f":"0","v":0},0,18.176471986100033,{"$f":"0","v":0},0,{"$f":"0","v":0},0.13653570295000028,3.2572208400000001E-4,null,315,0.99968429999999997,3.1567500000000002E-4,3.165E-4,7.8044000000000004E-3,0.13748489852500034,0.32537809262787393,9912906,3232869,70532580,21.275666482310292,9912906,9267442000,3.1526495369999999E-4,18.195838358623398,null,0,0,null,7.8238581500000015E-3]
[319,3.2017500000000002E-4,7.8198669999999994E-3,3186941,9910867,8702048000,9910867,8702048000,3.3049999999999996E-4,8.0288072833333331E-3,21.248341369252415,{"$f":"0","v":0},0,18.169908487234281,{"$f":"0","v":0},0,{"$f":"0","v":0},0.13621930442500027,3.2920776697824993E-4,null,316,0.99968319999999999,3.168E-4,3.1999999999999997E-4,7.8082669999999998E-3,0.13716850000000033,0.32422039858986967,9912396,3221387,70260300,21.268907474223575,9912396,9126093000,3.1875067728000001E-4,18.189438122047953,null,0,0,null,7.8750954333333349E-3]
[320,{"$f":"W325","v":3.213E-4},{"$f":"Y325","v":7.8237340000000006E-3},{"$f":"AC325","v":3175460},{"$f":"AF325","v":9910357},{"$f":"AG325","v":8560699000},{"$f":"E322","v":9910357},{"$f":"F322","v":8560699000},{"$f":"X325","v":3.3400000000000004E-4},{"$f":"AN325","v":8.0800445666666682E-3},{"$f":"AE325","v":21.241378939324274},{"$f":"0","v":0},{"$f":"AL325","v":0},{"$f":"AI325","v":18.163292507521046},{"$f":"0","v":0},{"$f":"AK325","v":0},{"$f":"0","v":0},{"$f":"Z325","v":0.13590290590000023},{"$f":"AH325","v":3.3269343642200005E-4},null,317,0.99968210000000002,3.1792499999999999E-4,3.2350000000000006E-4,7.8121329999999998E-3,0.13685210147500029,0.32306682362292766,9911886,3209905,69988020,21.262100111477857,9911886,8984744000,3.2223638748725007E-4,18.182984153388141,null,0,0,null,7.9263327166666699E-3]
[321,3.2242499999999999E-4,7.8276000000000005E-3,3163978,9909847,8419351000,9909847,8419351000,3.3750000000000002E-4,8.1312818500000016E-3,21.234372863317422,{"$f":"0","v":0},0,18.156616694563898,{"$f":"0","v":0},0,{"$f":"0","v":0},0.13558650737500022,3.3617909250000004E-4,null,318,0.99968089999999998,3.1904999999999998E-4,3.2700000000000003E-4,7.816E-3,0.13653570295000028,0.32191735307140851,9911376,3198423,69715740,21.255243873308814,9911376,8843396000,3.2572208400000001E-4,18.176471986100033,null,0,0,null,7.9775700000000015E-3]
[322,3.2354999999999998E-4,7.8314660000000005E-3,3152496,9909337,8278003000,9909337,8278003000,3.4099999999999994E-4,8.1825191333333332E-3,21.227318924433209,{"$f":"0","v":0},0,18.149879782429018,{"$f":"0","v":0},0,{"$f":"0","v":0},0.13527010885000021,3.3966473504699993E-4,null,319,0.99967980000000001,3.2017500000000002E-4,3.3049999999999996E-4,7.8198669999999994E-3,0.13621930442500027,0.32077197233181737,9910867,3186941,69443470,21.248341369252415,9910867,8702048000,3.2920776697824993E-4,18.169908487234281,null,0,0,null,8.0288072833333331E-3]
[323,3.2467500000000002E-4,7.8353329999999999E-3,3141014,9908827,8136654000,9908827,8136654000,3.4450000000000008E-4,8.2337564166666682E-3,21.22021341409706,{"$f":"0","v":0},0,18.143088718980735,{"$f":"0","v":0},0,{"$f":"0","v":0},0.13495371032500017,3.4315036389075007E-4,null,320,0.99967870000000003,3.213E-4,3.3400000000000004E-4,7.8237340000000006E-3,0.13590290590000023,0.31963066685261865,9910357,3175460,69171190,21.241378939324274,9910357,8560699000,3.3269343642200005E-4,18.163292507521046,null,0,0,null,8.0800445666666682E-3]
[324,3.258E-4,7.8391999999999993E-3,3129533,9908317,7995306000,9908317,7995306000,3.48E-4,8.2849936999999998E-3,21.213045617881857,{"$f":"0","v":0},0,18.13623891633431,{"$f":"0","v":0},0,{"$f":"0","v":0},0.13463731180000016,3.4663597919999998E-4,null,321,0.99967760000000006,3.2242499999999999E-4,3.3750000000000002E-4,7.8276000000000005E-3,0.13558650737500022,0.31849342213405124,9909847,3163978,68898910,21.234372863317422,9909847,8419351000,3.3617909250000004E-4,18.156616694563898,null,0,0,null,8.1312818500000016E-3]
[325,3.2685E-4,7.8433329999999992E-3,3118532,9907762,7881088000,9907762,7881088000,3.5199999999999994E-4,8.334414566666665E-3,21.206162119441668,{"$f":"0","v":0},0,18.12973443913685,{"$f":"0","v":0},0,{"$f":"0","v":0},0.13427233290833351,3.5061957339199994E-4,null,322,0.99967649999999997,3.2354999999999998E-4,3.4099999999999994E-4,7.8314660000000005E-3,0.13527010885000021,0.31736022372794392,9909337,3152496,68626640,21.227318924433209,9909337,8278003000,3.3966473504699993E-4,18.149879782429018,null,0,0,null,8.1825191333333332E-3]
[326,3.279E-4,7.8474670000000003E-3,3107531,9907206,7766870000,9907206,7766870000,3.5600000000000003E-4,8.3838354333333337E-3,21.199226666336287,{"$f":"0","v":0},0,18.123187216336312,{"$f":"0","v":0},0,{"$f":"0","v":0},0.13390735401666681,3.5460315087400003E-4,null,323,0.99967530000000004,3.2467500000000002E-4,3.4450000000000008E-4,7.8353329999999999E-3,0.13495371032500017,0.31623105723753203,9908827,3141014,68354370,21.22021341409706,9908827,8136654000,3.4315036389075007E-4,18.143088718980735,null,0,0,null,8.2337564166666682E-3]
[327,3.2895E-4,7.8516000000000002E-3,3096530,9906651,7652652000,9906651,7652652000,3.5999999999999997E-4,8.4332563000000006E-3,21.192241934251133,{"$f":"0","v":0},0,18.116578092129583,{"$f":"0","v":0},0,{"$f":"0","v":0},0.13354237512500017,3.5858671199999996E-4,null,324,0.99967419999999996,3.258E-4,3.48E-4,7.8391999999999993E-3,0.13463731180000016,0.31510590831727464,9908317,3129533,68082090,21.213045617881857,9908317,7995306000,3.4663597919999998E-4,18.13623891633431,null,0,0,null,8.2849936999999998E-3]
[328,3.3E-4,7.8557330000000002E-3,3085529,9906096,7538434000,9906096,7538434000,3.6399999999999996E-4,8.4826771666666658E-3,21.185210637030689,{"$f":"0","v":0},0,18.109921033403136,{"$f":"0","v":0},0,{"$f":"0","v":0},0.13317739623333352,3.6257025659399995E-4,null,325,0.99967309999999998,3.2685E-4,3.5199999999999994E-4,7.8433329999999992E-3,0.13427233290833351,0.31398476267267206,9907762,3118532,67821300,21.206162119441668,9907762,7881088000,3.5061957339199994E-4,18.12973443913685,null,0,0,null,8.334414566666665E-3]
[329,3.3105E-4,7.8598660000000001E-3,3074528,9905541,7424215000,9905541,7424215000,3.6800000000000005E-4,8.5320980333333345E-3,21.178129022297622,{"$f":"0","v":0},0,18.103196668462363,{"$f":"0","v":0},0,{"$f":"0","v":0},0.13281241734166682,3.6655378465600004E-4,null,326,0.99967209999999995,3.279E-4,3.5600000000000003E-4,7.8474670000000003E-3,0.13390735401666681,0.31286760606008462,9907206,3107531,67560500,21.199226666336287,9907206,7766870000,3.5460315087400003E-4,18.123187216336312,null,0,0,null,8.3838354333333337E-3]
[330,3.321E-4,7.8639999999999995E-3,3063527,9904986,7309997000,9904986,7309997000,3.7199999999999999E-4,8.5815188999999997E-3,21.170993283776074,{"$f":"0","v":0},0,18.096419545566629,{"$f":"0","v":0},0,{"$f":"0","v":0},0.13244743845000018,3.7053729599999995E-4,null,327,0.99967099999999998,3.2895E-4,3.5999999999999997E-4,7.8516000000000002E-3,0.13354237512500017,0.3117544242865512,9906651,3096530,67299700,21.192241934251133,9906651,7652652000,3.5858671199999996E-4,18.116578092129583,null,0,0,null,8.4332563000000006E-3]
[331,3.3314999999999999E-4,7.8681329999999994E-3,3052526,9904430,7195779000,9904430,7195779000,3.7599999999999992E-4,8.6309397666666648E-3,21.163809388246541,{"$f":"0","v":0},0,18.089592447091032,{"$f":"0","v":0},0,{"$f":"0","v":0},0.13208245955833353,3.7452079099599991E-4,null,328,0.99966999999999995,3.3E-4,3.6399999999999996E-4,7.8557330000000002E-3,0.13317739623333352,0.31064520320960937,9906096,3085529,67038910,21.185210637030689,9906096,7538434000,3.6257025659399995E-4,18.109921033403136,null,0,0,null,8.4826771666666658E-3]
[332,3.3419999999999999E-4,7.8722670000000005E-3,3041525,9903875,7081561000,9903875,7081561000,3.8000000000000002E-4,8.6803606333333335E-3,21.156570237517911,{"$f":"0","v":0},0,18.082699761838185,{"$f":"0","v":0},0,{"$f":"0","v":0},0.13171748066666683,3.7850426927000001E-4,null,329,0.99966900000000003,3.3105E-4,3.6800000000000005E-4,7.8598660000000001E-3,0.13281241734166682,0.30953992873711533,9905541,3074528,66778120,21.178129022297622,9905541,7424215000,3.6655378465600004E-4,18.103196668462363,null,0,0,null,8.5320980333333345E-3]
[333,3.3524999999999999E-4,7.8764000000000004E-3,3030524,9903320,6967343000,9903320,6967343000,3.8400000000000001E-4,8.7297814999999987E-3,21.149281829369002,{"$f":"0","v":0},0,18.075755680650552,{"$f":"0","v":0},0,{"$f":"0","v":0},0.13135250177500019,3.824877312E-4,null,330,0.99966790000000005,3.321E-4,3.7199999999999999E-4,7.8639999999999995E-3,0.13244743845000018,0.30843858682706526,9904986,3063527,66517320,21.170993283776074,9904986,7309997000,3.7053729599999995E-4,18.096419545566629,null,0,0,null,8.5815188999999997E-3]
[334,3.3629999999999999E-4,7.8805330000000003E-3,3019523,9902764,6853125000,9902764,6853125000,3.8799999999999994E-4,8.7792023666666656E-3,21.141937001859784,{"$f":"0","v":0},0,18.068740399152144,{"$f":"0","v":0},0,{"$f":"0","v":0},0.13098752288333354,3.8647117659799994E-4,null,331,0.99966690000000002,3.3314999999999999E-4,3.7599999999999992E-4,7.8681329999999994E-3,0.13208245955833353,0.3073411634874168,9904430,3052526,66256530,21.163809388246541,9904430,7195779000,3.7452079099599991E-4,18.089592447091032,null,0,0,null,8.6309397666666648E-3]
[335,3.3734999999999999E-4,7.8846660000000002E-3,3008522,9902209,6738906000,9902209,6738906000,3.9200000000000004E-4,8.8286232333333343E-3,21.134541783861533,{"$f":"0","v":0},0,18.061676285668202,{"$f":"0","v":0},0,{"$f":"0","v":0},0.13062254399166684,3.9045460546400005E-4,null,332,0.99966580000000005,3.3419999999999999E-4,3.8000000000000002E-4,7.8722670000000005E-3,0.13171748066666683,0.30624764477591099,9903875,3041525,65995730,21.156570237517911,9903875,7081561000,3.7850426927000001E-4,18.082699761838185,null,0,0,null,8.6803606333333335E-3]
[336,3.3839999999999999E-4,7.8887999999999996E-3,2997521,9901654,6624688000,9901654,6624688000,3.9599999999999998E-4,8.8780440999999995E-3,21.127092284479964,{"$f":"0","v":0},0,18.054543409117102,{"$f":"0","v":0},0,{"$f":"0","v":0},0.13025756510000019,3.9443801760000001E-4,null,333,0.99966469999999996,3.3524999999999999E-4,3.8400000000000001E-4,7.8764000000000004E-3,0.13135250177500019,0.3051580167998954,9903320,3030524,65734940,21.149281829369002,9903320,6967343000,3.824877312E-4,18.075755680650552,null,0,0,null,8.7297814999999987E-3]
[337,3.39375E-4,7.8932659999999995E-3,2986981,9901049,6532338000,9901049,6532338000,4.0099999999999994E-4,8.9256485499999982E-3,21.119924083324712,{"$f":"0","v":0},0,18.047781010853832,{"$f":"0","v":0},0,{"$f":"0","v":0},0.12985458064166688,3.9941740016699996E-4,null,334,0.99966370000000004,3.3629999999999999E-4,3.8799999999999994E-4,7.8805330000000003E-3,0.13098752288333354,0.30407226571614782,9902764,3019523,65474140,21.141937001859784,9902764,6853125000,3.8647117659799994E-4,18.068740399152144,null,0,0,null,8.7792023666666656E-3]
[338,3.4035000000000001E-4,7.8977330000000005E-3,2976441,9900445,6439987000,9900445,6439987000,4.0600000000000006E-4,8.9732530000000005E-3,21.112708474651438,{"$f":"0","v":0},0,18.040958319836761,{"$f":"0","v":0},0,{"$f":"0","v":0},0.12945159618333352,4.0439676020100003E-4,null,335,0.99966259999999996,3.3734999999999999E-4,3.9200000000000004E-4,7.8846660000000002E-3,0.13062254399166684,0.30299037773070003,9902209,3008522,65213350,21.134541783861533,9902209,6738906000,3.9045460546400005E-4,18.061676285668202,null,0,0,null,8.8286232333333343E-3]
[339,3.4132500000000002E-4,7.9021990000000004E-3,2965901,9899840,6347636000,9899840,6347636000,4.1100000000000002E-4,9.0208574499999993E-3,21.10544158138342,{"$f":"0","v":0},0,18.034082858259008,{"$f":"0","v":0},0,{"$f":"0","v":0},0.12904861172500021,4.0937609810549999E-4,null,336,0.99966160000000004,3.3839999999999999E-4,3.9599999999999998E-4,7.8887999999999996E-3,0.13025756510000019,0.30191233909866266,9901654,2997521,64952560,21.127092284479964,9901654,6624688000,3.9443801760000001E-4,18.054543409117102,null,0,0,null,8.8780440999999995E-3]
[340,3.4230000000000003E-4,7.9066659999999997E-3,2955361,9899235,6255285000,9899235,6255285000,4.1599999999999992E-4,9.0684618999999998E-3,21.09811947113511,{"$f":"0","v":0},0,18.027157523976143,{"$f":"0","v":0},0,{"$f":"0","v":0},0.1286456272666669,4.143554134719999E-4,null,337,0.99966060000000001,3.39375E-4,4.0099999999999994E-4,7.8932659999999995E-3,0.12985458064166688,0.30083813612405069,9901049,2986981,64702760,21.119924083324712,9901049,6532338000,3.9941740016699996E-4,18.047781010853832,null,0,0,null,8.9256485499999982E-3]
[341,3.4327499999999998E-4,7.9111330000000007E-3,2944822,9898631,6162935000,9898631,6162935000,4.2100000000000004E-4,9.116066350000002E-3,21.090740996682765,{"$f":"0","v":0},0,18.020166186970201,{"$f":"0","v":0},0,{"$f":"0","v":0},0.12824264280833353,4.1933470650350007E-4,null,338,0.99965970000000004,3.4035000000000001E-4,4.0600000000000006E-4,7.8977330000000005E-3,0.12945159618333352,0.29976775515960935,9900445,2976441,64452970,21.112708474651438,9900445,6439987000,4.0439676020100003E-4,18.040958319836761,null,0,0,null,8.9732530000000005E-3]
[342,3.4424999999999999E-4,7.9155990000000006E-3,2934282,9898026,6070584000,9898026,6070584000,4.26E-4,9.1636708000000008E-3,21.083316889787689,{"$f":"0","v":0},0,18.013115795536248,{"$f":"0","v":0},0,{"$f":"0","v":0},0.12783965835000022,4.2431397741300004E-4,null,339,0.99965870000000001,3.4132500000000002E-4,4.1100000000000002E-4,7.9021990000000004E-3,0.12904861172500021,0.29870118260664064,9899840,2965901,64203180,21.10544158138342,9899840,6347636000,4.0937609810549999E-4,18.034082858259008,null,0,0,null,9.0208574499999993E-3]
[343,3.45225E-4,7.9200669999999994E-3,2923742,9897421,5978233000,9897421,5978233000,4.3099999999999996E-4,9.2112752499999995E-3,21.075835835264076,{"$f":"0","v":0},0,18.006005598269358,{"$f":"0","v":0},0,{"$f":"0","v":0},0.12743667389166691,4.292932255615E-4,null,340,0.99965769999999998,3.4230000000000003E-4,4.1599999999999992E-4,7.9066659999999997E-3,0.1286456272666669,0.29763840491483085,9899235,2955361,63953380,21.09811947113511,9899235,6255285000,4.143554134719999E-4,18.027157523976143,null,0,0,null,9.0684618999999998E-3]
[344,3.4620000000000001E-4,7.9245329999999992E-3,2913202,9896817,5885883000,9896817,5885883000,4.3600000000000008E-4,9.2588797000000018E-3,21.068304080298354,{"$f":"0","v":0},0,17.998834830962526,{"$f":"0","v":0},0,{"$f":"0","v":0},0.12703368943333354,4.3427245180600009E-4,null,341,0.99965669999999995,3.4327499999999998E-4,4.2100000000000004E-4,7.9111330000000007E-3,0.12824264280833353,0.29657940858207815,9898631,2944822,63703590,21.090740996682765,9898631,6162935000,4.1933470650350007E-4,18.020166186970201,null,0,0,null,9.116066350000002E-3]
[345,3.4717500000000002E-4,7.9290000000000003E-3,2902662,9896212,5793532000,9896212,5793532000,4.4099999999999999E-4,9.3064841500000023E-3,21.060717627474364,{"$f":"0","v":0},0,17.991602716332871,{"$f":"0","v":0},0,{"$f":"0","v":0},0.12663070497500023,4.3925165549999997E-4,null,342,0.99965570000000004,3.4424999999999999E-4,4.26E-4,7.9155990000000006E-3,0.12783965835000022,0.29552418015432108,9898026,2934282,63453800,21.083316889787689,9898026,6070584000,4.2431397741300004E-4,18.013115795536248,null,0,0,null,9.1636708000000008E-3]
[346,3.4814999999999998E-4,7.9334669999999996E-3,2892122,9895607,5701181000,9895607,5701181000,4.4599999999999994E-4,9.3540886000000011E-3,21.05307242110349,{"$f":"0","v":0},0,17.98430846374076,{"$f":"0","v":0},0,{"$f":"0","v":0},0.12622772051666692,4.4423083685899995E-4,null,343,0.99965479999999995,3.45225E-4,4.3099999999999996E-4,7.9200669999999994E-3,0.12743667389166691,0.29447270622536781,9897421,2923742,63204000,21.075835835264076,9897421,5978233000,4.292932255615E-4,18.006005598269358,null,0,0,null,9.2112752499999995E-3]
[347,3.4912499999999999E-4,7.9379329999999994E-3,2881582,9895003,5608830000,9895003,5608830000,4.5100000000000012E-4,9.4016930500000033E-3,21.045374757106799,{"$f":"0","v":0},0,17.976946987784689,{"$f":"0","v":0},0,{"$f":"0","v":0},0.12582473605833355,4.492099961085001E-4,null,344,0.99965380000000004,3.4620000000000001E-4,4.3600000000000008E-4,7.9245329999999992E-3,0.12703368943333354,0.29342497343672563,9896817,2913202,62954210,21.068304080298354,9896817,5885883000,4.3427245180600009E-4,17.998834830962526,null,0,0,null,9.2588797000000018E-3]
[348,3.501E-4,7.9424000000000005E-3,2871042,9894398,5516480000,9894398,5516480000,4.5600000000000003E-4,9.4492975000000021E-3,21.037620574690305,{"$f":"0","v":0},0,17.969526013922611,{"$f":"0","v":0},0,{"$f":"0","v":0},0.12542175160000024,4.5418913280000003E-4,null,345,0.99965280000000001,3.4717500000000002E-4,4.4099999999999999E-4,7.9290000000000003E-3,0.12663070497500023,0.29238096847743128,9896212,2902662,62704420,21.060717627474364,9896212,5793532000,4.3925165549999997E-4,17.991602716332871,null,0,0,null,9.3064841500000023E-3]
[349,3.5107500000000001E-4,7.9471999999999998E-3,2860944,9893735,5441679000,9893735,5441679000,4.6199999999999995E-4,9.4950855333333344E-3,21.030157178889205,{"$f":"0","v":0},0,17.962493863795029,{"$f":"0","v":0},0,{"$f":"0","v":0},0.12499063117500024,4.6016419679999996E-4,null,346,0.99965179999999998,3.4814999999999998E-4,4.4599999999999994E-4,7.9334669999999996E-3,0.12622772051666692,0.29134067808388181,9895607,2892122,62454620,21.05307242110349,9895607,5701181000,4.4423083685899995E-4,17.98430846374076,null,0,0,null,9.3540886000000011E-3]
[350,3.5205000000000002E-4,7.9520000000000007E-3,2850846,9893072,5366878000,9893072,5366878000,4.680000000000001E-4,9.5408735666666685E-3,21.022644418534007,{"$f":"0","v":0},0,17.955398903543092,{"$f":"0","v":0},0,{"$f":"0","v":0},0.12455951075000023,4.6613923200000012E-4,null,347,0.99965090000000001,3.4912499999999999E-4,4.5100000000000012E-4,7.9379329999999994E-3,0.12582473605833355,0.2903040890396662,9895003,2881582,62204830,21.045374757106799,9895003,5608830000,4.492099961085001E-4,17.976946987784689,null,0,0,null,9.4016930500000033E-3]
[351,3.5302499999999998E-4,7.9568E-3,2840749,9892408,5292077000,9892408,5292077000,4.7400000000000003E-4,9.5866616000000009E-3,21.015067138396716,{"$f":"0","v":0},0,17.948249053508118,{"$f":"0","v":0},0,{"$f":"0","v":0},0.12412839032500023,4.7211423840000003E-4,null,348,0.99964989999999998,3.501E-4,4.5600000000000003E-4,7.9424000000000005E-3,0.12542175160000024,0.28927118817539738,9894398,2871042,61955040,21.037620574690305,9894398,5516480000,4.5418913280000003E-4,17.969526013922611,null,0,0,null,9.4492975000000021E-3]
[352,3.5399999999999999E-4,7.9615999999999992E-3,2830651,9891745,5217276000,9891745,5217276000,4.7999999999999996E-4,9.632449633333335E-3,21.007446947127473,{"$f":"0","v":0},0,17.941039251534818,{"$f":"0","v":0},0,{"$f":"0","v":0},0.12369726990000023,4.7808921599999996E-4,null,349,0.99964889999999995,3.5107500000000001E-4,4.6199999999999995E-4,7.9471999999999998E-3,0.12499063117500024,0.28824196236854488,9893735,2860944,61715780,21.030157178889205,9893735,5441679000,4.6016419679999996E-4,17.962493863795029,null,0,0,null,9.4950855333333344E-3]
[353,3.54975E-4,7.9664000000000002E-3,2820553,9891082,5142475000,9891082,5142475000,4.860000000000001E-4,9.678237666666669E-3,20.99977219301794,{"$f":"0","v":0},0,17.933764350217526,{"$f":"0","v":0},0,{"$f":"0","v":0},0.12326614947500021,4.8406416480000012E-4,null,350,0.99964799999999998,3.5205000000000002E-4,4.680000000000001E-4,7.9520000000000007E-3,0.12455951075000023,0.28721639854326808,9893072,2850846,61476530,21.022644418534007,9893072,5366878000,4.6613923200000012E-4,17.955398903543092,null,0,0,null,9.5408735666666685E-3]
[354,3.5595000000000001E-4,7.971199E-3,2810455,9890419,5067674000,9890419,5067674000,4.9200000000000003E-4,9.7240257000000014E-3,20.99203872979049,{"$f":"0","v":0},0,17.926432341322414,{"$f":"0","v":0},0,{"$f":"0","v":0},0.12283502905000021,4.9003908504600003E-4,null,351,0.99964699999999995,3.5302499999999998E-4,4.7400000000000003E-4,7.9568E-3,0.12412839032500023,0.2861944836702503,9892408,2840749,61237270,21.015067138396716,9892408,5292077000,4.7211423840000003E-4,17.948249053508118,null,0,0,null,9.5866616000000009E-3]
[355,3.5692500000000002E-4,7.9759989999999992E-3,2800357,9889756,4992873000,9889756,4992873000,4.9799999999999996E-4,9.7698137333333337E-3,20.984253064281923,{"$f":"0","v":0},0,17.919038069963619,{"$f":"0","v":0},0,{"$f":"0","v":0},0.12240390862500021,4.9601397624899994E-4,null,352,0.99964600000000003,3.5399999999999999E-4,4.7999999999999996E-4,7.9615999999999992E-3,0.12369726990000023,0.28517620476653299,9891745,2830651,60998020,21.007446947127473,9891745,5217276000,4.7808921599999996E-4,17.941039251534818,null,0,0,null,9.632449633333335E-3]
[356,3.5790000000000003E-4,7.9807990000000002E-3,2790259,9889093,4918072000,9889093,4918072000,5.0400000000000011E-4,9.8156017666666678E-3,20.976407461935732,{"$f":"0","v":0},0,17.911576293332729,{"$f":"0","v":0},0,{"$f":"0","v":0},0.1219727882000002,5.0198883865200015E-4,null,353,0.99964509999999995,3.54975E-4,4.860000000000001E-4,7.9664000000000002E-3,0.12326614947500021,0.28416154889535095,9891082,2820553,60758770,20.99977219301794,9891082,5142475000,4.8406416480000012E-4,17.933764350217526,null,0,0,null,9.678237666666669E-3]
[357,3.5887499999999998E-4,7.9855989999999995E-3,2780161,9888430,4843271000,9888430,4843271000,5.1000000000000004E-4,9.8613898000000019E-3,20.968508463478674,{"$f":"0","v":0},0,17.904055074956613,{"$f":"0","v":0},0,{"$f":"0","v":0},0.1215416677750002,5.079636722550001E-4,null,354,0.99964399999999998,3.5595000000000001E-4,4.9200000000000003E-4,7.971199E-3,0.12283502905000021,0.28315050316596796,9890419,2810455,60519510,20.99203872979049,9890419,5067674000,4.9003908504600003E-4,17.926432341322414,null,0,0,null,9.7240257000000014E-3]
[358,3.5984999999999999E-4,7.9903990000000005E-3,2770063,9887766,4768470000,9887766,4768470000,5.1599999999999997E-4,9.9071778333333343E-3,20.960551874933287,{"$f":"0","v":0},0,17.896469163324529,{"$f":"0","v":0},0,{"$f":"0","v":0},0.12111054735000019,5.139384770579999E-4,null,355,0.99964310000000001,3.5692500000000002E-4,4.9799999999999996E-4,7.9759989999999992E-3,0.12240390862500021,0.28214305473351292,9889756,2800357,60280260,20.984253064281923,9889756,4992873000,4.9601397624899994E-4,17.919038069963619,null,0,0,null,9.7698137333333337E-3]
[359,3.60825E-4,7.9951989999999997E-3,2759966,9887103,4693669000,9887103,4693669000,5.2200000000000011E-4,9.9529658666666684E-3,20.952525653093794,{"$f":"0","v":0},0,17.888804915193571,{"$f":"0","v":0},0,{"$f":"0","v":0},0.12067942692500018,5.199132530610001E-4,null,356,0.99964209999999998,3.5790000000000003E-4,5.0400000000000011E-4,7.9807990000000002E-3,0.1219727882000002,0.281139190798817,9889093,2790259,60041000,20.976407461935732,9889093,4918072000,5.0198883865200015E-4,17.911576293332729,null,0,0,null,9.8156017666666678E-3]
[360,3.6180000000000001E-4,7.9999990000000007E-3,2749868,9886440,4618868000,9886440,4618868000,5.2800000000000004E-4,9.9987539000000007E-3,20.944451939753712,{"$f":"0","v":0},0,17.881087035584493,{"$f":"0","v":0},0,{"$f":"0","v":0},0.12024830650000018,5.2588800026400005E-4,null,357,0.99964109999999995,3.5887499999999998E-4,5.1000000000000004E-4,7.9855989999999995E-3,0.1215416677750002,0.28013889860825036,9888430,2780161,59801750,20.968508463478674,9888430,4843271000,5.079636722550001E-4,17.904055074956613,null,0,0,null,9.8613898000000019E-3]
[361,3.6269999999999998E-4,8.0052000000000005E-3,2740193,9885709,4558118000,9885709,4558118000,5.3299999999999995E-4,1.0042725516666667E-2,20.936685405614373,{"$f":"0","v":0},0,17.873776774245123,{"$f":"0","v":0},0,{"$f":"0","v":0},0.11979821450833354,5.3086661419999995E-4,null,358,0.99964019999999998,3.5984999999999999E-4,5.1599999999999997E-4,7.9903990000000005E-3,0.12111054735000019,0.27914216545356085,9887766,2770063,59562500,20.960551874933287,9887766,4768470000,5.139384770579999E-4,17.896469163324529,null,0,0,null,9.9071778333333343E-3]
[362,3.636E-4,8.0104000000000009E-3,2730519,9884977,4497368000,9884977,4497368000,5.3800000000000007E-4,1.0086697133333334E-2,20.928859632546047,{"$f":"0","v":0},0,17.866401093763539,{"$f":"0","v":0},0,{"$f":"0","v":0},0.11934812251666689,5.3584520240000004E-4,null,359,0.99963919999999995,3.60825E-4,5.2200000000000011E-4,7.9951989999999997E-3,0.12067942692500018,0.27814897867171201,9887103,2759966,59323240,20.952525653093794,9887103,4693669000,5.199132530610001E-4,17.888804915193571,null,0,0,null,9.9529658666666684E-3]
[363,3.6450000000000002E-4,8.015599E-3,2720845,9884246,4436617000,9884246,4436617000,5.4300000000000008E-4,1.0130668750000002E-2,20.920974534871824,{"$f":"0","v":0},0,17.858959906349927,{"$f":"0","v":0},0,{"$f":"0","v":0},0.11889803052500025,5.4082376487150008E-4,null,360,0.99963820000000003,3.6180000000000001E-4,5.2800000000000004E-4,7.9999990000000007E-3,0.12024830650000018,0.27715932564472268,9886440,2749868,59083990,20.944451939753712,9886440,4618868000,5.2588800026400005E-4,17.881087035584493,null,0,0,null,9.9987539000000007E-3]
[364,3.6539999999999999E-4,8.0207999999999998E-3,2711171,9883515,4375866000,9883515,4375866000,5.4799999999999998E-4,1.0174640366666668E-2,20.91303685443178,{"$f":"0","v":0},0,17.851464717639775,{"$f":"0","v":0},0,{"$f":"0","v":0},0.11844793853333362,5.458023008E-4,null,361,0.99963729999999995,3.6269999999999998E-4,5.3299999999999995E-4,8.0052000000000005E-3,0.11979821450833354,0.27617319379950611,9885709,2740193,58854830,20.936685405614373,9885709,4558118000,5.3086661419999995E-4,17.873776774245123,null,0,0,null,1.0042725516666667E-2]
[365,3.6630000000000001E-4,8.0260000000000001E-3,2701496,9882783,4315116000,9882783,4315116000,5.5300000000000011E-4,1.0218611983333336E-2,20.905046561855603,{"$f":"0","v":0},0,17.843897850430828,{"$f":"0","v":0},0,{"$f":"0","v":0},0.11799784654166696,5.5078081100000007E-4,null,362,0.99963639999999998,3.636E-4,5.3800000000000007E-4,8.0104000000000009E-3,0.11934812251666689,0.27519057060771079,9884977,2730519,58625680,20.928859632546047,9884977,4497368000,5.3584520240000004E-4,17.866401093763539,null,0,0,null,1.0086697133333334E-2]
[366,3.6719999999999998E-4,8.0312000000000005E-3,2691822,9882052,4254366000,9882052,4254366000,5.5800000000000001E-4,1.0262583600000002E-2,20.896994582108327,{"$f":"0","v":0},0,17.836270815475594,{"$f":"0","v":0},0,{"$f":"0","v":0},0.11754775455000033,5.5575929520000004E-4,null,363,0.99963550000000001,3.6450000000000002E-4,5.4300000000000008E-4,8.015599E-3,0.11889803052500025,0.27421144358556088,9884246,2720845,58396520,20.920974534871824,9884246,4436617000,5.4082376487150008E-4,17.858959906349927,null,0,0,null,1.0130668750000002E-2]
[367,3.681E-4,8.0363989999999996E-3,2682148,9881321,4193615000,9881321,4193615000,5.6299999999999992E-4,1.0306555216666667E-2,20.88888079007323,{"$f":"0","v":0},0,17.828575036927003,{"$f":"0","v":0},0,{"$f":"0","v":0},0.11709766255833369,5.6073775368149987E-4,null,364,0.99963460000000004,3.6539999999999999E-4,5.4799999999999998E-4,8.0207999999999998E-3,0.11844793853333362,0.27323580029369804,9883515,2711171,58167370,20.91303685443178,9883515,4375866000,5.458023008E-4,17.851464717639775,null,0,0,null,1.0174640366666668E-2]
[368,3.6900000000000002E-4,8.0415999999999994E-3,2672474,9880589,4132865000,9880589,4132865000,5.6800000000000004E-4,1.0350526833333335E-2,20.880711998195927,{"$f":"0","v":0},0,17.820817469149922,{"$f":"0","v":0},0,{"$f":"0","v":0},0.11664757056666704,5.6571618559999996E-4,null,365,0.99963369999999996,3.6630000000000001E-4,5.5300000000000011E-4,8.0260000000000001E-3,0.11799784654166696,0.27226362833702267,9882783,2701496,57938210,20.905046561855603,9882783,4315116000,5.5078081100000007E-4,17.843897850430828,null,0,0,null,1.0218611983333336E-2]
[369,3.6989999999999999E-4,8.0467999999999998E-3,2662799,9879858,4072114000,9879858,4072114000,5.7299999999999994E-4,1.0394498450000001E-2,20.872488138108309,{"$f":"0","v":0},0,17.812998079444654,{"$f":"0","v":0},0,{"$f":"0","v":0},0.1161974785750004,5.7069459179999991E-4,null,366,0.99963279999999999,3.6719999999999998E-4,5.5800000000000001E-4,8.0312000000000005E-3,0.11754775455000033,0.27129491536453731,9882052,2691822,57709060,20.896994582108327,9882052,4254366000,5.5575929520000004E-4,17.836270815475594,null,0,0,null,1.0262583600000002E-2]
[370,3.7080000000000001E-4,8.0520000000000001E-3,2653125,9879127,4011364000,9879127,4011364000,5.7799999999999995E-4,1.0438470066666669E-2,20.8642,{"$f":"0","v":0},0,17.805102694471678,{"$f":"0","v":0},0,{"$f":"0","v":0},0.11574738658333376,5.7567297199999997E-4,null,367,0.99963190000000002,3.681E-4,5.6299999999999992E-4,8.0363989999999996E-3,0.11709766255833369,0.27032964906918905,9881321,2682148,57479900,20.88888079007323,9881321,4193615000,5.6073775368149987E-4,17.828575036927003,null,0,0,null,1.0306555216666667E-2]
[371,3.7169999999999998E-4,8.0571989999999993E-3,2643451,9878395,3950613000,9878395,3950613000,5.8300000000000008E-4,1.0482441683333336E-2,20.855847416249944,{"$f":"0","v":0},0,17.79714771991344,{"$f":"0","v":0},0,{"$f":"0","v":0},0.11529729459166711,5.8065132649150002E-4,null,368,0.99963100000000005,3.6900000000000002E-4,5.6800000000000004E-4,8.0415999999999994E-3,0.11664757056666704,0.26936781718771358,9880589,2672474,57250750,20.880711998195927,9880589,4132865000,5.6571618559999996E-4,17.820817469149922,null,0,0,null,1.0350526833333335E-2]
[372,3.726E-4,8.0624000000000008E-3,2633777,9877664,3889863000,9877664,3889863000,5.8799999999999998E-4,1.0526413300000002E-2,20.847437270378876,{"$f":"0","v":0},0,17.789110160584752,{"$f":"0","v":0},0,{"$f":"0","v":0},0.11484720260000048,5.8562965439999995E-4,null,369,0.99963009999999997,3.6989999999999999E-4,5.7299999999999994E-4,8.0467999999999998E-3,0.1161974785750004,0.26840940750047909,9879858,2662799,57021590,20.872488138108309,9879858,4072114000,5.7069459179999991E-4,17.812998079444654,null,0,0,null,1.0394498450000001E-2]
[373,3.7342499999999998E-4,8.0680000000000005E-3,2624509,9876875,3840357000,9876875,3840357000,5.9399999999999991E-4,1.0568568500000002E-2,20.839342123929974,{"$f":"0","v":0},0,17.781508916884228,{"$f":"0","v":0},0,{"$f":"0","v":0},0.11438659824166716,5.9160380399999994E-4,null,370,0.9996292,3.7080000000000001E-4,5.7799999999999995E-4,8.0520000000000001E-3,0.11574738658333376,0.26745440783133134,9879127,2653125,56792440,20.8642,9879127,4011364000,5.7567297199999997E-4,17.805102694471678,null,0,0,null,1.0438470066666669E-2]
[374,3.7425000000000002E-4,8.0736000000000002E-3,2615240,9876086,3790852000,9876086,3790852000,6.0000000000000006E-4,1.0610723700000003E-2,20.831193950332153,{"$f":"0","v":0},0,17.773839519846767,{"$f":"0","v":0},0,{"$f":"0","v":0},0.11392599388333383,5.9757792000000008E-4,null,371,0.99962830000000003,3.7169999999999998E-4,5.8300000000000008E-4,8.0571989999999993E-3,0.11529729459166711,0.26650280604743859,9878395,2643451,56563280,20.855847416249944,9878395,3950613000,5.8065132649150002E-4,17.79714771991344,null,0,0,null,1.0482441683333336E-2]
[375,3.75075E-4,8.0791999999999999E-3,2605972,9875298,3741347000,9875298,3741347000,6.0599999999999998E-4,1.0652878900000003E-2,20.822983452367613,{"$f":"0","v":0},0,17.766105932837071,{"$f":"0","v":0},0,{"$f":"0","v":0},0.11346538952500052,6.0355200239999994E-4,null,372,0.99962740000000005,3.726E-4,5.8799999999999998E-4,8.0624000000000008E-3,0.11484720260000048,0.26555459005913801,9877664,2633777,56334130,20.847437270378876,9877664,3889863000,5.8562965439999995E-4,17.789110160584752,null,0,0,null,1.0526413300000002E-2]
[376,3.7589999999999998E-4,8.0847999999999996E-3,2596704,9874509,3691841000,9874509,3691841000,6.1199999999999991E-4,1.0695034100000002E-2,20.814714345570383,{"$f":"0","v":0},0,17.758307346599633,{"$f":"0","v":0},0,{"$f":"0","v":0},0.1130047851666672,6.0952605119999996E-4,null,373,0.99962660000000003,3.7342499999999998E-4,5.9399999999999991E-4,8.0680000000000005E-3,0.11438659824166716,0.2646097478197813,9876875,2624509,56114650,20.839342123929974,9876875,3840357000,5.9160380399999994E-4,17.781508916884228,null,0,0,null,1.0568568500000002E-2]
[377,3.7672500000000001E-4,8.0903999999999993E-3,2587436,9873720,3642336000,9873720,3642336000,6.1800000000000006E-4,1.0737189300000003E-2,20.806386000143256,{"$f":"0","v":0},0,17.750442938218267,{"$f":"0","v":0},0,{"$f":"0","v":0},0.11254418080833387,6.1550006640000003E-4,null,374,0.99962569999999995,3.7425000000000002E-4,6.0000000000000006E-4,8.0736000000000002E-3,0.11392599388333383,0.26366826732558252,9876086,2615240,55895160,20.831193950332153,9876086,3790852000,5.9757792000000008E-4,17.773839519846767,null,0,0,null,1.0610723700000003E-2]
[378,3.7754999999999999E-4,8.0960000000000008E-3,2578168,9872932,3592830000,9872932,3592830000,6.2399999999999999E-4,1.0779344500000003E-2,20.797997777233032,{"$f":"0","v":0},0,17.742511870826664,{"$f":"0","v":0},0,{"$f":"0","v":0},0.11208357645000055,6.2147404799999992E-4,null,375,0.99962490000000004,3.75075E-4,6.0599999999999998E-4,8.0791999999999999E-3,0.11346538952500052,0.26273013661546474,9875298,2605972,55675680,20.822983452367613,9875298,3741347000,6.0355200239999994E-4,17.766105932837071,null,0,0,null,1.0652878900000003E-2]
[379,3.7837500000000002E-4,8.1015989999999993E-3,2568900,9872143,3543325000,9872143,3543325000,6.2999999999999992E-4,1.0821499700000002E-2,20.789549028767176,{"$f":"0","v":0},0,17.734518194342542,{"$f":"0","v":0},0,{"$f":"0","v":0},0.11162297209166724,6.2744799631499995E-4,null,376,0.99962410000000002,3.7589999999999998E-4,6.1199999999999991E-4,8.0847999999999996E-3,0.1130047851666672,0.26179534377090896,9874509,2596704,55456200,20.814714345570383,9874509,3691841000,6.0952605119999996E-4,17.758307346599633,null,0,0,null,1.0695034100000002E-2]
[380,3.792E-4,8.1071990000000007E-3,2559632,9871354,3493819000,9871354,3493819000,6.3600000000000006E-4,1.0863654900000004E-2,20.7810390972869,{"$f":"0","v":0},0,17.726451261987275,{"$f":"0","v":0},0,{"$f":"0","v":0},0.11116236773333391,6.3342191071800004E-4,null,377,0.99962329999999999,3.7672500000000001E-4,6.1800000000000006E-4,8.0903999999999993E-3,0.11254418080833387,0.26086387691580176,9873720,2587436,55236720,20.806386000143256,9873720,3642336000,6.1550006640000003E-4,17.750442938218267,null,0,0,null,1.0737189300000003E-2]
[381,3.8002499999999998E-4,8.1127990000000004E-3,2550364,9870565,3444314000,9870565,3444314000,6.4199999999999999E-4,1.0905810100000003E-2,20.772463394767701,{"$f":"0","v":0},0,17.718315073494942,{"$f":"0","v":0},0,{"$f":"0","v":0},0.11070176337500059,6.3939579152099996E-4,null,378,0.99962249999999997,3.7754999999999999E-4,6.2399999999999999E-4,8.0960000000000008E-3,0.11208357645000055,0.2599357242162853,9872932,2578168,55017240,20.797997777233032,9872932,3592830000,6.2147404799999992E-4,17.742511870826664,null,0,0,null,1.0779344500000003E-2]
[382,3.8085000000000001E-4,8.1183990000000001E-3,2541096,9869776,3394808000,9869776,3394808000,6.4799999999999992E-4,1.0947965300000003E-2,20.763829072179877,{"$f":"0","v":0},0,17.710113697572648,{"$f":"0","v":0},0,{"$f":"0","v":0},0.11024115901666728,6.4536963872399993E-4,null,379,0.9996216,3.7837500000000002E-4,6.2999999999999992E-4,8.1015989999999993E-3,0.11162297209166724,0.25901087388060617,9872143,2568900,54797760,20.789549028767176,9872143,3543325000,6.2744799631499995E-4,17.734518194342542,null,0,0,null,1.0821499700000002E-2]
[383,3.8167499999999999E-4,8.1239989999999998E-3,2531827,9868988,3345303000,9868988,3345303000,6.5400000000000007E-4,1.0990120500000004E-2,20.755139947687315,{"$f":"0","v":0},0,17.701836315656777,{"$f":"0","v":0},0,{"$f":"0","v":0},0.10978055465833395,6.5134345232700005E-4,null,380,0.99962079999999998,3.792E-4,6.3600000000000006E-4,8.1071990000000007E-3,0.11116236773333391,0.25808931415896635,9871354,2559632,54578280,20.7810390972869,9871354,3493819000,6.3342191071800004E-4,17.726451261987275,null,0,0,null,1.0863654900000004E-2]
[384,{"$f":"W389","v":3.8249999999999997E-4},{"$f":"Y389","v":8.1296000000000007E-3},{"$f":"AC389","v":2522559},{"$f":"AF389","v":9868199},{"$f":"AG389","v":3295798000},{"$f":"E386","v":9868199},{"$f":"F386","v":3295798000},{"$f":"X389","v":6.6E-4},{"$f":"AN389","v":1.1032275700000004E-2},{"$f":"AE389","v":20.746378528708345},{"$f":"0","v":0},{"$f":"AL389","v":0},{"$f":"AI389","v":17.693486943783579},{"$f":"0","v":0},{"$f":"AK389","v":0},{"$f":"0","v":0},{"$f":"Z389","v":0.10931995030000063},{"$f":"AH389","v":6.5731723199999998E-4},null,381,0.99961999999999995,3.8002499999999998E-4,6.4199999999999999E-4,8.1127990000000004E-3,0.11070176337500059,0.25717103334337332,9870565,2550364,54358790,20.772463394767701,9870565,3444314000,6.3939579152099996E-4,17.718315073494942,null,0,0,null,1.0905810100000003E-2]
[385,3.8332500000000001E-4,8.1355999999999998E-3,2513681,9867344,3255287000,9867344,3255287000,6.6700000000000017E-4,1.1072614483333338E-2,20.737938820266638,{"$f":"0","v":0},0,17.685584964170115,{"$f":"0","v":0},0,{"$f":"0","v":0},0.10885658757500064,6.6428677740000021E-4,null,382,0.99961909999999998,3.8085000000000001E-4,6.4799999999999992E-4,8.1183990000000001E-3,0.11024115901666728,0.25625601976749163,9869776,2541096,54139310,20.763829072179877,9869776,3394808000,6.4536963872399993E-4,17.710113697572648,null,0,0,null,1.0947965300000003E-2]
[386,3.8414999999999999E-4,8.1416000000000006E-3,2504802,9866489,3214776000,9866489,3214776000,6.7399999999999979E-4,1.111295326666667E-2,20.729443784378965,{"$f":"0","v":0},0,17.677611988217425,{"$f":"0","v":0},0,{"$f":"0","v":0},0.10839322485000066,6.7125628079999975E-4,null,383,0.99961840000000002,3.8167499999999999E-4,6.5400000000000007E-4,8.1239989999999998E-3,0.10978055465833395,0.25534426180649444,9868988,2531827,53919830,20.755139947687315,9868988,3345303000,6.5134345232700005E-4,17.701836315656777,null,0,0,null,1.0990120500000004E-2]
[387,3.8497500000000002E-4,8.1475990000000002E-3,2495923,9865634,3174265000,9865634,3174265000,6.8099999999999996E-4,1.1153292050000003E-2,20.720892314519851,{"$f":"0","v":0},0,17.669577264526051,{"$f":"0","v":0},0,{"$f":"0","v":0},0.10792986212500066,6.7822574254049997E-4,null,384,0.99961750000000005,3.8249999999999997E-4,6.6E-4,8.1296000000000007E-3,0.10931995030000063,0.25443574787691642,9868199,2522559,53700350,20.746378528708345,9868199,3295798000,6.5731723199999998E-4,17.693486943783579,null,0,0,null,1.1032275700000004E-2]
[388,3.858E-4,8.1536000000000004E-3,2487044,9864779,3133754000,9864779,3133754000,6.8800000000000024E-4,1.1193630833333338E-2,20.712279785426659,{"$f":"0","v":0},0,17.661474921725066,{"$f":"0","v":0},0,{"$f":"0","v":0},0.10746649940000066,6.851951616000003E-4,null,385,0.99961670000000002,3.8332500000000001E-4,6.6700000000000017E-4,8.1355999999999998E-3,0.10885658757500064,0.25353046643650567,9867344,2513681,53490140,20.737938820266638,9867344,3255287000,6.6428677740000021E-4,17.685584964170115,null,0,0,null,1.1072614483333338E-2]
[389,3.8662499999999998E-4,8.1595999999999995E-3,2478166,9863924,3093243000,9863924,3093243000,6.9499999999999976E-4,1.1233969616666669E-2,20.703592932569219,{"$f":"0","v":0},0,17.653298989200675,{"$f":"0","v":0},0,{"$f":"0","v":0},0.10700313667500069,6.9216453899999979E-4,null,386,0.99961580000000005,3.8414999999999999E-4,6.7399999999999979E-4,8.1416000000000006E-3,0.10839322485000066,0.25262840598407793,9866489,2504802,53279920,20.729443784378965,9866489,3214776000,6.7125628079999975E-4,17.677611988217425,null,0,0,null,1.111295326666667E-2]
[390,3.8745000000000001E-4,8.1656000000000003E-3,2469287,9863068,3052732000,9863068,3052732000,7.0199999999999993E-4,1.1274308400000004E-2,20.694856264851619,{"$f":"0","v":0},0,17.645058800280513,{"$f":"0","v":0},0,{"$f":"0","v":0},0.10653977395000069,6.9913387439999989E-4,null,387,0.99961500000000003,3.8497500000000002E-4,6.8099999999999996E-4,8.1475990000000002E-3,0.10792986212500066,0.25172955505937,9865634,2495923,53069710,20.720892314519851,9865634,3174265000,6.7822574254049997E-4,17.669577264526051,null,0,0,null,1.1153292050000003E-2]
[391,3.8827499999999999E-4,8.1715989999999999E-3,2460408,9862213,3012221000,9862213,3012221000,7.0900000000000021E-4,1.1314647183333339E-2,20.686056540216093,{"$f":"0","v":0},0,17.636757751032512,{"$f":"0","v":0},0,{"$f":"0","v":0},0.10607641122500069,7.0610316815450022E-4,null,388,0.99961420000000001,3.858E-4,6.8800000000000024E-4,8.1536000000000004E-3,0.10746649940000066,0.25083390224289415,9864779,2487044,52859500,20.712279785426659,9864779,3133754000,6.851951616000003E-4,17.661474921725066,null,0,0,null,1.1193630833333338E-2]
[392,3.8910000000000003E-4,8.1776000000000001E-3,2451530,9861358,2971710000,9861358,2971710000,7.1599999999999984E-4,1.135498596666667E-2,20.677180339080763,{"$f":"0","v":0},0,17.628371047215374,{"$f":"0","v":0},0,{"$f":"0","v":0},0.10561304850000072,7.1307241919999983E-4,null,389,0.99961339999999999,3.8662499999999998E-4,6.9499999999999976E-4,8.1595999999999995E-3,0.10700313667500069,0.24994143615579331,9863924,2478166,52649280,20.703592932569219,9863924,3093243000,6.9216453899999979E-4,17.653298989200675,null,0,0,null,1.1233969616666669E-2]
[393,3.89925E-4,8.1835999999999992E-3,2442651,9860503,2931199000,9860503,2931199000,7.2300000000000001E-4,1.1395324750000005E-2,20.66825239258494,{"$f":"0","v":0},0,17.619917446430769,{"$f":"0","v":0},0,{"$f":"0","v":0},0.10514968577500072,7.200416286E-4,null,390,0.99961259999999996,3.8745000000000001E-4,7.0199999999999993E-4,8.1656000000000003E-3,0.10653977395000069,0.24905214545969623,9863068,2469287,52439070,20.694856264851619,9863068,3052732000,6.9913387439999989E-4,17.645058800280513,null,0,0,null,1.1274308400000004E-2]
[394,3.9074999999999998E-4,8.1896E-3,2433772,9859648,2890688000,9859648,2890688000,7.3000000000000018E-4,1.1435663533333338E-2,20.659259303391334,{"$f":"0","v":0},0,17.611390858540638,{"$f":"0","v":0},0,{"$f":"0","v":0},0.10468632305000072,7.2701079600000023E-4,null,391,0.99961169999999999,3.8827499999999999E-4,7.0900000000000021E-4,8.1715989999999999E-3,0.10607641122500069,0.24816601885657363,9862213,2460408,52228860,20.686056540216093,9862213,3012221000,7.0610316815450022E-4,17.636757751032512,null,0,0,null,1.1314647183333339E-2]
[395,3.9157500000000002E-4,8.1956000000000008E-3,2424893,9858793,2850177000,9858793,2850177000,7.3699999999999981E-4,1.1476002316666669E-2,20.650196232026182,{"$f":"0","v":0},0,17.60278508778833,{"$f":"0","v":0},0,{"$f":"0","v":0},0.10422296032500075,7.3397992139999976E-4,null,392,0.99961089999999997,3.8910000000000003E-4,7.1599999999999984E-4,8.1776000000000001E-3,0.10561304850000072,0.24728304508859447,9861358,2451530,52018640,20.677180339080763,9861358,2971710000,7.1307241919999983E-4,17.628371047215374,null,0,0,null,1.135498596666667E-2]
[396,3.924E-4,8.2015999999999999E-3,2416015,9857938,2809666000,9857938,2809666000,7.4399999999999998E-4,1.1516341100000004E-2,20.641061917385997,{"$f":"0","v":0},0,17.59410963829308,{"$f":"0","v":0},0,{"$f":"0","v":0},0.10375959760000075,7.4094900479999999E-4,null,393,0.99961009999999995,3.89925E-4,7.2300000000000001E-4,8.1835999999999992E-3,0.10514968577500072,0.24640321293798312,9860503,2442651,51808430,20.66825239258494,9860503,2931199000,7.200416286E-4,17.619917446430769,null,0,0,null,1.1395324750000005E-2]
[397,3.9337500000000001E-4,8.2081329999999994E-3,2407509,9857007,2776358000,9857007,2776358000,7.5150000000000021E-4,1.1554863466666673E-2,20.632277023678832,{"$f":"0","v":0},0,17.585892285127414,{"$f":"0","v":0},0,{"$f":"0","v":0},0.10330052530833406,7.4841579402525028E-4,null,394,0.99960919999999998,3.9074999999999998E-4,7.3000000000000018E-4,8.1896E-3,0.10468632305000072,0.24552651122687674,9859648,2433772,51598220,20.659259303391334,9859648,2890688000,7.2701079600000023E-4,17.611390858540638,null,0,0,null,1.1435663533333338E-2]
[398,3.9435000000000002E-4,8.2146670000000001E-3,2399003,9856076,2743050000,9856076,2743050000,7.589999999999998E-4,1.1593385833333336E-2,20.62342566543963,{"$f":"0","v":0},0,17.577615888861317,{"$f":"0","v":0},0,{"$f":"0","v":0},0.10284145301666742,7.5588253387349981E-4,null,395,0.99960839999999995,3.9157500000000002E-4,7.3699999999999981E-4,8.1956000000000008E-3,0.10422296032500075,0.24465292881718323,9858793,2424893,51388000,20.650196232026182,9858793,2850177000,7.3397992139999976E-4,17.60278508778833,null,0,0,null,1.1476002316666669E-2]
[399,3.9532499999999997E-4,8.2211999999999997E-3,2390498,9855145,2709742000,9855145,2709742000,7.6650000000000004E-4,1.1631908200000004E-2,20.614506649521005,{"$f":"0","v":0},0,17.569260366395351,{"$f":"0","v":0},0,{"$f":"0","v":0},0.10238238072500072,7.6334922510000003E-4,null,396,0.99960760000000004,3.924E-4,7.4399999999999998E-4,8.2015999999999999E-3,0.10375959760000075,0.24378245461043985,9857938,2416015,51177790,20.641061917385997,9857938,2809666000,7.4094900479999999E-4,17.59410963829308,null,0,0,null,1.1516341100000004E-2]
[400,3.9629999999999998E-4,8.2277329999999992E-3,2381992,9854214,2676433000,9854214,2676433000,7.7400000000000017E-4,1.1670430566666673E-2,20.605528621982497,{"$f":"0","v":0},0,17.560844129865583,{"$f":"0","v":0},0,{"$f":"0","v":0},0.10192330843333403,7.7081586732900018E-4,null,397,0.99960660000000001,3.9337500000000001E-4,7.5150000000000021E-4,8.2081329999999994E-3,0.10330052530833406,0.24291507754767211,9857007,2407509,50976460,20.632277023678832,9857007,2776358000,7.4841579402525028E-4,17.585892285127414,null,0,0,null,1.1554863466666673E-2]
[401,3.9727499999999999E-4,8.2342660000000005E-3,2373487,9853283,2643125000,9853283,2643125000,7.8149999999999975E-4,1.1708952933333336E-2,20.596481551545608,{"$f":"0","v":0},0,17.552346922962684,{"$f":"0","v":0},0,{"$f":"0","v":0},0.10146423614166739,7.7828246056049972E-4,null,398,0.99960570000000004,3.9435000000000002E-4,7.589999999999998E-4,8.2146670000000001E-3,0.10284145301666742,0.24205078660925328,9856076,2399003,50775120,20.62342566543963,9856076,2743050000,7.5588253387349981E-4,17.577615888861317,null,0,0,null,1.1593385833333336E-2]
[402,3.9825E-4,8.2407999999999995E-3,2364981,9852352,2609817000,9852352,2609817000,7.8899999999999999E-4,1.1747475300000004E-2,20.587374116324824,{"$f":"0","v":0},0,17.543787272599879,{"$f":"0","v":0},0,{"$f":"0","v":0},0.10100516385000069,7.8574900439999998E-4,null,399,0.99960470000000001,3.9532499999999997E-4,7.6650000000000004E-4,8.2211999999999997E-3,0.10238238072500072,0.24118957081476444,9855145,2390498,50573790,20.614506649521005,9855145,2709742000,7.6334922510000003E-4,17.569260366395351,null,0,0,null,1.1631908200000004E-2]
[403,3.9922500000000001E-4,8.2473340000000003E-3,2356475,9851421,2576508000,9851421,2576508000,7.9650000000000022E-4,1.1785997666666673E-2,20.578205175809913,{"$f":"0","v":0},0,17.535154555574486,{"$f":"0","v":0},0,{"$f":"0","v":0},0.10054609155833399,7.932154992345002E-4,null,400,0.99960369999999998,3.9629999999999998E-4,7.7400000000000017E-4,8.2277329999999992E-3,0.10192330843333403,0.24033141922285506,9854214,2381992,50372450,20.605528621982497,9854214,2676433000,7.7081586732900018E-4,17.560844129865583,null,0,0,null,1.1670430566666673E-2]
[404,4.0020000000000002E-4,8.2538669999999998E-3,2347970,9850490,2543200000,9850490,2543200000,8.0399999999999981E-4,1.1824520033333336E-2,20.56895655253971,{"$f":"0","v":0},0,17.526437985294603,{"$f":"0","v":0},0,{"$f":"0","v":0},0.10008701926666735,8.0068194546599979E-4,null,401,0.99960269999999996,3.9727499999999999E-4,7.8149999999999975E-4,8.2342660000000005E-3,0.10146423614166739,0.23947632093110371,9853283,2373487,50171120,20.596481551545608,9853283,2643125000,7.7828246056049972E-4,17.552346922962684,null,0,0,null,1.1708952933333336E-2]
[405,4.0117499999999998E-4,8.2603999999999993E-3,2339464,9849559,2509892000,9849559,2509892000,8.1149999999999994E-4,1.1863042400000004E-2,20.559653977720252,{"$f":"0","v":0},0,17.517656262457692,{"$f":"0","v":0},0,{"$f":"0","v":0},9.9627946975000659E-2,8.0814834269999996E-4,null,402,0.99960170000000004,3.9825E-4,7.8899999999999999E-4,8.2407999999999995E-3,0.10100516385000069,0.23862426507588,9852352,2364981,49969780,20.587374116324824,9852352,2609817000,7.8574900439999998E-4,17.543787272599879,null,0,0,null,1.1747475300000004E-2]
[406,4.0214999999999999E-4,8.2669330000000006E-3,2330958,9848628,2476583000,9848628,2476583000,8.1900000000000017E-4,1.1901564766666673E-2,20.550279219960203,{"$f":"0","v":0},0,17.508788682608518,{"$f":"0","v":0},0,{"$f":"0","v":0},9.9168874683333963E-2,8.1561469093650017E-4,null,403,0.99960079999999996,3.9922500000000001E-4,7.9650000000000022E-4,8.2473340000000003E-3,0.10054609155833399,0.23777524083220591,9851421,2356475,49768450,20.578205175809913,9851421,2576508000,7.932154992345002E-4,17.535154555574486,null,0,0,null,1.1785997666666673E-2]
[407,4.03125E-4,8.2734660000000002E-3,2322453,9847697,2443275000,9847697,2443275000,8.2649999999999976E-4,1.1940087133333336E-2,20.540831020046475,{"$f":"0","v":0},0,17.499859584266371,{"$f":"0","v":0},0,{"$f":"0","v":0},9.8709802391667323E-2,8.2308099017549977E-4,null,404,0.99959980000000004,4.0020000000000002E-4,8.0399999999999981E-4,8.2538669999999998E-3,0.10008701926666735,0.23692923741361901,9850490,2347970,49567110,20.56895655253971,9850490,2543200000,8.0068194546599979E-4,17.526437985294603,null,0,0,null,1.1824520033333336E-2]
[408,4.0410000000000001E-4,8.2799999999999992E-3,2313947,9846766,2409967000,9846766,2409967000,8.34E-4,1.1978609500000004E-2,20.531318151049554,{"$f":"0","v":0},0,17.490837059578521,{"$f":"0","v":0},0,{"$f":"0","v":0},9.8250730100000627E-2,8.3054723999999996E-4,null,405,0.99959880000000001,4.0117499999999998E-4,8.1149999999999994E-4,8.2603999999999993E-3,9.9627946975000659E-2,0.23608624407203491,9849559,2339464,49365780,20.559653977720252,9849559,2509892000,8.0814834269999996E-4,17.517656262457692,null,0,0,null,1.1863042400000004E-2]
[409,4.0515000000000001E-4,8.2869999999999992E-3,2305799,9845753,2382438000,9845753,2382438000,8.4300000000000022E-4,1.2015315450000006E-2,20.522155461801599,{"$f":"0","v":0},0,17.482308535163686,{"$f":"0","v":0},0,{"$f":"0","v":0},9.7802291841667277E-2,8.3950702950000029E-4,null,406,0.99959779999999998,4.0214999999999999E-4,8.1900000000000017E-4,8.2669330000000006E-3,9.9168874683333963E-2,0.23524625009761083,9848628,2330958,49164440,20.550279219960203,9848628,2476583000,8.1561469093650017E-4,17.508788682608518,null,0,0,null,1.1901564766666673E-2]
[410,4.0620000000000001E-4,8.2939989999999998E-3,2297650,9844740,2354910000,9844740,2354910000,8.5199999999999968E-4,1.2052021400000003E-2,20.512941302345148,{"$f":"0","v":0},0,17.473714215368879,{"$f":"0","v":0},0,{"$f":"0","v":0},9.7353853583333982E-2,8.4846675642599972E-4,null,407,0.99959690000000001,4.03125E-4,8.2649999999999976E-4,8.2734660000000002E-3,9.8709802391667323E-2,0.2344092448186097,9847697,2322453,48963110,20.540831020046475,9847697,2443275000,8.2308099017549977E-4,17.499859584266371,null,0,0,null,1.1940087133333336E-2]
[411,4.0725000000000001E-4,8.3009999999999994E-3,2289502,9843727,2327381000,9843727,2327381000,8.61E-4,1.2088727350000005E-2,20.503647991280783,{"$f":"0","v":0},0,17.465042040784162,{"$f":"0","v":0},0,{"$f":"0","v":0},9.6905415325000632E-2,8.5742641950000006E-4,null,408,0.99959589999999998,4.0410000000000001E-4,8.34E-4,8.2799999999999992E-3,9.8250730100000627E-2,0.23357521760126429,9846766,2313947,48761770,20.531318151049554,9846766,2409967000,8.3054723999999996E-4,17.490837059578521,null,0,0,null,1.1978609500000004E-2]
[412,4.083E-4,8.3079999999999994E-3,2281353,9842714,2299852000,9842714,2299852000,8.7000000000000022E-4,1.2125433300000007E-2,20.49429751774495,{"$f":"0","v":0},0,17.456286515908882,{"$f":"0","v":0},0,{"$f":"0","v":0},9.6456977066667282E-2,8.6638602000000027E-4,null,409,0.99959489999999995,4.0515000000000001E-4,8.4300000000000022E-4,8.2869999999999992E-3,9.7802291841667277E-2,0.23274415784964236,9845753,2305799,48568940,20.522155461801599,9845753,2382438000,8.3950702950000029E-4,17.482308535163686,null,0,0,null,1.2015315450000006E-2]
[413,4.0935E-4,8.3149999999999995E-3,2273205,9841701,2272324000,9841701,2272324000,8.7899999999999968E-4,1.2162139250000004E-2,20.484870755167261,{"$f":"0","v":0},0,17.447472631181576,{"$f":"0","v":0},0,{"$f":"0","v":0},9.6008538808333987E-2,8.7534555749999964E-4,null,410,0.99959379999999998,4.0620000000000001E-4,8.5199999999999968E-4,8.2939989999999998E-3,9.7353853583333982E-2,0.23191605500551207,9844740,2297650,48376120,20.512941302345148,9844740,2354910000,8.4846675642599972E-4,17.473714215368879,null,0,0,null,1.2052021400000003E-2]
[414,4.104E-4,8.3220010000000007E-3,2265056,9840688,2244795000,9840688,2244795000,8.879999999999999E-4,1.2198845200000006E-2,20.475385450367082,{"$f":"0","v":0},0,17.438578028431184,{"$f":"0","v":0},0,{"$f":"0","v":0},9.5560100550000637E-2,8.8430503155599994E-4,null,411,0.9995927,4.0725000000000001E-4,8.61E-4,8.3009999999999994E-3,9.6905415325000632E-2,0.23109089854820747,9843727,2289502,48183290,20.503647991280783,9843727,2327381000,8.5742641950000006E-4,17.465042040784162,null,0,0,null,1.2088727350000005E-2]
[415,4.1145E-4,8.3289999999999996E-3,2256908,9839674,2217266000,9839674,2217266000,8.9700000000000023E-4,1.2235551150000008E-2,20.465822340417361,{"$f":"0","v":0},0,17.429613094388255,{"$f":"0","v":0},0,{"$f":"0","v":0},9.5111662291667287E-2,8.9326444350000024E-4,null,412,0.99959169999999997,4.083E-4,8.7000000000000022E-4,8.3079999999999994E-3,9.6456977066667282E-2,0.2302686779944953,9842714,2281353,47990460,20.49429751774495,9842714,2299852000,8.6638602000000027E-4,17.456286515908882,null,0,0,null,1.2125433300000007E-2]
[416,4.125E-4,8.3359999999999997E-3,2248759,9838661,2189738000,9838661,2189738000,9.0599999999999969E-4,1.2272257100000005E-2,20.456199267388516,{"$f":"0","v":0},0,17.420555150251268,{"$f":"0","v":0},0,{"$f":"0","v":0},9.4663224033333992E-2,9.0222379199999972E-4,null,413,0.9995906,4.0935E-4,8.7899999999999968E-4,8.3149999999999995E-3,9.6008538808333987E-2,0.22944938289844155,9841701,2273205,47797630,20.484870755167261,9841701,2272324000,8.7534555749999964E-4,17.447472631181576,null,0,0,null,1.2162139250000004E-2]
[417,4.1355E-4,8.3429999999999997E-3,2240611,9837648,2162209000,9837648,2162209000,9.1499999999999991E-4,1.2308963050000007E-2,20.446501292876512,{"$f":"0","v":0},0,17.41143521166595,{"$f":"0","v":0},0,{"$f":"0","v":0},9.4214785775000642E-2,9.1118307749999989E-4,null,414,0.99958959999999997,4.104E-4,8.879999999999999E-4,8.3220010000000007E-3,9.5560100550000637E-2,0.2286330028512788,9840688,2265056,47604800,20.475385450367082,9840688,2244795000,8.8430503155599994E-4,17.438578028431184,null,0,0,null,1.2198845200000006E-2]
[418,4.1459999999999999E-4,8.3499999999999998E-3,2232463,9836635,2134681000,9836635,2134681000,9.2400000000000013E-4,1.2345669000000009E-2,20.436728048049769,{"$f":"0","v":0},0,17.402230506497833,{"$f":"0","v":0},0,{"$f":"0","v":0},9.3766347516667292E-2,9.2014230000000009E-4,null,415,0.99958849999999999,4.1145E-4,8.9700000000000023E-4,8.3289999999999996E-3,9.5111662291667287E-2,0.22781952748127393,9839674,2256908,47411970,20.465822340417361,9839674,2217266000,8.9326444350000024E-4,17.429613094388255,null,0,0,null,1.2235551150000008E-2]
[419,4.1564999999999999E-4,8.3570009999999993E-3,2224314,9835622,2107152000,9835622,2107152000,9.3299999999999969E-4,1.2382374950000006E-2,20.426892628468821,{"$f":"0","v":0},0,17.392951549337017,{"$f":"0","v":0},0,{"$f":"0","v":0},9.3317909258333998E-2,9.2910145903349968E-4,null,416,0.99958749999999996,4.125E-4,9.0599999999999969E-4,8.3359999999999997E-3,9.4663224033333992E-2,0.22700894645359657,9838661,2248759,47219140,20.456199267388516,9838661,2189738000,9.0222379199999972E-4,17.420555150251268,null,0,0,null,1.2272257100000005E-2]
[420,4.1669999999999999E-4,8.3639999999999999E-3,2216166,9834609,2079623000,9834609,2079623000,9.4199999999999991E-4,1.2419080900000008E-2,20.416975420613799,{"$f":"0","v":0},0,17.383575235356375,{"$f":"0","v":0},0,{"$f":"0","v":0},9.2869471000000647E-2,9.3806055599999995E-4,null,417,0.99958650000000004,4.1355E-4,9.1499999999999991E-4,8.3429999999999997E-3,9.4214785775000642E-2,0.22620124947018744,9837648,2240611,47026320,20.446501292876512,9837648,2162209000,9.1118307749999989E-4,17.41143521166595,null,0,0,null,1.2308963050000007E-2]
[421,4.1805E-4,8.3715999999999999E-3,2208359,9833499,2056742000,9833499,2056742000,9.4950000000000015E-4,1.2453970433333341E-2,20.407440792763616,{"$f":"0","v":0},0,17.374726288903357,{"$f":"0","v":0},0,{"$f":"0","v":0},9.243730517500065E-2,9.4552558290000009E-4,null,418,0.99958539999999996,4.1459999999999999E-4,9.2400000000000013E-4,8.3499999999999998E-3,9.3766347516667292E-2,0.22539642626962783,9836635,2232463,46833490,20.436728048049769,9836635,2134681000,9.2014230000000009E-4,17.402230506497833,null,0,0,null,1.2345669000000009E-2]
[422,4.194E-4,8.3791999999999998E-3,2200553,9832388,2033862000,9832388,2033862000,9.5699999999999973E-4,1.2488859966666674E-2,20.397828996468917,{"$f":"0","v":0},0,17.365792612120639,{"$f":"0","v":0},0,{"$f":"0","v":0},9.2005139350000709E-2,9.529905527999997E-4,null,419,0.99958440000000004,4.1564999999999999E-4,9.3299999999999969E-4,8.3570009999999993E-3,9.3317909258333998E-2,0.22459446662700908,9835622,2224314,46640660,20.426892628468821,9835622,2107152000,9.2910145903349968E-4,17.392951549337017,null,0,0,null,1.2382374950000006E-2]
[423,4.2075000000000001E-4,8.3867999999999998E-3,2192747,9831278,2010981000,9831278,2010981000,9.6449999999999986E-4,1.2523749500000007E-2,20.388148765756682,{"$f":"0","v":0},0,17.356794304498109,{"$f":"0","v":0},0,{"$f":"0","v":0},9.1572973525000712E-2,9.6045546569999986E-4,null,420,0.99958329999999995,4.1669999999999999E-4,9.4199999999999991E-4,8.3639999999999999E-3,9.2869471000000647E-2,0.22379536035380285,9834609,2216166,46447830,20.416975420613799,9834609,2079623000,9.3806055599999995E-4,17.383575235356375,null,0,0,null,1.2419080900000008E-2]
[424,4.2210000000000001E-4,8.3944009999999993E-3,2184940,9830168,1988100000,9830168,1988100000,9.720000000000001E-4,1.2558639033333341E-2,20.378408941816861,{"$f":"0","v":0},0,17.347709298031248,{"$f":"0","v":0},0,{"$f":"0","v":0},9.1140807700000714E-2,9.6792032111400002E-4,null,421,0.99958190000000002,4.1805E-4,9.4950000000000015E-4,8.3715999999999999E-3,9.243730517500065E-2,0.22299909729773126,9833499,2208359,46263150,20.407440792763616,9833499,2056742000,9.4552558290000009E-4,17.374726288903357,null,0,0,null,1.2453970433333341E-2]
[425,4.2345000000000002E-4,8.4019999999999997E-3,2177134,9829058,1965219000,9829058,1965219000,9.7949999999999969E-4,1.2593528566666673E-2,20.368589661147791,{"$f":"0","v":0},0,17.338557816330539,{"$f":"0","v":0},0,{"$f":"0","v":0},9.0708641875000773E-2,9.7538512049999968E-4,null,422,0.99958060000000004,4.194E-4,9.5699999999999973E-4,8.3791999999999998E-3,9.2005139350000709E-2,0.2222056673426385,9832388,2200553,46078470,20.397828996468917,9832388,2033862000,9.529905527999997E-4,17.365792612120639,null,0,0,null,1.2488859966666674E-2]
[426,4.2480000000000003E-4,8.4096009999999992E-3,2169328,9827948,1942338000,9827948,1942338000,9.8700000000000003E-4,1.2628418100000007E-2,20.35869971407428,{"$f":"0","v":0},0,17.329317601371582,{"$f":"0","v":0},0,{"$f":"0","v":0},9.0276476050000776E-2,9.828498619065E-4,null,423,0.99957929999999995,4.2075000000000001E-4,9.6449999999999986E-4,8.3867999999999998E-3,9.1572973525000712E-2,0.22141506040836179,9831278,2192747,45893790,20.388148765756682,9831278,2010981000,9.6045546569999986E-4,17.356794304498109,null,0,0,null,1.2523749500000007E-2]
[427,4.2614999999999998E-4,8.4171999999999997E-3,2161521,9826837,1919457000,9826837,1919457000,9.9450000000000016E-4,1.2663307633333341E-2,20.348747999672451,{"$f":"0","v":0},0,17.32000900179635,{"$f":"0","v":0},0,{"$f":"0","v":0},8.9844310225000779E-2,9.9031454730000019E-4,null,424,0.99957790000000002,4.2210000000000001E-4,9.720000000000001E-4,8.3944009999999993E-3,9.1140807700000714E-2,0.22062726645060363,9830168,2184940,45709110,20.378408941816861,9830168,1988100000,9.6792032111400002E-4,17.347709298031248,null,0,0,null,1.2558639033333341E-2]
[428,4.2749999999999998E-4,8.4247999999999997E-3,2153715,9825727,1896577000,9825727,1896577000,1.0019999999999996E-3,1.2698197166666673E-2,20.338714442254428,{"$f":"0","v":0},0,17.310603529437564,{"$f":"0","v":0},0,{"$f":"0","v":0},8.9412144400000837E-2,9.9777917519999954E-4,null,425,0.99957660000000004,4.2345000000000002E-4,9.7949999999999969E-4,8.4019999999999997E-3,9.0708641875000773E-2,0.21984227546080415,9829058,2177134,45524430,20.368589661147791,9829058,1965219000,9.7538512049999968E-4,17.338557816330539,null,0,0,null,1.2593528566666673E-2]
[429,4.2884999999999999E-4,8.4323999999999996E-3,2145908,9824617,1873696000,9824617,1873696000,1.0095E-3,1.2733086700000007E-2,20.328617613926909,{"$f":"0","v":0},0,17.301133705568471,{"$f":"0","v":0},0,{"$f":"0","v":0},8.897997857500084E-2,1.0052437461E-3,null,426,0.9995752,4.2480000000000003E-4,9.8700000000000003E-4,8.4096009999999992E-3,9.0276476050000776E-2,0.21906007746601369,9827948,2169328,45339750,20.35869971407428,9827948,1942338000,9.828498619065E-4,17.329317601371582,null,0,0,null,1.2628418100000007E-2]
[430,4.3019999999999999E-4,8.4399999999999996E-3,2138102,9823506,1850815000,9823506,1850815000,1.0170000000000001E-3,1.2767976233333341E-2,20.318437294697198,{"$f":"0","v":0},0,17.29157087026163,{"$f":"0","v":0},0,{"$f":"0","v":0},8.8547812750000843E-2,1.01270826E-3,null,427,0.99957379999999996,4.2614999999999998E-4,9.9450000000000016E-4,8.4171999999999997E-3,8.9844310225000779E-2,0.21828066252876652,9826837,2161521,45155070,20.348747999672451,9826837,1919457000,9.9031454730000019E-4,17.32000900179635,null,0,0,null,1.2663307633333341E-2]
[431,4.3155E-4,8.4476010000000008E-3,2130296,9822396,1827934000,9822396,1827934000,1.0244999999999998E-3,1.2802865766666673E-2,20.308182368397006,{"$f":"0","v":0},0,17.281935624851194,{"$f":"0","v":0},0,{"$f":"0","v":0},8.8115646925000901E-2,1.0201727163877499E-3,null,428,0.99957249999999997,4.2749999999999998E-4,1.0019999999999996E-3,8.4247999999999997E-3,8.9412144400000837E-2,0.21750402074695432,9825727,2153715,44970390,20.338714442254428,9825727,1896577000,9.9777917519999954E-4,17.310603529437564,null,0,0,null,1.2698197166666673E-2]
[432,4.3290000000000001E-4,8.4551999999999995E-3,2122489,9821286,1805053000,9821286,1805053000,1.0319999999999999E-3,1.2837755300000007E-2,20.297861830300807,{"$f":"0","v":0},0,17.272205118362123,{"$f":"0","v":0},0,{"$f":"0","v":0},8.7683481100000904E-2,1.0276371167999999E-3,null,429,0.99957110000000005,4.2884999999999999E-4,1.0095E-3,8.4323999999999996E-3,8.897997857500084E-2,0.21673014225370041,9824617,2145908,44785710,20.328617613926909,9824617,1873696000,1.0052437461E-3,17.301133705568471,null,0,0,null,1.2733086700000007E-2]
[433,4.3462500000000001E-4,8.463333E-3,2115010,9820091,1785926000,9820091,1785926000,1.0415000000000001E-3,1.2870828416666674E-2,20.287927519649237,{"$f":"0","v":0},0,17.263020182831742,{"$f":"0","v":0},0,{"$f":"0","v":0},8.7272520908334178E-2,1.0370927193402502E-3,null,430,0.99956979999999995,4.3019999999999999E-4,1.0170000000000001E-3,8.4399999999999996E-3,8.8547812750000843E-2,0.2159590172172344,9823506,2138102,44601030,20.318437294697198,9823506,1850815000,1.01270826E-3,17.29157087026163,null,0,0,null,1.2767976233333341E-2]
[434,4.3635000000000001E-4,8.4714669999999999E-3,2107531,9818895,1766798000,9818895,1766798000,1.0509999999999996E-3,1.290390153333334E-2,20.277917956287869,{"$f":"0","v":0},0,17.253751913570113,{"$f":"0","v":0},0,{"$f":"0","v":0},8.686156071666748E-2,1.0465482440914996E-3,null,431,0.99956849999999997,4.3155E-4,1.0244999999999998E-3,8.4476010000000008E-3,8.8115646925000901E-2,0.21519063584076728,9822396,2130296,44416350,20.308182368397006,9822396,1827934000,1.0201727163877499E-3,17.281935624851194,null,0,0,null,1.2802865766666673E-2]
[435,4.3807500000000001E-4,8.4796000000000003E-3,2100052,9817700,1747671000,9817700,1747671000,1.0604999999999998E-3,1.2936974650000007E-2,20.267841859788867,{"$f":"0","v":0},0,17.244405476063857,{"$f":"0","v":0},0,{"$f":"0","v":0},8.6450600525000754E-2,1.0560036920999997E-3,null,432,0.99956710000000004,4.3290000000000001E-4,1.0319999999999999E-3,8.4551999999999995E-3,8.7683481100000904E-2,0.21442498836236712,9821286,2122489,44231670,20.297861830300807,9821286,1805053000,1.0276371167999999E-3,17.272205118362123,null,0,0,null,1.2837755300000007E-2]
[436,4.3980000000000001E-4,8.4877330000000008E-3,2092573,9816504,1728543000,9816504,1728543000,1.0700000000000002E-3,1.2970047766666675E-2,20.257693737964377,{"$f":"0","v":0},0,17.234979877222951,{"$f":"0","v":0},0,{"$f":"0","v":0},8.6039640333334028E-2,1.0654590628450002E-3,null,433,0.99956540000000005,4.3462500000000001E-4,1.0415000000000001E-3,8.463333E-3,8.7272520908334178E-2,0.21366206505483468,9820091,2115010,44054800,20.287927519649237,9820091,1785926000,1.0370927193402502E-3,17.263020182831742,null,0,0,null,1.2870828416666674E-2]
[437,4.4152500000000001E-4,8.4958659999999995E-3,2085094,9815309,1709416000,9815309,1709416000,1.0794999999999997E-3,1.300312088333334E-2,20.247468019827082,{"$f":"0","v":0},0,17.225480379703825,{"$f":"0","v":0},0,{"$f":"0","v":0},8.5628680141667329E-2,1.0749143563264997E-3,null,434,0.9995636,4.3635000000000001E-4,1.0509999999999996E-3,8.4714669999999999E-3,8.686156071666748E-2,0.21290185622558033,9818895,2107531,43877920,20.277917956287869,9818895,1766798000,1.0465482440914996E-3,17.253751913570113,null,0,0,null,1.290390153333334E-2]
[438,4.4325000000000001E-4,8.5039999999999994E-3,2077615,9814114,1690289000,9814114,1690289000,1.0889999999999999E-3,1.3036194000000008E-2,20.237173493805798,{"$f":"0","v":0},0,17.215893437777897,{"$f":"0","v":0},0,{"$f":"0","v":0},8.5217719950000603E-2,1.0843695719999998E-3,null,435,0.9995619,4.3807500000000001E-4,1.0604999999999998E-3,8.4796000000000003E-3,8.6450600525000754E-2,0.21214435221650044,9817700,2100052,43701050,20.267841859788867,9817700,1747671000,1.0560036920999997E-3,17.244405476063857,null,0,0,null,1.2936974650000007E-2]
[439,4.4497500000000001E-4,8.5121339999999993E-3,2070135,9812918,1671161000,9812918,1671161000,1.0985000000000001E-3,1.3069267116666675E-2,20.226809785352163,{"$f":"0","v":0},0,17.206224252661588,{"$f":"0","v":0},0,{"$f":"0","v":0},8.4806759758333877E-2,1.0938247104005001E-3,null,436,0.99956020000000001,4.3980000000000001E-4,1.0700000000000002E-3,8.4877330000000008E-3,8.6039640333334028E-2,0.21138954340385491,9816504,2092573,43524180,20.257693737964377,9816504,1728543000,1.0654590628450002E-3,17.234979877222951,null,0,0,null,1.2970047766666675E-2]
[440,4.4670000000000002E-4,8.5202669999999998E-3,2062656,9811723,1652034000,9811723,1652034000,1.1079999999999996E-3,1.3102340233333341E-2,20.216365695491636,{"$f":"0","v":0},0,17.196478115194775,{"$f":"0","v":0},0,{"$f":"0","v":0},8.4395799566667179E-2,1.1032797720819997E-3,null,437,0.99955839999999996,4.4152500000000001E-4,1.0794999999999997E-3,8.4958659999999995E-3,8.5628680141667329E-2,0.21063742019814488,9815309,2085094,43347300,20.247468019827082,9815309,1709416000,1.0749143563264997E-3,17.225480379703825,null,0,0,null,1.300312088333334E-2]
[441,4.4842500000000002E-4,8.5284000000000002E-3,2055177,9810527,1632906000,9810527,1632906000,1.1175E-3,1.3135413350000008E-2,20.205845591401616,{"$f":"0","v":0},0,17.186641264199483,{"$f":"0","v":0},0,{"$f":"0","v":0},8.3984839375000453E-2,1.1127347565E-3,null,438,0.99955669999999996,4.4325000000000001E-4,1.0889999999999999E-3,8.5039999999999994E-3,8.5217719950000603E-2,0.20988797304399104,9814114,2077615,43170430,20.237173493805798,9814114,1690289000,1.0843695719999998E-3,17.215893437777897,null,0,0,null,1.3036194000000008E-2]
[442,4.5015000000000002E-4,8.5365330000000007E-3,2047698,9809332,1613779000,9809332,1613779000,1.1270000000000002E-3,1.3168486466666676E-2,20.195243756647706,{"$f":"0","v":0},0,17.176718926078433,{"$f":"0","v":0},0,{"$f":"0","v":0},8.3573879183333727E-2,1.1221896636545003E-3,null,439,0.99955510000000003,4.4497500000000001E-4,1.0985000000000001E-3,8.5121339999999993E-3,8.4806759758333877E-2,0.20914119242001175,9812918,2070135,42993550,20.226809785352163,9812918,1671161000,1.0938247104005001E-3,17.206224252661588,null,0,0,null,1.3069267116666675E-2]
[443,4.5187500000000002E-4,8.5446670000000006E-3,2040219,9808136,1594652000,9808136,1594652000,1.1364999999999997E-3,1.3201559583333342E-2,20.184569095278494,{"$f":"0","v":0},0,17.166709981579761,{"$f":"0","v":0},0,{"$f":"0","v":0},8.3162918991667029E-2,1.1316444929772497E-3,null,440,0.99955329999999998,4.4670000000000002E-4,1.1079999999999996E-3,8.5202669999999998E-3,8.4395799566667179E-2,0.20839706883870274,9811723,2062656,42816680,20.216365695491636,9811723,1652034000,1.1032797720819997E-3,17.196478115194775,null,0,0,null,1.3102340233333341E-2]
[444,4.5360000000000002E-4,8.5527999999999993E-3,2032740,9806941,1575524000,9806941,1575524000,1.1459999999999999E-3,1.3234632700000009E-2,20.173810964510956,{"$f":"0","v":0},0,17.156619756933555,{"$f":"0","v":0},0,{"$f":"0","v":0},8.2751958800000303E-2,1.1410992456E-3,null,441,0.99955159999999998,4.4842500000000002E-4,1.1175E-3,8.5284000000000002E-3,8.3984839375000453E-2,0.2076555928463161,9810527,2055177,42639810,20.205845591401616,9810527,1632906000,1.1127347565E-3,17.186641264199483,null,0,0,null,1.3135413350000008E-2]
[445,4.5570000000000002E-4,8.5616000000000008E-3,2025573,9805638,1559433000,9805638,1559433000,1.1565000000000002E-3,1.326588940000001E-2,20.163481950539428,{"$f":"0","v":0},0,17.147080807870957,{"$f":"0","v":0},0,{"$f":"0","v":0},8.236643224166694E-2,1.1515492548000003E-3,null,442,0.99954989999999999,4.5015000000000002E-4,1.1270000000000002E-3,8.5365330000000007E-3,8.3573879183333727E-2,0.20691675502274035,9809332,2047698,42462930,20.195243756647706,9809332,1613779000,1.1221896636545003E-3,17.176718926078433,null,0,0,null,1.3168486466666676E-2]
[446,4.5780000000000001E-4,8.5704000000000006E-3,2018407,9804334,1543342000,9804334,1543342000,1.1669999999999996E-3,1.3297146100000006E-2,20.153064376180488,{"$f":"0","v":0},0,17.137461597404542,{"$f":"0","v":0},0,{"$f":"0","v":0},8.1980905683333619E-2,1.1619991715999995E-3,null,443,0.99954810000000005,4.5187500000000002E-4,1.1364999999999997E-3,8.5446670000000006E-3,8.3162918991667029E-2,0.20618054598138066,9808136,2040219,42286060,20.184569095278494,9808136,1594652000,1.1316444929772497E-3,17.166709981579761,null,0,0,null,1.3201559583333342E-2]
[447,4.5990000000000001E-4,8.5792000000000004E-3,2011241,9803031,1527251000,9803031,1527251000,1.1774999999999999E-3,1.3328402800000007E-2,20.142577538776639,{"$f":"0","v":0},0,17.127779223585097,{"$f":"0","v":0},0,{"$f":"0","v":0},8.1595379125000256E-2,1.1724489959999999E-3,null,444,0.99954639999999995,4.5360000000000002E-4,1.1459999999999999E-3,8.5527999999999993E-3,8.2751958800000303E-2,0.20544695636903978,9806941,2032740,42109180,20.173810964510956,9806941,1575524000,1.1410992456E-3,17.156619756933555,null,0,0,null,1.3234632700000009E-2]
[448,{"$f":"W453","v":4.6200000000000001E-4},{"$f":"Y453","v":8.5880000000000001E-3},{"$f":"AC453","v":2004075},{"$f":"AF453","v":9801728},{"$f":"AG453","v":1511159000},{"$f":"E450","v":9801728},{"$f":"F450","v":1511159000},{"$f":"X453","v":1.1880000000000003E-3},{"$f":"AN453","v":1.3359659500000008E-2},{"$f":"AE453","v":20.132010715666826},{"$f":"0","v":0},{"$f":"AL453","v":0},{"$f":"AI453","v":17.117996491671004},{"$f":"0","v":0},{"$f":"AK453","v":0},{"$f":"0","v":0},{"$f":"Z453","v":8.1209852566666893E-2},{"$f":"AH453","v":1.1828987280000003E-3},null,445,0.99954430000000005,4.5570000000000002E-4,1.1565000000000002E-3,8.5616000000000008E-3,8.236643224166694E-2,0.20471597686579901,9805638,2025573,41939790,20.163481950539428,9805638,1559433000,1.1515492548000003E-3,17.147080807870957,null,0,0,null,1.326588940000001E-2]
[449,4.6410000000000001E-4,8.5967999999999999E-3,1996908,9800425,1495068000,9800425,1495068000,1.1984999999999997E-3,1.3390916200000004E-2,20.121383408749928,{"$f":"0","v":0},0,17.108130394935881,{"$f":"0","v":0},0,{"$f":"0","v":0},8.0824326008333572E-2,1.1933483675999996E-3,null,446,0.99954220000000005,4.5780000000000001E-4,1.1669999999999996E-3,8.5704000000000006E-3,8.1980905683333619E-2,0.20398759818489998,9804334,2018407,41770390,20.153064376180488,9804334,1543342000,1.1619991715999995E-3,17.137461597404542,null,0,0,null,1.3297146100000006E-2]
[450,4.662E-4,8.6055990000000002E-3,1989742,9799122,1478977000,9799122,1478977000,1.209E-3,1.3422172900000005E-2,20.110669163807835,{"$f":"0","v":0},0,17.098179863213719,{"$f":"0","v":0},0,{"$f":"0","v":0},8.0438799450000209E-2,1.2037979154045E-3,null,447,0.99954010000000004,4.5990000000000001E-4,1.1774999999999999E-3,8.5792000000000004E-3,8.1595379125000256E-2,0.20326181107262639,9803031,2011241,41601000,20.142577538776639,9803031,1527251000,1.1724489959999999E-3,17.127779223585097,null,0,0,null,1.3328402800000007E-2]
[451,4.683E-4,8.614399E-3,1982576,9797818,1462886000,9797818,1462886000,1.2195000000000001E-3,1.3453429600000006E-2,20.099872421872686,{"$f":"0","v":0},0,17.088162208287383,{"$f":"0","v":0},0,{"$f":"0","v":0},8.0053272891666846E-2,1.2142473702097501E-3,null,448,0.99953800000000004,4.6200000000000001E-4,1.1880000000000003E-3,8.5880000000000001E-3,8.1209852566666893E-2,0.20253860630818685,9801728,2004075,41431600,20.132010715666826,9801728,1511159000,1.1828987280000003E-3,17.117996491671004,null,0,0,null,1.3359659500000008E-2]
[452,4.704E-4,8.6231999999999993E-3,1975410,9796515,1446794000,9796515,1446794000,1.2299999999999995E-3,1.3484686300000003E-2,20.088997347386112,{"$f":"0","v":0},0,17.078039594757854,{"$f":"0","v":0},0,{"$f":"0","v":0},7.9667746333333525E-2,1.2246967319999996E-3,null,449,0.99953590000000003,4.6410000000000001E-4,1.1984999999999997E-3,8.5967999999999999E-3,8.0824326008333572E-2,0.20181797470359744,9800425,1996908,41262210,20.121383408749928,9800425,1495068000,1.1933483675999996E-3,17.108130394935881,null,0,0,null,1.3390916200000004E-2]
[453,4.7249999999999999E-4,8.6320000000000008E-3,1968244,9795212,1430703000,9795212,1430703000,1.2404999999999998E-3,1.3515943000000002E-2,20.078048165437483,{"$f":"0","v":0},0,17.067829224340571,{"$f":"0","v":0},0,{"$f":"0","v":0},7.9282219775000162E-2,1.2351460019999999E-3,null,450,0.99953380000000003,4.662E-4,1.209E-3,8.6055990000000002E-3,8.0438799450000209E-2,0.20109990710356496,9799122,1989742,41092820,20.110669163807835,9799122,1478977000,1.2037979154045E-3,17.098179863213719,null,0,0,null,1.3422172900000005E-2]
[454,4.7459999999999999E-4,8.6408000000000006E-3,1961077,9793908,1414612000,9793908,1414612000,1.2510000000000002E-3,1.3547199700000002E-2,20.067024374021688,{"$f":"0","v":0},0,17.057536697446803,{"$f":"0","v":0},0,{"$f":"0","v":0},7.8896693216666799E-2,1.2455951796000002E-3,null,451,0.99953170000000002,4.683E-4,1.2195000000000001E-3,8.614399E-3,8.0053272891666846E-2,0.20038439438537078,9797818,1982576,40923420,20.099872421872686,9797818,1462886000,1.2142473702097501E-3,17.088162208287383,null,0,0,null,1.3453429600000006E-2]
[455,4.7669999999999999E-4,8.6496000000000003E-3,1953911,9792605,1398521000,9792605,1398521000,1.2614999999999996E-3,1.3578456400000001E-2,20.055914287634732,{"$f":"0","v":0},0,17.047147384208124,{"$f":"0","v":0},0,{"$f":"0","v":0},7.8511166658333478E-2,1.2560442647999996E-3,null,452,0.99952960000000002,4.704E-4,1.2299999999999995E-3,8.6231999999999993E-3,7.9667746333333525E-2,0.19967142745875491,9796515,1975410,40754020,20.088997347386112,9796515,1446794000,1.2246967319999996E-3,17.078039594757854,null,0,0,null,1.3484686300000003E-2]
[456,4.7879999999999998E-4,8.6584000000000001E-3,1946745,9791302,1382430000,9791302,1382430000,1.2719999999999999E-3,1.36097131E-2,20.044717271650882,{"$f":"0","v":0},0,17.03667877879608,{"$f":"0","v":0},0,{"$f":"0","v":0},7.8125640100000115E-2,1.2664932576E-3,null,453,0.99952750000000001,4.7249999999999999E-4,1.2404999999999998E-3,8.6320000000000008E-3,7.9282219775000162E-2,0.19896099726580038,9795212,1968244,40584630,20.078048165437483,9795212,1430703000,1.2351460019999999E-3,17.067829224340571,null,0,0,null,1.3515943000000002E-2]
[457,4.8142500000000001E-4,8.6679329999999992E-3,1939878,9789878,1368805000,9789878,1368805000,1.2830000000000003E-3,1.3639153383333335E-2,20.033967471150245,{"$f":"0","v":0},0,17.026786788264495,{"$f":"0","v":0},0,{"$f":"0","v":0},7.7769069975000132E-2,1.2774395209805003E-3,null,454,0.99952540000000001,4.7459999999999999E-4,1.2510000000000002E-3,8.6408000000000006E-3,7.8896693216666799E-2,0.19825309478081835,9793908,1961077,40415230,20.067024374021688,9793908,1414612000,1.2455951796000002E-3,17.057536697446803,null,0,0,null,1.3547199700000002E-2]
[458,4.8404999999999998E-4,8.6774669999999995E-3,1933011,9788454,1355181000,9788454,1355181000,1.2939999999999996E-3,1.3668593666666666E-2,20.023130947004439,{"$f":"0","v":0},0,17.016823451319031,{"$f":"0","v":0},0,{"$f":"0","v":0},7.7412499850000177E-2,1.2883856788509995E-3,null,455,0.9995233,4.7669999999999999E-4,1.2614999999999996E-3,8.6496000000000003E-3,7.8511166658333478E-2,0.19754771101023325,9792605,1953911,40245840,20.055914287634732,9792605,1398521000,1.2560442647999996E-3,17.047147384208124,null,0,0,null,1.3578456400000001E-2]
[459,4.86675E-4,8.6870000000000003E-3,1926144,9787030,1341556000,9787030,1341556000,1.305E-3,1.3698033950000001E-2,20.012227538543328,{"$f":"0","v":0},0,17.006756759085228,{"$f":"0","v":0},0,{"$f":"0","v":0},7.7055929725000194E-2,1.2993317324999998E-3,null,456,0.9995212,4.7879999999999998E-4,1.2719999999999999E-3,8.6584000000000001E-3,7.8125640100000115E-2,0.19684483699246866,9791302,1946745,40076440,20.044717271650882,9791302,1382430000,1.2664932576E-3,17.03667877879608,null,0,0,null,1.36097131E-2]
[460,4.8930000000000002E-4,8.6965329999999993E-3,1919277,9785606,1327931000,9785606,1327931000,1.3160000000000003E-3,1.3727474233333335E-2,20.001240896962763,{"$f":"0","v":0},0,16.996623535969626,{"$f":"0","v":0},0,{"$f":"0","v":0},7.6699359600000211E-2,1.3102776812860004E-3,null,457,0.99951860000000003,4.8142500000000001E-4,1.2830000000000003E-3,8.6679329999999992E-3,7.7769069975000132E-2,0.19614446379783343,9789878,1939878,39914220,20.033967471150245,9789878,1368805000,1.2774395209805003E-3,17.026786788264495,null,0,0,null,1.3639153383333335E-2]
[461,4.9192500000000004E-4,8.7060669999999996E-3,1912410,9784182,1314307000,9784182,1314307000,1.3269999999999996E-3,1.3756914516666666E-2,19.990175354657211,{"$f":"0","v":0},0,16.98638463826989,{"$f":"0","v":0},0,{"$f":"0","v":0},7.6342789475000256E-2,1.3212235245454995E-3,null,458,0.99951599999999996,4.8404999999999998E-4,1.2939999999999996E-3,8.6774669999999995E-3,7.7412499850000177E-2,0.19544658252840821,9788454,1933011,39751980,20.023130947004439,9788454,1355181000,1.2883856788509995E-3,17.016823451319031,null,0,0,null,1.3668593666666666E-2]
[462,4.9454999999999996E-4,8.7156000000000004E-3,1905543,9782758,1300682000,9782758,1300682000,1.338E-3,1.3786354800000001E-2,19.97903005862371,{"$f":"0","v":0},0,16.976077148042322,{"$f":"0","v":0},0,{"$f":"0","v":0},7.5986219350000272E-2,1.3321692636000001E-3,null,459,0.99951330000000005,4.86675E-4,1.305E-3,8.6870000000000003E-3,7.7055929725000194E-2,0.19475118431793245,9787030,1926144,39589760,20.012227538543328,9787030,1341556000,1.2993317324999998E-3,17.006756759085228,null,0,0,null,1.3698033950000001E-2]
[463,4.9717499999999998E-4,8.7251329999999995E-3,1898676,9781333,1287058000,9781333,1287058000,1.3490000000000004E-3,1.3815795083333336E-2,19.967804143518958,{"$f":"0","v":0},0,16.965668597497491,{"$f":"0","v":0},0,{"$f":"0","v":0},7.5629649225000289E-2,1.3431148977915003E-3,null,460,0.99951069999999997,4.8930000000000002E-4,1.3160000000000003E-3,8.6965329999999993E-3,7.6699359600000211E-2,0.19405826033169171,9785606,1919277,39427530,20.001240896962763,9785606,1327931000,1.3102776812860004E-3,16.996623535969626,null,0,0,null,1.3727474233333335E-2]
[464,4.9980000000000001E-4,8.7346669999999998E-3,1891809,9779909,1273433000,9779909,1273433000,1.3599999999999997E-3,1.3845235366666667E-2,19.956496731435362,{"$f":"0","v":0},0,16.955175296287479,{"$f":"0","v":0},0,{"$f":"0","v":0},7.5273079100000334E-2,1.3540604264399997E-3,null,461,0.99950810000000001,4.9192500000000004E-4,1.3269999999999996E-3,8.7060669999999996E-3,7.6342789475000256E-2,0.19336780176640525,9784182,1912410,39265300,19.990175354657211,9784182,1314307000,1.3212235245454995E-3,16.98638463826989,null,0,0,null,1.3756914516666666E-2]
[465,5.0242500000000003E-4,8.7442000000000006E-3,1884942,9778485,1259808000,9778485,1259808000,1.371E-3,1.3874675650000001E-2,19.945106931672168,{"$f":"0","v":0},0,16.944597895302099,{"$f":"0","v":0},0,{"$f":"0","v":0},7.4916508975000351E-2,1.3650058509000001E-3,null,462,0.99950550000000005,4.9454999999999996E-4,1.338E-3,8.7156000000000004E-3,7.5986219350000272E-2,0.19267979985011469,9782758,1905543,39103070,19.97903005862371,9782758,1300682000,1.3321692636000001E-3,16.976077148042322,null,0,0,null,1.3786354800000001E-2]
[466,5.0505000000000005E-4,8.7537329999999997E-3,1878075,9777061,1246184000,9777061,1246184000,1.3820000000000004E-3,1.3904115933333336E-2,19.933633840501574,{"$f":"0","v":0},0,16.933915778405819,{"$f":"0","v":0},0,{"$f":"0","v":0},7.4559938850000368E-2,1.3759511704970005E-3,null,463,0.99950280000000002,4.9717499999999998E-4,1.3490000000000004E-3,8.7251329999999995E-3,7.5629649225000289E-2,0.191994245842072,9781333,1898676,38940840,19.967804143518958,9781333,1287058000,1.3431148977915003E-3,16.965668597497491,null,0,0,null,1.3815795083333336E-2]
[467,5.0767499999999997E-4,8.7632669999999999E-3,1871208,9775637,1232559000,9775637,1232559000,1.3929999999999997E-3,1.3933556216666667E-2,19.922076540929709,{"$f":"0","v":0},0,16.923145376496276,{"$f":"0","v":0},0,{"$f":"0","v":0},7.4203368725000413E-2,1.3868963845344998E-3,null,464,0.99950019999999995,4.9980000000000001E-4,1.3599999999999997E-3,8.7346669999999998E-3,7.5273079100000334E-2,0.19131113103262878,9779909,1891809,38778610,19.956496731435362,9779909,1273433000,1.3540604264399997E-3,16.955175296287479,null,0,0,null,1.3845235366666667E-2]
[468,5.1029999999999999E-4,8.7728000000000007E-3,1864341,9774213,1218935000,9774213,1218935000,1.4040000000000001E-3,1.3962996500000002E-2,19.910439466277897,{"$f":"0","v":0},0,16.912274818670273,{"$f":"0","v":0},0,{"$f":"0","v":0},7.384679860000043E-2,1.3978414944E-3,null,465,0.99949759999999999,5.0242500000000003E-4,1.371E-3,8.7442000000000006E-3,7.4916508975000351E-2,0.19063044674312554,9778485,1884942,38616380,19.945106931672168,9778485,1259808000,1.3650058509000001E-3,16.944597895302099,null,0,0,null,1.3874675650000001E-2]
[469,5.1345000000000004E-4,8.7829999999999991E-3,1857760,9772659,1207322000,9772659,1207322000,1.4165000000000004E-3,1.399062036666667E-2,19.89926219389659,{"$f":"0","v":0},0,16.902023615675219,{"$f":"0","v":0},0,{"$f":"0","v":0},7.3522002508333809E-2,1.4102794402500005E-3,null,466,0.99949500000000002,5.0505000000000005E-4,1.3820000000000004E-3,8.7537329999999997E-3,7.4559938850000368E-2,0.18995218432578145,9777061,1878075,38454150,19.933633840501574,9777061,1246184000,1.3759511704970005E-3,16.933915778405819,null,0,0,null,1.3904115933333336E-2]
[470,5.1659999999999998E-4,8.7931989999999998E-3,1851179,9771105,1195710000,9771105,1195710000,1.4289999999999997E-3,1.4018244233333334E-2,19.888000048437597,{"$f":"0","v":0},0,16.891685791058549,{"$f":"0","v":0},0,{"$f":"0","v":0},7.3197206416667202E-2,1.4227172593144996E-3,null,467,0.9994923,5.0767499999999997E-4,1.3929999999999997E-3,8.7632669999999999E-3,7.4203368725000413E-2,0.18927633516358436,9775637,1871208,38291920,19.922076540929709,9775637,1232559000,1.3868963845344998E-3,16.923145376496276,null,0,0,null,1.3933556216666667E-2]
[471,5.1975000000000003E-4,8.8033989999999999E-3,1844598,9769550,1184098000,9769550,1184098000,1.4415000000000001E-3,1.4045868100000001E-2,19.876662963962879,{"$f":"0","v":0},0,16.881272885200648,{"$f":"0","v":0},0,{"$f":"0","v":0},7.2872410325000581E-2,1.4351549501707501E-3,null,468,0.99948970000000004,5.1029999999999999E-4,1.4040000000000001E-3,8.7728000000000007E-3,7.384679860000043E-2,0.18860289067018146,9774213,1864341,38129700,19.910439466277897,9774213,1218935000,1.3978414944E-3,16.912274818670273,null,0,0,null,1.3962996500000002E-2]
[472,5.2289999999999997E-4,8.8135999999999996E-3,1838017,9767996,1172486000,9767996,1172486000,1.4540000000000004E-3,1.4073491966666669E-2,19.865244694871336,{"$f":"0","v":0},0,16.870751249611033,{"$f":"0","v":0},0,{"$f":"0","v":0},7.254761423333396E-2,1.4475925128000003E-3,null,469,0.9994866,5.1345000000000004E-4,1.4165000000000004E-3,8.7829999999999991E-3,7.3522002508333809E-2,0.18793184228977022,9772659,1857760,37974340,19.89926219389659,9772659,1207322000,1.4102794402500005E-3,16.902023615675219,null,0,0,null,1.399062036666667E-2]
[473,5.2605000000000002E-4,8.8237999999999997E-3,1831436,9766442,1160874000,9766442,1160874000,1.4664999999999997E-3,1.4101115833333334E-2,19.853744365987488,{"$f":"0","v":0},0,16.860146884468449,{"$f":"0","v":0},0,{"$f":"0","v":0},7.2222818141667353E-2,1.4600299486499998E-3,null,470,0.99948340000000002,5.1659999999999998E-4,1.4289999999999997E-3,8.7931989999999998E-3,7.3197206416667202E-2,0.18726318149698953,9771105,1851179,37818970,19.888000048437597,9771105,1195710000,1.4227172593144996E-3,16.891685791058549,null,0,0,null,1.4018244233333334E-2]
[474,5.2919999999999996E-4,8.8339999999999998E-3,1824855,9764888,1149261000,9764888,1149261000,1.4789999999999998E-3,1.4128739700000002E-2,19.842161089511219,{"$f":"0","v":0},0,16.849451373101569,{"$f":"0","v":0},0,{"$f":"0","v":0},7.1898022050000732E-2,1.4724672569999999E-3,null,471,0.99948020000000004,5.1975000000000003E-4,1.4415000000000001E-3,8.8033989999999999E-3,7.2872410325000581E-2,0.18659689979681154,9769550,1844598,37663610,19.876662963962879,9769550,1184098000,1.4351549501707501E-3,16.881272885200648,null,0,0,null,1.4045868100000001E-2]
[475,5.3235000000000001E-4,8.8442E-3,1818274,9763334,1137649000,9763334,1137649000,1.4915000000000002E-3,1.415636356666667E-2,19.830488465068154,{"$f":"0","v":0},0,16.838663535313717,{"$f":"0","v":0},0,{"$f":"0","v":0},7.1573225958334111E-2,1.4849044378500002E-3,null,472,0.99947710000000001,5.2289999999999997E-4,1.4540000000000004E-3,8.8135999999999996E-3,7.254761423333396E-2,0.18593298872443367,9767996,1838017,37508250,19.865244694871336,9767996,1172486000,1.4475925128000003E-3,16.870751249611033,null,0,0,null,1.4073491966666669E-2]
[476,5.3549999999999995E-4,8.8543990000000006E-3,1811693,9761780,1126037000,9761780,1126037000,1.5039999999999995E-3,1.4183987433333335E-2,19.818736558383051,{"$f":"0","v":0},0,16.827782170444358,{"$f":"0","v":0},0,{"$f":"0","v":0},7.1248429866667504E-2,1.4973414919519994E-3,null,473,0.99947390000000003,5.2605000000000002E-4,1.4664999999999997E-3,8.8237999999999997E-3,7.2222818141667353E-2,0.18527143984517103,9766442,1831436,37352890,19.853744365987488,9766442,1160874000,1.4600299486499998E-3,16.860146884468449,null,0,0,null,1.4101115833333334E-2]
[477,5.3865E-4,8.8646000000000003E-3,1805112,9760226,1114425000,9760226,1114425000,1.5164999999999998E-3,1.4211611300000003E-2,19.80689896250205,{"$f":"0","v":0},0,16.816806056923642,{"$f":"0","v":0},0,{"$f":"0","v":0},7.0923633775000883E-2,1.5097784170499998E-3,null,474,0.99947079999999999,5.2919999999999996E-4,1.4789999999999998E-3,8.8339999999999998E-3,7.1898022050000732E-2,0.18461224475434937,9764888,1824855,37197530,19.842161089511219,9764888,1149261000,1.4724672569999999E-3,16.849451373101569,null,0,0,null,1.4128739700000002E-2]
[478,5.4180000000000005E-4,8.8748000000000004E-3,1798531,9758671,1102813000,9758671,1102813000,1.5290000000000002E-3,1.4239235166666669E-2,19.794974736789818,{"$f":"0","v":0},0,16.805746925287526,{"$f":"0","v":0},0,{"$f":"0","v":0},7.0598837683334262E-2,1.5222152154000001E-3,null,475,0.99946769999999996,5.3235000000000001E-4,1.4915000000000002E-3,8.8442E-3,7.1573225958334111E-2,0.18395539507719819,9763334,1818274,37042160,19.830488465068154,9763334,1137649000,1.4849044378500002E-3,16.838663535313717,null,0,0,null,1.415636356666667E-2]
[479,5.4494999999999999E-4,8.8850000000000005E-3,1791950,9757117,1091200000,9757117,1091200000,1.5414999999999995E-3,1.4266859033333334E-2,19.782962926792973,{"$f":"0","v":0},0,16.794577612408549,{"$f":"0","v":0},0,{"$f":"0","v":0},7.0274041591667655E-2,1.5346518862499995E-3,null,476,0.99946449999999998,5.3549999999999995E-4,1.5039999999999995E-3,8.8543990000000006E-3,7.1248429866667504E-2,0.1833008824687444,9761780,1811693,36886800,19.818736558383051,9761780,1126037000,1.4973414919519994E-3,16.827782170444358,null,0,0,null,1.4183987433333335E-2]
[480,5.4810000000000004E-4,8.8952000000000007E-3,1785369,9755563,1079588000,9755563,1079588000,1.5539999999999998E-3,1.4294482900000002E-2,19.770862563985371,{"$f":"0","v":0},0,16.783302211827429,{"$f":"0","v":0},0,{"$f":"0","v":0},6.9949245500001034E-2,1.5470884295999997E-3,null,477,0.99946140000000006,5.3865E-4,1.5164999999999998E-3,8.8646000000000003E-3,7.0923633775000883E-2,0.18264869861370636,9760226,1805112,36731440,19.80689896250205,9760226,1114425000,1.5097784170499998E-3,16.816806056923642,null,0,0,null,1.4211611300000003E-2]
[481,5.5177500000000001E-4,8.9062670000000007E-3,1779061,9753860,1069624000,9753860,1069624000,1.5675000000000003E-3,1.4320290350000002E-2,19.759256123501853,{"$f":"0","v":0},0,16.77268065476461,{"$f":"0","v":0},0,{"$f":"0","v":0},6.9658335841667654E-2,1.5605197132387504E-3,null,478,0.99945819999999996,5.4180000000000005E-4,1.5290000000000002E-3,8.8748000000000004E-3,7.0598837683334262E-2,0.18199883522638804,9758671,1798531,36576080,19.794974736789818,9758671,1102813000,1.5222152154000001E-3,16.805746925287526,null,0,0,null,1.4239235166666669E-2]
[482,5.5544999999999998E-4,8.9173340000000007E-3,1772754,9752156,1059659000,9752156,1059659000,1.5809999999999995E-3,1.4346097800000002E-2,19.747549998476945,{"$f":"0","v":0},0,16.761969135323415,{"$f":"0","v":0},0,{"$f":"0","v":0},6.9367426183334288E-2,1.5739508474729995E-3,null,479,0.99945499999999998,5.4494999999999999E-4,1.5414999999999995E-3,8.8850000000000005E-3,7.0274041591667655E-2,0.18135128405057402,9757117,1791950,36420720,19.782962926792973,9757117,1091200000,1.5346518862499995E-3,16.794577612408549,null,0,0,null,1.4266859033333334E-2]
[483,5.5912500000000005E-4,8.9283999999999995E-3,1766446,9750453,1049695000,9750453,1049695000,1.5945E-3,1.4371905250000002E-2,19.735777421632662,{"$f":"0","v":0},0,16.751158864832043,{"$f":"0","v":0},0,{"$f":"0","v":0},6.9076516525000908E-2,1.5873818330999999E-3,null,480,0.99945189999999995,5.4810000000000004E-4,1.5539999999999998E-3,8.8952000000000007E-3,6.9949245500001034E-2,0.18070603685942441,9755563,1785369,36265360,19.770862563985371,9755563,1079588000,1.5470884295999997E-3,16.783302211827429,null,0,0,null,1.4294482900000002E-2]
[484,5.6280000000000002E-4,8.9394660000000001E-3,1760139,9748750,1039730000,9748750,1039730000,1.6080000000000003E-3,1.4397712700000002E-2,19.723908949804532,{"$f":"0","v":0},0,16.740263924975661,{"$f":"0","v":0},0,{"$f":"0","v":0},6.8785606866667529E-2,1.6008126693360003E-3,null,481,0.99944820000000001,5.5177500000000001E-4,1.5675000000000003E-3,8.9062670000000007E-3,6.9658335841667654E-2,0.18006308545537031,9753860,1779061,36116580,19.759256123501853,9753860,1069624000,1.5605197132387504E-3,16.77268065476461,null,0,0,null,1.4320290350000002E-2]
[485,5.6647499999999999E-4,8.9505330000000001E-3,1753831,9747046,1029766000,9747046,1029766000,1.6214999999999995E-3,1.4423520150000002E-2,19.711966665165189,{"$f":"0","v":0},0,16.729267813381419,{"$f":"0","v":0},0,{"$f":"0","v":0},6.8494697208334163E-2,1.6142433553702495E-3,null,482,0.99944449999999996,5.5544999999999998E-4,1.5809999999999995E-3,8.9173340000000007E-3,6.9367426183334288E-2,0.17942242167000991,9752156,1772754,35967790,19.747549998476945,9752156,1059659000,1.5739508474729995E-3,16.761969135323415,null,0,0,null,1.4346097800000002E-2]
[486,5.7014999999999995E-4,8.9615990000000006E-3,1747523,9745343,1019802000,9745343,1019802000,1.635E-3,1.4449327600000002E-2,19.699938164857723,{"$f":"0","v":0},0,16.718198060244688,{"$f":"0","v":0},0,{"$f":"0","v":0},6.8203787550000783E-2,1.6276738928174999E-3,null,483,0.99944080000000002,5.5912500000000005E-4,1.5945E-3,8.9283999999999995E-3,6.9076516525000908E-2,0.17878403736400433,9750453,1766446,35819010,19.735777421632662,9750453,1049695000,1.5873818330999999E-3,16.751158864832043,null,0,0,null,1.4371905250000002E-2]
[487,5.7382500000000003E-4,8.9726660000000007E-3,1741216,9743640,1009837000,9743640,1009837000,1.6485000000000004E-3,1.4475135050000002E-2,19.687810893842769,{"$f":"0","v":0},0,16.707019095412544,{"$f":"0","v":0},0,{"$f":"0","v":0},6.7912877891667403E-2,1.6411042800495005E-3,null,484,0.99943720000000003,5.6280000000000002E-4,1.6080000000000003E-3,8.9394660000000001E-3,6.8785606866667529E-2,0.17814792442697466,9748750,1760139,35670230,19.723908949804532,9748750,1039730000,1.6008126693360003E-3,16.740263924975661,null,0,0,null,1.4397712700000002E-2]
[488,5.775E-4,8.9837330000000007E-3,1734908,9741936,999872900,9741936,999872900,1.6619999999999996E-3,1.4500942500000003E-2,19.675607102317048,{"$f":"0","v":0},0,16.695735171541934,{"$f":"0","v":0},0,{"$f":"0","v":0},6.7621968233334037E-2,1.6545345178769996E-3,null,485,0.99943349999999997,5.6647499999999999E-4,1.6214999999999995E-3,8.9505330000000001E-3,6.8494697208334163E-2,0.1775140747773985,9747046,1753831,35521450,19.711966665165189,9747046,1029766000,1.6142433553702495E-3,16.729267813381419,null,0,0,null,1.4423520150000002E-2]
[489,5.8117499999999996E-4,8.9948000000000007E-3,1728600,9740233,989908500,9740233,989908500,1.6754999999999999E-3,1.4526749950000003E-2,19.663314242739787,{"$f":"0","v":0},0,16.684360596330695,{"$f":"0","v":0},0,{"$f":"0","v":0},6.7331058575000657E-2,1.6679646062999999E-3,null,486,0.99942980000000003,5.7014999999999995E-4,1.635E-3,8.9615990000000006E-3,6.8203787550000783E-2,0.17688248036250759,9745343,1747523,35372670,19.699938164857723,9745343,1019802000,1.6276738928174999E-3,16.718198060244688,null,0,0,null,1.4449327600000002E-2]
[490,5.8485000000000004E-4,9.0058670000000007E-3,1722293,9738530,979944100,9738530,979944100,1.6890000000000004E-3,1.4552557400000003E-2,19.650913805993909,{"$f":"0","v":0},0,16.672878427045752,{"$f":"0","v":0},0,{"$f":"0","v":0},6.7040148916667278E-2,1.6813945453185005E-3,null,487,0.99942620000000004,5.7382500000000003E-4,1.6485000000000004E-3,8.9726660000000007E-3,6.7912877891667403E-2,0.17625313315818525,9743640,1741216,35223890,19.687810893842769,9743640,1009837000,1.6411042800495005E-3,16.707019095412544,null,0,0,null,1.4475135050000002E-2]
[491,5.8852500000000001E-4,9.0169329999999995E-3,1715985,9736826,969979700,9736826,969979700,1.7024999999999996E-3,1.4578364850000003E-2,19.638439802795478,{"$f":"0","v":0},0,16.66130306256623,{"$f":"0","v":0},0,{"$f":"0","v":0},6.6749239258333912E-2,1.6948243357837495E-3,null,488,0.99942249999999999,5.775E-4,1.6619999999999996E-3,8.9837330000000007E-3,6.7621968233334037E-2,0.1756260251688648,9741936,1734908,35075110,19.675607102317048,9741936,999872900,1.6545345178769996E-3,16.695735171541934,null,0,0,null,1.4500942500000003E-2]
[492,5.9219999999999997E-4,9.0279999999999996E-3,1709678,9735123,960015300,9735123,960015300,1.7160000000000001E-3,1.4604172300000003E-2,19.625861955682101,{"$f":"0","v":0},0,16.649625321539808,{"$f":"0","v":0},0,{"$f":"0","v":0},6.6458329600000532E-2,1.7082539760000001E-3,null,489,0.9994189,5.8117499999999996E-4,1.6754999999999999E-3,8.9948000000000007E-3,6.7331058575000657E-2,0.17500114842742753,9740233,1728600,34926330,19.663314242739787,9740233,989908500,1.6679646062999999E-3,16.684360596330695,null,0,0,null,1.4526749950000003E-2]
[493,5.9647499999999996E-4,9.039867E-3,1703631,9733257,951406800,9733257,951406800,1.7305000000000005E-3,1.4628163333333336E-2,19.613818881553573,{"$f":"0","v":0},0,16.638620210666065,{"$f":"0","v":0},0,{"$f":"0","v":0},6.6202713575000544E-2,1.7226782550782505E-3,null,490,0.99941519999999995,5.8485000000000004E-4,1.6890000000000004E-3,9.0058670000000007E-3,6.7040148916667278E-2,0.17437849499510186,9738530,1722293,34777540,19.650913805993909,9738530,979944100,1.6813945453185005E-3,16.672878427045752,null,0,0,null,1.4552557400000003E-2]
[494,6.0075000000000005E-4,9.0517329999999993E-3,1697585,9731390,942798500,9731390,942798500,1.7449999999999996E-3,1.4652154366666668E-2,19.601678143755198,{"$f":"0","v":0},0,16.62752164894982,{"$f":"0","v":0},0,{"$f":"0","v":0},6.5947097550000583E-2,1.7371023629574997E-3,null,491,0.99941150000000001,5.8852500000000001E-4,1.7024999999999996E-3,9.0169329999999995E-3,6.6749239258333912E-2,0.17375805696136223,9736826,1715985,34628760,19.638439802795478,9736826,969979700,1.6948243357837495E-3,16.66130306256623,null,0,0,null,1.4578364850000003E-2]
[495,6.0502500000000003E-4,9.0635999999999998E-3,1691539,9729524,934190000,9729524,934190000,1.7595E-3,1.4676145400000003E-2,19.589444705876325,{"$f":"0","v":0},0,16.61632844099692,{"$f":"0","v":0},0,{"$f":"0","v":0},6.5691481525000595E-2,1.7515262979E-3,null,492,0.99940779999999996,5.9219999999999997E-4,1.7160000000000001E-3,9.0279999999999996E-3,6.6458329600000532E-2,0.17313982644382883,9735123,1709678,34479980,19.625861955682101,9735123,960015300,1.7082539760000001E-3,16.649625321539808,null,0,0,null,1.4604172300000003E-2]
[496,6.0930000000000001E-4,9.0754670000000003E-3,1685493,9727658,925581600,9727658,925581600,1.7740000000000004E-3,1.4700136433333337E-2,19.577129436313292,{"$f":"0","v":0},0,16.60503937093775,{"$f":"0","v":0},0,{"$f":"0","v":0},6.5435865500000606E-2,1.7659500607710005E-3,null,493,0.9994035,5.9647499999999996E-4,1.7305000000000005E-3,9.039867E-3,6.6202713575000544E-2,0.17252379558816716,9733257,1703631,34337510,19.613818881553573,9733257,951406800,1.7226782550782505E-3,16.638620210666065,null,0,0,null,1.4628163333333336E-2]
[497,6.1357499999999999E-4,9.0873329999999995E-3,1679446,9725792,916973200,9725792,916973200,1.7884999999999997E-3,1.4724127466666669E-2,19.564737468982827,{"$f":"0","v":0},0,16.593661317802908,{"$f":"0","v":0},0,{"$f":"0","v":0},6.5180249475000646E-2,1.7803736524647496E-3,null,494,0.99939920000000004,6.0075000000000005E-4,1.7449999999999996E-3,9.0517329999999993E-3,6.5947097550000583E-2,0.17190995656798858,9731390,1697585,34195040,19.601678143755198,9731390,942798500,1.7371023629574997E-3,16.62752164894982,null,0,0,null,1.4652154366666668E-2]
[498,6.1784999999999997E-4,9.0992E-3,1673400,9723926,908364700,9723926,908364700,1.8029999999999999E-3,1.4748118500000003E-2,19.552237958647066,{"$f":"0","v":0},0,16.582176826861133,{"$f":"0","v":0},0,{"$f":"0","v":0},6.4924633450000657E-2,1.7947970711999998E-3,null,495,0.99939500000000003,6.0502500000000003E-4,1.7595E-3,9.0635999999999998E-3,6.5691481525000595E-2,0.17129830158475051,9729524,1691539,34052560,19.589444705876325,9729524,934190000,1.7515262979E-3,16.61632844099692,null,0,0,null,1.4676145400000003E-2]
[499,6.2212499999999996E-4,9.1110659999999993E-3,1667354,9722059,899756300,9722059,899756300,1.8175000000000005E-3,1.4772109533333336E-2,19.539653796774211,{"$f":"0","v":0},0,16.570592699195455,{"$f":"0","v":0},0,{"$f":"0","v":0},6.4669017425000669E-2,1.8092203187725006E-3,null,496,0.99939069999999997,6.0930000000000001E-4,1.7740000000000004E-3,9.0754670000000003E-3,6.5435865500000606E-2,0.1706888228676578,9727658,1685493,33910090,19.577129436313292,9727658,925581600,1.7659500607710005E-3,16.60503937093775,null,0,0,null,1.4700136433333337E-2]
[500,6.2640000000000005E-4,9.1229329999999997E-3,1661308,9720193,891147900,9720193,891147900,1.8319999999999996E-3,1.4796100566666668E-2,19.526978039793544,{"$f":"0","v":0},0,16.558907632519777,{"$f":"0","v":0},0,{"$f":"0","v":0},6.4413401400000708E-2,1.8236433933719997E-3,null,497,0.99938640000000001,6.1357499999999999E-4,1.7884999999999997E-3,9.0873329999999995E-3,6.5180249475000646E-2,0.17008151267356356,9725792,1679446,33767620,19.564737468982827,9725792,916973200,1.7803736524647496E-3,16.593661317802908,null,0,0,null,1.4724127466666669E-2]
[501,6.3067500000000003E-4,9.1348000000000002E-3,1655262,9718327,882539500,9718327,882539500,1.8465000000000001E-3,1.4820091600000002E-2,19.51420968402585,{"$f":"0","v":0},0,16.547120301753584,{"$f":"0","v":0},0,{"$f":"0","v":0},6.415778537500072E-2,1.8380662959E-3,null,498,0.99938210000000005,6.1784999999999997E-4,1.8029999999999999E-3,9.0992E-3,6.4924633450000657E-2,0.1694763632868711,9723926,1673400,33625140,19.552237958647066,9723926,908364700,1.7947970711999998E-3,16.582176826861133,null,0,0,null,1.4748118500000003E-2]
[502,6.3494989999999998E-4,9.1466659999999995E-3,1649215,9716460,873931000,9716460,873931000,1.8610000000000005E-3,1.4844082633333337E-2,19.501353800646569,{"$f":"0","v":0},0,16.53522935852105,{"$f":"0","v":0},0,{"$f":"0","v":0},6.3902169350000732E-2,1.8524890272870005E-3,null,499,0.99937779999999998,6.2212499999999996E-4,1.8175000000000005E-3,9.1110659999999993E-3,6.4669017425000669E-2,0.16887336701943567,9722059,1667354,33482670,19.539653796774211,9722059,899756300,1.8092203187725006E-3,16.570592699195455,null,0,0,null,1.4772109533333336E-2]
[503,6.3922489999999996E-4,9.158533E-3,1643169,9714594,865322600,9714594,865322600,1.8754999999999996E-3,1.4868073666666669E-2,19.48839719164614,{"$f":"0","v":0},0,16.523241761415388,{"$f":"0","v":0},0,{"$f":"0","v":0},6.3646553325000771E-2,1.8669115856792496E-3,null,500,0.99937359999999997,6.2640000000000005E-4,1.8319999999999996E-3,9.1229329999999997E-3,6.4413401400000708E-2,0.16827251621046715,9720193,1661308,33340200,19.526978039793544,9720193,891147900,1.8236433933719997E-3,16.558907632519777,null,0,0,null,1.4796100566666668E-2]
[504,6.4349999999999997E-4,9.1704000000000004E-3,1637123,9712728,856714200,9712728,856714200,1.89E-3,1.4892064700000002E-2,19.475344883473426,{"$f":"0","v":0},0,16.511139489295875,{"$f":"0","v":0},0,{"$f":"0","v":0},6.3390937300000783E-2,1.881333972E-3,null,501,0.99936930000000002,6.3067500000000003E-4,1.8465000000000001E-3,9.1348000000000002E-3,6.415778537500072E-2,0.16767380322643222,9718327,1655262,33197730,19.51420968402585,9718327,882539500,1.8380662959E-3,16.547120301753584,null,0,0,null,1.4820091600000002E-2]
[505,6.4844990000000003E-4,9.1832670000000002E-3,1631326,9710684,849227000,9710684,849227000,1.9055000000000003E-3,1.491423931666667E-2,19.462845000529221,{"$f":"0","v":0},0,16.499745943499178,{"$f":"0","v":0},0,{"$f":"0","v":0},6.3171316908334108E-2,1.8967506423657502E-3,null,502,0.99936499999999995,6.3494989999999998E-4,1.8610000000000005E-3,9.1466659999999995E-3,6.3902169350000732E-2,0.1670772204609578,9716460,1649215,33055250,19.501353800646569,9716460,873931000,1.8524890272870005E-3,16.53522935852105,null,0,0,null,1.4844082633333337E-2]
[506,6.5340000000000005E-4,9.1961330000000004E-3,1625530,9708641,841739800,9708641,841739800,1.9209999999999995E-3,1.4936413933333335E-2,19.450243664117753,{"$f":"0","v":0},0,16.488255382584839,{"$f":"0","v":0},0,{"$f":"0","v":0},6.2951696516667432E-2,1.9121671142534994E-3,null,503,0.99936080000000005,6.3922489999999996E-4,1.8754999999999996E-3,9.158533E-3,6.3646553325000771E-2,0.16648276033473416,9714594,1643169,32912780,19.48839719164614,9714594,865322600,1.8669115856792496E-3,16.523241761415388,null,0,0,null,1.4868073666666669E-2]
[507,6.583499E-4,9.2090000000000002E-3,1619734,9706597,834252700,9706597,834252700,1.9364999999999999E-3,1.4958588550000002E-2,19.43755214333547,{"$f":"0","v":0},0,16.476666562141045,{"$f":"0","v":0},0,{"$f":"0","v":0},6.2732076125000757E-2,1.9275833857499997E-3,null,504,0.99935649999999998,6.4349999999999997E-4,1.89E-3,9.1704000000000004E-3,6.3390937300000783E-2,0.16589041529541881,9712728,1637123,32770310,19.475344883473426,9712728,856714200,1.881333972E-3,16.511139489295875,null,0,0,null,1.4892064700000002E-2]
[508,6.6330000000000002E-4,9.2218669999999999E-3,1613937,9704554,826765500,9704554,826765500,1.9520000000000004E-3,1.4980763166666671E-2,19.424788033857578,{"$f":"0","v":0},0,16.464963741286418,{"$f":"0","v":0},0,{"$f":"0","v":0},6.2512455733334082E-2,1.9429994578080004E-3,null,505,0.99935160000000001,6.4844990000000003E-4,1.9055000000000003E-3,9.1832670000000002E-3,6.3171316908334108E-2,0.16530017781754042,9710684,1631326,32633880,19.462845000529221,9710684,849227000,1.8967506423657502E-3,16.499745943499178,null,0,0,null,1.491423931666667E-2]
[509,6.6825000000000001E-4,9.2347339999999997E-3,1608141,9702510,819278300,9702510,819278300,1.9674999999999996E-3,1.5002937783333337E-2,19.411913274395715,{"$f":"0","v":0},0,16.453174530244034,{"$f":"0","v":0},0,{"$f":"0","v":0},6.2292835341667414E-2,1.9584153304274994E-3,null,506,0.99934659999999997,6.5340000000000005E-4,1.9209999999999995E-3,9.1961330000000004E-3,6.2951696516667432E-2,0.16471204040240334,9708641,1625530,32497450,19.450243664117753,9708641,841739800,1.9121671142534994E-3,16.488255382584839,null,0,0,null,1.4936413933333335E-2]
[510,6.7319999999999999E-4,9.2475999999999999E-3,1602345,9700466,811791200,9700466,811791200,1.983E-3,1.5025112400000004E-2,19.398945373811507,{"$f":"0","v":0},0,16.441283195970694,{"$f":"0","v":0},0,{"$f":"0","v":0},6.2073214950000732E-2,1.9738310046000002E-3,null,507,0.9993417,6.583499E-4,1.9364999999999999E-3,9.2090000000000002E-3,6.2732076125000757E-2,0.16412599557799204,9706597,1619734,32361020,19.43755214333547,9706597,834252700,1.9275833857499997E-3,16.476666562141045,null,0,0,null,1.4958588550000002E-2]
[511,6.7814999999999998E-4,9.2604660000000002E-3,1596548,9698423,804304100,9698423,804304100,1.9985000000000003E-3,1.5047287016666671E-2,19.385902062867302,{"$f":"0","v":0},0,16.429288405740866,{"$f":"0","v":0},0,{"$f":"0","v":0},6.185359455833405E-2,1.9892464793495003E-3,null,508,0.99933669999999997,6.6330000000000002E-4,1.9520000000000004E-3,9.2218669999999999E-3,6.2512455733334082E-2,0.16354203589887667,9704554,1613937,32224600,19.424788033857578,9704554,826765500,1.9429994578080004E-3,16.464963741286418,null,0,0,null,1.4980763166666671E-2]
[512,{"$f":"W517","v":6.8309999999999996E-4},{"$f":"Y517","v":9.2733329999999999E-3},{"$f":"AC517","v":1590752},{"$f":"AF517","v":9696379},{"$f":"AG517","v":796816900},{"$f":"E514","v":9696379},{"$f":"F514","v":796816900},{"$f":"X517","v":2.0139999999999993E-3},{"$f":"AN517","v":1.5069461633333336E-2},{"$f":"AE517","v":19.372744882085119},{"$f":"0","v":0},{"$f":"AL517","v":0},{"$f":"AI517","v":16.417188803537972},{"$f":"0","v":0},{"$f":"AK517","v":0},{"$f":"0","v":0},{"$f":"Z517","v":6.1633974166667389E-2},{"$f":"AH517","v":2.0046617536689992E-3},null,509,0.99933179999999999,6.6825000000000001E-4,1.9674999999999996E-3,9.2347339999999997E-3,6.2292835341667414E-2,0.16296015394611796,9702510,1608141,32088170,19.411913274395715,9702510,819278300,1.9584153304274994E-3,16.453174530244034,null,0,0,null,1.5002937783333337E-2]
[513,6.8804999999999995E-4,9.2862009999999991E-3,1584956,9694336,789329700,9694336,789329700,2.0294999999999996E-3,1.5091636250000005E-2,19.359491472739094,{"$f":"0","v":0},0,16.404983009543358,{"$f":"0","v":0},0,{"$f":"0","v":0},6.1414353775000707E-2,2.0200768275352495E-3,null,510,0.99932679999999996,6.7319999999999999E-4,1.983E-3,9.2475999999999999E-3,6.2073214950000732E-2,0.16238034232717341,9700466,1602345,31951740,19.398945373811507,9700466,811791200,1.9738310046000002E-3,16.441283195970694,null,0,0,null,1.5025112400000004E-2]
[514,6.9300000000000004E-4,9.2990669999999994E-3,1579159,9692292,781842600,9692292,781842600,2.0450000000000004E-3,1.5113810866666673E-2,19.34615336918786,{"$f":"0","v":0},0,16.392669619611748,{"$f":"0","v":0},0,{"$f":"0","v":0},6.1194733383334025E-2,2.0354917039925005E-3,null,511,0.99932189999999999,6.7814999999999998E-4,1.9985000000000003E-3,9.2604660000000002E-3,6.185359455833405E-2,0.16180259367580291,9698423,1596548,31815320,19.385902062867302,9698423,804304100,1.9892464793495003E-3,16.429288405740866,null,0,0,null,1.5047287016666671E-2]
[515,6.9795000000000002E-4,9.3119329999999997E-3,1573363,9690249,774355400,9690249,774355400,2.0604999999999994E-3,1.5135985483333338E-2,19.33271070206515,{"$f":"0","v":0},0,16.380241130619339,{"$f":"0","v":0},0,{"$f":"0","v":0},6.0975112991667364E-2,2.0509063810267496E-3,null,512,0.99931689999999995,6.8309999999999996E-4,2.0139999999999993E-3,9.2733329999999999E-3,6.1633974166667389E-2,0.16122690065197562,9696379,1590752,31678890,19.372744882085119,9696379,796816900,2.0046617536689992E-3,16.417188803537972,null,0,0,null,1.5069461633333336E-2]
[516,7.0290000000000001E-4,9.3247999999999994E-3,1567567,9688205,766868200,9688205,766868200,2.0759999999999997E-3,1.5158160100000005E-2,19.319162248461044,{"$f":"0","v":0},0,16.367708220401205,{"$f":"0","v":0},0,{"$f":"0","v":0},6.0755492600000682E-2,2.0663208575999997E-3,null,513,0.99931190000000003,6.8804999999999995E-4,2.0294999999999996E-3,9.2862009999999991E-3,6.1414353775000707E-2,0.1606532559417764,9694336,1584956,31542460,19.359491472739094,9694336,789329700,2.0200768275352495E-3,16.404983009543358,null,0,0,null,1.5091636250000005E-2]
[517,7.0845000000000001E-4,9.3386670000000001E-3,1562009,9685969,760313200,9685969,760313200,2.0935000000000003E-3,1.5178518300000006E-2,19.306202327686119,{"$f":"0","v":0},0,16.355920095444887,{"$f":"0","v":0},0,{"$f":"0","v":0},6.057186464166734E-2,2.0837247503177505E-3,null,514,0.99930699999999995,6.9300000000000004E-4,2.0450000000000004E-3,9.2990669999999994E-3,6.1194733383334025E-2,0.160081652257313,9692292,1579159,31406030,19.34615336918786,9692292,781842600,2.0354917039925005E-3,16.392669619611748,null,0,0,null,1.5113810866666673E-2]
[518,7.1400000000000001E-4,9.3525329999999997E-3,1556452,9683734,753758100,9683734,753758100,2.1109999999999992E-3,1.5198876500000005E-2,19.293137104988354,{"$f":"0","v":0},0,16.34402516673719,{"$f":"0","v":0},0,{"$f":"0","v":0},6.0388236683334005E-2,2.1011284014184994E-3,null,515,0.99930200000000002,6.9795000000000002E-4,2.0604999999999994E-3,9.3119329999999997E-3,6.0975112991667364E-2,0.15951208233662351,9690249,1573363,31269610,19.33271070206515,9690249,774355400,2.0509063810267496E-3,16.380241130619339,null,0,0,null,1.5135985483333338E-2]
[519,7.1955000000000001E-4,9.3664009999999999E-3,1550894,9681498,747203000,9681498,747203000,2.1284999999999997E-3,1.5219234700000004E-2,19.279991035278147,{"$f":"0","v":0},0,16.332019301188591,{"$f":"0","v":0},0,{"$f":"0","v":0},6.0204608725000663E-2,2.1185318077357497E-3,null,516,0.99929710000000005,7.0290000000000001E-4,2.0759999999999997E-3,9.3247999999999994E-3,6.0755492600000682E-2,0.15894453894358399,9688205,1567567,31133180,19.319162248461044,9688205,766868200,2.0663208575999997E-3,16.367708220401205,null,0,0,null,1.5158160100000005E-2]
[520,7.2510000000000001E-4,9.3802669999999994E-3,1545337,9679262,740647900,9679262,740647900,2.1460000000000003E-3,1.5239592900000005E-2,19.266737584315479,{"$f":"0","v":0},0,16.319918997690941,{"$f":"0","v":0},0,{"$f":"0","v":0},6.0020980766667321E-2,2.1359349735090003E-3,null,517,0.9992915,7.0845000000000001E-4,2.0935000000000003E-3,9.3386670000000001E-3,6.057186464166734E-2,0.15837901486781666,9685969,1562009,31002550,19.306202327686119,9685969,760313200,2.0837247503177505E-3,16.355920095444887,null,0,0,null,1.5178518300000006E-2]
[521,7.3065000000000001E-4,9.3941330000000007E-3,1539779,9677026,734092900,9677026,734092900,2.1634999999999992E-3,1.5259951100000004E-2,19.253401326857077,{"$f":"0","v":0},0,16.307729198671364,{"$f":"0","v":0},0,{"$f":"0","v":0},5.9837352808333986E-2,2.153337896627249E-3,null,518,0.99928600000000001,7.1400000000000001E-4,2.1109999999999992E-3,9.3525329999999997E-3,6.0388236683334005E-2,0.15781550292459817,9683734,1556452,30871920,19.293137104988354,9683734,753758100,2.1011284014184994E-3,16.34402516673719,null,0,0,null,1.5198876500000005E-2]
[522,7.3620000000000001E-4,9.4079999999999997E-3,1534222,9674790,727537800,9674790,727537800,2.1809999999999998E-3,1.5280309300000005E-2,19.239955549674903,{"$f":"0","v":0},0,16.295409205781016,{"$f":"0","v":0},0,{"$f":"0","v":0},5.9653724850000645E-2,2.1707405759999999E-3,null,519,0.99928050000000002,7.1955000000000001E-4,2.1284999999999997E-3,9.3664009999999999E-3,6.0204608725000663E-2,0.15725399595476847,9681498,1550894,30741290,19.279991035278147,9681498,747203000,2.1185318077357497E-3,16.332019301188591,null,0,0,null,1.5219234700000004E-2]
[523,7.4175E-4,9.4218659999999992E-3,1528664,9672555,720982800,9672555,720982800,2.1985000000000004E-3,1.5300667500000005E-2,19.226424947971996,{"$f":"0","v":0},0,16.282990797898947,{"$f":"0","v":0},0,{"$f":"0","v":0},5.9470096891667303E-2,2.1881430137995002E-3,null,520,0.99927489999999997,7.2510000000000001E-4,2.1460000000000003E-3,9.3802669999999994E-3,6.0020980766667321E-2,0.15669448682463971,9679262,1545337,30610660,19.266737584315479,9679262,740647900,2.1359349735090003E-3,16.319918997690941,null,0,0,null,1.5239592900000005E-2]
[524,7.473E-4,9.435733E-3,1523107,9670319,714427700,9670319,714427700,2.2159999999999992E-3,1.5321025700000004E-2,19.212782626784154,{"$f":"0","v":0},0,16.270469772941251,{"$f":"0","v":0},0,{"$f":"0","v":0},5.9286468933333968E-2,2.2055452078359994E-3,null,521,0.99926939999999997,7.3065000000000001E-4,2.1634999999999992E-3,9.3941330000000007E-3,5.9837352808333986E-2,0.15613696842590569,9677026,1539779,30480030,19.253401326857077,9677026,734092900,2.153337896627249E-3,16.307729198671364,null,0,0,null,1.5259951100000004E-2]
[525,7.5285E-4,9.4495989999999995E-3,1517549,9668083,707872600,9668083,707872600,2.2334999999999998E-3,1.5341383900000005E-2,19.199053402339342,{"$f":"0","v":0},0,16.257832280003406,{"$f":"0","v":0},0,{"$f":"0","v":0},5.9102840975000626E-2,2.2229471603167497E-3,null,522,0.99926380000000004,7.3620000000000001E-4,2.1809999999999998E-3,9.4079999999999997E-3,5.9653724850000645E-2,0.15558143367555158,9674790,1534222,30349400,19.239955549674903,9674790,727537800,2.1707405759999999E-3,16.295409205781016,null,0,0,null,1.5280309300000005E-2]
[526,7.584E-4,9.4634669999999997E-3,1511992,9665848,701317600,9665848,701317600,2.2510000000000004E-3,1.5361742100000004E-2,19.185210195115669,{"$f":"0","v":0},0,16.245073851953705,{"$f":"0","v":0},0,{"$f":"0","v":0},5.8919213016667284E-2,2.2403488678915005E-3,null,523,0.99925830000000004,7.4175E-4,2.1985000000000004E-3,9.4218659999999992E-3,5.9470096891667303E-2,0.15502787551576383,9672555,1528664,30218770,19.226424947971996,9672555,720982800,2.1881430137995002E-3,16.282990797898947,null,0,0,null,1.5300667500000005E-2]
[527,7.6395E-4,9.4773329999999992E-3,1506434,9663612,694762500,9663612,694762500,2.2684999999999992E-3,1.5382100300000003E-2,19.17127130472803,{"$f":"0","v":0},0,16.232226874390228,{"$f":"0","v":0},0,{"$f":"0","v":0},5.8735585058333949E-2,2.2577503350447491E-3,null,524,0.99925269999999999,7.473E-4,2.2159999999999992E-3,9.435733E-3,5.9286468933333968E-2,0.15447628691384058,9670319,1523107,30088140,19.212782626784154,9670319,714427700,2.2055452078359994E-3,16.270469772941251,null,0,0,null,1.5321025700000004E-2]
[528,7.695E-4,9.4912E-3,1500877,9661376,688207400,9661376,688207400,2.2859999999999998E-3,1.5402458500000004E-2,19.157222716007595,{"$f":"0","v":0},0,16.2192497120569,{"$f":"0","v":0},0,{"$f":"0","v":0},5.8551957100000607E-2,2.2751515583999998E-3,null,525,0.99924710000000005,7.5285E-4,2.2334999999999998E-3,9.4495989999999995E-3,5.9102840975000626E-2,0.15392666086210233,9668083,1517549,29957510,19.199053402339342,9668083,707872600,2.2229471603167497E-3,16.257832280003406,null,0,0,null,1.5341383900000005E-2]
[529,7.7579999999999999E-4,9.5061329999999999E-3,1495548,9658925,682431200,9658925,682431200,2.3040000000000005E-3,1.5421000283333338E-2,19.143786424775399,{"$f":"0","v":0},0,16.207040340023511,{"$f":"0","v":0},0,{"$f":"0","v":0},5.840361317500057E-2,2.2930489347840004E-3,null,526,0.99924159999999995,7.584E-4,2.2510000000000004E-3,9.4634669999999997E-3,5.8919213016667284E-2,0.15337899037780281,9665848,1511992,29826880,19.185210195115669,9665848,701317600,2.2403488678915005E-3,16.245073851953705,null,0,0,null,1.5361742100000004E-2]
[530,7.8209999999999998E-4,9.5210659999999999E-3,1490218,9656473,676655000,9656473,676655000,2.3219999999999994E-3,1.5439542066666669E-2,19.130267238305624,{"$f":"0","v":0},0,16.194732694978072,{"$f":"0","v":0},0,{"$f":"0","v":0},5.825526925000054E-2,2.3109460423739992E-3,null,527,0.99923600000000001,7.6395E-4,2.2684999999999992E-3,9.4773329999999992E-3,5.8735585058333949E-2,0.15283326850304044,9663612,1506434,29696240,19.17127130472803,9663612,694762500,2.2577503350447491E-3,16.232226874390228,null,0,0,null,1.5382100300000003E-2]
[531,7.8839990000000005E-4,9.5359999999999993E-3,1484889,9654022,670878800,9654022,670878800,2.3400000000000001E-3,1.5458083850000004E-2,19.11663775878197,{"$f":"0","v":0},0,16.182312824873264,{"$f":"0","v":0},0,{"$f":"0","v":0},5.8106925325000502E-2,2.3288428800000002E-3,null,528,0.99923050000000002,7.695E-4,2.2859999999999998E-3,9.4912E-3,5.8551957100000607E-2,0.15228948830466973,9661376,1500877,29565610,19.157222716007595,9661376,688207400,2.2751515583999998E-3,16.2192497120569,null,0,0,null,1.5402458500000004E-2]
[532,7.9469999999999996E-4,9.5509329999999993E-3,1479560,9651571,665102700,9651571,665102700,2.3580000000000003E-3,1.5476625633333338E-2,19.1029033406328,{"$f":"0","v":0},0,16.169801436870372,{"$f":"0","v":0},0,{"$f":"0","v":0},5.7958581400000465E-2,2.3467394499930004E-3,null,529,0.99922420000000001,7.7579999999999999E-4,2.3040000000000005E-3,9.5061329999999999E-3,5.840361317500057E-2,0.15174764287421333,9658925,1495548,29440540,19.143786424775399,9658925,682431200,2.2930489347840004E-3,16.207040340023511,null,0,0,null,1.5421000283333338E-2]
[533,8.0099999999999995E-4,9.5658670000000005E-3,1474231,9649119,659326500,9649119,659326500,2.3759999999999992E-3,1.5495167416666669E-2,19.089076412267367,{"$f":"0","v":0},0,16.15718146093586,{"$f":"0","v":0},0,{"$f":"0","v":0},5.7810237475000435E-2,2.3646357500039989E-3,null,530,0.99921789999999999,7.8209999999999998E-4,2.3219999999999994E-3,9.5210659999999999E-3,5.825526925000054E-2,0.15120772532777424,9656473,1490218,29315470,19.130267238305624,9656473,676655000,2.3109460423739992E-3,16.194732694978072,null,0,0,null,1.5439542066666669E-2]
[534,8.0730000000000005E-4,9.5808000000000004E-3,1468902,9646668,653550300,9646668,653550300,2.3939999999999999E-3,1.5513709200000003E-2,19.07514915903171,{"$f":"0","v":0},0,16.144435577365922,{"$f":"0","v":0},0,{"$f":"0","v":0},5.7661893550000398E-2,2.3825317824000001E-3,null,531,0.99921159999999998,7.8839990000000005E-4,2.3400000000000001E-3,9.5359999999999993E-3,5.8106925325000502E-2,0.15066972880594834,9654022,1484889,29190400,19.11663775878197,9654022,670878800,2.3288428800000002E-3,16.182312824873264,null,0,0,null,1.5458083850000004E-2]
[535,8.1360000000000004E-4,9.5957330000000004E-3,1463573,9644217,647774100,9644217,647774100,2.4120000000000005E-3,1.5532250983333338E-2,19.061113652456463,{"$f":"0","v":0},0,16.131594083891294,{"$f":"0","v":0},0,{"$f":"0","v":0},5.7513549625000361E-2,2.4004275460020002E-3,null,532,0.99920529999999996,7.9469999999999996E-4,2.3580000000000003E-3,9.5509329999999993E-3,5.7958581400000465E-2,0.1501336464737372,9651571,1479560,29065320,19.1029033406328,9651571,665102700,2.3467394499930004E-3,16.169801436870372,null,0,0,null,1.5476625633333338E-2]
[536,8.1990000000000003E-4,9.6106669999999998E-3,1458244,9641765,641998000,9641765,641998000,2.4299999999999994E-3,1.5550792766666668E-2,19.046982420866009,{"$f":"0","v":0},0,16.118623652596085,{"$f":"0","v":0},0,{"$f":"0","v":0},5.7365205700000331E-2,2.4183230395949996E-3,null,533,0.99919899999999995,8.0099999999999995E-4,2.3759999999999992E-3,9.5658670000000005E-3,5.7810237475000435E-2,0.14959947152046135,9649119,1474231,28940250,19.089076412267367,9649119,659326500,2.3646357500039989E-3,16.15718146093586,null,0,0,null,1.5495167416666669E-2]
[537,8.2620000000000002E-4,9.6255999999999998E-3,1452915,9639314,636221800,9639314,636221800,2.4479999999999997E-3,1.5569334550000003E-2,19.03274752824494,{"$f":"0","v":0},0,16.105554759015146,{"$f":"0","v":0},0,{"$f":"0","v":0},5.7216861775000294E-2,2.4362182655999999E-3,null,534,0.99919270000000004,8.0730000000000005E-4,2.3939999999999999E-3,9.5808000000000004E-3,5.7661893550000398E-2,0.14906719715967365,9646668,1468902,28815180,19.07514915903171,9646668,653550300,2.3825317824000001E-3,16.144435577365922,null,0,0,null,1.5513709200000003E-2]
[538,8.3250000000000002E-4,9.6405329999999997E-3,1447586,9636863,630445600,9636863,630445600,2.4660000000000003E-3,1.5587876333333337E-2,19.01840092171841,{"$f":"0","v":0},0,16.092353791925436,{"$f":"0","v":0},0,{"$f":"0","v":0},5.7068517850000257E-2,2.4541132228110005E-3,null,535,0.99918640000000003,8.1360000000000004E-4,2.4120000000000005E-3,9.5957330000000004E-3,5.7513549625000361E-2,0.14853681662907314,9644217,1463573,28690100,19.061113652456463,9644217,647774100,2.4004275460020002E-3,16.131594083891294,null,0,0,null,1.5532250983333338E-2]
[539,8.3880000000000001E-4,9.6554659999999997E-3,1442257,9634411,624669400,9634411,624669400,2.4839999999999992E-3,1.5606418116666668E-2,19.003955230124266,{"$f":"0","v":0},0,16.079041664474925,{"$f":"0","v":0},0,{"$f":"0","v":0},5.6920173925000227E-2,2.4720079112279993E-3,null,536,0.99918010000000002,8.1990000000000003E-4,2.4299999999999994E-3,9.6106669999999998E-3,5.7365205700000331E-2,0.14800832319041907,9641765,1458244,28565030,19.046982420866009,9641765,641998000,2.4183230395949996E-3,16.118623652596085,null,0,0,null,1.5550792766666668E-2]
[540,8.451E-4,9.6703999999999991E-3,1436928,9631960,618893200,9631960,618893200,2.5019999999999999E-3,1.5624959900000002E-2,18.989402391769108,{"$f":"0","v":0},0,16.065620164747568,{"$f":"0","v":0},0,{"$f":"0","v":0},5.677183000000019E-2,2.4899023295999996E-3,null,537,0.9991738,8.2620000000000002E-4,2.4479999999999997E-3,9.6255999999999998E-3,5.7216861775000294E-2,0.14748171012944536,9639314,1452915,28439960,19.03274752824494,9639314,636221800,2.4362182655999999E-3,16.105554759015146,null,0,0,null,1.5569334550000003E-2]
[541,8.5229999999999995E-4,9.6864659999999995E-3,1431817,9629283,613772900,9629283,613772900,2.5220000000000004E-3,1.564168526666667E-2,18.975485315744493,{"$f":"0","v":0},0,16.053007549397158,{"$f":"0","v":0},0,{"$f":"0","v":0},5.6657356508333589E-2,2.5097853663740002E-3,null,538,0.99916749999999999,8.3250000000000002E-4,2.4660000000000003E-3,9.6405329999999997E-3,5.7068517850000257E-2,0.14695697075577524,9636863,1447586,28314880,19.01840092171841,9636863,630445600,2.4541132228110005E-3,16.092353791925436,null,0,0,null,1.5587876333333337E-2]
[542,8.5950000000000002E-4,9.7025329999999993E-3,1426706,9626606,608652700,9626606,608652700,2.5419999999999996E-3,1.5658410633333335E-2,18.961475536422125,{"$f":"0","v":0},0,16.040276651093755,{"$f":"0","v":0},0,{"$f":"0","v":0},5.6542883016666989E-2,2.5296680805569995E-3,null,539,0.99916119999999997,8.3880000000000001E-4,2.4839999999999992E-3,9.6554659999999997E-3,5.6920173925000227E-2,0.1464340984028363,9634411,1442257,28189810,19.003955230124266,9634411,624669400,2.4720079112279993E-3,16.079041664474925,null,0,0,null,1.5606418116666668E-2]
[543,8.6669999999999998E-4,9.7186000000000008E-3,1421596,9623929,603532400,9623929,603532400,2.562E-3,1.5675136000000003E-2,18.947351310311319,{"$f":"0","v":0},0,16.027435849530978,{"$f":"0","v":0},0,{"$f":"0","v":0},5.6428409525000389E-2,2.5495504734E-3,null,540,0.99915489999999996,8.451E-4,2.5019999999999999E-3,9.6703999999999991E-3,5.677183000000019E-2,0.14591308642777573,9631960,1436928,28064740,18.989402391769108,9631960,618893200,2.4899023295999996E-3,16.065620164747568,null,0,0,null,1.5624959900000002E-2]
[544,8.7390000000000005E-4,9.7346670000000007E-3,1416485,9621252,598412200,9621252,598412200,2.5820000000000005E-3,1.5691861366666671E-2,18.933131866321681,{"$f":"0","v":0},0,16.0144837153805,{"$f":"0","v":0},0,{"$f":"0","v":0},5.6313936033333789E-2,2.5694325449030003E-3,null,541,0.99914769999999997,8.5229999999999995E-4,2.5220000000000004E-3,9.6864659999999995E-3,5.6657356508333589E-2,0.14539392821137601,9629283,1431817,27944990,18.975485315744493,9629283,613772900,2.5097853663740002E-3,16.053007549397158,null,0,0,null,1.564168526666667E-2]
[545,8.811E-4,9.7507329999999993E-3,1411374,9618575,593291900,9618575,593291900,2.6019999999999993E-3,1.5708586733333335E-2,18.91881652205581,{"$f":"0","v":0},0,16.001428792091442,{"$f":"0","v":0},0,{"$f":"0","v":0},5.6199462541667189E-2,2.5893142963669992E-3,null,542,0.99914049999999999,8.5950000000000002E-4,2.5419999999999996E-3,9.7025329999999993E-3,5.6542883016666989E-2,0.14487661715797073,9626606,1426706,27825250,18.961475536422125,9626606,608652700,2.5296680805569995E-3,16.040276651093755,null,0,0,null,1.5658410633333335E-2]
[546,8.8829999999999996E-4,9.7668000000000008E-3,1406264,9615898,588171600,9615898,588171600,2.6220000000000002E-3,1.5725312100000003E-2,18.904376181617863,{"$f":"0","v":0},0,15.988251308217604,{"$f":"0","v":0},0,{"$f":"0","v":0},5.6084989050000589E-2,2.6091957252000002E-3,null,543,0.9991333,8.6669999999999998E-4,2.562E-3,9.7186000000000008E-3,5.6428409525000389E-2,0.14436114669536088,9623929,1421596,27705510,18.947351310311319,9623929,603532400,2.5495504734E-3,16.027435849530978,null,0,0,null,1.5675136000000003E-2]
[547,8.9550000000000003E-4,9.7828670000000006E-3,1401153,9613222,583051300,9613222,583051300,2.6420000000000007E-3,1.5742037466666671E-2,18.889851518713517,{"$f":"0","v":0},0,15.974958064504415,{"$f":"0","v":0},0,{"$f":"0","v":0},5.5970515558333989E-2,2.6290768326930006E-3,null,544,0.99912610000000002,8.7390000000000005E-4,2.5820000000000005E-3,9.7346670000000007E-3,5.6313936033333789E-2,0.14384751027473125,9621252,1416485,27585760,18.933131866321681,9621252,598412200,2.5694325449030003E-3,16.0144837153805,null,0,0,null,1.5691861366666671E-2]
[548,9.0269999999999999E-4,9.7989329999999993E-3,1396042,9610545,577931100,9610545,577931100,2.6619999999999994E-3,1.5758762833333335E-2,18.875220504349677,{"$f":"0","v":0},0,15.961559330620927,{"$f":"0","v":0},0,{"$f":"0","v":0},5.5856042066667388E-2,2.6489576201769996E-3,null,545,0.99911890000000003,8.811E-4,2.6019999999999993E-3,9.7507329999999993E-3,5.6199462541667189E-2,0.14333570137056736,9618575,1411374,27466020,18.91881652205581,9618575,593291900,2.5893142963669992E-3,16.001428792091442,null,0,0,null,1.5708586733333335E-2]
[549,9.0990000000000005E-4,9.8150000000000008E-3,1390932,9607868,572810800,9607868,572810800,2.6819999999999999E-3,1.5775488200000003E-2,18.860460827704014,{"$f":"0","v":0},0,15.948028316893781,{"$f":"0","v":0},0,{"$f":"0","v":0},5.5741568575000788E-2,2.6688380849999999E-3,null,546,0.99911170000000005,8.8829999999999996E-4,2.6220000000000002E-3,9.7668000000000008E-3,5.6084989050000589E-2,0.14282571348057244,9615898,1406264,27346270,18.904376181617863,9615898,588171600,2.6091957252000002E-3,15.988251308217604,null,0,0,null,1.5725312100000003E-2]
[550,9.1710000000000001E-4,9.8310659999999994E-3,1385821,9605191,567690600,9605191,567690600,2.7020000000000004E-3,1.5792213566666671E-2,18.845613508767244,{"$f":"0","v":0},0,15.934380221015923,{"$f":"0","v":0},0,{"$f":"0","v":0},5.5627095083334188E-2,2.6887182298340005E-3,null,547,0.99910449999999995,8.9550000000000003E-4,2.6420000000000007E-3,9.7828670000000006E-3,5.5970515558333989E-2,0.14231754012558487,9613222,1401153,27226530,18.889851518713517,9613222,583051300,2.6290768326930006E-3,15.974958064504415,null,0,0,null,1.5742037466666671E-2]
[551,9.2429999999999997E-4,9.8471329999999992E-3,1380710,9602514,562570300,9602514,562570300,2.7219999999999996E-3,1.5808938933333336E-2,18.830649025984215,{"$f":"0","v":0},0,15.920606704182228,{"$f":"0","v":0},0,{"$f":"0","v":0},5.5512621591667588E-2,2.7085980519869993E-3,null,548,0.99909729999999997,9.0269999999999999E-4,2.6619999999999994E-3,9.7989329999999993E-3,5.5856042066667388E-2,0.14181117484949593,9610545,1396042,27106790,18.875220504349677,9610545,577931100,2.6489576201769996E-3,15.961559330620927,null,0,0,null,1.5758762833333335E-2]
[552,9.3150000000000004E-4,9.8632000000000008E-3,1375600,9599837,557450000,9599837,557450000,2.7420000000000001E-3,1.5825664300000004E-2,18.815566540661045,{"$f":"0","v":0},0,15.906721485587019,{"$f":"0","v":0},0,{"$f":"0","v":0},5.5398148100000988E-2,2.7284775527999998E-3,null,549,0.99909009999999998,9.0990000000000005E-4,2.6819999999999999E-3,9.8150000000000008E-3,5.5741568575000788E-2,0.14130661121916754,9607868,1390932,26987040,18.860460827704014,9607868,572810800,2.6688380849999999E-3,15.948028316893781,null,0,0,null,1.5775488200000003E-2]
[553,9.3944999999999999E-4,9.8805999999999998E-3,1370698,9596909,552885400,9596909,552885400,2.7640000000000008E-3,1.5840573250000003E-2,18.80116450402155,{"$f":"0","v":0},0,15.893670578086569,{"$f":"0","v":0},0,{"$f":"0","v":0},5.531542624166759E-2,2.7503450108000006E-3,null,550,0.9990829,9.1710000000000001E-4,2.7020000000000004E-3,9.8310659999999994E-3,5.5627095083334188E-2,0.14080384282435093,9605191,1385821,26867300,18.845613508767244,9605191,567690600,2.6887182298340005E-3,15.934380221015923,null,0,0,null,1.5792213566666671E-2]
[554,9.4740000000000004E-4,9.8979989999999993E-3,1365796,9593981,548320800,9593981,548320800,2.7859999999999994E-3,1.5855482200000003E-2,18.78665176448996,{"$f":"0","v":0},0,15.880515768536069,{"$f":"0","v":0},0,{"$f":"0","v":0},5.5232704383334205E-2,2.7722120873929991E-3,null,551,0.99907570000000001,9.2429999999999997E-4,2.7219999999999996E-3,9.8471329999999992E-3,5.5512621591667588E-2,0.1403028632776048,9602514,1380710,26747550,18.830649025984215,9602514,562570300,2.7085980519869993E-3,15.920606704182228,null,0,0,null,1.5808938933333336E-2]
[555,9.5534999999999999E-4,9.9153999999999996E-3,1360894,9591053,543756100,9591053,543756100,2.8079999999999997E-3,1.5870391150000003E-2,18.772041822017975,{"$f":"0","v":0},0,15.867246978750318,{"$f":"0","v":0},0,{"$f":"0","v":0},5.5149982525000807E-2,2.7940787784E-3,null,552,0.99906850000000003,9.3150000000000004E-4,2.7420000000000001E-3,9.8632000000000008E-3,5.5398148100000988E-2,0.13980366621421439,9599837,1375600,26627810,18.815566540661045,9599837,557450000,2.7284775527999998E-3,15.906721485587019,null,0,0,null,1.5825664300000004E-2]
[556,9.6329990000000002E-4,9.9328000000000003E-3,1355992,9588125,539191400,9588125,539191400,2.8300000000000005E-3,1.5885300100000006E-2,18.757326247745805,{"$f":"0","v":0},0,15.853864441033329,{"$f":"0","v":0},0,{"$f":"0","v":0},5.5067260666667409E-2,2.8159450880000003E-3,null,553,0.99906059999999997,9.3944999999999999E-4,2.7640000000000008E-3,9.8805999999999998E-3,5.531542624166759E-2,0.13930624529211058,9596909,1370698,26513180,18.80116450402155,9596909,552885400,2.7503450108000006E-3,15.893670578086569,null,0,0,null,1.5840573250000003E-2]
[557,9.7124989999999997E-4,9.9501999999999993E-3,1351090,9585197,534626800,9585197,534626800,2.8519999999999991E-3,1.5900209050000006E-2,18.742496490487927,{"$f":"0","v":0},0,15.84035267010365,{"$f":"0","v":0},0,{"$f":"0","v":0},5.4984538808334024E-2,2.8378110147999989E-3,null,554,0.99905259999999996,9.4740000000000004E-4,2.7859999999999994E-3,9.8979989999999993E-3,5.5232704383334205E-2,0.13881059419178934,9593981,1365796,26398540,18.78665176448996,9593981,548320800,2.7722120873929991E-3,15.880515768536069,null,0,0,null,1.5855482200000003E-2]
[558,9.7919999999999995E-4,9.9676000000000001E-3,1346188,9582270,530062100,9582270,530062100,2.8739999999999998E-3,1.5915118000000006E-2,18.727566159654767,{"$f":"0","v":0},0,15.826732867953845,{"$f":"0","v":0},0,{"$f":"0","v":0},5.4901816950000626E-2,2.8596765588E-3,null,555,0.99904470000000001,9.5534999999999999E-4,2.8079999999999997E-3,9.9153999999999996E-3,5.5149982525000807E-2,0.13831670661623136,9591053,1360894,26283910,18.772041822017975,9591053,543756100,2.7940787784E-3,15.867246978750318,null,0,0,null,1.5870391150000003E-2]
[559,9.8714989999999997E-4,9.9850000000000008E-3,1341286,9579342,525497500,9579342,525497500,2.8960000000000006E-3,1.5930026950000006E-2,18.712526697015647,{"$f":"0","v":0},0,15.812994714096645,{"$f":"0","v":0},0,{"$f":"0","v":0},5.4819095091667228E-2,2.8815417200000006E-3,null,556,0.9990367,9.6329990000000002E-4,2.8300000000000005E-3,9.9328000000000003E-3,5.5067260666667409E-2,0.13782457629082215,9588125,1355992,26169280,18.757326247745805,9588125,539191400,2.8159450880000003E-3,15.853864441033329,null,0,0,null,1.5885300100000006E-2]
[560,9.9509990000000003E-4,1.00024E-2,1336383,9576414,520932800,9576414,520932800,2.9179999999999992E-3,1.5944935900000005E-2,18.697383815118869,{"$f":"0","v":0},0,15.799133142338247,{"$f":"0","v":0},0,{"$f":"0","v":0},5.4736373233333843E-2,2.9034064983999991E-3,null,557,0.99902869999999999,9.7124989999999997E-4,2.8519999999999991E-3,9.9501999999999993E-3,5.4984538808334024E-2,0.13733419696327218,9585197,1351090,26054640,18.742496490487927,9585197,534626800,2.8378110147999989E-3,15.84035267010365,null,0,0,null,1.5900209050000006E-2]
[561,1.0030499999999999E-3,1.0019800000000001E-2,1331481,9573486,516368200,9573486,516368200,2.9399999999999999E-3,1.5959844850000009E-2,18.682122482408683,{"$f":"0","v":0},0,15.785148261306341,{"$f":"0","v":0},0,{"$f":"0","v":0},5.4653651375000445E-2,2.9252708939999997E-3,null,558,0.99902080000000004,9.7919999999999995E-4,2.8739999999999998E-3,9.9676000000000001E-3,5.4901816950000626E-2,0.13684556240353768,9582270,1346188,25940010,18.727566159654767,9582270,530062100,2.8596765588E-3,15.826732867953845,null,0,0,null,1.5915118000000006E-2]
[562,1.011E-3,1.00372E-2,1326579,9570558,511803600,9570558,511803600,2.9620000000000002E-3,1.5974753800000008E-2,18.666748361763602,{"$f":"0","v":0},0,15.77102764557304,{"$f":"0","v":0},0,{"$f":"0","v":0},5.4570929516667047E-2,2.9471349068000002E-3,null,559,0.99901280000000003,9.8714989999999997E-4,2.8960000000000006E-3,9.9850000000000008E-3,5.4819095091667228E-2,0.13635866640374122,9579342,1341286,25825380,18.712526697015647,9579342,525497500,2.8815417200000006E-3,15.812994714096645,null,0,0,null,1.5930026950000006E-2]
[563,1.01895E-3,1.00546E-2,1321677,9567630,507238900,9567630,507238900,2.9839999999999988E-3,1.5989662750000008E-2,18.651252632072737,{"$f":"0","v":0},0,15.756792873400679,{"$f":"0","v":0},0,{"$f":"0","v":0},5.4488207658333662E-2,2.968998536799999E-3,null,560,0.99900489999999997,9.9509990000000003E-4,2.9179999999999992E-3,1.00024E-2,5.4736373233333843E-2,0.13587350277809307,9576414,1336383,25710740,18.697383815118869,9576414,520932800,2.9034064983999991E-3,15.799133142338247,null,0,0,null,1.5944935900000005E-2]
[564,1.0269000000000001E-3,1.0071999999999999E-2,1316775,9564702,502674200,9564702,502674200,3.0059999999999996E-3,1.6004571700000008E-2,18.635649123806267,{"$f":"0","v":0},0,15.742427986332592,{"$f":"0","v":0},0,{"$f":"0","v":0},5.4405485800000264E-2,2.9908617839999995E-3,null,561,0.99899700000000002,1.0030499999999999E-3,2.9399999999999999E-3,1.0019800000000001E-2,5.4653651375000445E-2,0.13539006536281248,9573486,1331481,25596110,18.682122482408683,9573486,516368200,2.9252708939999997E-3,15.785148261306341,null,0,0,null,1.5959844850000009E-2]
[565,1.0359E-3,1.0090729999999999E-2,1312073,9561500,498584200,9561500,498584200,3.0295000000000001E-3,1.6017664233333343E-2,18.620742741956175,{"$f":"0","v":0},0,15.728944705565342,{"$f":"0","v":0},0,{"$f":"0","v":0},5.435169157500034E-2,3.0142150667325004E-3,null,562,0.99898900000000002,1.011E-3,2.9620000000000002E-3,1.00372E-2,5.4570929516667047E-2,0.1349083480160494,9570558,1326579,25481480,18.666748361763602,9570558,511803600,2.9471349068000002E-3,15.77102764557304,null,0,0,null,1.5974753800000008E-2]
[566,1.0449000000000001E-3,1.0109470000000001E-2,1307370,9558297,494494200,9558297,494494200,3.0529999999999989E-3,1.6030756766666675E-2,18.605743783320712,{"$f":"0","v":0},0,15.715355608908594,{"$f":"0","v":0},0,{"$f":"0","v":0},5.4297897350000422E-2,3.0375678940449988E-3,null,563,0.99898109999999996,1.01895E-3,2.9839999999999988E-3,1.00546E-2,5.4488207658333662E-2,0.13442834461780648,9567630,1321677,25366840,18.651252632072737,9567630,507238900,2.968998536799999E-3,15.756792873400679,null,0,0,null,1.5989662750000008E-2]
[567,1.0539E-3,1.01282E-2,1302668,9555095,490404200,9555095,490404200,3.0764999999999994E-3,1.604384930000001E-2,18.590621836620432,{"$f":"0","v":0},0,15.701637292381482,{"$f":"0","v":0},0,{"$f":"0","v":0},5.4244103125000498E-2,3.0609202963499992E-3,null,564,0.99897309999999995,1.0269000000000001E-3,3.0059999999999996E-3,1.0071999999999999E-2,5.4405485800000264E-2,0.13395004906986127,9564702,1316775,25252210,18.635649123806267,9564702,502674200,2.9908617839999995E-3,15.742427986332592,null,0,0,null,1.6004571700000008E-2]
[568,1.0629000000000001E-3,1.014693E-2,1297966,9551892,486314200,9551892,486314200,3.1000000000000003E-3,1.6056941833333341E-2,18.575382624300893,{"$f":"0","v":0},0,15.687811976966239,{"$f":"0","v":0},0,{"$f":"0","v":0},5.4190308900000574E-2,3.0842722585000004E-3,null,565,0.99896410000000002,1.0359E-3,3.0295000000000001E-3,1.0090729999999999E-2,5.435169157500034E-2,0.1334734552956888,9561500,1312073,25142480,18.620742741956175,9561500,498584200,3.0142150667325004E-3,15.728944705565342,null,0,0,null,1.6017664233333343E-2]
[569,1.0719E-3,1.016567E-2,1293263,9548690,482224200,9548690,482224200,3.1234999999999991E-3,1.6070034366666673E-2,18.560055102223341,{"$f":"0","v":0},0,15.673852430559799,{"$f":"0","v":0},0,{"$f":"0","v":0},5.4136514675000656E-2,3.1076237648774993E-3,null,566,0.99895509999999998,1.0449000000000001E-3,3.0529999999999989E-3,1.0109470000000001E-2,5.4297897350000422E-2,0.1329985572403844,9558297,1307370,25032750,18.605743783320712,9558297,494494200,3.0375678940449988E-3,15.715355608908594,null,0,0,null,1.6030756766666675E-2]
[570,1.0809000000000001E-3,1.01844E-2,1288561,9545488,478134200,9545488,478134200,3.1469999999999996E-3,1.6083126900000008E-2,18.544600882948757,{"$f":"0","v":0},0,15.659781005289565,{"$f":"0","v":0},0,{"$f":"0","v":0},5.4082720450000732E-2,3.1309748465999996E-3,null,567,0.99894609999999995,1.0539E-3,3.0764999999999994E-3,1.01282E-2,5.4244103125000498E-2,0.13252534887058656,9555095,1302668,24923020,18.590621836620432,9555095,490404200,3.0609202963499992E-3,15.701637292381482,null,0,0,null,1.604384930000001E-2]
[571,1.0899E-3,1.0203129999999999E-2,1283858,9542285,474044200,9542285,474044200,3.1705000000000001E-3,1.6096219433333343E-2,18.529048318947005,{"$f":"0","v":0},0,15.645573802280607,{"$f":"0","v":0},0,{"$f":"0","v":0},5.4028926225000808E-2,3.1543254881674998E-3,null,568,0.99893710000000002,1.0629000000000001E-3,3.1000000000000003E-3,1.014693E-2,5.4190308900000574E-2,0.13205382417440065,9551892,1297966,24813280,18.575382624300893,9551892,486314200,3.0842722585000004E-3,15.687811976966239,null,0,0,null,1.6056941833333341E-2]
[572,1.0989000000000001E-3,1.0221869999999999E-2,1279156,9539083,469954200,9539083,469954200,3.1939999999999989E-3,1.6109311966666675E-2,18.513366495824851,{"$f":"0","v":0},0,15.631251523370759,{"$f":"0","v":0},0,{"$f":"0","v":0},5.397513200000089E-2,3.177675673609999E-3,null,569,0.99892809999999999,1.0719E-3,3.1234999999999991E-3,1.016567E-2,5.4136514675000656E-2,0.13158397716132222,9548690,1293263,24703550,18.560055102223341,9548690,482224200,3.1076237648774993E-3,15.673852430559799,null,0,0,null,1.6070034366666673E-2]
[573,1.1079E-3,1.0240600000000001E-2,1274453,9535880,465864200,9535880,465864200,3.2174999999999999E-3,1.6122404500000007E-2,18.497583898085427,{"$f":"0","v":0},0,15.616791840380069,{"$f":"0","v":0},0,{"$f":"0","v":0},5.3921337775000966E-2,3.20102543475E-3,null,570,0.99891909999999995,1.0809000000000001E-3,3.1469999999999996E-3,1.01844E-2,5.4082720450000732E-2,0.13111580186216107,9545488,1288561,24593820,18.544600882948757,9545488,478134200,3.1309748465999996E-3,15.659781005289565,null,0,0,null,1.6083126900000008E-2]
[574,1.1169000000000001E-3,1.0259330000000001E-2,1269751,9532678,461774100,9532678,461774100,3.2410000000000004E-3,1.6135497033333342E-2,18.481669404736309,{"$f":"0","v":0},0,15.60221194696854,{"$f":"0","v":0},0,{"$f":"0","v":0},5.3867543550001042E-2,3.2243747557350005E-3,null,571,0.99891010000000002,1.0899E-3,3.1705000000000001E-3,1.0203129999999999E-2,5.4028926225000808E-2,0.13064929232896527,9542285,1283858,24484090,18.529048318947005,9542285,474044200,3.1543254881674998E-3,15.645573802280607,null,0,0,null,1.6096219433333343E-2]
[575,1.1259E-3,1.027807E-2,1265048,9529475,457684200,9529475,457684200,3.2644999999999992E-3,1.6148589566666673E-2,18.465651632718018,{"$f":"0","v":0},0,15.587489245963036,{"$f":"0","v":0},0,{"$f":"0","v":0},5.3813749325001124E-2,3.247723620242499E-3,null,572,0.99890109999999999,1.0989000000000001E-3,3.1939999999999989E-3,1.0221869999999999E-2,5.397513200000089E-2,0.13018444263494577,9539083,1279156,24374360,18.513366495824851,9539083,469954200,3.177675673609999E-3,15.631251523370759,null,0,0,null,1.6109311966666675E-2]
[576,{"$f":"W581","v":1.1349000000000001E-3},{"$f":"Y581","v":1.02968E-2},{"$f":"AC581","v":1260346},{"$f":"AF581","v":9526273},{"$f":"AG581","v":453594100},{"$f":"E578","v":9526273},{"$f":"F578","v":453594100},{"$f":"X581","v":3.2879999999999997E-3},{"$f":"AN581","v":1.6161682100000008E-2},{"$f":"AE581","v":18.449491316934662},{"$f":"0","v":0},{"$f":"AL581","v":0},{"$f":"AI581","v":15.572646565313756},{"$f":"0","v":0},{"$f":"AK581","v":0},{"$f":"0","v":0},{"$f":"Z581","v":5.37599551000012E-2},{"$f":"AH581","v":3.2710720607999995E-3},null,573,0.99889209999999995,1.1079E-3,3.2174999999999999E-3,1.0240600000000001E-2,5.3921337775000966E-2,0.12972124687440098,9535880,1274453,24264630,18.497583898085427,9535880,465864200,3.20102543475E-3,15.616791840380069,null,0,0,null,1.6122404500000007E-2]
[577,1.1448000000000001E-3,1.031693E-2,1255834,9522775,449913500,9522775,449913500,3.3145000000000006E-3,1.6172958216666675E-2,18.434097646132635,{"$f":"0","v":0},0,15.558721975667977,{"$f":"0","v":0},0,{"$f":"0","v":0},5.3731559308334363E-2,3.2974022677575007E-3,null,574,0.99888310000000002,1.1169000000000001E-3,3.2410000000000004E-3,1.0259330000000001E-2,5.3867543550001042E-2,0.12925969916264179,9532678,1269751,24154900,18.481669404736309,9532678,461774100,3.2243747557350005E-3,15.60221194696854,null,0,0,null,1.6135497033333342E-2]
[578,1.1547E-3,1.033707E-2,1251322,9519278,446232800,9519278,446232800,3.3409999999999989E-3,1.6184234333333339E-2,18.418584971201124,{"$f":"0","v":0},0,15.544687834202294,{"$f":"0","v":0},0,{"$f":"0","v":0},5.3703163516667519E-2,3.3237319245649987E-3,null,575,0.99887409999999999,1.1259E-3,3.2644999999999992E-3,1.027807E-2,5.3813749325001124E-2,0.12879979363591673,9529475,1265048,24045170,18.465651632718018,9529475,457684200,3.247723620242499E-3,15.587489245963036,null,0,0,null,1.6148589566666673E-2]
[579,1.1646E-3,1.03572E-2,1246811,9515780,442552100,9515780,442552100,3.3674999999999998E-3,1.6195510450000006E-2,18.402944826173869,{"$f":"0","v":0},0,15.530517618517687,{"$f":"0","v":0},0,{"$f":"0","v":0},5.3674767725000683E-2,3.3500610644999996E-3,null,576,0.99886509999999995,1.1349000000000001E-3,3.2879999999999997E-3,1.02968E-2,5.37599551000012E-2,0.12834152445133765,9526273,1260346,23935430,18.449491316934662,9526273,453594100,3.2710720607999995E-3,15.572646565313756,null,0,0,null,1.6161682100000008E-2]
[580,1.1745E-3,1.0377330000000001E-2,1242299,9512282,438871400,9512282,438871400,3.3940000000000003E-3,1.6206786566666673E-2,18.387206334116556,{"$f":"0","v":0},0,15.516236610581396,{"$f":"0","v":0},0,{"$f":"0","v":0},5.3646371933333846E-2,3.3763896709900001E-3,null,577,0.99885520000000005,1.1448000000000001E-3,3.3145000000000006E-3,1.031693E-2,5.3731559308334363E-2,0.12788488578680526,9522775,1255834,23830410,18.434097646132635,9522775,449913500,3.2974022677575007E-3,15.558721975667977,null,0,0,null,1.6172958216666675E-2]
[581,1.1843999999999999E-3,1.0397470000000001E-2,1237787,9508785,435190800,9508785,435190800,3.4204999999999991E-3,1.6218062683333336E-2,18.371353101677968,{"$f":"0","v":0},0,15.501818036207579,{"$f":"0","v":0},0,{"$f":"0","v":0},5.3617976141667002E-2,3.402717726932499E-3,null,578,0.99884530000000005,1.1547E-3,3.3409999999999989E-3,1.033707E-2,5.3703163516667519E-2,0.12742987184093535,9519278,1251322,23725380,18.418584971201124,9519278,446232800,3.3237319245649987E-3,15.544687834202294,null,0,0,null,1.6184234333333339E-2]
[582,1.1942999999999999E-3,1.0417600000000001E-2,1233275,9505287,431510100,9505287,431510100,3.4469999999999995E-3,1.6229338800000003E-2,18.355383869507339,{"$f":"0","v":0},0,15.487283598006846,{"$f":"0","v":0},0,{"$f":"0","v":0},5.3589580350000166E-2,3.4290452663999996E-3,null,579,0.99883540000000004,1.1646E-3,3.3674999999999998E-3,1.03572E-2,5.3674767725000683E-2,0.12697647683298496,9515780,1246811,23620350,18.402944826173869,9515780,442552100,3.3500610644999996E-3,15.530517618517687,null,0,0,null,1.6195510450000006E-2]
[583,1.2042000000000001E-3,1.0437729999999999E-2,1228763,9501789,427829400,9501789,427829400,3.4735000000000005E-3,1.624061491666667E-2,18.339297359756653,{"$f":"0","v":0},0,15.472608117010685,{"$f":"0","v":0},0,{"$f":"0","v":0},5.3561184558333329E-2,3.4553722724225003E-3,null,580,0.99882550000000003,1.1745E-3,3.3940000000000003E-3,1.0377330000000001E-2,5.3646371933333846E-2,0.12652469500277905,9512282,1242299,23515320,18.387206334116556,9512282,438871400,3.3763896709900001E-3,15.516236610581396,null,0,0,null,1.6206786566666673E-2]
[584,1.2141000000000001E-3,1.0457869999999999E-2,1224252,9498292,424148700,9498292,424148700,3.4999999999999992E-3,1.6251891033333334E-2,18.323085034780419,{"$f":"0","v":0},0,15.457813443080029,{"$f":"0","v":0},0,{"$f":"0","v":0},5.3532788766666485E-2,3.4816987274999991E-3,null,581,0.99881560000000003,1.1843999999999999E-3,3.4204999999999991E-3,1.0397470000000001E-2,5.3617976141667002E-2,0.1260745206106372,9508785,1237787,23410290,18.371353101677968,9508785,435190800,3.402717726932499E-3,15.501818036207579,null,0,0,null,1.6218062683333336E-2]
[585,1.224E-3,1.0477999999999999E-2,1219740,9494794,420468000,9494794,420468000,3.5264999999999997E-3,1.6263167150000001E-2,18.306760047223179,{"$f":"0","v":0},0,15.442874126574491,{"$f":"0","v":0},0,{"$f":"0","v":0},5.3504392974999648E-2,3.5080246664999995E-3,null,582,0.99880570000000002,1.1942999999999999E-3,3.4469999999999995E-3,1.0417600000000001E-2,5.3589580350000166E-2,0.12562594793730084,9505287,1233275,23305260,18.355383869507339,9505287,431510100,3.4290452663999996E-3,15.487283598006846,null,0,0,null,1.6229338800000003E-2]
[586,1.2339E-3,1.049813E-2,1215228,9491296,416787300,9491296,416787300,3.5530000000000006E-3,1.6274443266666667E-2,18.290313834111785,{"$f":"0","v":0},0,15.427810252990477,{"$f":"0","v":0},0,{"$f":"0","v":0},5.3475997183332812E-2,3.5343500720550008E-3,null,583,0.99879580000000001,1.2042000000000001E-3,3.4735000000000005E-3,1.0437729999999999E-2,5.3561184558333329E-2,0.12517897128386041,9501789,1228763,23200230,18.339297359756653,9501789,427829400,3.4553722724225003E-3,15.472608117010685,null,0,0,null,1.624061491666667E-2]
[587,1.2438E-3,1.051827E-2,1210716,9487799,413106700,9487799,413106700,3.5794999999999989E-3,1.6285719383333331E-2,18.273745040125014,{"$f":"0","v":0},0,15.412599913827357,{"$f":"0","v":0},0,{"$f":"0","v":0},5.3447601391665968E-2,3.5606749262674991E-3,null,584,0.9987859,1.2141000000000001E-3,3.4999999999999992E-3,1.0457869999999999E-2,5.3532788766666485E-2,0.12473358497168305,9498292,1224252,23095210,18.323085034780419,9498292,424148700,3.4816987274999991E-3,15.457813443080029,null,0,0,null,1.6251891033333334E-2]
[588,1.2537E-3,1.05384E-2,1206204,9484301,409426000,9484301,409426000,3.6059999999999998E-3,1.6296995499999998E-2,18.257052289662443,{"$f":"0","v":0},0,15.397263350533423,{"$f":"0","v":0},0,{"$f":"0","v":0},5.3419205599999131E-2,3.5869992648000001E-3,null,585,0.998776,1.224E-3,3.5264999999999997E-3,1.0477999999999999E-2,5.3504392974999648E-2,0.12428978334234053,9494794,1219740,22990180,18.306760047223179,9494794,420468000,3.5080246664999995E-3,15.442874126574491,null,0,0,null,1.6263167150000001E-2]
[589,1.264575E-3,1.05602E-2,1201875,9480475,406101300,9480475,406101300,3.6330000000000008E-3,1.6306455199999997E-2,18.241126885075403,{"$f":"0","v":0},0,15.382884555557942,{"$f":"0","v":0},0,{"$f":"0","v":0},5.341197384166585E-2,3.6138173967000006E-3,null,586,0.99876609999999999,1.2339E-3,3.5530000000000006E-3,1.049813E-2,5.3475997183332812E-2,0.12384756075753722,9491296,1215228,22885150,18.290313834111785,9491296,416787300,3.5343500720550008E-3,15.427810252990477,null,0,0,null,1.6274443266666667E-2]
[590,1.27545E-3,1.0581999999999999E-2,1197545,9476649,402776700,9476649,402776700,3.6599999999999992E-3,1.6315914899999999E-2,18.22511036467662,{"$f":"0","v":0},0,15.368394265642404,{"$f":"0","v":0},0,{"$f":"0","v":0},5.3404742083332568E-2,3.6406349399999991E-3,null,587,0.99875619999999998,1.2438E-3,3.5794999999999989E-3,1.051827E-2,5.3447601391665968E-2,0.12340691159903858,9487799,1210716,22780120,18.273745040125014,9487799,413106700,3.5606749262674991E-3,15.412599913827357,null,0,0,null,1.6285719383333331E-2]
[591,1.2863250000000001E-3,1.06038E-2,1193216,9472823,399452000,9472823,399452000,3.6870000000000002E-3,1.6325374599999998E-2,18.208953506043052,{"$f":"0","v":0},0,15.353774870586992,{"$f":"0","v":0},0,{"$f":"0","v":0},5.3397510324999287E-2,3.6674518947000002E-3,null,588,0.99874629999999998,1.2537E-3,3.6059999999999998E-3,1.05384E-2,5.3419205599999131E-2,0.12296783026859968,9484301,1206204,22675090,18.257052289662443,9484301,409426000,3.5869992648000001E-3,15.397263350533423,null,0,0,null,1.6296995499999998E-2]
[592,1.2972000000000001E-3,1.0625600000000001E-2,1188887,9468997,396127400,9468997,396127400,3.7140000000000007E-3,1.6334834299999997E-2,18.192678986032032,{"$f":"0","v":0},0,15.339014323459692,{"$f":"0","v":0},0,{"$f":"0","v":0},5.3390278566666005E-2,3.6942682608000006E-3,null,589,0.99873540000000005,1.264575E-3,3.6330000000000008E-3,1.05602E-2,5.341197384166585E-2,0.12253031118789412,9480475,1201875,22574570,18.241126885075403,9480475,406101300,3.6138173967000006E-3,15.382884555557942,null,0,0,null,1.6306455199999997E-2]
[593,1.3080749999999999E-3,1.06474E-2,1184557,9465171,392802800,9465171,392802800,3.7409999999999991E-3,1.6344293999999999E-2,18.176309758275316,{"$f":"0","v":0},0,15.324135455823054,{"$f":"0","v":0},0,{"$f":"0","v":0},5.3383046808332724E-2,3.721084038299999E-3,null,590,0.99872459999999996,1.27545E-3,3.6599999999999992E-3,1.0581999999999999E-2,5.3404742083332568E-2,0.12209434879844321,9476649,1197545,22474060,18.22511036467662,9476649,402776700,3.6406349399999991E-3,15.368394265642404,null,0,0,null,1.6315914899999999E-2]
[594,1.3189499999999999E-3,1.06692E-2,1180228,9461346,389478100,9461346,389478100,3.7680000000000001E-3,1.6353753699999998E-2,18.15979610154422,{"$f":"0","v":0},0,15.309126248318316,{"$f":"0","v":0},0,{"$f":"0","v":0},5.3375815049999442E-2,3.7478992272000004E-3,null,591,0.99871370000000004,1.2863250000000001E-3,3.6870000000000002E-3,1.06038E-2,5.3397510324999287E-2,0.12165993756154528,9472823,1193216,22373540,18.208953506043052,9472823,399452000,3.6674518947000002E-3,15.353774870586992,null,0,0,null,1.6325374599999998E-2]
[595,1.329825E-3,1.0691000000000001E-2,1175898,9457520,386153400,9457520,386153400,3.7950000000000011E-3,1.6363213399999996E-2,18.143176746622579,{"$f":"0","v":0},0,15.293981001701285,{"$f":"0","v":0},0,{"$f":"0","v":0},5.3368583291666161E-2,3.7747138275000011E-3,null,592,0.9987028,1.2972000000000001E-3,3.7140000000000007E-3,1.0625600000000001E-2,5.3390278566666005E-2,0.12122707195820531,9468997,1188887,22273020,18.192678986032032,9468997,396127400,3.6942682608000006E-3,15.339014323459692,null,0,0,null,1.6334834299999997E-2]
[596,1.3407E-3,1.07128E-2,1171569,9453694,382828800,9453694,382828800,3.8219999999999994E-3,1.6372673099999999E-2,18.126418610427553,{"$f":"0","v":0},0,15.27868735219481,{"$f":"0","v":0},0,{"$f":"0","v":0},5.3361351533332879E-2,3.8015278391999993E-3,null,593,0.99869189999999997,1.3080749999999999E-3,3.7409999999999991E-3,1.06474E-2,5.3383046808332724E-2,0.12079574648906492,9465171,1184557,22172510,18.176309758275316,9465171,392802800,3.721084038299999E-3,15.324135455823054,null,0,0,null,1.6344293999999999E-2]
[597,1.351575E-3,1.07346E-2,1167240,9449868,379504200,9449868,379504200,3.849E-3,1.6382132799999997E-2,18.10954473801446,{"$f":"0","v":0},0,15.263268444879955,{"$f":"0","v":0},0,{"$f":"0","v":0},5.3354119774999598E-2,3.8283412623000002E-3,null,594,0.99868109999999999,1.3189499999999999E-3,3.7680000000000001E-3,1.06692E-2,5.3375815049999442E-2,0.12036595567433238,9461346,1180228,22071990,18.15979610154422,9461346,389478100,3.7478992272000004E-3,15.309126248318316,null,0,0,null,1.6353753699999998E-2]
[598,1.3624500000000001E-3,1.0756399999999999E-2,1162910,9446042,376179500,9446042,376179500,3.876000000000001E-3,1.6391592499999996E-2,18.092552662430165,{"$f":"0","v":0},0,15.247709946197032,{"$f":"0","v":0},0,{"$f":"0","v":0},5.3346888016666316E-2,3.8551540968000011E-3,null,595,0.99867019999999995,1.329825E-3,3.7950000000000011E-3,1.0691000000000001E-2,5.3368583291666161E-2,0.11993769405371299,9457520,1175898,21971470,18.143176746622579,9457520,386153400,3.7747138275000011E-3,15.293981001701285,null,0,0,null,1.6363213399999996E-2]
[599,1.3733249999999999E-3,1.07782E-2,1158581,9442216,372854800,9442216,372854800,3.9029999999999994E-3,1.6401052199999998E-2,18.075417507853714,{"$f":"0","v":0},0,15.23199726187535,{"$f":"0","v":0},0,{"$f":"0","v":0},5.3339656258333035E-2,3.8819663426999992E-3,null,596,0.99865930000000003,1.3407E-3,3.8219999999999994E-3,1.07128E-2,5.3361351533332879E-2,0.11951095618633983,9453694,1171569,21870950,18.126418610427553,9453694,382828800,3.8015278391999993E-3,15.27868735219481,null,0,0,null,1.6372673099999999E-2]
[600,1.3841999999999999E-3,1.0800000000000001E-2,1154251,9438390,369530200,9438390,369530200,3.9300000000000003E-3,1.6410511899999997E-2,18.058178600957099,{"$f":"0","v":0},0,15.216153774928575,{"$f":"0","v":0},0,{"$f":"0","v":0},5.3332424499999753E-2,3.9087780000000008E-3,null,597,0.99864839999999999,1.351575E-3,3.849E-3,1.07346E-2,5.3354119774999598E-2,0.11908573665070459,9449868,1167240,21770440,18.10954473801446,9449868,379504200,3.8283412623000002E-3,15.263268444879955,null,0,0,null,1.6382132799999997E-2]
[601,1.395975E-3,1.082347E-2,1150096,9434227,366519500,9434227,366519500,3.9605000000000013E-3,1.6418155183333331E-2,18.041738544724382,{"$f":"0","v":0},0,15.20132622100661,{"$f":"0","v":0},0,{"$f":"0","v":0},5.3341417174999815E-2,3.9390668235325015E-3,null,598,0.99863760000000001,1.3624500000000001E-3,3.876000000000001E-3,1.0756399999999999E-2,5.3346888016666316E-2,0.11866203004458854,9446042,1162910,21669920,18.092552662430165,9446042,376179500,3.8551540968000011E-3,15.247709946197032,null,0,0,null,1.6391592499999996E-2]
[602,1.4077499999999999E-3,1.0846929999999999E-2,1145941,9430064,363508700,9430064,363508700,3.9909999999999998E-3,1.6425798466666666E-2,18.025179270427824,{"$f":"0","v":0},0,15.186368489223657,{"$f":"0","v":0},0,{"$f":"0","v":0},5.3350409849999871E-2,3.9693549511849993E-3,null,599,0.99862660000000003,1.3733249999999999E-3,3.9029999999999994E-3,1.07782E-2,5.3339656258333035E-2,0.11823983098499417,9442216,1158581,21569400,18.075417507853714,9442216,372854800,3.8819663426999992E-3,15.23199726187535,null,0,0,null,1.6401052199999998E-2]
[603,1.419525E-3,1.0870400000000001E-2,1141786,9425901,360497900,9425901,360497900,4.0214999999999999E-3,1.643344175E-2,18.008499476551062,{"$f":"0","v":0},0,15.171278857684813,{"$f":"0","v":0},0,{"$f":"0","v":0},5.3359402524999933E-2,3.9996423432E-3,null,600,0.99861580000000005,1.3841999999999999E-3,3.9300000000000003E-3,1.0800000000000001E-2,5.3332424499999753E-2,0.11781913410807657,9438390,1154251,21468890,18.058178600957099,9438390,369530200,3.9087780000000008E-3,15.216153774928575,null,0,0,null,1.6410511899999997E-2]
[604,1.4312999999999999E-3,1.089387E-2,1137631,9421738,357487200,9421738,357487200,4.0520000000000009E-3,1.6441085033333334E-2,17.991706632759946,{"$f":"0","v":0},0,15.156055573992775,{"$f":"0","v":0},0,{"$f":"0","v":0},5.3368395199999995E-2,4.0299290193800009E-3,null,601,0.99860400000000005,1.395975E-3,3.9605000000000013E-3,1.082347E-2,5.3341417174999815E-2,0.11739993406907537,9434227,1150096,21372700,18.041738544724382,9434227,366519500,3.9390668235325015E-3,15.20132622100661,null,0,0,null,1.6418155183333331E-2]
[605,1.443075E-3,1.0917329999999999E-2,1133476,9417575,354476400,9417575,354476400,4.0824999999999993E-3,1.6448728316666668E-2,17.974781850990521,{"$f":"0","v":0},0,15.14069685456943,{"$f":"0","v":0},0,{"$f":"0","v":0},5.337738787500005E-2,4.0602150001374992E-3,null,602,0.99859229999999999,1.4077499999999999E-3,3.9909999999999998E-3,1.0846929999999999E-2,5.3350409849999871E-2,0.11698222554224687,9430064,1145941,21276510,18.025179270427824,9430064,363508700,3.9693549511849993E-3,15.186368489223657,null,0,0,null,1.6425798466666666E-2]
[606,1.4548499999999999E-3,1.0940800000000001E-2,1129321,9413412,351465600,9413412,351465600,4.1130000000000003E-3,1.6456371600000002E-2,17.957732529841678,{"$f":"0","v":0},0,15.125200883959232,{"$f":"0","v":0},0,{"$f":"0","v":0},5.3386380550000112E-2,4.0905002448000001E-3,null,603,0.99858049999999998,1.419525E-3,4.0214999999999999E-3,1.0870400000000001E-2,5.3359402524999933E-2,0.11656600322079633,9425901,1141786,21180320,18.008499476551062,9425901,360497900,3.9996423432E-3,15.171278857684813,null,0,0,null,1.643344175E-2]
[607,1.466625E-3,1.096427E-2,1125166,9409248,348454900,9409248,348454900,4.1435000000000005E-3,1.6464014883333336E-2,17.940557289620671,{"$f":"0","v":0},0,15.109565814113848,{"$f":"0","v":0},0,{"$f":"0","v":0},5.3395373225000174E-2,4.1207847736275003E-3,null,604,0.99856869999999998,1.4312999999999999E-3,4.0520000000000009E-3,1.089387E-2,5.3368395199999995E-2,0.11615126181681054,9421738,1137631,21084140,17.991706632759946,9421738,357487200,4.0299290193800009E-3,15.156055573992775,null,0,0,null,1.6441085033333334E-2]
[608,1.4783999999999999E-3,1.0987729999999999E-2,1121011,9405085,345444100,9405085,345444100,4.1739999999999989E-3,1.647165816666667E-2,17.92326365069864,{"$f":"0","v":0},0,15.093789763657433,{"$f":"0","v":0},0,{"$f":"0","v":0},5.3404365900000229E-2,4.1510686074899984E-3,null,605,0.99855689999999997,1.443075E-3,4.0824999999999993E-3,1.0917329999999999E-2,5.337738787500005E-2,0.11573799606119074,9417575,1133476,20987950,17.974781850990521,9417575,354476400,4.0602150001374992E-3,15.14069685456943,null,0,0,null,1.6448728316666668E-2]
[609,1.490175E-3,1.1011200000000001E-2,1116857,9400922,342433300,9400922,342433300,4.2044999999999999E-3,1.6479301450000004E-2,17.90581586690746,{"$f":"0","v":0},0,15.077868744795788,{"$f":"0","v":0},0,{"$f":"0","v":0},5.3413358575000291E-2,4.1813517048000003E-3,null,606,0.99854520000000002,1.4548499999999999E-3,4.1130000000000003E-3,1.0940800000000001E-2,5.3386380550000112E-2,0.11532620070358551,9413412,1129321,20891760,17.957732529841678,9413412,351465600,4.0905002448000001E-3,15.125200883959232,null,0,0,null,1.6456371600000002E-2]
[610,1.5019499999999999E-3,1.103467E-2,1112702,9396759,339422600,9396759,339422600,4.2350000000000009E-3,1.6486944733333338E-2,17.888254372389611,{"$f":"0","v":0},0,15.061804944598597,{"$f":"0","v":0},0,{"$f":"0","v":0},5.3422351250000354E-2,4.2116340862750007E-3,null,607,0.99853340000000002,1.466625E-3,4.1435000000000005E-3,1.096427E-2,5.3395373225000174E-2,0.11491587051232426,9409248,1125166,20795570,17.940557289620671,9409248,348454900,4.1207847736275003E-3,15.109565814113848,null,0,0,null,1.6464014883333336E-2]
[611,1.5137250000000001E-3,1.1058129999999999E-2,1108547,9392596,336411800,9392596,336411800,4.2654999999999985E-3,1.6494588016666673E-2,17.870561231654289,{"$f":"0","v":0},0,15.045594312000322,{"$f":"0","v":0},0,{"$f":"0","v":0},5.3431343925000409E-2,4.2419157732424984E-3,null,608,0.99852160000000001,1.4783999999999999E-3,4.1739999999999989E-3,1.0987729999999999E-2,5.3404365900000229E-2,0.11450700027435058,9405085,1121011,20699390,17.92326365069864,9405085,345444100,4.1510686074899984E-3,15.093789763657433,null,0,0,null,1.647165816666667E-2]
[612,1.5254999999999999E-3,1.10816E-2,1104392,9388433,333401100,9388433,333401100,4.2959999999999995E-3,1.6502231300000007E-2,17.852744013599036,{"$f":"0","v":0},0,15.029234824558536,{"$f":"0","v":0},0,{"$f":"0","v":0},5.3440336600000471E-2,4.2721967231999997E-3,null,609,0.9985098,1.490175E-3,4.2044999999999999E-3,1.1011200000000001E-2,5.3413358575000291E-2,0.11409958479515611,9400922,1116857,20603200,17.90581586690746,9400922,342433300,4.1813517048000003E-3,15.077868744795788,null,0,0,null,1.6479301450000004E-2]
[613,1.5381749999999999E-3,1.1106929999999999E-2,1100404,9383897,330669100,9383897,330669100,4.3300000000000005E-3,1.6508058166666673E-2,17.835765621838281,{"$f":"0","v":0},0,15.013951032248485,{"$f":"0","v":0},0,{"$f":"0","v":0},5.3459908908333853E-2,4.3059534965500003E-3,null,610,0.998498,1.5019499999999999E-3,4.2350000000000009E-3,1.103467E-2,5.3422351250000354E-2,0.11369361889871459,9396759,1112702,20507010,17.888254372389611,9396759,339422600,4.2116340862750007E-3,15.061804944598597,null,0,0,null,1.6486944733333338E-2]
[614,1.5508500000000001E-3,1.113227E-2,1096416,9379361,327937100,9379361,327937100,4.363999999999999E-3,1.6513885033333339E-2,17.818672839506171,{"$f":"0","v":0},0,14.998516678155118,{"$f":"0","v":0},0,{"$f":"0","v":0},5.3479481216667235E-2,4.3397093868599987E-3,null,611,0.99848630000000005,1.5137250000000001E-3,4.2654999999999985E-3,1.1058129999999999E-2,5.3431343925000409E-2,0.11328909742741594,9392596,1108547,20410820,17.870561231654289,9392596,336411800,4.2419157732424984E-3,15.045594312000322,null,0,0,null,1.6494588016666673E-2]
[615,1.5635250000000001E-3,1.11576E-2,1092428,9374825,325205100,9374825,325205100,4.3979999999999991E-3,1.6519711900000005E-2,17.801455259904237,{"$f":"0","v":0},0,14.98294762761453,{"$f":"0","v":0},0,{"$f":"0","v":0},5.3499053525000617E-2,4.3734644375999993E-3,null,612,0.99847450000000004,1.5254999999999999E-3,4.2959999999999995E-3,1.10816E-2,5.3440336600000471E-2,0.11288601524200098,9388433,1104392,20314640,17.852744013599036,9388433,333401100,4.2721967231999997E-3,15.029234824558536,null,0,0,null,1.6502231300000007E-2]
[616,1.5762E-3,1.1182930000000001E-2,1088440,9370289,322473200,9370289,322473200,4.4320000000000002E-3,1.652553876666667E-2,17.784111511276077,{"$f":"0","v":0},0,14.967251518809196,{"$f":"0","v":0},0,{"$f":"0","v":0},5.3518625833333999E-2,4.4072186271200001E-3,null,613,0.99846179999999995,1.5381749999999999E-3,4.3300000000000005E-3,1.1106929999999999E-2,5.3459908908333853E-2,0.11248436722149585,9383897,1100404,20222600,17.835765621838281,9383897,330669100,4.3059534965500003E-3,15.013951032248485,null,0,0,null,1.6508058166666673E-2]
[617,1.588875E-3,1.1208269999999999E-2,1084452,9365753,319741200,9365753,319741200,4.4659999999999986E-3,1.6531365633333336E-2,17.766630980439889,{"$f":"0","v":0},0,14.951403412502374,{"$f":"0","v":0},0,{"$f":"0","v":0},5.3538198141667381E-2,4.4409719330899987E-3,null,614,0.99844909999999998,1.5508500000000001E-3,4.363999999999999E-3,1.113227E-2,5.3479481216667235E-2,0.11208414826314719,9379361,1096416,20130570,17.818672839506171,9379361,327937100,4.3397093868599987E-3,14.998516678155118,null,0,0,null,1.6513885033333339E-2]
[618,1.60155E-3,1.12336E-2,1080464,9361217,317009200,9361217,317009200,4.4999999999999997E-3,1.6537192500000002E-2,17.749030663369318,{"$f":"0","v":0},0,14.935412928854715,{"$f":"0","v":0},0,{"$f":"0","v":0},5.3557770450000763E-2,4.4747243999999995E-3,null,615,0.99843649999999995,1.5635250000000001E-3,4.3979999999999991E-3,1.11576E-2,5.3499053525000617E-2,0.11168535328235715,9374825,1092428,20038540,17.801455259904237,9374825,325205100,4.3734644375999993E-3,14.98294762761453,null,0,0,null,1.6519711900000005E-2]
[619,1.6142249999999999E-3,1.125893E-2,1076476,9356681,314277200,9356681,314277200,4.5340000000000007E-3,1.6543019366666668E-2,17.731299939184275,{"$f":"0","v":0},0,14.919289870491996,{"$f":"0","v":0},0,{"$f":"0","v":0},5.3577342758334146E-2,4.5084760056900005E-3,null,616,0.99842379999999997,1.5762E-3,4.4320000000000002E-3,1.1182930000000001E-2,5.3518625833333999E-2,0.11128797721261895,9370289,1088440,19946510,17.784111511276077,9370289,322473200,4.4072186271200001E-3,14.967251518809196,null,0,0,null,1.652553876666667E-2]
[620,1.6268999999999999E-3,1.1284270000000001E-2,1072488,9352145,311545200,9352145,311545200,4.5679999999999991E-3,1.6548846233333334E-2,17.713428029031558,{"$f":"0","v":0},0,14.903006718048836,{"$f":"0","v":0},0,{"$f":"0","v":0},5.3596915066667528E-2,4.5422267273199993E-3,null,617,0.9984111,1.588875E-3,4.4659999999999986E-3,1.1208269999999999E-2,5.3538198141667381E-2,0.11089201500545232,9365753,1084452,19854470,17.766630980439889,9365753,319741200,4.4409719330899987E-3,14.951403412502374,null,0,0,null,1.6531365633333336E-2]
[621,1.6395750000000001E-3,1.13096E-2,1068500,9347609,308813300,9347609,308813300,4.6020000000000002E-3,1.65546731E-2,17.695432069879892,{"$f":"0","v":0},0,14.886591447947795,{"$f":"0","v":0},0,{"$f":"0","v":0},5.361648737500091E-2,4.5759766104000003E-3,null,618,0.99839840000000002,1.60155E-3,4.4999999999999997E-3,1.12336E-2,5.3557770450000763E-2,0.11049746163033954,9361217,1080464,19762440,17.749030663369318,9361217,317009200,4.4747243999999995E-3,14.935412928854715,null,0,0,null,1.6537192500000002E-2]
[622,1.6522500000000001E-3,1.133493E-2,1064512,9343073,306081300,9343073,306081300,4.6360000000000004E-3,1.6560499966666666E-2,17.677301273572617,{"$f":"0","v":0},0,14.870009773688889,{"$f":"0","v":0},0,{"$f":"0","v":0},5.3636059683334292E-2,4.6097256322599998E-3,null,619,0.99838579999999999,1.6142249999999999E-3,4.5340000000000007E-3,1.125893E-2,5.3577342758334146E-2,0.1101043120746614,9356681,1076476,19670410,17.731299939184275,9356681,314277200,4.5084760056900005E-3,14.919289870491996,null,0,0,null,1.6543019366666668E-2]
[623,1.664925E-3,1.136027E-2,1060524,9338537,303349300,9338537,303349300,4.6699999999999988E-3,1.6566326833333332E-2,17.659034118982689,{"$f":"0","v":0},0,14.853277889280703,{"$f":"0","v":0},0,{"$f":"0","v":0},5.3655631991667674E-2,4.6434737695499988E-3,null,620,0.99837310000000001,1.6268999999999999E-3,4.5679999999999991E-3,1.1284270000000001E-2,5.3596915066667528E-2,0.10971256134363364,9352145,1072488,19578370,17.713428029031558,9352145,311545200,4.5422267273199993E-3,14.903006718048836,null,0,0,null,1.6548846233333334E-2]
[624,1.6776E-3,1.1385599999999999E-2,1056536,9334001,300617300,9334001,300617300,4.7039999999999998E-3,1.6572153699999998E-2,17.640619597123681,{"$f":"0","v":0},0,14.836405719771367,{"$f":"0","v":0},0,{"$f":"0","v":0},5.3675204300001056E-2,4.6772210687999992E-3,null,621,0.99836040000000004,1.6395750000000001E-3,4.6020000000000002E-3,1.13096E-2,5.361648737500091E-2,0.10932220446024334,9347609,1068500,19486340,17.695432069879892,9347609,308813300,4.5759766104000003E-3,14.886591447947795,null,0,0,null,1.65546731E-2]
[625,1.691325E-3,1.141287E-2,1052708,9329058,298135700,9329058,298135700,4.7410000000000013E-3,1.6576164149999999E-2,17.623104570941482,{"$f":"0","v":0},0,14.820630352770449,{"$f":"0","v":0},0,{"$f":"0","v":0},5.3699006241667714E-2,4.7139457916650016E-3,null,622,0.99834780000000001,1.6522500000000001E-3,4.6360000000000004E-3,1.133493E-2,5.3636059683334292E-2,0.10893323646518581,9343073,1064512,19394310,17.677301273572617,9343073,306081300,4.6097256322599998E-3,14.870009773688889,null,0,0,null,1.6560499966666666E-2]
[626,1.7050500000000001E-3,1.144013E-2,1048880,9324115,295654100,9324115,295654100,4.7779999999999993E-3,1.6580174599999997E-2,17.605452164848852,{"$f":"0","v":0},0,14.804731508099399,{"$f":"0","v":0},0,{"$f":"0","v":0},5.3722808183334379E-2,4.7506695294299989E-3,null,623,0.99833510000000003,1.664925E-3,4.6699999999999988E-3,1.136027E-2,5.3655631991667674E-2,0.10854565241680159,9338537,1060524,19302280,17.659034118982689,9338537,303349300,4.6434737695499988E-3,14.853277889280703,null,0,0,null,1.6566326833333332E-2]
[627,1.7187750000000001E-3,1.1467400000000001E-2,1045052,9319172,293172500,9319172,293172500,4.8149999999999998E-3,1.6584185049999998E-2,17.587680006991675,{"$f":"0","v":0},0,14.788676552055197,{"$f":"0","v":0},0,{"$f":"0","v":0},5.3746610125001038E-2,4.7873922344999998E-3,null,624,0.99832240000000005,1.6776E-3,4.7039999999999998E-3,1.1385599999999999E-2,5.3675204300001056E-2,0.10815944739101356,9334001,1056536,19210240,17.640619597123681,9334001,300617300,4.6772210687999992E-3,14.836405719771367,null,0,0,null,1.6572153699999998E-2]
[628,1.7325000000000001E-3,1.149467E-2,1041224,9314229,290690900,9314229,290690900,4.8520000000000013E-3,1.65881955E-2,17.569767568425878,{"$f":"0","v":0},0,14.772492287144924,{"$f":"0","v":0},0,{"$f":"0","v":0},5.3770412066667696E-2,4.8241139305800007E-3,null,625,0.99830870000000005,1.691325E-3,4.7410000000000013E-3,1.141287E-2,5.3699006241667714E-2,0.10777461648126446,9329058,1052708,19122200,17.623104570941482,9329058,298135700,4.7139457916650016E-3,14.820630352770449,null,0,0,null,1.6576164149999999E-2]
[629,1.7462249999999999E-3,1.152193E-2,1037396,9309286,288209300,9309286,288209300,4.8889999999999992E-3,1.6592205949999998E-2,17.551732575281441,{"$f":"0","v":0},0,14.756145719121433,{"$f":"0","v":0},0,{"$f":"0","v":0},5.3794214008334361E-2,4.8608346421149988E-3,null,626,0.99829489999999999,1.7050500000000001E-3,4.7779999999999993E-3,1.144013E-2,5.3722808183334379E-2,0.10739115479845458,9324115,1048880,19034150,17.605452164848852,9324115,295654100,4.7506695294299989E-3,14.804731508099399,null,0,0,null,1.6580174599999997E-2]
[630,1.7599499999999999E-3,1.1549200000000001E-2,1033568,9304343,285727700,9304343,285727700,4.9259999999999998E-3,1.6596216399999999E-2,17.533563990629222,{"$f":"0","v":0},0,14.739666043995516,{"$f":"0","v":0},0,{"$f":"0","v":0},5.3818015950001019E-2,4.8975543204000001E-3,null,627,0.99828119999999998,1.7187750000000001E-3,4.8149999999999998E-3,1.1467400000000001E-2,5.3746610125001038E-2,0.10700905747087958,9319172,1045052,18946110,17.587680006991675,9319172,293172500,4.7873922344999998E-3,14.788676552055197,null,0,0,null,1.6584185049999998E-2]
[631,1.7736749999999999E-3,1.157647E-2,1029740,9299400,283246200,9299400,283246200,4.9630000000000013E-3,1.660022685E-2,17.515250613423451,{"$f":"0","v":0},0,14.723024392717111,{"$f":"0","v":0},0,{"$f":"0","v":0},5.3841817891667677E-2,4.9342729896950013E-3,null,628,0.99826749999999997,1.7325000000000001E-3,4.8520000000000013E-3,1.149467E-2,5.3770412066667696E-2,0.10662831964416865,9314229,1041224,18858060,17.569767568425878,9314229,290690900,4.8241139305800007E-3,14.772492287144924,null,0,0,null,1.65881955E-2]
[632,1.7874E-3,1.160373E-2,1025912,9294457,280764600,9294457,280764600,4.9999999999999992E-3,1.6604237299999998E-2,17.496810317714058,{"$f":"0","v":0},0,14.706245725532144,{"$f":"0","v":0},0,{"$f":"0","v":0},5.3865619833334343E-2,4.9709906749999993E-3,null,629,0.99825379999999997,1.7462249999999999E-3,4.8889999999999992E-3,1.152193E-2,5.3794214008334361E-2,0.10624893648122274,9309286,1037396,18770020,17.551732575281441,9309286,288209300,4.8608346421149988E-3,14.756145719121433,null,0,0,null,1.6592205949999998E-2]
[633,1.801125E-3,1.1631000000000001E-2,1022084,9289514,278283000,9289514,278283000,5.0370000000000007E-3,1.6608247749999999E-2,17.478222109598295,{"$f":"0","v":0},0,14.689313379510573,{"$f":"0","v":0},0,{"$f":"0","v":0},5.3889421775001001E-2,5.0077073265000008E-3,null,630,0.99824009999999996,1.7599499999999999E-3,4.9259999999999998E-3,1.1549200000000001E-2,5.3818015950001019E-2,0.10587090316215331,9304343,1033568,18681980,17.533563990629222,9304343,285727700,4.8975543204000001E-3,14.739666043995516,null,0,0,null,1.6596216399999999E-2]
[634,1.81485E-3,1.165827E-2,1018256,9284571,275801400,9284571,275801400,5.0740000000000013E-3,1.66122582E-2,17.459503962330363,{"$f":"0","v":0},0,14.672208126048304,{"$f":"0","v":0},0,{"$f":"0","v":0},5.3913223716667659E-2,5.0444229690100014E-3,null,631,0.99822630000000001,1.7736749999999999E-3,4.9630000000000013E-3,1.157647E-2,5.3841817891667677E-2,0.10549421488422081,9299400,1029740,18593930,17.515250613423451,9299400,283246200,4.9342729896950013E-3,14.723024392717111,null,0,0,null,1.660022685E-2]
[635,1.828575E-3,1.168553E-2,1014428,9279628,273319800,9279628,273319800,5.1109999999999992E-3,1.6616268649999998E-2,17.440634689368459,{"$f":"0","v":0},0,14.654961943427097,{"$f":"0","v":0},0,{"$f":"0","v":0},5.3937025658334324E-2,5.0811376280849993E-3,null,632,0.99821260000000001,1.7874E-3,4.9999999999999992E-3,1.160373E-2,5.3865619833334343E-2,0.10511886686177398,9294457,1025912,18505890,17.496810317714058,9294457,280764600,4.9709906749999993E-3,14.706245725532144,null,0,0,null,1.6604237299999998E-2]
[636,1.8423000000000001E-3,1.1712800000000001E-2,1010600,9274685,270838200,9274685,270838200,5.1480000000000007E-3,1.66202791E-2,17.421632363612375,{"$f":"0","v":0},0,14.637540613123285,{"$f":"0","v":0},0,{"$f":"0","v":0},5.3960827600000982E-2,5.1178512528000011E-3,null,633,0.9981989,1.801125E-3,5.0370000000000007E-3,1.1631000000000001E-2,5.3889421775001001E-2,0.10474485432618874,9289514,1022084,18417840,17.478222109598295,9289514,278283000,5.0077073265000008E-3,14.689313379510573,null,0,0,null,1.6608247749999999E-2]
[637,1.8570749999999999E-3,1.17422E-2,1006926,9269306,268583900,9269306,268583900,5.187500000000002E-3,1.6622473133333333E-2,17.403534867507641,{"$f":"0","v":0},0,14.621301530277034,{"$f":"0","v":0},0,{"$f":"0","v":0},5.3981803975000853E-2,5.1570436687500016E-3,null,634,0.99818519999999999,1.81485E-3,5.0740000000000013E-3,1.165827E-2,5.3913223716667659E-2,0.10437217252580788,9284571,1018256,18329800,17.459503962330363,9284571,275801400,5.0444229690100014E-3,14.672208126048304,null,0,0,null,1.66122582E-2]
[638,1.87185E-3,1.17716E-2,1003251,9263926,266329600,9263926,266329600,5.226999999999999E-3,1.6624667166666666E-2,17.38532269093178,{"$f":"0","v":0},0,14.604906932213472,{"$f":"0","v":0},0,{"$f":"0","v":0},5.4002780350000723E-2,5.1962349233999989E-3,null,635,0.99817140000000004,1.828575E-3,5.1109999999999992E-3,1.168553E-2,5.3937025658334324E-2,0.10400081672588046,9279628,1014428,18241750,17.440634689368459,9279628,273319800,5.0811376280849993E-3,14.654961943427097,null,0,0,null,1.6616268649999998E-2]
[639,1.8866250000000001E-3,1.1801000000000001E-2,999575.9,9258547,264075300,9258547,264075300,5.2665000000000003E-3,1.6626861199999999E-2,17.366988393944538,{"$f":"0","v":0},0,14.588366783350892,{"$f":"0","v":0},0,{"$f":"0","v":0},5.4023756725000593E-2,5.2354250167500008E-3,null,636,0.99815770000000004,1.8423000000000001E-3,5.1480000000000007E-3,1.1712800000000001E-2,5.3960827600000982E-2,0.10363078220850187,9274685,1010600,18153710,17.421632363612375,9274685,270838200,5.1178512528000011E-3,14.637540613123285,null,0,0,null,1.66202791E-2]
[640,{"$f":"W645","v":1.9013999999999999E-3},{"$f":"Y645","v":1.18304E-2},{"$f":"AC645","v":995901.1},{"$f":"AF645","v":9253167},{"$f":"AG645","v":261821000},{"$f":"E642","v":9253167},{"$f":"F642","v":261821000},{"$f":"X645","v":5.3060000000000017E-3},{"$f":"AN645","v":1.6629055233333332E-2},{"$f":"AE645","v":17.348503351219648},{"$f":"0","v":0},{"$f":"AL645","v":0},{"$f":"AI645","v":14.571679946848759},{"$f":"0","v":0},{"$f":"AK645","v":0},{"$f":"0","v":0},{"$f":"Z645","v":5.4044733100000464E-2},{"$f":"AH645","v":5.2746139488000013E-3},null,637,0.99814290000000006,1.8570749999999999E-3,5.187500000000002E-3,1.17422E-2,5.3981803975000853E-2,0.10326206427255372,9269306,1006926,18069490,17.403534867507641,9269306,268583900,5.1570436687500016E-3,14.621301530277034,null,0,0,null,1.6622473133333333E-2]
[641,1.916175E-3,1.18598E-2,992226.2,9247788,259566700,9247788,259566700,5.3454999999999987E-3,1.6631249266666665E-2,17.329883187590355,{"$f":"0","v":0},0,14.554842110355501,{"$f":"0","v":0},0,{"$f":"0","v":0},5.4065709475000334E-2,5.3138017195499985E-3,null,638,0.99812820000000002,1.87185E-3,5.226999999999999E-3,1.17716E-2,5.4002780350000723E-2,0.1028946582336442,9263926,1003251,17985270,17.38532269093178,9263926,266329600,5.1962349233999989E-3,14.604906932213472,null,0,0,null,1.6624667166666666E-2]
[642,1.9309500000000001E-3,1.1889200000000001E-2,988551.4,9242408,257312400,9242408,257312400,5.385E-3,1.6633443299999998E-2,17.311122778576138,{"$f":"0","v":0},0,14.537848893443094,{"$f":"0","v":0},0,{"$f":"0","v":0},5.4086685850000205E-2,5.3529883290000004E-3,null,639,0.99811340000000004,1.8866250000000001E-3,5.2665000000000003E-3,1.1801000000000001E-2,5.4023756725000593E-2,0.10252855942404852,9258547,999575.9,17901060,17.366988393944538,9258547,264075300,5.2354250167500008E-3,14.588366783350892,null,0,0,null,1.6626861199999999E-2]
[643,1.9457249999999999E-3,1.19186E-2,984876.6,9237029,255058100,9237029,255058100,5.4245000000000014E-3,1.6635637333333331E-2,17.292232524358887,{"$f":"0","v":0},0,14.520702834641781,{"$f":"0","v":0},0,{"$f":"0","v":0},5.4107662225000075E-2,5.3921737771500016E-3,null,640,0.99809859999999995,1.9013999999999999E-3,5.3060000000000017E-3,1.18304E-2,5.4044733100000464E-2,0.10216376319264972,9253167,995901.1,17816840,17.348503351219648,9253167,261821000,5.2746139488000013E-3,14.571679946848759,null,0,0,null,1.6629055233333332E-2]
[644,1.9605E-3,1.1948E-2,981201.7,9231650,252803900,9231650,252803900,5.4639999999999984E-3,1.6637831366666665E-2,17.273192398498018,{"$f":"0","v":0},0,14.503399485354807,{"$f":"0","v":0},0,{"$f":"0","v":0},5.4128638599999945E-2,5.4313580639999979E-3,null,641,0.99808379999999997,1.916175E-3,5.3454999999999987E-3,1.18598E-2,5.4065709475000334E-2,0.1018002649048794,9247788,992226.2,17732620,17.329883187590355,9247788,259566700,5.3138017195499985E-3,14.554842110355501,null,0,0,null,1.6631249266666665E-2]
[645,1.9752749999999999E-3,1.1977399999999999E-2,977526.9,9226270,250549600,9226270,250549600,5.5034999999999997E-3,1.6640025399999998E-2,17.254007293814624,{"$f":"0","v":0},0,14.485934325745403,{"$f":"0","v":0},0,{"$f":"0","v":0},5.4149614974999816E-2,5.4705411895499996E-3,null,642,0.99806899999999998,1.9309500000000001E-3,5.385E-3,1.1889200000000001E-2,5.4086685850000205E-2,0.10143805994265898,9242408,988551.4,17648400,17.311122778576138,9242408,257312400,5.3529883290000004E-3,14.537848893443094,null,0,0,null,1.6633443299999998E-2]
[646,1.9900500000000002E-3,1.20068E-2,973852.1,9220891,248295300,9220891,248295300,5.5430000000000011E-3,1.6642219433333331E-2,17.234687668863337,{"$f":"0","v":0},0,14.468309824095455,{"$f":"0","v":0},0,{"$f":"0","v":0},5.4170591349999686E-2,5.5097231538000007E-3,null,643,0.99805429999999995,1.9457249999999999E-3,5.4245000000000014E-3,1.19186E-2,5.4107662225000075E-2,0.101077143704341,9237029,984876.6,17564190,17.292232524358887,9237029,255058100,5.3921737771500016E-3,14.520702834641781,null,0,0,null,1.6635637333333331E-2]
[647,2.004825E-3,1.20362E-2,970177.2,9215511,246041000,9215511,246041000,5.5824999999999981E-3,1.6644413466666664E-2,17.215213210535147,{"$f":"0","v":0},0,14.450521387152113,{"$f":"0","v":0},0,{"$f":"0","v":0},5.4191567724999556E-2,5.5489039567499978E-3,null,644,0.99803949999999997,1.9605E-3,5.4639999999999984E-3,1.1948E-2,5.4128638599999945E-2,0.10071751160465062,9231650,981201.7,17479970,17.273192398498018,9231650,252803900,5.4313580639999979E-3,14.503399485354807,null,0,0,null,1.6637831366666665E-2]
[648,2.0195999999999999E-3,1.2065599999999999E-2,966502.40000000002,9210132,243786700,9210132,243786700,5.6219999999999994E-3,1.6646607499999997E-2,17.195588822817889,{"$f":"0","v":0},0,14.432564347025302,{"$f":"0","v":0},0,{"$f":"0","v":0},5.4212544099999427E-2,5.5880835983999995E-3,null,645,0.99802469999999999,1.9752749999999999E-3,5.5034999999999997E-3,1.1977399999999999E-2,5.4149614974999816E-2,0.1003591590746274,9226270,977526.9,17395750,17.254007293814624,9226270,250549600,5.4705411895499996E-3,14.485934325745403,null,0,0,null,1.6640025399999998E-2]
[649,2.035575E-3,1.209733E-2,962974.2,9204293,241740800,9204293,241740800,5.6640000000000006E-3,1.6646985116666665E-2,17.176938878528624,{"$f":"0","v":0},0,14.415831480484652,{"$f":"0","v":0},0,{"$f":"0","v":0},5.4222934508332855E-2,5.6297403614400006E-3,null,646,0.99800990000000001,1.9900500000000002E-3,5.5430000000000011E-3,1.20068E-2,5.4170591349999686E-2,0.10000208156156726,9220891,973852.1,17311540,17.234687668863337,9220891,248295300,5.5097231538000007E-3,14.468309824095455,null,0,0,null,1.6642219433333331E-2]
[650,2.0515500000000001E-3,1.212907E-2,959446.1,9198454,239694900,9198454,239694900,5.7059999999999984E-3,1.664736273333333E-2,17.158149925427459,{"$f":"0","v":0},0,14.398945877110016,{"$f":"0","v":0},0,{"$f":"0","v":0},5.4233324916666291E-2,5.6713957632899981E-3,null,647,0.99799519999999997,2.004825E-3,5.5824999999999981E-3,1.20362E-2,5.4191567724999556E-2,9.9646274528964587E-2,9215511,970177.2,17227320,17.215213210535147,9215511,246041000,5.5489039567499978E-3,14.450521387152113,null,0,0,null,1.6644413466666664E-2]
[651,2.0675250000000002E-3,1.2160799999999999E-2,955917.9,9192615,237649000,9192615,237649000,5.7479999999999996E-3,1.6647740349999999E-2,17.139224129498984,{"$f":"0","v":0},0,14.381909475191721,{"$f":"0","v":0},0,{"$f":"0","v":0},5.4243715324999719E-2,5.7130498607999994E-3,null,648,0.99798039999999999,2.0195999999999999E-3,5.6219999999999994E-3,1.2065599999999999E-2,5.4212544099999427E-2,9.9291733456454673E-2,9210132,966502.40000000002,17143100,17.195588822817889,9210132,243786700,5.5880835983999995E-3,14.432564347025302,null,0,0,null,1.6646607499999997E-2]
[652,2.0834999999999998E-3,1.219253E-2,952389.7,9186776,235603000,9186776,235603000,5.7900000000000009E-3,1.6648117966666667E-2,17.120158109472765,{"$f":"0","v":0},0,14.364719403137073,{"$f":"0","v":0},0,{"$f":"0","v":0},5.4254105733333148E-2,5.754702625650001E-3,null,649,0.99796439999999997,2.035575E-3,5.6640000000000006E-3,1.209733E-2,5.4222934508332855E-2,9.8938453839756246E-2,9204293,962974.2,17062560,17.176938878528624,9204293,241740800,5.6297403614400006E-3,14.415831480484652,null,0,0,null,1.6646985116666665E-2]
[653,2.099475E-3,1.2224270000000001E-2,948861.6,9180937,233557100,9180937,233557100,5.8319999999999986E-3,1.6648495583333332E-2,17.100948441795936,{"$f":"0","v":0},0,14.347370351641365,{"$f":"0","v":0},0,{"$f":"0","v":0},5.4264496141666584E-2,5.7963540286799986E-3,null,650,0.99794850000000002,2.0515500000000001E-3,5.7059999999999984E-3,1.212907E-2,5.4233324916666291E-2,9.8586431190614221E-2,9198454,959446.1,16982020,17.158149925427459,9198454,239694900,5.6713957632899981E-3,14.398945877110016,null,0,0,null,1.664736273333333E-2]
[654,2.1154500000000001E-3,1.2256E-2,945333.4,9175098,231511200,9175098,231511200,5.8739999999999999E-3,1.6648873200000001E-2,17.081597252708232,{"$f":"0","v":0},0,14.3298641916849,{"$f":"0","v":0},0,{"$f":"0","v":0},5.4274886550000012E-2,5.8380041279999994E-3,null,651,0.9979325,2.0675250000000002E-3,5.7479999999999996E-3,1.2160799999999999E-2,5.4243715324999719E-2,9.8235661036742736E-2,9192615,955917.9,16901480,17.139224129498984,9192615,237649000,5.7130498607999994E-3,14.381909475191721,null,0,0,null,1.6647740349999999E-2]
[655,2.1314250000000002E-3,1.228773E-2,941805.2,9169260,229465300,9169260,229465300,5.9160000000000011E-3,1.6649250816666669E-2,17.062090458479808,{"$f":"0","v":0},0,14.312195490005335,{"$f":"0","v":0},0,{"$f":"0","v":0},5.4285276958333441E-2,5.8796528946600014E-3,null,652,0.99791649999999998,2.0834999999999998E-3,5.7900000000000009E-3,1.219253E-2,5.4254105733333148E-2,9.7886138921768312E-2,9186776,952389.7,16820940,17.120158109472765,9186776,235603000,5.754702625650001E-3,14.364719403137073,null,0,0,null,1.6648117966666667E-2]
[656,2.1473999999999998E-3,1.2319470000000001E-2,938277.1,9163421,227419400,9163421,227419400,5.9579999999999989E-3,1.6649628433333334E-2,17.042445745327615,{"$f":"0","v":0},0,14.294363636373584,{"$f":"0","v":0},0,{"$f":"0","v":0},5.4295667366666876E-2,5.9213002988699991E-3,null,653,0.99790049999999997,2.099475E-3,5.8319999999999986E-3,1.2224270000000001E-2,5.4264496141666584E-2,9.7537860405173205E-2,9180937,948861.6,16740400,17.100948441795936,9180937,233557100,5.7963540286799986E-3,14.347370351641365,null,0,0,null,1.6648495583333332E-2]
[657,2.1633749999999999E-3,1.23512E-2,934748.9,9157582,225373500,9157582,225373500,6.0000000000000001E-3,1.6650006050000003E-2,17.022654617905051,{"$f":"0","v":0},0,14.276366360501715,{"$f":"0","v":0},0,{"$f":"0","v":0},5.4306057775000305E-2,5.9629464000000004E-3,null,654,0.99788460000000001,2.1154500000000001E-3,5.8739999999999999E-3,1.2256E-2,5.4274886550000012E-2,9.7190821062239002E-2,9175098,945333.4,16659860,17.081597252708232,9175098,231511200,5.8380041279999994E-3,14.3298641916849,null,0,0,null,1.6648873200000001E-2]
[658,2.17935E-3,1.238293E-2,931220.7,9151743,223327600,9151743,223327600,6.0420000000000014E-3,1.6650383666666671E-2,17.002713521617377,{"$f":"0","v":0},0,14.258203801263795,{"$f":"0","v":0},0,{"$f":"0","v":0},5.4316448183333733E-2,6.0045911684700011E-3,null,655,0.99786859999999999,2.1314250000000002E-3,5.9160000000000011E-3,1.228773E-2,5.4285276958333441E-2,9.6845016483990465E-2,9169260,941805.2,16579310,17.062090458479808,9169260,229465300,5.8796528946600014E-3,14.312195490005335,null,0,0,null,1.6649250816666669E-2]
[659,2.1953250000000001E-3,1.2414669999999999E-2,927692.6,9145904,221281600,9145904,221281600,6.0839999999999991E-3,1.6650761283333336E-2,16.98261885636111,{"$f":"0","v":0},0,14.239870372385873,{"$f":"0","v":0},0,{"$f":"0","v":0},5.4326838591667169E-2,6.0462345738599987E-3,null,656,0.99785259999999998,2.1473999999999998E-3,5.9579999999999989E-3,1.2319470000000001E-2,5.4295667366666876E-2,9.6500442277139484E-2,9163421,938277.1,16498770,17.042445745327615,9163421,227419400,5.9213002988699991E-3,14.294363636373584,null,0,0,null,1.6649628433333334E-2]
[660,2.2112999999999998E-3,1.24464E-2,924164.4,9140065,219235700,9140065,219235700,6.1260000000000004E-3,1.6651138900000004E-2,16.962372657938349,{"$f":"0","v":0},0,14.22136279620725,{"$f":"0","v":0},0,{"$f":"0","v":0},5.4337229000000598E-2,6.0878766768000005E-3,null,657,0.99783659999999996,2.1633749999999999E-3,6.0000000000000001E-3,1.23512E-2,5.4306057775000305E-2,9.6157094064029183E-2,9157582,934748.9,16418230,17.022654617905051,9157582,225373500,5.9629464000000004E-3,14.276366360501715,null,0,0,null,1.6650006050000003E-2]
[661,2.2287000000000001E-3,1.24806E-2,920776.6,9133744,217382200,9133744,217382200,6.1750000000000017E-3,1.6649700100000005E-2,16.943128233638141,{"$f":"0","v":0},0,14.20413353578421,{"$f":"0","v":0},0,{"$f":"0","v":0},5.4328567841667397E-2,6.1364661475000019E-3,null,658,0.9978207,2.17935E-3,6.0420000000000014E-3,1.238293E-2,5.4316448183333733E-2,9.5814967482578464E-2,9151743,931220.7,16337690,17.002713521617377,9151743,223327600,6.0045911684700011E-3,14.258203801263795,null,0,0,null,1.6650383666666671E-2]
[662,2.2461E-3,1.25148E-2,917388.9,9127422,215528700,9127422,215528700,6.2239999999999986E-3,1.6648261300000005E-2,16.923750671607209,{"$f":"0","v":0},0,14.186750088222848,{"$f":"0","v":0},0,{"$f":"0","v":0},5.4319906683334196E-2,6.1850539423999986E-3,null,659,0.99780469999999999,2.1953250000000001E-3,6.0839999999999991E-3,1.2414669999999999E-2,5.4326838591667169E-2,9.5474058186226382E-2,9145904,927692.6,16257150,16.98261885636111,9145904,221281600,6.0462345738599987E-3,14.239870372385873,null,0,0,null,1.6650761283333336E-2]
[663,2.2634999999999999E-3,1.2548999999999999E-2,914001.1,9121101,213675200,9121101,213675200,6.2730000000000008E-3,1.6646822500000005E-2,16.904231374375076,{"$f":"0","v":0},0,14.169208656806452,{"$f":"0","v":0},0,{"$f":"0","v":0},5.4311245525000995E-2,6.2336400615000008E-3,null,660,0.99778869999999997,2.2112999999999998E-3,6.1260000000000004E-3,1.24464E-2,5.4337229000000598E-2,9.5134361843877122E-2,9140065,924164.4,16176610,16.962372657938349,9140065,219235700,6.0878766768000005E-3,14.22136279620725,null,0,0,null,1.6651138900000004E-2]
[664,2.2809000000000002E-3,1.2583199999999999E-2,910613.4,9114780,211821700,9114780,211821700,6.3220000000000021E-3,1.6645383700000002E-2,16.884553944626774,{"$f":"0","v":0},0,14.151505375492821,{"$f":"0","v":0},0,{"$f":"0","v":0},5.4302584366667794E-2,6.2822245048000025E-3,null,661,0.99777130000000003,2.2287000000000001E-3,6.1750000000000017E-3,1.24806E-2,5.4328567841667397E-2,9.4795874139844902E-2,9133744,920776.6,16099590,16.943128233638141,9133744,217382200,6.1364661475000019E-3,14.20413353578421,null,0,0,null,1.6649700100000005E-2]
[665,2.2983000000000001E-3,1.2617400000000001E-2,907225.59999999998,9108459,209968300,9108459,209968300,6.3709999999999991E-3,1.6643944900000002E-2,16.864742499917696,{"$f":"0","v":0},0,14.133639728005692,{"$f":"0","v":0},0,{"$f":"0","v":0},5.4293923208334594E-2,6.3308072722999993E-3,null,662,0.99775389999999997,2.2461E-3,6.2239999999999986E-3,1.25148E-2,5.4319906683334196E-2,9.4458590773799075E-2,9127422,917388.9,16022580,16.923750671607209,9127422,215528700,6.1850539423999986E-3,14.186750088222848,null,0,0,null,1.6648261300000005E-2]
[666,2.3157E-3,1.2651600000000001E-2,903837.9,9102138,208114800,9102138,208114800,6.4200000000000004E-3,1.6642506100000003E-2,16.844780615528514,{"$f":"0","v":0},0,14.115608670112957,{"$f":"0","v":0},0,{"$f":"0","v":0},5.4285262050001393E-2,6.379388364E-3,null,663,0.99773650000000003,2.2634999999999999E-3,6.2730000000000008E-3,1.2548999999999999E-2,5.4311245525000995E-2,9.4122507460709603E-2,9121101,914001.1,15945570,16.904231374375076,9121101,213675200,6.2336400615000008E-3,14.169208656806452,null,0,0,null,1.6646822500000005E-2]
[667,2.3330999999999998E-3,1.2685800000000001E-2,900450.1,9095816,206261300,9095816,206261300,6.4690000000000017E-3,1.6641067300000003E-2,16.824659351843408,{"$f":"0","v":0},0,14.097415769272928,{"$f":"0","v":0},0,{"$f":"0","v":0},5.4276600891668192E-2,6.4279677799000011E-3,null,664,0.99771909999999997,2.2809000000000002E-3,6.3220000000000021E-3,1.2583199999999999E-2,5.4302584366667794E-2,9.3787619930792543E-2,9114780,910613.4,15868550,16.884553944626774,9114780,211821700,6.2822245048000025E-3,14.151505375492821,null,0,0,null,1.6645383700000002E-2]
[668,2.3505000000000002E-3,1.272E-2,897062.40000000002,9089495,204407800,9089495,204407800,6.5179999999999986E-3,1.6639628500000003E-2,16.804395324115688,{"$f":"0","v":0},0,14.079049408120985,{"$f":"0","v":0},0,{"$f":"0","v":0},5.4267939733334991E-2,6.4765455199999981E-3,null,665,0.99770170000000002,2.2983000000000001E-3,6.3709999999999991E-3,1.2617400000000001E-2,5.4293923208334594E-2,9.3453923929455826E-2,9108459,907225.59999999998,15791540,16.864742499917696,9108459,209968300,6.3308072722999993E-3,14.133639728005692,null,0,0,null,1.6643944900000002E-2]
[669,2.3679E-3,1.27542E-2,893674.6,9083174,202554300,9083174,202554300,6.5669999999999999E-3,1.66381897E-2,16.78396841348443,{"$f":"0","v":0},0,14.060513194057389,{"$f":"0","v":0},0,{"$f":"0","v":0},5.425927857500179E-2,6.5251215842999999E-3,null,666,0.99768429999999997,2.3157E-3,6.4200000000000004E-3,1.2651600000000001E-2,5.4285262050001393E-2,9.3121415217245249E-2,9102138,903837.9,15714530,16.844780615528514,9102138,208114800,6.379388364E-3,14.115608670112957,null,0,0,null,1.6642506100000003E-2]
[670,2.3852999999999999E-3,1.27884E-2,890286.9,9076852,200700800,9076852,200700800,6.6160000000000021E-3,1.66367509E-2,16.763395330763597,{"$f":"0","v":0},0,14.041801234576329,{"$f":"0","v":0},0,{"$f":"0","v":0},5.4250617416668589E-2,6.5736959728000021E-3,null,667,0.99766690000000002,2.3330999999999998E-3,6.4690000000000017E-3,1.2685800000000001E-2,5.4276600891668192E-2,9.2790089569790513E-2,9095816,900450.1,15637510,16.824659351843408,9095816,206261300,6.4279677799000011E-3,14.097415769272928,null,0,0,null,1.6641067300000003E-2]
[671,2.4026999999999998E-3,1.28226E-2,886899.1,9070531,198847300,9070531,198847300,6.6649999999999991E-3,1.6635312100000001E-2,16.742667030368317,{"$f":"0","v":0},0,14.022911999434392,{"$f":"0","v":0},0,{"$f":"0","v":0},5.4241956258335389E-2,6.6222686854999994E-3,null,668,0.99764949999999997,2.3505000000000002E-3,6.5179999999999986E-3,1.272E-2,5.4267939733334991E-2,9.2459942777751616E-2,9089495,897062.40000000002,15560500,16.804395324115688,9089495,204407800,6.4765455199999981E-3,14.079049408120985,null,0,0,null,1.6639628500000003E-2]
[672,2.4201000000000001E-3,1.28568E-2,883511.4,9064210,196993800,9064210,196993800,6.7140000000000003E-3,1.6633873300000001E-2,16.721766493335569,{"$f":"0","v":0},0,14.003844585463971,{"$f":"0","v":0},0,{"$f":"0","v":0},5.4233295100002188E-2,6.6708397224000005E-3,null,669,0.99763210000000002,2.3679E-3,6.5669999999999999E-3,1.27542E-2,5.425927857500179E-2,9.2130970646765425E-2,9083174,893674.6,15483480,16.78396841348443,9083174,202554300,6.5251215842999999E-3,14.060513194057389,null,0,0,null,1.66381897E-2]
[673,2.4390750000000002E-3,1.2893669999999999E-2,880257.9,9057343,195318200,9057343,195318200,6.7655000000000015E-3,1.6630618083333333E-2,16.701938872119182,{"$f":"0","v":0},0,13.986115188862822,{"$f":"0","v":0},0,{"$f":"0","v":0},5.4196411575002136E-2,6.7218839378075015E-3,null,670,0.99761469999999997,2.3852999999999999E-3,6.6160000000000021E-3,1.27884E-2,5.4250617416668589E-2,9.1803168997392298E-2,9076852,890286.9,15406470,16.763395330763597,9076852,200700800,6.5736959728000021E-3,14.041801234576329,null,0,0,null,1.66367509E-2]
[674,2.4580499999999998E-3,1.2930530000000001E-2,877004.4,9050476,193642600,9050476,193642600,6.8169999999999984E-3,1.6627362866666669E-2,16.681952735926981,{"$f":"0","v":0},0,13.968224210573618,{"$f":"0","v":0},0,{"$f":"0","v":0},5.4159528050002091E-2,6.7729262884949981E-3,null,671,0.99759730000000002,2.4026999999999998E-3,6.6649999999999991E-3,1.28226E-2,5.4241956258335389E-2,9.147653366506299E-2,9070531,886899.1,15329460,16.742667030368317,9070531,198847300,6.6222686854999994E-3,14.022911999434392,null,0,0,null,1.6635312100000001E-2]
[675,2.4770249999999999E-3,1.29674E-2,873751,9043610,191967000,9043610,191967000,6.8685000000000005E-3,1.6624107650000004E-2,16.661827234913989,{"$f":"0","v":0},0,13.950169431556317,{"$f":"0","v":0},0,{"$f":"0","v":0},5.4122644525002039E-2,6.8239667065500007E-3,null,672,0.99757989999999996,2.4201000000000001E-3,6.7140000000000003E-3,1.28568E-2,5.4233295100002188E-2,9.1151060500025874E-2,9064210,883511.4,15252440,16.721766493335569,9064210,196993800,6.6708397224000005E-3,14.003844585463971,null,0,0,null,1.6633873300000001E-2]
[676,2.496E-3,1.300427E-2,870497.5,9036743,190291400,9036743,190291400,6.9200000000000017E-3,1.6620852433333336E-2,16.641541785971047,{"$f":"0","v":0},0,13.931948591951201,{"$f":"0","v":0},0,{"$f":"0","v":0},5.4085761000001988E-2,6.875005225800002E-3,null,673,0.99756089999999997,2.4390750000000002E-3,6.7655000000000015E-3,1.2893669999999999E-2,5.4196411575002136E-2,9.0826745367294043E-2,9057343,880257.9,15178820,16.701938872119182,9057343,195318200,6.7218839378075015E-3,13.986115188862822,null,0,0,null,1.6630618083333333E-2]
[677,2.514975E-3,1.304113E-2,867244.1,9029876,188615800,9029876,188615800,6.9714999999999985E-3,1.6617597216666672E-2,16.621102154706691,{"$f":"0","v":0},0,13.913557582252809,{"$f":"0","v":0},0,{"$f":"0","v":0},5.4048877475001943E-2,6.9260418811024991E-3,null,674,0.99754200000000004,2.4580499999999998E-3,6.8169999999999984E-3,1.2930530000000001E-2,5.4159528050002091E-2,9.0503584146592861E-2,9050476,877004.4,15105190,16.681952735926981,9050476,193642600,6.7729262884949981E-3,13.968224210573618,null,0,0,null,1.6627362866666669E-2]
[678,2.5339500000000001E-3,1.3077999999999999E-2,863990.6,9023009,186940200,9023009,186940200,7.0229999999999997E-3,1.6614342000000004E-2,16.6005221488135,{"$f":"0","v":0},0,13.894997665481972,{"$f":"0","v":0},0,{"$f":"0","v":0},5.4011993950001891E-2,6.9770766030000002E-3,null,675,0.99752300000000005,2.4770249999999999E-3,6.8685000000000005E-3,1.29674E-2,5.4122644525002039E-2,9.0181572732307633E-2,9043610,873751,15031570,16.661827234913989,9043610,191967000,6.8239667065500007E-3,13.950169431556317,null,0,0,null,1.6624107650000004E-2]
[679,2.5529250000000002E-3,1.3114870000000001E-2,860737.1,9016142,185264500,9016142,185264500,7.0745000000000018E-3,1.6611086783333336E-2,16.5797749442503,{"$f":"0","v":0},0,13.876264653986279,{"$f":"0","v":0},0,{"$f":"0","v":0},5.3975110425001839E-2,7.0281094260925018E-3,null,676,0.99750399999999995,2.496E-3,6.9200000000000017E-3,1.300427E-2,5.4085761000001988E-2,8.9860707033431492E-2,9036743,870497.5,14957940,16.641541785971047,9036743,190291400,6.875005225800002E-3,13.931948591951201,null,0,0,null,1.6620852433333336E-2]
[680,2.5718999999999998E-3,1.315173E-2,857483.7,9009275,183588900,9009275,183588900,7.1259999999999987E-3,1.6607831566666672E-2,16.558879967630872,{"$f":"0","v":0},0,13.857356114929861,{"$f":"0","v":0},0,{"$f":"0","v":0},5.3938226900001794E-2,7.0791403860099985E-3,null,677,0.99748499999999996,2.514975E-3,6.9714999999999985E-3,1.304113E-2,5.4048877475001943E-2,8.9540982973513206E-2,9029876,867244.1,14884310,16.621102154706691,9029876,188615800,6.9260418811024991E-3,13.913557582252809,null,0,0,null,1.6617597216666672E-2]
[681,2.5908749999999999E-3,1.31886E-2,854230.2,9002408,181913300,9002408,181913300,7.1774999999999999E-3,1.6604576350000004E-2,16.53781612380363,{"$f":"0","v":0},0,13.838269569671107,{"$f":"0","v":0},0,{"$f":"0","v":0},5.3901343375001742E-2,7.1301694117499991E-3,null,678,0.99746599999999996,2.5339500000000001E-3,7.0229999999999997E-3,1.3077999999999999E-2,5.4011993950001891E-2,8.9222396490605677E-2,9023009,863990.6,14810690,16.6005221488135,9023009,186940200,6.9770766030000002E-3,13.894997665481972,null,0,0,null,1.6614342000000004E-2]
[682,2.6098499999999999E-3,1.322547E-2,850976.8,8995542,180237700,8995542,180237700,7.229000000000001E-3,1.660132113333334E-2,16.516589210579337,{"$f":"0","v":0},0,13.819002492679513,{"$f":"0","v":0},0,{"$f":"0","v":0},5.3864459850001691E-2,7.1811965386850011E-3,null,679,0.99744710000000003,2.5529250000000002E-3,7.0745000000000018E-3,1.3114870000000001E-2,5.3975110425001839E-2,8.8904943537214134E-2,9016142,860737.1,14737060,16.5797749442503,9016142,185264500,7.0281094260925018E-3,13.876264653986279,null,0,0,null,1.6611086783333336E-2]
[683,2.628825E-3,1.3262329999999999E-2,847723.3,8988675,178562100,8988675,178562100,7.2804999999999988E-3,1.6598065916666675E-2,16.495213173724647,{"$f":"0","v":0},0,13.799550450994712,{"$f":"0","v":0},0,{"$f":"0","v":0},5.3827576325001646E-2,7.2322218032174982E-3,null,680,0.99742810000000004,2.5718999999999998E-3,7.1259999999999987E-3,1.315173E-2,5.3938226900001794E-2,8.8588620080244804E-2,9009275,857483.7,14663440,16.558879967630872,9009275,183588900,7.0791403860099985E-3,13.857356114929861,null,0,0,null,1.6607831566666672E-2]
[684,2.6478000000000001E-3,1.3299200000000001E-2,844469.8,8981808,176886500,8981808,176886500,7.332E-3,1.6594810700000007E-2,16.473660583638789,{"$f":"0","v":0},0,13.779914531910583,{"$f":"0","v":0},0,{"$f":"0","v":0},5.3790692800001594E-2,7.2832451328E-3,null,681,0.99740910000000005,2.5908749999999999E-3,7.1774999999999999E-3,1.31886E-2,5.3901343375001742E-2,8.8273422100953639E-2,9002408,854230.2,14589810,16.53781612380363,9002408,181913300,7.1301694117499991E-3,13.838269569671107,null,0,0,null,1.6604576350000004E-2]
[685,2.6684999999999999E-3,1.3338930000000001E-2,841344.8,8974375,175376900,8974375,175376900,7.3940000000000021E-3,1.6589739066666675E-2,16.453220566249016,{"$f":"0","v":0},0,13.761679788326742,{"$f":"0","v":0},0,{"$f":"0","v":0},5.3715710908334824E-2,7.3446859757900019E-3,null,682,0.9973902,2.6098499999999999E-3,7.229000000000001E-3,1.322547E-2,5.3864459850001691E-2,8.7959345594895239E-2,8995542,850976.8,14516180,16.516589210579337,8995542,180237700,7.1811965386850011E-3,13.819002492679513,null,0,0,null,1.660132113333334E-2]
[686,2.6892000000000001E-3,1.337867E-2,838219.7,8966942,173867300,8966942,173867300,7.4559999999999982E-3,1.6584667433333339E-2,16.432630167444962,{"$f":"0","v":0},0,13.743272961636224,{"$f":"0","v":0},0,{"$f":"0","v":0},5.3640729016668054E-2,7.4061243182399978E-3,null,683,0.99737120000000001,2.628825E-3,7.2804999999999988E-3,1.3262329999999999E-2,5.3827576325001646E-2,8.7646386571872056E-2,8988675,847723.3,14442560,16.495213173724647,8988675,178562100,7.2322218032174982E-3,13.799550450994712,null,0,0,null,1.6598065916666675E-2]
[687,2.7098999999999999E-3,1.34184E-2,835094.6,8959508,172357700,8959508,172357700,7.5180000000000004E-3,1.6579595800000006E-2,16.411873686725631,{"$f":"0","v":0},0,13.724696276776562,{"$f":"0","v":0},0,{"$f":"0","v":0},5.3565747125001284E-2,7.467560234400001E-3,null,684,0.99735220000000002,2.6478000000000001E-3,7.332E-3,1.3299200000000001E-2,5.3790692800001594E-2,8.7334541055883633E-2,8981808,844469.8,14368930,16.473660583638789,8981808,176886500,7.2832451328E-3,13.779914531910583,null,0,0,null,1.6594810700000007E-2]
[688,2.7306000000000001E-3,1.345813E-2,831969.6,8952075,170848100,8952075,170848100,7.5800000000000017E-3,1.6574524166666674E-2,16.390971256642068,{"$f":"0","v":0},0,13.705949274619067,{"$f":"0","v":0},0,{"$f":"0","v":0},5.3490765233334514E-2,7.5289936873000011E-3,null,685,0.99733150000000004,2.6684999999999999E-3,7.3940000000000021E-3,1.3338930000000001E-2,5.3715710908334824E-2,8.7023805085076095E-2,8974375,841344.8,14298560,16.453220566249016,8974375,175376900,7.3446859757900019E-3,13.761679788326742,null,0,0,null,1.6589739066666675E-2]
[689,2.7512999999999999E-3,1.349787E-2,828844.6,8944642,169338500,8944642,169338500,7.6419999999999978E-3,1.6569452533333338E-2,16.369911209330837,{"$f":"0","v":0},0,13.687028472311308,{"$f":"0","v":0},0,{"$f":"0","v":0},5.3415783341667744E-2,7.5904246387299978E-3,null,686,0.99731080000000005,2.6892000000000001E-3,7.4559999999999982E-3,1.337867E-2,5.3640729016668054E-2,8.6714174711691808E-2,8966942,838219.7,14228190,16.432630167444962,8966942,173867300,7.4061243182399978E-3,13.743272961636224,null,0,0,null,1.6584667433333339E-2]
[690,2.7720000000000002E-3,1.35376E-2,825719.5,8937208,167828800,8937208,167828800,7.7039999999999999E-3,1.6564380900000005E-2,16.348693800780207,{"$f":"0","v":0},0,13.667927881466458,{"$f":"0","v":0},0,{"$f":"0","v":0},5.3340801450000974E-2,7.6518531648000002E-3,null,687,0.99729009999999996,2.7098999999999999E-3,7.5180000000000004E-3,1.34184E-2,5.3565747125001284E-2,8.640564600201929E-2,8959508,835094.6,14157810,16.411873686725631,8959508,172357700,7.467560234400001E-3,13.724696276776562,null,0,0,null,1.6579595800000006E-2]
[691,2.7927E-3,1.357733E-2,822594.4,8929775,166319200,8929775,166319200,7.7660000000000021E-3,1.6559309266666673E-2,16.327303022404884,{"$f":"0","v":0},0,13.648649645920283,{"$f":"0","v":0},0,{"$f":"0","v":0},5.3265819558334204E-2,7.713279227610002E-3,null,688,0.99726939999999997,2.7306000000000001E-3,7.5800000000000017E-3,1.345813E-2,5.3490765233334514E-2,8.609821503634317E-2,8952075,831969.6,14087440,16.390971256642068,8952075,170848100,7.5289936873000011E-3,13.705949274619067,null,0,0,null,1.6574524166666674E-2]
[692,2.8134000000000002E-3,1.361707E-2,819469.4,8922342,164809600,8922342,164809600,7.8279999999999982E-3,1.6554237633333337E-2,16.305759240877897,{"$f":"0","v":0},0,13.629187370853314,{"$f":"0","v":0},0,{"$f":"0","v":0},5.3190837666667434E-2,7.7747027880199979E-3,null,689,0.99724869999999999,2.7512999999999999E-3,7.6419999999999978E-3,1.349787E-2,5.3415783341667744E-2,8.5791877908894393E-2,8944642,828844.6,14017070,16.369911209330837,8944642,169338500,7.5904246387299978E-3,13.687028472311308,null,0,0,null,1.6569452533333338E-2]
[693,2.8341E-3,1.36568E-2,816344.4,8914909,163300000,8914909,163300000,7.8899999999999994E-3,1.6549166000000004E-2,16.284050518384152,{"$f":"0","v":0},0,13.609543141149571,{"$f":"0","v":0},0,{"$f":"0","v":0},5.3115855775000664E-2,7.8361239240000002E-3,null,690,0.997228,2.7720000000000002E-3,7.7039999999999999E-3,1.35376E-2,5.3340801450000974E-2,8.5486630727800675E-2,8937208,825719.5,13946700,16.348693800780207,8937208,167828800,7.6518531648000002E-3,13.667927881466458,null,0,0,null,1.6564380900000005E-2]
[694,2.8547999999999998E-3,1.369653E-2,813219.3,8907476,161790400,8907476,161790400,7.9520000000000007E-3,1.6544094366666671E-2,16.262177019778058,{"$f":"0","v":0},0,13.589710767759417,{"$f":"0","v":0},0,{"$f":"0","v":0},5.3040873883333894E-2,7.8975425967200003E-3,null,691,0.99720730000000002,2.7927E-3,7.7660000000000021E-3,1.357733E-2,5.3265819558334204E-2,8.5182469615036907E-2,8929775,822594.4,13876320,16.327303022404884,8929775,166319200,7.713279227610002E-3,13.648649645920283,null,0,0,null,1.6559309266666673E-2]
[695,2.8755E-3,1.373627E-2,810094.3,8900042,160280800,8900042,160280800,8.0139999999999986E-3,1.6539022733333335E-2,16.240120342574109,{"$f":"0","v":0},0,13.56968640012818,{"$f":"0","v":0},0,{"$f":"0","v":0},5.2965891991667124E-2,7.9589587661099987E-3,null,692,0.99718660000000003,2.8134000000000002E-3,7.8279999999999982E-3,1.361707E-2,5.3190837666667434E-2,8.4879390706376068E-2,8922342,819469.4,13805950,16.305759240877897,8922342,164809600,7.7747027880199979E-3,13.629187370853314,null,0,0,null,1.6554237633333337E-2]
[696,2.8961999999999998E-3,1.3776E-2,806969.2,8892609,158771200,8892609,158771200,8.0759999999999998E-3,1.6533951100000003E-2,16.21790730468193,{"$f":"0","v":0},0,13.549472026498377,{"$f":"0","v":0},0,{"$f":"0","v":0},5.2890910100000355E-2,8.0203725119999993E-3,null,693,0.99716590000000005,2.8341E-3,7.8899999999999994E-3,1.36568E-2,5.3115855775000664E-2,8.4577390151339957E-2,8914909,816344.4,13735580,16.284050518384152,8914909,163300000,7.8361239240000002E-3,13.609543141149571,null,0,0,null,1.6549166000000004E-2]
[697,2.9190750000000001E-3,1.3818799999999999E-2,803966.9,8884519,157415600,8884519,157415600,8.1400000000000014E-3,1.6527063050000002E-2,16.196845826820315,{"$f":"0","v":0},0,13.530716556946686,{"$f":"0","v":0},0,{"$f":"0","v":0},5.2767248641667111E-2,8.083757484000002E-3,null,694,0.99714519999999995,2.8547999999999998E-3,7.9520000000000007E-3,1.369653E-2,5.3040873883333894E-2,8.427646411315047E-2,8907476,813219.3,13665210,16.262177019778058,8907476,161790400,7.8975425967200003E-3,13.589710767759417,null,0,0,null,1.6544094366666671E-2]
[698,2.94195E-3,1.38616E-2,800964.6,8876430,156060100,8876430,156060100,8.2039999999999978E-3,1.6520175000000005E-2,16.175638942095567,{"$f":"0","v":0},0,13.51179215239498,{"$f":"0","v":0},0,{"$f":"0","v":0},5.2643587183333881E-2,8.1471397167999973E-3,null,695,0.99712449999999997,2.8755E-3,8.0139999999999986E-3,1.373627E-2,5.2965891991667124E-2,8.3976608768680613E-2,8900042,810094.3,13594830,16.240120342574109,8900042,160280800,7.9589587661099987E-3,13.56968640012818,null,0,0,null,1.6539022733333335E-2]
[699,2.9648249999999999E-3,1.3904400000000001E-2,797962.4,8868340,154704500,8868340,154704500,8.2679999999999993E-3,1.6513286950000004E-2,16.154257853085138,{"$f":"0","v":0},0,13.492686811061885,{"$f":"0","v":0},0,{"$f":"0","v":0},5.2519925725000638E-2,8.210519210399999E-3,null,696,0.99710379999999998,2.8961999999999998E-3,8.0759999999999998E-3,1.3776E-2,5.2890910100000355E-2,8.3677820308406176E-2,8892609,806969.2,13524460,16.21790730468193,8892609,158771200,8.0203725119999993E-3,13.549472026498377,null,0,0,null,1.6533951100000003E-2]
[700,2.9876999999999998E-3,1.39472E-2,794960.1,8860250,153349000,8860250,153349000,8.3320000000000009E-3,1.6506398900000004E-2,16.132717368456603,{"$f":"0","v":0},0,13.473405663122385,{"$f":"0","v":0},0,{"$f":"0","v":0},5.2396264266667394E-2,8.2738959648000002E-3,null,697,0.99708090000000005,2.9190750000000001E-3,8.1400000000000014E-3,1.3818799999999999E-2,5.2767248641667111E-2,8.338009493635716E-2,8884519,803966.9,13457210,16.196845826820315,8884519,157415600,8.083757484000002E-3,13.530716556946686,null,0,0,null,1.6527063050000002E-2]
[701,3.0105750000000001E-3,1.3990000000000001E-2,791957.8,8852160,151993400,8852160,151993400,8.3959999999999972E-3,1.6499510850000006E-2,16.111013564527468,{"$f":"0","v":0},0,13.453940557970254,{"$f":"0","v":0},0,{"$f":"0","v":0},5.2272602808334165E-2,8.3372699799999974E-3,null,698,0.997058,2.94195E-3,8.2039999999999978E-3,1.38616E-2,5.2643587183333881E-2,8.3083428870069642E-2,8876430,800964.6,13389970,16.175638942095567,8876430,156060100,8.1471397167999973E-3,13.51179215239498,null,0,0,null,1.6520175000000005E-2]
[702,3.03345E-3,1.40328E-2,788955.5,8844070,150637900,8844070,150637900,8.4599999999999988E-3,1.6492622800000006E-2,16.08915725179261,{"$f":"0","v":0},0,13.434294583575927,{"$f":"0","v":0},0,{"$f":"0","v":0},5.2148941350000921E-2,8.4006412559999993E-3,null,699,0.99703509999999995,2.9648249999999999E-3,8.2679999999999993E-3,1.3904400000000001E-2,5.2519925725000638E-2,8.2787818340537681E-2,8868340,797962.4,13322720,16.154257853085138,8868340,154704500,8.210519210399999E-3,13.492686811061885,null,0,0,null,1.6513286950000004E-2]
[703,3.0563249999999999E-3,1.4075600000000001E-2,785953.3,8835981,149282400,8835981,149282400,8.5240000000000021E-3,1.6485734750000005E-2,16.067119122514445,{"$f":"0","v":0},0,13.414462305522269,{"$f":"0","v":0},0,{"$f":"0","v":0},5.2025279891667678E-2,8.4640097928000025E-3,null,700,0.99701229999999996,2.9876999999999998E-3,8.3320000000000009E-3,1.39472E-2,5.2396264266667394E-2,8.2493259592165427E-2,8860250,794960.1,13255470,16.132717368456603,8860250,153349000,8.2738959648000002E-3,13.473405663122385,null,0,0,null,1.6506398900000004E-2]
[704,{"$f":"W709","v":3.0791999999999998E-3},{"$f":"Y709","v":1.41184E-2},{"$f":"AC709","v":782951},{"$f":"AF709","v":8827891},{"$f":"AG709","v":147926800},{"$f":"E706","v":8827891},{"$f":"F706","v":147926800},{"$f":"X709","v":8.5879999999999984E-3},{"$f":"AN709","v":1.6478846700000008E-2},{"$f":"AE709","v":16.044914102755683},{"$f":"0","v":0},{"$f":"AL709","v":0},{"$f":"AI709","v":13.394440253582589},{"$f":"0","v":0},{"$f":"AK709","v":0},{"$f":"0","v":0},{"$f":"Z709","v":5.1901618433334448E-2},{"$f":"AH709","v":8.5273755903999982E-3},null,701,0.99698940000000003,3.0105750000000001E-3,8.3959999999999972E-3,1.3990000000000001E-2,5.2272602808334165E-2,8.2199748882719456E-2,8852160,791957.8,13188220,16.111013564527468,8852160,151993400,8.3372699799999974E-3,13.453940557970254,null,0,0,null,1.6499510850000006E-2]
[705,3.1020750000000001E-3,1.4161200000000001E-2,779948.7,8819801,146571200,8819801,146571200,8.652E-3,1.6471958650000007E-2,16.022550954312763,{"$f":"0","v":0},0,13.374227329383746,{"$f":"0","v":0},0,{"$f":"0","v":0},5.1777956975001205E-2,8.5907386488000004E-3,null,702,0.99696649999999998,3.03345E-3,8.4599999999999988E-3,1.40328E-2,5.2148941350000921E-2,8.1907282483281191E-2,8844070,788955.5,13120980,16.08915725179261,8844070,150637900,8.4006412559999993E-3,13.434294583575927,null,0,0,null,1.6492622800000006E-2]
[706,3.12495E-3,1.4204E-2,776946.4,8811712,145215700,8811712,145215700,8.7160000000000015E-3,1.6465070600000006E-2,16.000002102247119,{"$f":"0","v":0},0,13.353819959245373,{"$f":"0","v":0},0,{"$f":"0","v":0},5.1654295516667961E-2,8.6540989680000003E-3,null,703,0.99694369999999999,3.0563249999999999E-3,8.5240000000000021E-3,1.4075600000000001E-2,5.2025279891667678E-2,8.1615856678199483E-2,8835981,785953.3,13053730,16.067119122514445,8835981,149282400,8.4640097928000025E-3,13.414462305522269,null,0,0,null,1.6485734750000005E-2]
[707,3.1478249999999999E-3,1.42468E-2,773944.1,8803622,143860200,8803622,143860200,8.7799999999999979E-3,1.6458182550000009E-2,15.97727830623254,{"$f":"0","v":0},0,13.333212436011401,{"$f":"0","v":0},0,{"$f":"0","v":0},5.1530634058334732E-2,8.717456547999998E-3,null,704,0.99692080000000005,3.0791999999999998E-3,8.5879999999999984E-3,1.41184E-2,5.1901618433334448E-2,8.1325467765043541E-2,8827891,782951,12986480,16.044914102755683,8827891,147926800,8.5273755903999982E-3,13.394440253582589,null,0,0,null,1.6478846700000008E-2]
[708,3.1706999999999998E-3,1.42896E-2,770941.9,8795532,142504600,8795532,142504600,8.8439999999999994E-3,1.6451294500000008E-2,15.954375382675833,{"$f":"0","v":0},0,13.312407651404641,{"$f":"0","v":0},0,{"$f":"0","v":0},5.1406972600001488E-2,8.7808113888000004E-3,null,705,0.9968979,3.1020750000000001E-3,8.652E-3,1.4161200000000001E-2,5.1777956975001205E-2,8.103611205455577E-2,8819801,779948.7,12919240,16.022550954312763,8819801,146571200,8.5907386488000004E-3,13.374227329383746,null,0,0,null,1.6471958650000007E-2]
[709,3.1962000000000002E-3,1.4335799999999999E-2,768056.8,8786772,141293500,8786772,141293500,8.9170000000000013E-3,1.644259003333334E-2,15.932700854068779,{"$f":"0","v":0},0,13.293130070778066,{"$f":"0","v":0},0,{"$f":"0","v":0},5.1223345175001413E-2,8.8530838357000017E-3,null,706,0.99687499999999996,3.12495E-3,8.7160000000000015E-3,1.4204E-2,5.1654295516667961E-2,8.0747785870604924E-2,8811712,776946.4,12851990,16.000002102247119,8811712,145215700,8.6540989680000003E-3,13.353819959245373,null,0,0,null,1.6465070600000006E-2]
[710,3.2217000000000001E-3,1.4382000000000001E-2,765171.6,8778012,140082300,8778012,140082300,8.989999999999998E-3,1.6433885566666674E-2,15.910851957913755,{"$f":"0","v":0},0,13.273673118581915,{"$f":"0","v":0},0,{"$f":"0","v":0},5.1039717750001344E-2,8.9253529099999982E-3,null,707,0.99685219999999997,3.1478249999999999E-3,8.7799999999999979E-3,1.42468E-2,5.1530634058334732E-2,8.0460485550139418E-2,8803622,773944.1,12784740,15.97727830623254,8803622,143860200,8.717456547999998E-3,13.333212436011401,null,0,0,null,1.6458182550000009E-2]
[711,3.2472E-3,1.44282E-2,762286.5,8769252,138871200,8769252,138871200,9.0629999999999999E-3,1.6425181100000005E-2,15.888848631715243,{"$f":"0","v":0},0,13.254033450765586,{"$f":"0","v":0},0,{"$f":"0","v":0},5.0856090325001269E-2,8.9976186117000003E-3,null,708,0.99682930000000003,3.1706999999999998E-3,8.8439999999999994E-3,1.42896E-2,5.1406972600001488E-2,8.0174207443140827E-2,8795532,770941.9,12717490,15.954375382675833,8795532,142504600,8.7808113888000004E-3,13.312407651404641,null,0,0,null,1.6451294500000008E-2]
[712,3.2726999999999999E-3,1.44744E-2,759401.3,8760492,137660000,8760492,137660000,9.1360000000000018E-3,1.641647663333334E-2,15.866667108901007,{"$f":"0","v":0},0,13.234210612298243,{"$f":"0","v":0},0,{"$f":"0","v":0},5.0672462900001193E-2,9.0698809408000011E-3,null,709,0.99680380000000002,3.1962000000000002E-3,8.9170000000000013E-3,1.4335799999999999E-2,5.1223345175001413E-2,7.9888947912577432E-2,8786772,768056.8,12653250,15.932700854068779,8786772,141293500,8.8530838357000017E-3,13.293130070778066,null,0,0,null,1.644259003333334E-2]
[713,3.2981999999999998E-3,1.45206E-2,756516.2,8751732,136448900,8751732,136448900,9.2089999999999967E-3,1.6407772166666675E-2,15.844327446876443,{"$f":"0","v":0},0,13.214197716613134,{"$f":"0","v":0},0,{"$f":"0","v":0},5.0488835475001125E-2,9.142139897299997E-3,null,710,0.99677830000000001,3.2217000000000001E-3,8.989999999999998E-3,1.4382000000000001E-2,5.1039717750001344E-2,7.9604703334358096E-2,8778012,765171.6,12589000,15.910851957913755,8778012,140082300,8.9253529099999982E-3,13.273673118581915,null,0,0,null,1.6433885566666674E-2]
[714,3.3237000000000002E-3,1.45668E-2,753631.1,8742972,135237800,8742972,135237800,9.2819999999999986E-3,1.6399067700000006E-2,15.821803471442019,{"$f":"0","v":0},0,13.193996350618812,{"$f":"0","v":0},0,{"$f":"0","v":0},5.0305208050001049E-2,9.2143954811999985E-3,null,711,0.99675279999999999,3.2472E-3,9.0629999999999999E-3,1.44282E-2,5.0856090325001269E-2,7.932147009728617E-2,8769252,762286.5,12524760,15.888848631715243,8769252,138871200,8.9976186117000003E-3,13.254033450765586,null,0,0,null,1.6425181100000005E-2]
[715,3.3492000000000001E-3,1.4612999999999999E-2,750745.9,8734212,134026600,8734212,134026600,9.3550000000000022E-3,1.6390363233333337E-2,15.799121874436254,{"$f":"0","v":0},0,13.173599485759908,{"$f":"0","v":0},0,{"$f":"0","v":0},5.0121580625000973E-2,9.2866476925000021E-3,null,712,0.99672729999999998,3.2726999999999999E-3,9.1360000000000018E-3,1.44744E-2,5.0672462900001193E-2,7.9039244603013634E-2,8760492,759401.3,12460510,15.866667108901007,8760492,137660000,9.0698809408000011E-3,13.234210612298243,null,0,0,null,1.641647663333334E-2]
[716,3.3747E-3,1.4659200000000001E-2,747860.8,8725452,132815500,8725452,132815500,9.4279999999999971E-3,1.6381658766666671E-2,15.776249715633353,{"$f":"0","v":0},0,13.153008645710894,{"$f":"0","v":0},0,{"$f":"0","v":0},4.9937953200000905E-2,9.3588965311999974E-3,null,713,0.99670179999999997,3.2981999999999998E-3,9.2089999999999967E-3,1.45206E-2,5.0488835475001125E-2,7.8758023265995347E-2,8751732,756516.2,12396270,15.844327446876443,8751732,136448900,9.142139897299997E-3,13.214197716613134,null,0,0,null,1.6407772166666675E-2]
[717,3.4001999999999999E-3,1.47054E-2,744975.6,8716692,131604400,8716692,131604400,9.500999999999999E-3,1.6372954300000006E-2,15.753216011370037,{"$f":"0","v":0},0,13.13221665420911,{"$f":"0","v":0},0,{"$f":"0","v":0},4.9754325775000829E-2,9.4311419972999983E-3,null,714,0.99667629999999996,3.3237000000000002E-3,9.2819999999999986E-3,1.45668E-2,5.0305208050001049E-2,7.8477802513443579E-2,8742972,753631.1,12332020,15.821803471442019,8742972,135237800,9.2143954811999985E-3,13.193996350618812,null,0,0,null,1.6399067700000006E-2]
[718,3.4256999999999998E-3,1.47516E-2,742090.5,8707932,130393200,8707932,130393200,9.5740000000000009E-3,1.6364249833333337E-2,15.729987531844161,{"$f":"0","v":0},0,13.111219780455944,{"$f":"0","v":0},0,{"$f":"0","v":0},4.9570698350000754E-2,9.5033840908000013E-3,null,715,0.99665079999999995,3.3492000000000001E-3,9.3550000000000022E-3,1.4612999999999999E-2,5.0121580625000973E-2,7.8198578785282524E-2,8734212,750745.9,12267780,15.799121874436254,8734212,134026600,9.2866476925000021E-3,13.173599485759908,null,0,0,null,1.6390363233333337E-2]
[719,3.4512000000000002E-3,1.47978E-2,739205.4,8699172,129182100,8699172,129182100,9.6469999999999976E-3,1.6355545366666672E-2,15.706591260020557,{"$f":"0","v":0},0,13.090023251331512,{"$f":"0","v":0},0,{"$f":"0","v":0},4.9387070925000685E-2,9.5756228116999978E-3,null,716,0.99662530000000005,3.3747E-3,9.4279999999999971E-3,1.4659200000000001E-2,4.9937953200000905E-2,7.7920348534103151E-2,8725452,747860.8,12203530,15.776249715633353,8725452,132815500,9.3588965311999974E-3,13.153008645710894,null,0,0,null,1.6381658766666671E-2]
[720,3.4767000000000001E-3,1.4844E-2,736320.3,8690412,127970900,8690412,127970900,9.7199999999999995E-3,1.6346840900000003E-2,15.682998061441468,{"$f":"0","v":0},0,13.06861667348346,{"$f":"0","v":0},0,{"$f":"0","v":0},4.920344350000061E-2,9.6478581599999998E-3,null,717,0.99659980000000004,3.4001999999999999E-3,9.500999999999999E-3,1.47054E-2,4.9754325775000829E-2,7.764310822511801E-2,8716692,744975.6,12139290,15.753216011370037,8716692,131604400,9.4311419972999983E-3,13.13221665420911,null,0,0,null,1.6372954300000006E-2]
[721,3.505125E-3,1.4893730000000001E-2,733546.7,8680907,126894200,8680907,126894200,9.8070000000000015E-3,1.6336320016666669E-2,15.660696454863293,{"$f":"0","v":0},0,13.048811007037919,{"$f":"0","v":0},0,{"$f":"0","v":0},4.8947858508334045E-2,9.7339685949450021E-3,null,718,0.99657430000000002,3.4256999999999998E-3,9.5740000000000009E-3,1.47516E-2,4.9570698350000754E-2,7.7366854336116522E-2,8707932,742090.5,12075040,15.729987531844161,8707932,130393200,9.5033840908000013E-3,13.111219780455944,null,0,0,null,1.6364249833333337E-2]
[722,3.5335499999999999E-3,1.494347E-2,730773.1,8671402,125817400,8671402,125817400,9.8939999999999965E-3,1.6325799133333336E-2,15.638225559798704,{"$f":"0","v":0},0,13.028820666663538,{"$f":"0","v":0},0,{"$f":"0","v":0},4.8692273516667502E-2,9.8200746539099971E-3,null,719,0.99654880000000001,3.4512000000000002E-3,9.6469999999999976E-3,1.47978E-2,4.9387070925000685E-2,7.7091583357420057E-2,8699172,739205.4,12010800,15.706591260020557,8699172,129182100,9.5756228116999978E-3,13.090023251331512,null,0,0,null,1.6355545366666672E-2]
[723,3.5619750000000002E-3,1.49932E-2,727999.6,8661898,124740600,8661898,124740600,9.9810000000000003E-3,1.6315278250000002E-2,15.615581221931075,{"$f":"0","v":0},0,13.008635490579078,{"$f":"0","v":0},0,{"$f":"0","v":0},4.8436688525000937E-2,9.9061764354E-3,null,720,0.9965233,3.4767000000000001E-3,9.7199999999999995E-3,1.4844E-2,4.920344350000061E-2,7.6817291791837425E-2,8690412,736320.3,11946550,15.682998061441468,8690412,127970900,9.6478581599999998E-3,13.06861667348346,null,0,0,null,1.6346840900000003E-2]
[724,3.5904000000000001E-3,1.5042929999999999E-2,725226,8652393,123663900,8652393,123663900,1.0068000000000002E-2,1.6304757366666672E-2,15.592765910212817,{"$f":"0","v":0},0,12.988261071321595,{"$f":"0","v":0},0,{"$f":"0","v":0},4.8181103533334373E-2,9.9922738903800035E-3,null,721,0.99649489999999996,3.505125E-3,9.8070000000000015E-3,1.4893730000000001E-2,4.8947858508334045E-2,7.6543976154620413E-2,8680907,733546.7,11885190,15.660696454863293,8680907,126894200,9.7339685949450021E-3,13.048811007037919,null,0,0,null,1.6336320016666669E-2]
[725,3.618825E-3,1.5092670000000001E-2,722452.4,8642888,122587100,8642888,122587100,1.0154999999999997E-2,1.6294236483333339E-2,15.569775415884378,{"$f":"0","v":0},0,12.967691614525053,{"$f":"0","v":0},0,{"$f":"0","v":0},4.7925518541667829E-2,1.0078366968074997E-2,null,722,0.99646650000000003,3.5335499999999999E-3,9.8939999999999965E-3,1.494347E-2,4.8692273516667502E-2,7.6271632973419573E-2,8671402,730773.1,11823830,15.638225559798704,8671402,125817400,9.8200746539099971E-3,13.028820666663538,null,0,0,null,1.6325799133333336E-2]
[726,3.6472499999999999E-3,1.51424E-2,719678.9,8633383,121510300,8633383,121510300,1.0242000000000001E-2,1.6283715600000005E-2,15.546605478035643,{"$f":"0","v":0},0,12.946921233014297,{"$f":"0","v":0},0,{"$f":"0","v":0},4.7669933550001264E-2,1.0164455769600001E-2,null,723,0.99643800000000005,3.5619750000000002E-3,9.9810000000000003E-3,1.49932E-2,4.8436688525000937E-2,7.6000258788239988E-2,8661898,727999.6,11762470,15.615581221931075,8661898,124740600,9.9061764354E-3,13.008635490579078,null,0,0,null,1.6315278250000002E-2]
[727,3.6756750000000002E-3,1.519213E-2,716905.4,8623878,120433600,8623878,120433600,1.0329000000000003E-2,1.6273194716666672E-2,15.523256264587582,{"$f":"0","v":0},0,12.925953194653539,{"$f":"0","v":0},0,{"$f":"0","v":0},4.74143485583347E-2,1.0250540244615003E-2,null,724,0.99640960000000001,3.5904000000000001E-3,1.0068000000000002E-2,1.5042929999999999E-2,4.8181103533334373E-2,7.5729850151397451E-2,8652393,725226,11701110,15.592765910212817,8652393,123663900,9.9922738903800035E-3,12.988261071321595,null,0,0,null,1.6304757366666672E-2]
[728,3.7041000000000001E-3,1.5241869999999999E-2,714131.8,8614373,119356800,8614373,119356800,1.0415999999999998E-2,1.6262673833333338E-2,15.499727933041678,{"$f":"0","v":0},0,12.904783812624624,{"$f":"0","v":0},0,{"$f":"0","v":0},4.7158763566668156E-2,1.0336620341039998E-2,null,725,0.99638119999999997,3.618825E-3,1.0154999999999997E-2,1.5092670000000001E-2,4.7925518541667829E-2,7.5460403627474623E-2,8642888,722452.4,11639750,15.569775415884378,8642888,122587100,1.0078366968074997E-2,12.967691614525053,null,0,0,null,1.6294236483333339E-2]
[729,3.732525E-3,1.5291600000000001E-2,711358.3,8604868,118280000,8604868,118280000,1.0503E-2,1.6252152950000008E-2,15.476013874911326,{"$f":"0","v":0},0,12.883402412546092,{"$f":"0","v":0},0,{"$f":"0","v":0},4.6903178575001592E-2,1.04226961626E-2,null,726,0.99635269999999998,3.6472499999999999E-3,1.0242000000000001E-2,1.51424E-2,4.7669933550001264E-2,7.5191915793277261E-2,8633383,719678.9,11578390,15.546605478035643,8633383,121510300,1.0164455769600001E-2,12.946921233014297,null,0,0,null,1.6283715600000005E-2]
[730,3.7609499999999999E-3,1.534133E-2,708584.7,8595364,117203300,8595364,117203300,1.0590000000000004E-2,1.6241632066666675E-2,15.452116433645831,{"$f":"0","v":0},0,12.861814440824132,{"$f":"0","v":0},0,{"$f":"0","v":0},4.6647593583335027E-2,1.0508767657650004E-2,null,727,0.99632430000000005,3.6756750000000002E-3,1.0329000000000003E-2,1.519213E-2,4.74143485583347E-2,7.4924383237790965E-2,8623878,716905.4,11517030,15.523256264587582,8623878,120433600,1.0250540244615003E-2,12.925953194653539,null,0,0,null,1.6273194716666672E-2]
[731,3.7893750000000002E-3,1.539107E-2,705811.1,8585859,116126500,8585859,116126500,1.0676999999999999E-2,1.6231111183333341E-2,15.428031174582927,{"$f":"0","v":0},0,12.840013704552677,{"$f":"0","v":0},0,{"$f":"0","v":0},4.6392008591668484E-2,1.0594834772805E-2,null,728,0.99629590000000001,3.7041000000000001E-3,1.0415999999999998E-2,1.5241869999999999E-2,4.7158763566668156E-2,7.4657802562137623E-2,8614373,714131.8,11455670,15.499727933041678,8614373,119356800,1.0336620341039998E-2,12.904783812624624,null,0,0,null,1.6262673833333338E-2]
[732,3.8178000000000001E-3,1.5440799999999999E-2,703037.6,8576354,115049700,8576354,115049700,1.0764000000000001E-2,1.6220590300000007E-2,15.403753606729808,{"$f":"0","v":0},0,12.817993908511545,{"$f":"0","v":0},0,{"$f":"0","v":0},4.6136423600001919E-2,1.0680897614400001E-2,null,729,0.99626749999999997,3.732525E-3,1.0503E-2,1.5291600000000001E-2,4.6903178575001592E-2,7.4392170379532344E-2,8604868,711358.3,11394310,15.476013874911326,8604868,118280000,1.04226961626E-2,12.883402412546092,null,0,0,null,1.6252152950000008E-2]
[733,3.8497499999999999E-3,1.54944E-2,700370.3,8565992,114097400,8565992,114097400,1.0846500000000004E-2,1.6208253000000006E-2,15.380824621156361,{"$f":"0","v":0},0,12.797649947580489,{"$f":"0","v":0},0,{"$f":"0","v":0},4.5796184241668453E-2,1.0762469995200004E-2,null,730,0.99623910000000004,3.7609499999999999E-3,1.0590000000000004E-2,1.534133E-2,4.6647593583335027E-2,7.4127483315240411E-2,8595364,708584.7,11332950,15.452116433645831,8595364,117203300,1.0508767657650004E-2,12.861814440824132,null,0,0,null,1.6241632066666675E-2]
[734,3.8817000000000001E-3,1.5547999999999999E-2,697702.9,8555630,113145200,8555630,113145200,1.0928999999999998E-2,1.6195915700000008E-2,15.357736933347036,{"$f":"0","v":0},0,12.777114390537681,{"$f":"0","v":0},0,{"$f":"0","v":0},4.5455944883335014E-2,1.0844037953999998E-2,null,731,0.99621059999999995,3.7893750000000002E-3,1.0676999999999999E-2,1.539107E-2,4.6392008591668484E-2,7.386373800653441E-2,8585859,705811.1,11271590,15.428031174582927,8585859,116126500,1.0594834772805E-2,12.840013704552677,null,0,0,null,1.6231111183333341E-2]
[735,3.9136500000000003E-3,1.56016E-2,695035.5,8545268,112192900,8545268,112192900,1.10115E-2,1.6183578400000006E-2,15.334457646407991,{"$f":"0","v":0},0,12.756379724667616,{"$f":"0","v":0},0,{"$f":"0","v":0},4.5115705525001548E-2,1.09256014908E-2,null,732,0.99618220000000002,3.8178000000000001E-3,1.0764000000000001E-2,1.5440799999999999E-2,4.6136423600001919E-2,7.3600931102651451E-2,8576354,703037.6,11210230,15.403753606729808,8576354,115049700,1.0680897614400001E-2,12.817993908511545,null,0,0,null,1.6220590300000007E-2]
[736,3.9455999999999996E-3,1.5655200000000001E-2,692368.2,8534905,111240600,8534905,111240600,1.1094000000000003E-2,1.6171241100000004E-2,15.311011142626135,{"$f":"0","v":0},0,12.735442291404532,{"$f":"0","v":0},0,{"$f":"0","v":0},4.4775466166668082E-2,1.1007160605600003E-2,null,733,0.99615030000000004,3.8497499999999999E-3,1.0846500000000004E-2,1.54944E-2,4.5796184241668453E-2,7.3339059264750719E-2,8565992,700370.3,11151640,15.380824621156361,8565992,114097400,1.0762469995200004E-2,12.797649947580489,null,0,0,null,1.6208253000000006E-2]
[737,3.9775499999999998E-3,1.5708799999999998E-2,689700.9,8524543,110288300,8524543,110288300,1.1176499999999997E-2,1.6158903800000006E-2,15.287368789137437,{"$f":"0","v":0},0,12.714305534264358,{"$f":"0","v":0},0,{"$f":"0","v":0},4.4435226808334644E-2,1.1088715298399996E-2,null,734,0.99611830000000001,3.8817000000000001E-3,1.0928999999999998E-2,1.5547999999999999E-2,4.5455944883335014E-2,7.3078119165870911E-2,8555630,697702.9,11093060,15.357736933347036,8555630,113145200,1.0844037953999998E-2,12.777114390537681,null,0,0,null,1.6195915700000008E-2]
[738,4.0095E-3,1.5762399999999999E-2,687033.5,8514181,109336000,8514181,109336000,1.1259E-2,1.6146566500000004E-2,15.263545160704197,{"$f":"0","v":0},0,12.692963336486599,{"$f":"0","v":0},0,{"$f":"0","v":0},4.4094987450001177E-2,1.11702655692E-2,null,735,0.99608640000000004,3.9136500000000003E-3,1.10115E-2,1.56016E-2,4.5115705525001548E-2,7.2818107490888073E-2,8545268,695035.5,11034470,15.334457646407991,8545268,112192900,1.09256014908E-2,12.756379724667616,null,0,0,null,1.6183578400000006E-2]
[739,4.0414500000000003E-3,1.5816E-2,684366.1,8503819,108383800,8503819,108383800,1.1341500000000003E-2,1.6134229200000003E-2,15.239550433362105,{"$f":"0","v":0},0,12.671412688245614,{"$f":"0","v":0},0,{"$f":"0","v":0},4.3754748091667711E-2,1.1251811418000003E-2,null,736,0.99605440000000001,3.9455999999999996E-3,1.1094000000000003E-2,1.5655200000000001E-2,4.4775466166668082E-2,7.2559020936473484E-2,8534905,692368.2,10975890,15.311011142626135,8534905,111240600,1.1007160605600003E-2,12.735442291404532,null,0,0,null,1.6171241100000004E-2]
[740,4.0733999999999996E-3,1.5869600000000001E-2,681698.8,8493457,107431500,8493457,107431500,1.1423999999999997E-2,1.6121891900000004E-2,15.215350948737672,{"$f":"0","v":0},0,12.649649742544344,{"$f":"0","v":0},0,{"$f":"0","v":0},4.3414508733334273E-2,1.1333352844799997E-2,null,737,0.99602250000000003,3.9775499999999998E-3,1.1176499999999997E-2,1.5708799999999998E-2,4.4435226808334644E-2,7.2300856211051562E-2,8524543,689700.9,10917300,15.287368789137437,8524543,110288300,1.1088715298399996E-2,12.714305534264358,null,0,0,null,1.6158903800000006E-2]
[741,4.1053499999999998E-3,1.5923199999999998E-2,679031.5,8483094,106479200,8483094,106479200,1.1506499999999999E-2,1.6109554600000003E-2,15.190961348381236,{"$f":"0","v":0},0,12.627672927659239,{"$f":"0","v":0},0,{"$f":"0","v":0},4.3074269375000807E-2,1.1414889849599999E-2,null,738,0.9959905,4.0095E-3,1.1259E-2,1.5762399999999999E-2,4.4094987450001177E-2,7.2043610034758246E-2,8514181,687033.5,10858710,15.263545160704197,8514181,109336000,1.11702655692E-2,12.692963336486599,null,0,0,null,1.6146566500000004E-2]
[742,4.1373E-3,1.5976799999999999E-2,676364.1,8472732,105526900,8472732,105526900,1.1589000000000002E-2,1.6097217300000001E-2,15.166396490440579,{"$f":"0","v":0},0,12.605478272535205,{"$f":"0","v":0},0,{"$f":"0","v":0},4.273403001666734E-2,1.1496422432400002E-2,null,739,0.99595860000000003,4.0414500000000003E-3,1.1341500000000003E-2,1.5816E-2,4.3754748091667711E-2,7.1787279139399127E-2,8503819,684366.1,10800130,15.239550433362105,8503819,108383800,1.1251811418000003E-2,12.671412688245614,null,0,0,null,1.6134229200000003E-2]
[743,4.1692500000000002E-3,1.60304E-2,673696.8,8462370,104574600,8462370,104574600,1.1671499999999996E-2,1.6084880000000003E-2,15.141619939414882,{"$f":"0","v":0},0,12.583062522101041,{"$f":"0","v":0},0,{"$f":"0","v":0},4.2393790658333902E-2,1.1577950593199996E-2,null,740,0.9959266,4.0733999999999996E-3,1.1423999999999997E-2,1.5869600000000001E-2,4.3414508733334273E-2,7.153186026840809E-2,8493457,681698.8,10741540,15.215350948737672,8493457,107431500,1.1333352844799997E-2,12.649649742544344,null,0,0,null,1.6121891900000004E-2]
[744,4.2012000000000004E-3,1.6084000000000001E-2,671029.4,8452008,103622300,8452008,103622300,1.1753999999999999E-2,1.6072542700000001E-2,15.116648751405924,{"$f":"0","v":0},0,12.560419097670911,{"$f":"0","v":0},0,{"$f":"0","v":0},4.2053551300000436E-2,1.1659474331999998E-2,null,741,0.99589470000000002,4.1053499999999998E-3,1.1506499999999999E-2,1.5923199999999998E-2,4.3074269375000807E-2,7.1277350176805837E-2,8483094,679031.5,10682950,15.190961348381236,8483094,106479200,1.1414889849599999E-2,12.627672927659239,null,0,0,null,1.6109554600000003E-2]
[745,4.2369E-3,1.6141800000000001E-2,668463,8440837,102787100,8440837,102787100,1.1853000000000002E-2,1.6058388983333335E-2,15.093110426455915,{"$f":"0","v":0},0,12.539528741974193,{"$f":"0","v":0},0,{"$f":"0","v":0},4.1615255575000516E-2,1.1757335622300002E-2,null,742,0.99586269999999999,4.1373E-3,1.1589000000000002E-2,1.5976799999999999E-2,4.273403001666734E-2,7.1023745631158708E-2,8472732,676364.1,10624370,15.166396490440579,8472732,105526900,1.1496422432400002E-2,12.605478272535205,null,0,0,null,1.6097217300000001E-2]
[746,4.2725999999999997E-3,1.6199600000000001E-2,665896.6,8429666,101951900,8429666,101951900,1.1951999999999996E-2,1.6044235266666668E-2,15.06940568300444,{"$f":"0","v":0},0,12.518437024806005,{"$f":"0","v":0},0,{"$f":"0","v":0},4.1176959850000631E-2,1.1855191190399995E-2,null,743,0.99583080000000002,4.1692500000000002E-3,1.1671499999999996E-2,1.60304E-2,4.2393790658333902E-2,7.0771043409537521E-2,8462370,673696.8,10565780,15.141619939414882,8462370,104574600,1.1577950593199996E-2,12.583062522101041,null,0,0,null,1.6084880000000003E-2]
[747,4.3083000000000002E-3,1.6257400000000002E-2,663330.1,8418494,101116700,8418494,101116700,1.2050999999999999E-2,1.6030081550000005E-2,15.045504788390176,{"$f":"0","v":0},0,12.497141020691883,{"$f":"0","v":0},0,{"$f":"0","v":0},4.0738664125000712E-2,1.1953041036299999E-2,null,744,0.99579879999999998,4.2012000000000004E-3,1.1753999999999999E-2,1.6084000000000001E-2,4.2053551300000436E-2,7.0519240301476827E-2,8452008,671029.4,10507190,15.116648751405924,8452008,103622300,1.1659474331999998E-2,12.560419097670911,null,0,0,null,1.6072542700000001E-2]
[748,4.3439999999999998E-3,1.6315199999999998E-2,660763.69999999995,8407323,100281500,8407323,100281500,1.2150000000000001E-2,1.6015927833333339E-2,15.021415869495657,{"$f":"0","v":0},0,12.475634446842623,{"$f":"0","v":0},0,{"$f":"0","v":0},4.0300368400000793E-2,1.2050885160000002E-2,null,745,0.99576310000000001,4.2369E-3,1.1853000000000002E-2,1.6141800000000001E-2,4.1615255575000516E-2,7.0268333107933914E-2,8440837,668463,10451270,15.093110426455915,8440837,102787100,1.1757335622300002E-2,12.539528741974193,null,0,0,null,1.6058388983333335E-2]
[749,4.3797000000000003E-3,1.6372999999999999E-2,658197.30000000005,8396152,99446330,8396152,99446330,1.2248999999999996E-2,1.6001774116666673E-2,14.997139098717057,{"$f":"0","v":0},0,12.453920852629498,{"$f":"0","v":0},0,{"$f":"0","v":0},3.9862072675000908E-2,1.2148723561499996E-2,null,746,0.99572740000000004,4.2725999999999997E-3,1.1951999999999996E-2,1.6199600000000001E-2,4.1176959850000631E-2,7.0018318641248273E-2,8429666,665896.6,10395360,15.06940568300444,8429666,101951900,1.1855191190399995E-2,12.518437024806005,null,0,0,null,1.6044235266666668E-2]
[750,4.4153999999999999E-3,1.6430799999999999E-2,655630.80000000005,8384981,98611130,8384981,98611130,1.2347999999999998E-2,1.5987620400000006E-2,14.972674636395972,{"$f":"0","v":0},0,12.431993847710764,{"$f":"0","v":0},0,{"$f":"0","v":0},3.9423776950000988E-2,1.2246556240799998E-2,null,747,0.99569169999999996,4.3083000000000002E-3,1.2050999999999999E-2,1.6257400000000002E-2,4.0738664125000712E-2,6.976919372510107E-2,8418494,663330.1,10339440,15.045504788390176,8418494,101116700,1.1953041036299999E-2,12.497141020691883,null,0,0,null,1.6030081550000005E-2]
[751,4.4511000000000004E-3,1.6488599999999999E-2,653064.4,8373810,97775930,8373810,97775930,1.2447000000000001E-2,1.597346668333334E-2,14.948015514753726,{"$f":"0","v":0},0,12.409846937970377,{"$f":"0","v":0},0,{"$f":"0","v":0},3.8985481225001069E-2,1.2344383197900002E-2,null,748,0.99565599999999999,4.3439999999999998E-3,1.2150000000000001E-2,1.6315199999999998E-2,4.0300368400000793E-2,6.9520955194474834E-2,8407323,660763.69999999995,10283520,15.021415869495657,8407323,100281500,1.2050885160000002E-2,12.475634446842623,null,0,0,null,1.6015927833333339E-2]
[752,4.4868E-3,1.6546399999999999E-2,650497.9,8362639,96940730,8362639,96940730,1.2545999999999996E-2,1.5959312966666674E-2,14.923164195969477,{"$f":"0","v":0},0,12.387483552781845,{"$f":"0","v":0},0,{"$f":"0","v":0},3.8547185500001184E-2,1.2442204432799997E-2,null,749,0.99562030000000001,4.3797000000000003E-3,1.2248999999999996E-2,1.6372999999999999E-2,3.9862072675000908E-2,6.9273599895613172E-2,8396152,658197.30000000005,10227600,14.997139098717057,8396152,99446330,1.2148723561499996E-2,12.453920852629498,null,0,0,null,1.6001774116666673E-2]
[753,4.5224999999999996E-3,1.66042E-2,647931.5,8351467,96105520,8351467,96105520,1.2644999999999998E-2,1.5945159250000007E-2,14.898113618749308,{"$f":"0","v":0},0,12.364894483036522,{"$f":"0","v":0},0,{"$f":"0","v":0},3.8108889775001265E-2,1.2540019945499999E-2,null,750,0.99558460000000004,4.4153999999999999E-3,1.2347999999999998E-2,1.6430799999999999E-2,3.9423776950000988E-2,6.9027124685980795E-2,8384981,655630.80000000005,10171680,14.972674636395972,8384981,98611130,1.2246556240799998E-2,12.431993847710764,null,0,0,null,1.5987620400000006E-2]
[754,4.5582000000000001E-3,1.6662E-2,645365.1,8340296,95270320,8340296,95270320,1.2744000000000002E-2,1.5931005533333344E-2,14.872865355594842,{"$f":"0","v":0},0,12.342081558081404,{"$f":"0","v":0},0,{"$f":"0","v":0},3.7670594050001345E-2,1.2637829736000002E-2,null,751,0.99554889999999996,4.4511000000000004E-3,1.2447000000000001E-2,1.6488599999999999E-2,3.8985481225001069E-2,6.8781526434223472E-2,8373810,653064.4,10115760,14.948015514753726,8373810,97775930,1.2344383197900002E-2,12.409846937970377,null,0,0,null,1.597346668333334E-2]
[755,4.5938999999999997E-3,1.67198E-2,642798.6,8329125,94435120,8329125,94435120,1.2842999999999997E-2,1.5916851816666678E-2,14.847417877076897,{"$f":"0","v":0},0,12.319035394127997,{"$f":"0","v":0},0,{"$f":"0","v":0},3.723229832500146E-2,1.2735633804299998E-2,null,752,0.99551319999999999,4.4868E-3,1.2545999999999996E-2,1.6546399999999999E-2,3.8547185500001184E-2,6.8536802020128407E-2,8362639,650497.9,10059840,14.923164195969477,8362639,96940730,1.2442204432799997E-2,12.387483552781845,null,0,0,null,1.5959312966666674E-2]
[756,4.6296000000000002E-3,1.67776E-2,640232.19999999995,8317954,93599920,8317954,93599920,1.2941999999999999E-2,1.5902698100000012E-2,14.821763976153237,{"$f":"0","v":0},0,12.295759239781495,{"$f":"0","v":0},0,{"$f":"0","v":0},3.6794002600001541E-2,1.2833432150399999E-2,null,753,0.99547750000000002,4.5224999999999996E-3,1.2644999999999998E-2,1.66042E-2,3.8108889775001265E-2,6.8292948334584408E-2,8351467,647931.5,10003920,14.898113618749308,8351467,96105520,1.2540019945499999E-2,12.364894483036522,null,0,0,null,1.5945159250000007E-2]
[757,4.6691249999999997E-3,1.683987E-2,637761.6,8305849,92872650,8305849,92872650,1.3053000000000002E-2,1.5886727966666677E-2,14.797623124377511,{"$f":"0","v":0},0,12.274312686218266,{"$f":"0","v":0},0,{"$f":"0","v":0},3.6243543308334847E-2,1.2943094588445002E-2,null,754,0.99544180000000004,4.5582000000000001E-3,1.2744000000000002E-2,1.6662E-2,3.7670594050001345E-2,6.8049962279542603E-2,8340296,645365.1,9948001,14.872865355594842,8340296,95270320,1.2637829736000002E-2,12.342081558081404,null,0,0,null,1.5931005533333344E-2]
[758,4.70865E-3,1.6902130000000001E-2,635291.1,8293744,92145380,8293744,92145380,1.3163999999999995E-2,1.5870757833333343E-2,14.773293671987537,{"$f":"0","v":0},0,12.252657738147564,{"$f":"0","v":0},0,{"$f":"0","v":0},3.5693084016668208E-2,1.3052750180339995E-2,null,755,0.99540609999999996,4.5938999999999997E-3,1.2842999999999997E-2,1.67198E-2,3.723229832500146E-2,6.7807840767976843E-2,8329125,642798.6,9892082,14.847417877076897,8329125,94435120,1.2735633804299998E-2,12.319035394127997,null,0,0,null,1.5916851816666678E-2]
[759,4.7481750000000003E-3,1.6964400000000001E-2,632820.5,8281640,91418110,8281640,91418110,1.3274999999999999E-2,1.5854787700000011E-2,14.748776673901473,{"$f":"0","v":0},0,12.230787153653516,{"$f":"0","v":0},0,{"$f":"0","v":0},3.5142624725001514E-2,1.3162398794999999E-2,null,756,0.99537039999999999,4.6296000000000002E-3,1.2941999999999999E-2,1.67776E-2,3.6794002600001541E-2,6.7566580723844735E-2,8317954,640232.19999999995,9836163,14.821763976153237,8317954,93599920,1.2833432150399999E-2,12.295759239781495,null,0,0,null,1.5902698100000012E-2]
[760,4.7876999999999998E-3,1.7026670000000001E-2,630350,8269535,90690840,8269535,90690840,1.3386000000000002E-2,1.5838817566666677E-2,14.724063483250047,{"$f":"0","v":0},0,12.208701195001206,{"$f":"0","v":0},0,{"$f":"0","v":0},3.4592165433334821E-2,1.3272040497690003E-2,null,757,0.99533090000000002,4.6691249999999997E-3,1.3053000000000002E-2,1.683987E-2,3.6243543308334847E-2,6.7326179082048299E-2,8305849,637761.6,9782810,14.797623124377511,8305849,92872650,1.2943094588445002E-2,12.274312686218266,null,0,0,null,1.5886727966666677E-2]
[761,4.8272250000000001E-3,1.7088929999999999E-2,627879.4,8257430,89963570,8257430,89963570,1.3496999999999995E-2,1.5822847433333342E-2,14.699158243339937,{"$f":"0","v":0},0,12.186399368391346,{"$f":"0","v":0},0,{"$f":"0","v":0},3.4041706141668182E-2,1.3381675355894997E-2,null,758,0.99529140000000005,4.70865E-3,1.3163999999999995E-2,1.6902130000000001E-2,3.5693084016668208E-2,6.7086632788395315E-2,8293744,635291.1,9729458,14.773293671987537,8293744,92145380,1.3052750180339995E-2,12.252657738147564,null,0,0,null,1.5870757833333343E-2]
[762,4.8667500000000004E-3,1.7151199999999998E-2,625408.9,8245325,89236300,8245325,89236300,1.3607999999999999E-2,1.5806877300000008E-2,14.674055399328877,{"$f":"0","v":0},0,12.163873019849008,{"$f":"0","v":0},0,{"$f":"0","v":0},3.3491246850001488E-2,1.3491303235199998E-2,null,759,0.99525180000000002,4.7481750000000003E-3,1.3274999999999999E-2,1.6964400000000001E-2,3.5142624725001514E-2,6.6847938799560205E-2,8281640,632820.5,9676106,14.748776673901473,8281640,91418110,1.3162398794999999E-2,12.230787153653516,null,0,0,null,1.5854787700000011E-2]
[763,4.9062749999999999E-3,1.7213470000000002E-2,622938.30000000005,8233221,88509020,8233221,88509020,1.3719000000000002E-2,1.5790907166666673E-2,14.648755884009701,{"$f":"0","v":0},0,12.141121513486988,{"$f":"0","v":0},0,{"$f":"0","v":0},3.2940787558334794E-2,1.3600924202535003E-2,null,760,0.99521230000000005,4.7876999999999998E-3,1.3386000000000002E-2,1.7026670000000001E-2,3.4592165433334821E-2,6.6610094083045648E-2,8269535,630350,9622753,14.724063483250047,8269535,90690840,1.3272040497690003E-2,12.208701195001206,null,0,0,null,1.5838817566666677E-2]
[764,4.9458000000000002E-3,1.727573E-2,620467.80000000005,8221116,87781750,8221116,87781750,1.3829999999999995E-2,1.5774937033333339E-2,14.623250835901556,{"$f":"0","v":0},0,12.118147674591652,{"$f":"0","v":0},0,{"$f":"0","v":0},3.2390328266668156E-2,1.3710538327049996E-2,null,761,0.99517279999999997,4.8272250000000001E-3,1.3496999999999995E-2,1.7088929999999999E-2,3.4041706141668182E-2,6.6373095617143898E-2,8257430,627879.4,9569400,14.699158243339937,8257430,89963570,1.3381675355894997E-2,12.186399368391346,null,0,0,null,1.5822847433333342E-2]
[765,4.9853249999999997E-3,1.7337999999999999E-2,617997.30000000005,8209011,87054480,8209011,87054480,1.3940999999999999E-2,1.5758966900000004E-2,14.597541870328559,{"$f":"0","v":0},0,12.094935630853762,{"$f":"0","v":0},0,{"$f":"0","v":0},3.1839868975001462E-2,1.3820145470999998E-2,null,762,0.99513320000000005,4.8667500000000004E-3,1.3607999999999999E-2,1.7151199999999998E-2,3.3491246850001488E-2,6.6136940390898444E-2,8245325,625408.9,9516048,14.674055399328877,8245325,89236300,1.3491303235199998E-2,12.163873019849008,null,0,0,null,1.5806877300000008E-2]
[766,5.02485E-3,1.7400269999999999E-2,615526.69999999995,8196907,86327220,8196907,86327220,1.4052000000000002E-2,1.5742996766666673E-2,14.571630611907928,{"$f":"0","v":0},0,12.071488044007035,{"$f":"0","v":0},0,{"$f":"0","v":0},3.1289409683334768E-2,1.3929745702980003E-2,null,763,0.99509369999999997,4.9062749999999999E-3,1.3719000000000002E-2,1.7213470000000002E-2,3.2940787558334794E-2,6.5901625404065717E-2,8233221,622938.30000000005,9462696,14.648755884009701,8233221,88509020,1.3600924202535003E-2,12.141121513486988,null,0,0,null,1.5790907166666673E-2]
[767,5.0643750000000003E-3,1.746253E-2,613056.1,8184802,85599940,8184802,85599940,1.4162999999999995E-2,1.5727026633333339E-2,14.545510510103943,{"$f":"0","v":0},0,12.047801310524436,{"$f":"0","v":0},0,{"$f":"0","v":0},3.0738950391668126E-2,1.4039339093804995E-2,null,764,0.9950542,4.9458000000000002E-3,1.3829999999999995E-2,1.727573E-2,3.2390328266668156E-2,6.5667147667077042E-2,8221116,620467.80000000005,9409343,14.623250835901556,8221116,87781750,1.3710538327049996E-2,12.118147674591652,null,0,0,null,1.5774937033333339E-2]
[768,{"$f":"W773","v":5.1038999999999998E-3},{"$f":"Y773","v":1.75248E-2},{"$f":"AC773","v":610585.59999999998},{"$f":"AF773","v":8172697},{"$f":"AG773","v":84872670},{"$f":"E770","v":8172697},{"$f":"F770","v":84872670},{"$f":"X773","v":1.4273999999999998E-2},{"$f":"AN773","v":1.5711056500000004E-2},{"$f":"AE773","v":14.519174925404945},{"$f":"0","v":0},{"$f":"AL773","v":0},{"$f":"AI773","v":12.023878072112096},{"$f":"0","v":0},{"$f":"AK773","v":0},{"$f":"0","v":0},{"$f":"Z773","v":3.0188491100001436E-2},{"$f":"AH773","v":1.41489255024E-2},null,765,0.99501470000000003,4.9853249999999997E-3,1.3940999999999999E-2,1.7337999999999999E-2,3.1839868975001462E-2,6.5433504201000595E-2,8209011,617997.30000000005,9355990,14.597541870328559,8209011,87054480,1.3820145470999998E-2,12.094935630853762,null,0,0,null,1.5758966900000004E-2]
[769,5.1473250000000003E-3,1.7591929999999999E-2,608206.30000000005,8159585,84245430,8159585,84245430,1.4399499999999992E-2,1.5693269950000005E-2,14.494433748603612,{"$f":"0","v":0},0,12.001858944414115,{"$f":"0","v":0},0,{"$f":"0","v":0},2.767278350833479E-2,1.4272842501982491E-2,null,766,0.9949751,5.02485E-3,1.4052000000000002E-2,1.7400269999999999E-2,3.1289409683334768E-2,6.5200692037503602E-2,8196907,615526.69999999995,9302638,14.571630611907928,8196907,86327220,1.3929745702980003E-2,12.071488044007035,null,0,0,null,1.5742996766666673E-2]
[770,5.1907500000000001E-3,1.7659069999999999E-2,605827,8146473,83618190,8146473,83618190,1.4525000000000005E-2,1.5675483400000002E-2,14.469496586209155,{"$f":"0","v":0},0,11.979628789350627,{"$f":"0","v":0},0,{"$f":"0","v":0},2.5157075916667722E-2,1.4396751004125003E-2,null,767,0.99493560000000003,5.0643750000000003E-3,1.4162999999999995E-2,1.746253E-2,3.0738950391668126E-2,6.4968708218814564E-2,8184802,613056.1,9249286,14.545510510103943,8184802,85599940,1.4039339093804995E-2,12.047801310524436,null,0,0,null,1.5727026633333339E-2]
[771,5.2341749999999998E-3,1.7726200000000001E-2,603447.80000000005,8133360,82990940,8133360,82990940,1.4650499999999999E-2,1.5657696850000003E-2,14.444361950887329,{"$f":"0","v":0},0,11.957178052834641,{"$f":"0","v":0},0,{"$f":"0","v":0},2.2641368325001077E-2,1.4520651153449998E-2,null,768,0.99489609999999995,5.1038999999999998E-3,1.4273999999999998E-2,1.75248E-2,3.0188491100001436E-2,6.473754979768577E-2,8172697,610585.59999999998,9195933,14.519174925404945,8172697,84872670,1.41489255024E-2,12.023878072112096,null,0,0,null,1.5711056500000004E-2]
[772,5.2776000000000003E-3,1.779333E-2,601068.5,8120248,82363700,8120248,82363700,1.4775999999999992E-2,1.5639910300000004E-2,14.419030824551058,{"$f":"0","v":0},0,11.934497015759494,{"$f":"0","v":0},0,{"$f":"0","v":0},2.0125660733334431E-2,1.4644542877959993E-2,null,769,0.99485270000000003,5.1473250000000003E-3,1.4399499999999992E-2,1.7591929999999999E-2,2.767278350833479E-2,6.4507213837355776E-2,8159585,608206.30000000005,9145051,14.494433748603612,8159585,84245430,1.4272842501982491E-2,12.001858944414115,null,0,0,null,1.5693269950000005E-2]
[773,5.3210250000000001E-3,1.786047E-2,598689.19999999995,8107136,81736460,8107136,81736460,1.4901500000000005E-2,1.5622123750000001E-2,14.393496686873036,{"$f":"0","v":0},0,11.911595126138884,{"$f":"0","v":0},0,{"$f":"0","v":0},1.7609953141667363E-2,1.4768426103147506E-2,null,770,0.99480930000000001,5.1907500000000001E-3,1.4525000000000005E-2,1.7659069999999999E-2,2.5157075916667722E-2,6.4277697411512139E-2,8146473,605827,9094168,14.469496586209155,8146473,83618190,1.4396751004125003E-2,11.979628789350627,null,0,0,null,1.5675483400000002E-2]
[774,5.3644499999999998E-3,1.7927599999999998E-2,596309.9,8094023,81109220,8094023,81109220,1.5026999999999999E-2,1.5604337200000002E-2,14.367760461744249,{"$f":"0","v":0},0,11.888458970295625,{"$f":"0","v":0},0,{"$f":"0","v":0},1.5094245550000718E-2,1.4892300977399998E-2,null,771,0.99476580000000003,5.2341749999999998E-3,1.4650499999999999E-2,1.7726200000000001E-2,2.2641368325001077E-2,6.4048997604254213E-2,8133360,603447.80000000005,9043286,14.444361950887329,8133360,82990940,1.4520651153449998E-2,11.957178052834641,null,0,0,null,1.5657696850000003E-2]
[775,5.4078750000000004E-3,1.799473E-2,593930.69999999995,8080911,80481980,8080911,80481980,1.5152499999999992E-2,1.5586550650000003E-2,14.341815530835502,{"$f":"0","v":0},0,11.865089306425425,{"$f":"0","v":0},0,{"$f":"0","v":0},1.2578537958334076E-2,1.5016167426837491E-2,null,772,0.99472240000000001,5.2776000000000003E-3,1.4775999999999992E-2,1.779333E-2,2.0125660733334431E-2,6.3821111510056122E-2,8120248,601068.5,8992404,14.419030824551058,8120248,82363700,1.4644542877959993E-2,11.934497015759494,null,0,0,null,1.5639910300000004E-2]
[776,5.4513000000000001E-3,1.8061870000000001E-2,591551.4,8067799,79854740,8067799,79854740,1.5278000000000007E-2,1.55687641E-2,14.315662721785461,{"$f":"0","v":0},0,11.84148476995742,{"$f":"0","v":0},0,{"$f":"0","v":0},1.0062830366667001E-2,1.5140025375070008E-2,null,773,0.99467899999999998,5.3210250000000001E-3,1.4901500000000005E-2,1.786047E-2,1.7609953141667363E-2,6.3594036233729834E-2,8107136,598689.19999999995,8941521,14.393496686873036,8107136,81736460,1.4768426103147506E-2,11.911595126138884,null,0,0,null,1.5622123750000001E-2]
[777,5.4947249999999998E-3,1.8128999999999999E-2,589172.1,8054687,79227500,8054687,79227500,1.5403499999999999E-2,1.5550977550000001E-2,14.289300380143596,{"$f":"0","v":0},0,11.817635208292874,{"$f":"0","v":0},0,{"$f":"0","v":0},7.5471227750003589E-3,1.5263874974249999E-2,null,774,0.99463550000000001,5.3644499999999998E-3,1.5026999999999999E-2,1.7927599999999998E-2,1.5094245550000718E-2,6.3367768890388379E-2,8094023,596309.9,8890639,14.367760461744249,8094023,81109220,1.4892300977399998E-2,11.888458970295625,null,0,0,null,1.5604337200000002E-2]
[778,5.5381500000000004E-3,1.8196130000000001E-2,586792.9,8041574,78600260,8041574,78600260,1.5528999999999991E-2,1.5533191000000002E-2,14.262721729989121,{"$f":"0","v":0},0,11.793541183929401,{"$f":"0","v":0},0,{"$f":"0","v":0},5.0314151833337172E-3,1.5387716148614991E-2,null,775,0.99459209999999998,5.4078750000000004E-3,1.5152499999999992E-2,1.799473E-2,1.2578537958334076E-2,6.3142306605409246E-2,8080911,593930.69999999995,8839757,14.341815530835502,8080911,80481980,1.5016167426837491E-2,11.865089306425425,null,0,0,null,1.5586550650000003E-2]
[779,5.5815750000000001E-3,1.8263270000000002E-2,584413.6,8028462,77973010,8028462,77973010,1.5654500000000005E-2,1.5515404449999999E-2,14.235927489253045,{"$f":"0","v":0},0,11.769201162108526,{"$f":"0","v":0},0,{"$f":"0","v":0},2.5157075916666417E-3,1.5511548819892505E-2,null,776,0.99454869999999995,5.4513000000000001E-3,1.5278000000000007E-2,1.8061870000000001E-2,1.0062830366667001E-2,6.2917646514397782E-2,8067799,591551.4,8788874,14.315662721785461,8067799,79854740,1.5140025375070008E-2,11.84148476995742,null,0,0,null,1.55687641E-2]
[780,5.6249999999999998E-3,1.83304E-2,582034.30000000005,8015350,77345770,8015350,77345770,1.5779999999999999E-2,1.54976179E-2,14.208915902092597,{"$f":"0","v":0},0,11.744604680466191,{"$f":"0","v":0},0,{"$f":"0","v":0},0,1.5635373144E-2,null,777,0.99450530000000004,5.4947249999999998E-3,1.5403499999999999E-2,1.8128999999999999E-2,7.5471227750003589E-3,6.2693785763150822E-2,8054687,589172.1,8737992,14.289300380143596,8054687,79227500,1.5263874974249999E-2,11.817635208292874,null,0,0,null,1.5550977550000001E-2]
[781,5.6721000000000002E-3,1.8402669999999999E-2,579742.1,8001149,76944600,8001149,76944600,1.594149999999999E-2,1.5478014933333334E-2,14.183574091249657,{"$f":"0","v":0},0,11.722010106228408,{"$f":"0","v":0},0,{"$f":"0","v":0},0,1.579481691809749E-2,null,778,0.99446179999999995,5.5381500000000004E-3,1.5528999999999991E-2,1.8196130000000001E-2,5.0314151833337172E-3,6.2470721507620494E-2,8041574,586792.9,8687110,14.262721729989121,8041574,78600260,1.5387716148614991E-2,11.793541183929401,null,0,0,null,1.5533191000000002E-2]
[782,5.7191999999999998E-3,1.8474930000000001E-2,577449.9,7986948,76543420,7986948,76543420,1.610300000000001E-2,1.5458411966666667E-2,14.158031090662584,{"$f":"0","v":0},0,11.699189478917503,{"$f":"0","v":0},0,{"$f":"0","v":0},0,1.595424910110501E-2,null,779,0.99441840000000004,5.5815750000000001E-3,1.5654500000000005E-2,1.8263270000000002E-2,2.5157075916666417E-3,6.2248450913878012E-2,8028462,584413.6,8636227,14.235927489253045,8028462,77973010,1.5511548819892505E-2,11.769201162108526,null,0,0,null,1.5515404449999999E-2]
[783,5.7663000000000002E-3,1.85472E-2,575157.6,7972747,76142260,7972747,76142260,1.6264500000000001E-2,1.5438809000000001E-2,14.132287046193948,{"$f":"0","v":0},0,11.676138719357068,{"$f":"0","v":0},0,{"$f":"0","v":0},0,1.6113669532800003E-2,null,780,0.99437500000000001,5.6249999999999998E-3,1.5779999999999999E-2,1.83304E-2,0,6.202697115807769E-2,8015350,582034.30000000005,8585345,14.208915902092597,8015350,77345770,1.5635373144E-2,11.744604680466191,null,0,0,null,1.54976179E-2]
[784,5.8133999999999998E-3,1.8619469999999999E-2,572865.4,7958547,75741090,7958547,75741090,1.6425999999999989E-2,1.5419206033333336E-2,14.106334417008487,{"$f":"0","v":0},0,11.65285569228447,{"$f":"0","v":0},0,{"$f":"0","v":0},0,1.627307829288999E-2,null,781,0.99432790000000004,5.6721000000000002E-3,1.594149999999999E-2,1.8402669999999999E-2,0,6.1806279426421099E-2,8001149,579742.1,8536842,14.183574091249657,8001149,76944600,1.579481691809749E-2,11.722010106228408,null,0,0,null,1.5478014933333334E-2]
[785,5.8605000000000003E-3,1.869173E-2,570573.1,7944346,75339920,7944346,75339920,1.6587500000000008E-2,1.5399603066666668E-2,14.080175828186317,{"$f":"0","v":0},0,11.629336175378521,{"$f":"0","v":0},0,{"$f":"0","v":0},0,1.6432475464312507E-2,null,782,0.99428079999999996,5.7191999999999998E-3,1.610300000000001E-2,1.8474930000000001E-2,0,6.1586372915121257E-2,7986948,577449.9,8488339,14.158031090662584,7986948,76543420,1.595424910110501E-2,11.699189478917503,null,0,0,null,1.5458411966666667E-2]
[786,5.9075999999999998E-3,1.8763999999999999E-2,568280.9,7930145,74938750,7930145,74938750,1.6749E-2,1.5380000100000003E-2,14.053803636839927,{"$f":"0","v":0},0,11.605579613100712,{"$f":"0","v":0},0,{"$f":"0","v":0},0,1.6591860882000001E-2,null,783,0.9942337,5.7663000000000002E-3,1.6264500000000001E-2,1.85472E-2,0,6.136724883036708E-2,7972747,575157.6,8439836,14.132287046193948,7972747,76142260,1.6113669532800003E-2,11.676138719357068,null,0,0,null,1.5438809000000001E-2]
[787,5.9547009999999997E-3,1.8836269999999999E-2,565988.69999999995,7915944,74537580,7915944,74537580,1.6910499999999992E-2,1.5360397133333337E-2,14.02721960261751,{"$f":"0","v":0},0,11.581576193447818,{"$f":"0","v":0},0,{"$f":"0","v":0},0,1.6751234628082493E-2,null,784,0.99418660000000003,5.8133999999999998E-3,1.6425999999999989E-2,1.8619469999999999E-2,0,6.114890438828785E-2,7958547,572865.4,8391333,14.106334417008487,7958547,75741090,1.627307829288999E-2,11.65285569228447,null,0,0,null,1.5419206033333336E-2]
[788,6.0017999999999998E-3,1.890853E-2,563696.4,7901743,74136410,7901743,74136410,1.7072000000000011E-2,1.534079416666667E-2,14.000420172986736,{"$f":"0","v":0},0,11.557321446990965,{"$f":"0","v":0},0,{"$f":"0","v":0},0,1.691059678792001E-2,null,785,0.99413949999999995,5.8605000000000003E-3,1.6587500000000008E-2,1.869173E-2,0,6.093133681491783E-2,7944346,570573.1,8342830,14.080175828186317,7944346,75339920,1.6432475464312507E-2,11.629336175378521,null,0,0,null,1.5399603066666668E-2]
[789,6.0489000000000003E-3,1.8980799999999999E-2,561404.19999999995,7887543,73735240,7887543,73735240,1.7233499999999999E-2,1.5321191200000004E-2,13.973399305408357,{"$f":"0","v":0},0,11.532822120814521,{"$f":"0","v":0},0,{"$f":"0","v":0},0,1.7069947191599998E-2,null,786,0.99409239999999999,5.9075999999999998E-3,1.6749E-2,1.8763999999999999E-2,0,6.0714543346161068E-2,7930145,568280.9,8294327,14.053803636839927,7930145,74938750,1.6591860882000001E-2,11.605579613100712,null,0,0,null,1.5380000100000003E-2]
[790,6.0959999999999999E-3,1.9053069999999998E-2,559112,7873342,73334060,7873342,73334060,1.739499999999999E-2,1.5301588233333338E-2,13.946156882103526,{"$f":"0","v":0},0,11.508064337339869,{"$f":"0","v":0},0,{"$f":"0","v":0},0,1.7229285923674991E-2,null,787,0.99404530000000002,5.9547009999999997E-3,1.6910499999999992E-2,1.8836269999999999E-2,0,6.049852122775623E-2,7915944,565988.69999999995,8245825,14.02721960261751,7915944,74537580,1.6751234628082493E-2,11.581576193447818,null,0,0,null,1.5360397133333337E-2]
[791,6.1431009999999998E-3,1.9125329999999999E-2,556819.80000000005,7859141,72932900,7859141,72932900,1.755650000000001E-2,1.5281985266666671E-2,13.918690166908576,{"$f":"0","v":0},0,11.483047181268445,{"$f":"0","v":0},0,{"$f":"0","v":0},0,1.738861307192751E-2,null,788,0.99399820000000005,6.0017999999999998E-3,1.7072000000000011E-2,1.890853E-2,0,6.0283267715241638E-2,7901743,563696.4,8197322,14.000420172986736,7901743,74136410,1.691059678792001E-2,11.557321446990965,null,0,0,null,1.534079416666667E-2]
[792,6.1901999999999999E-3,1.9197599999999999E-2,554527.5,7844940,72531730,7844940,72531730,1.7718000000000001E-2,1.5262382300000005E-2,13.890998981114553,{"$f":"0","v":0},0,11.457769718022607,{"$f":"0","v":0},0,{"$f":"0","v":0},0,1.7547928461600002E-2,null,789,0.99395109999999998,6.0489000000000003E-3,1.7233499999999999E-2,1.8980799999999999E-2,0,6.0068780073920421E-2,7887543,561404.19999999995,8148819,13.973399305408357,7887543,73735240,1.7069947191599998E-2,11.532822120814521,null,0,0,null,1.5321191200000004E-2]
[793,6.2409750000000002E-3,1.9275529999999999E-2,552318.6,7829422,72141180,7829422,72141180,1.7101000000000036E-2,1.5240962916666673E-2,13.865052571106606,{"$f":"0","v":0},0,11.434579521569084,{"$f":"0","v":0},0,{"$f":"0","v":0},0,1.6936184580735036E-2,null,790,0.99390400000000001,6.0959999999999999E-3,1.739499999999999E-2,1.9053069999999998E-2,0,5.9855055578825742E-2,7873342,559112,8100316,13.946156882103526,7873342,73334060,1.7229285923674991E-2,11.508064337339869,null,0,0,null,1.5301588233333338E-2]
[794,6.2917499999999996E-3,1.9353470000000001E-2,550109.6,7813903,71750620,7813903,71750620,1.6483999999999967E-2,1.5219543533333336E-2,13.838900405785806,{"$f":"0","v":0},0,11.41115404276392,{"$f":"0","v":0},0,{"$f":"0","v":0},0,1.6324488700259966E-2,null,791,0.99385690000000004,6.1431009999999998E-3,1.755650000000001E-2,1.9125329999999999E-2,0,5.9642091514686156E-2,7859141,556819.80000000005,8051813,13.918690166908576,7859141,72932900,1.738861307192751E-2,11.483047181268445,null,0,0,null,1.5281985266666671E-2]
[795,6.3425249999999999E-3,1.9431400000000001E-2,547900.80000000005,7798384,71360080,7798384,71360080,1.5866999999999999E-2,1.5198124150000004E-2,13.812533947751126,{"$f":"0","v":0},0,11.387489682669916,{"$f":"0","v":0},0,{"$f":"0","v":0},0,1.57128409881E-2,null,792,0.99380979999999997,6.1901999999999999E-3,1.7718000000000001E-2,1.9197599999999999E-2,0,5.9429885175891171E-2,7844940,554527.5,8003310,13.890998981114553,7844940,72531730,1.7547928461600002E-2,11.457769718022607,null,0,0,null,1.5262382300000005E-2]
[796,6.3933000000000002E-3,1.9509329999999998E-2,545691.80000000005,7782866,70969530,7782866,70969530,1.5250000000000036E-2,1.5176704766666672E-2,13.785957461091895,{"$f":"0","v":0},0,11.363589838847149,{"$f":"0","v":0},0,{"$f":"0","v":0},0,1.5101241358750036E-2,null,793,0.99375899999999995,6.2409750000000002E-3,1.7101000000000036E-2,1.9275529999999999E-2,0,5.9218433866456845E-2,7829422,552318.6,7957099,13.865052571106606,7829422,72141180,1.6936184580735036E-2,11.434579521569084,null,0,0,null,1.5240962916666673E-2]
[797,6.4440749999999996E-3,1.958727E-2,543482.9,7767347,70578980,7767347,70578980,1.4632999999999965E-2,1.5155285383333335E-2,13.759162301457261,{"$f":"0","v":0},0,11.339436650942682,{"$f":"0","v":0},0,{"$f":"0","v":0},0,1.4489689739044966E-2,null,794,0.99370829999999999,6.2917499999999996E-3,1.6483999999999967E-2,1.9353470000000001E-2,0,5.9007734899991546E-2,7813903,550109.6,7910888,13.838900405785806,7813903,71750620,1.6324488700259966E-2,11.41115404276392,null,0,0,null,1.5219543533333336E-2]
[798,6.4948499999999999E-3,1.9665200000000001E-2,541273.9,7751828,70188430,7751828,70188430,1.4016000000000001E-2,1.5133866000000003E-2,13.732152928181709,{"$f":"0","v":0},0,11.315033334833434,{"$f":"0","v":0},0,{"$f":"0","v":0},0,1.3878186278400002E-2,null,795,0.99365749999999997,6.3425249999999999E-3,1.5866999999999999E-2,1.9431400000000001E-2,0,5.8797785599661784E-2,7798384,547900.80000000005,7864678,13.812533947751126,7798384,71360080,1.57128409881E-2,11.387489682669916,null,0,0,null,1.5198124150000004E-2]
[799,6.5456250000000002E-3,1.9743130000000001E-2,539065,7736310,69797880,7736310,69797880,1.3399000000000036E-2,1.5112446616666671E-2,13.704917697000052,{"$f":"0","v":0},0,11.290379863455609,{"$f":"0","v":0},0,{"$f":"0","v":0},0,1.3266730900565037E-2,null,796,0.99360669999999995,6.3933000000000002E-3,1.5250000000000036E-2,1.9509329999999998E-2,0,5.8588583298158255E-2,7782866,545691.80000000005,7818467,13.785957461091895,7782866,70969530,1.5101241358750036E-2,11.363589838847149,null,0,0,null,1.5176704766666672E-2]
[800,6.5963999999999997E-3,1.982107E-2,536856.1,7720791,69407330,7720791,69407330,1.2781999999999965E-2,1.5091027233333333E-2,13.677458346535197,{"$f":"0","v":0},0,11.265467799451129,{"$f":"0","v":0},0,{"$f":"0","v":0},0,1.2655323541629964E-2,null,797,0.99355590000000005,6.4440749999999996E-3,1.4632999999999965E-2,1.958727E-2,0,5.8380125337661938E-2,7767347,543482.9,7772256,13.759162301457261,7767347,70578980,1.4489689739044966E-2,11.339436650942682,null,0,0,null,1.5155285383333335E-2]
[801,6.647175E-3,1.9899E-2,534647.1,7705272,69016780,7705272,69016780,1.2165E-2,1.5069607850000001E-2,13.649776623683175,{"$f":"0","v":0},0,11.240290364988343,{"$f":"0","v":0},0,{"$f":"0","v":0},0,1.2043964332500001E-2,null,798,0.99350510000000003,6.4948499999999999E-3,1.4016000000000001E-2,1.9665200000000001E-2,0,5.8172409069810284E-2,7751828,541273.9,7726046,13.732152928181709,7751828,70188430,1.3878186278400002E-2,11.315033334833434,null,0,0,null,1.5133866000000003E-2]
[802,6.6979500000000003E-3,1.997693E-2,532438.30000000005,7689754,68626220,7689754,68626220,1.1548000000000036E-2,1.5048188466666669E-2,13.62185800839897,{"$f":"0","v":0},0,11.214846680712858,{"$f":"0","v":0},0,{"$f":"0","v":0},0,1.1432653206180036E-2,null,799,0.99345439999999996,6.5456250000000002E-3,1.3399000000000036E-2,1.9743130000000001E-2,0,5.7965431855663642E-2,7736310,539065,7679835,13.704917697000052,7736310,69797880,1.3266730900565037E-2,11.290379863455609,null,0,0,null,1.5112446616666671E-2]
[803,6.7487249999999997E-3,2.0054869999999999E-2,530229.30000000005,7674235,68235680,7674235,68235680,1.0930999999999965E-2,1.5026769083333332E-2,13.59371212134071,{"$f":"0","v":0},0,11.189136428004701,{"$f":"0","v":0},0,{"$f":"0","v":0},0,1.0821390108014965E-2,null,800,0.99340360000000005,6.5963999999999997E-3,1.2781999999999965E-2,1.982107E-2,0,5.7759191065671713E-2,7720791,536856.1,7633624,13.677458346535197,7720791,69407330,1.2655323541629964E-2,11.265467799451129,null,0,0,null,1.5091027233333333E-2]
[804,6.7995E-3,2.0132799999999999E-2,528020.4,7658716,67845130,7658716,67845130,1.0314E-2,1.50053497E-2,13.565329956948633,{"$f":"0","v":0},0,11.163150793800378,{"$f":"0","v":0},0,{"$f":"0","v":0},0,1.02101751504E-2,null,801,0.99335280000000004,6.647175E-3,1.2165E-2,1.9899E-2,0,5.7553684079640087E-2,7705272,534647.1,7587414,13.649776623683175,7705272,69016780,1.2043964332500001E-2,11.240290364988343,null,0,0,null,1.5069607850000001E-2]
[805,6.8544000000000001E-3,2.0216669999999999E-2,525891.4,7647860,67516260,7647860,67516260,1.0451999999999993E-2,1.4982113900000002E-2,13.538768951789919,{"$f":"0","v":0},0,11.1393507995526,{"$f":"0","v":0},0,{"$f":"0","v":0},0,1.0346347682579993E-2,null,802,0.99330200000000002,6.6979500000000003E-3,1.1548000000000036E-2,1.997693E-2,0,5.7348908286697003E-2,7689754,532438.30000000005,7541203,13.62185800839897,7689754,68626220,1.1432653206180036E-2,11.214846680712858,null,0,0,null,1.5048188466666669E-2]
[806,6.9093000000000002E-3,2.0300530000000001E-2,523762.3,7637004,67187390,7637004,67187390,1.0590000000000007E-2,1.49588781E-2,13.51199469842204,{"$f":"0","v":0},0,11.115305708512956,{"$f":"0","v":0},0,{"$f":"0","v":0},0,1.0482508693650007E-2,null,803,0.99325129999999995,6.7487249999999997E-3,1.0930999999999965E-2,2.0054869999999999E-2,0,5.7144861085260207E-2,7674235,530229.30000000005,7494992,13.59371212134071,7674235,68235680,1.0821390108014965E-2,11.189136428004701,null,0,0,null,1.5026769083333332E-2]
[807,6.9642000000000003E-3,2.03844E-2,521633.3,7626148,66858530,7626148,66858530,1.0728E-2,1.4935642300000001E-2,13.484999192280606,{"$f":"0","v":0},0,11.091011715006765,{"$f":"0","v":0},0,{"$f":"0","v":0},0,1.06186580784E-2,null,804,0.99320050000000004,6.7995E-3,1.0314E-2,2.0132799999999999E-2,0,5.6941539883003836E-2,7658716,528020.4,7448782,13.565329956948633,7658716,67845130,1.02101751504E-2,11.163150793800378,null,0,0,null,1.50053497E-2]
[808,7.0191000000000003E-3,2.046827E-2,519504.3,7615292,66529660,7615292,66529660,1.0865999999999992E-2,1.4912406500000003E-2,13.457784348464489,{"$f":"0","v":0},0,11.06646892236096,{"$f":"0","v":0},0,{"$f":"0","v":0},0,1.0754795889089992E-2,null,805,0.99314559999999996,6.8544000000000001E-3,1.0451999999999993E-2,2.0216669999999999E-2,0,5.67389420968255E-2,7647860,525891.4,7404780,13.538768951789919,7647860,67516260,1.0346347682579993E-2,11.1393507995526,null,0,0,null,1.4982113900000002E-2]
[809,7.0740000000000004E-3,2.0552129999999998E-2,517375.2,7604436,66200800,7604436,66200800,1.1004000000000009E-2,1.4889170700000001E-2,13.430346294140113,{"$f":"0","v":0},0,11.041665400323357,{"$f":"0","v":0},0,{"$f":"0","v":0},0,1.0890922180740009E-2,null,806,0.99309069999999999,6.9093000000000002E-3,1.0590000000000007E-2,2.0300530000000001E-2,0,5.653706515281353E-2,7637004,523762.3,7360778,13.51199469842204,7637004,67187390,1.0482508693650007E-2,11.115305708512956,null,0,0,null,1.49588781E-2]
[810,7.1288999999999996E-3,2.0636000000000002E-2,515246.2,7593580,65871930,7593580,65871930,1.1141999999999999E-2,1.4865934900000002E-2,13.40267877440597,{"$f":"0","v":0},0,11.016601075292337,{"$f":"0","v":0},0,{"$f":"0","v":0},0,1.1027036843999999E-2,null,807,0.99303580000000002,6.9642000000000003E-3,1.0728E-2,2.03844E-2,0,5.6335906486214157E-2,7626148,521633.3,7316776,13.484999192280606,7626148,66858530,1.06186580784E-2,11.091011715006765,null,0,0,null,1.4935642300000001E-2]
[811,7.1837999999999997E-3,2.0719870000000001E-2,513117.2,7582724,65543060,7582724,65543060,1.1279999999999991E-2,1.4842699100000004E-2,13.374781661317662,{"$f":"0","v":0},0,10.991271812107865,{"$f":"0","v":0},0,{"$f":"0","v":0},0,1.1163139933199992E-2,null,808,0.99298090000000006,7.0191000000000003E-3,1.0865999999999992E-2,2.046827E-2,0,5.6135463541399047E-2,7615292,519504.3,7272775,13.457784348464489,7615292,66529660,1.0754795889089992E-2,11.06646892236096,null,0,0,null,1.4912406500000003E-2]
[812,7.2386999999999998E-3,2.0803729999999999E-2,510988.2,7571868,65214200,7571868,65214200,1.1418000000000008E-2,1.4819463300000002E-2,13.346654042108996,{"$f":"0","v":0},0,10.965673387725419,{"$f":"0","v":0},0,{"$f":"0","v":0},0,1.1299231505430008E-2,null,809,0.99292599999999998,7.0740000000000004E-3,1.1004000000000009E-2,2.0552129999999998E-2,0,5.5935733771832766E-2,7604436,517375.2,7228773,13.430346294140113,7604436,66200800,1.0890922180740009E-2,11.041665400323357,null,0,0,null,1.4889170700000001E-2]
[813,7.2935999999999999E-3,2.0887599999999999E-2,508859.1,7561012,64885330,7561012,64885330,1.1556E-2,1.4796227500000004E-2,13.318291816929285,{"$f":"0","v":0},0,10.939805538907917,{"$f":"0","v":0},0,{"$f":"0","v":0},0,1.1435311447200001E-2,null,810,0.99287110000000001,7.1288999999999996E-3,1.1141999999999999E-2,2.0636000000000002E-2,0,5.5736714640040437E-2,7593580,515246.2,7184771,13.40267877440597,7593580,65871930,1.1027036843999999E-2,11.016601075292337,null,0,0,null,1.4865934900000002E-2]
[814,7.3484989999999997E-3,2.0971469999999999E-2,506730.1,7550156,64556460,7550156,64556460,1.1693999999999993E-2,1.4772991700000005E-2,13.289688526166758,{"$f":"0","v":0},0,10.91365577212245,{"$f":"0","v":0},0,{"$f":"0","v":0},0,1.1571379814909992E-2,null,811,0.99281620000000004,7.1837999999999997E-3,1.1279999999999991E-2,2.0719870000000001E-2,0,5.5538403617575519E-2,7582724,513117.2,7140769,13.374781661317662,7582724,65543060,1.1163139933199992E-2,10.991271812107865,null,0,0,null,1.4842699100000004E-2]
[815,7.4033989999999997E-3,2.1055330000000001E-2,504601.1,7539300,64227600,7539300,64227600,1.1832000000000007E-2,1.4749755900000003E-2,13.260843870864862,{"$f":"0","v":0},0,10.887227189428479,{"$f":"0","v":0},0,{"$f":"0","v":0},0,1.1707436667720008E-2,null,812,0.99276129999999996,7.2386999999999998E-3,1.1418000000000008E-2,2.0803729999999999E-2,0,5.5340798184987675E-2,7571868,510988.2,7096768,13.346654042108996,7571868,65214200,1.1299231505430008E-2,10.965673387725419,null,0,0,null,1.4819463300000002E-2]
[816,7.4582989999999998E-3,2.11392E-2,502472,7528444,63898730,7528444,63898730,1.197E-2,1.4726520100000005E-2,13.23175951429466,{"$f":"0","v":0},0,10.860508080256947,{"$f":"0","v":0},0,{"$f":"0","v":0},0,1.1843481888000001E-2,null,813,0.99270639999999999,7.2935999999999999E-3,1.1556E-2,2.0887599999999999E-2,0,5.5143895831790746E-2,7561012,508859.1,7052766,13.318291816929285,7561012,64885330,1.1435311447200001E-2,10.939805538907917,null,0,0,null,1.4796227500000004E-2]
[817,7.5194240000000002E-3,2.1229600000000001E-2,500419.6,7516334,63577300,7516334,63577300,1.2127499999999991E-2,1.4701467883333338E-2,13.204573488595038,{"$f":"0","v":0},0,10.836075507930898,{"$f":"0","v":0},0,{"$f":"0","v":0},0,1.1998769012999991E-2,null,814,0.99265150000000002,7.3484989999999997E-3,1.1693999999999993E-2,2.0971469999999999E-2,0,5.49476940564309E-2,7550156,506730.1,7008764,13.289688526166758,7550156,64556460,1.1571379814909992E-2,10.91365577212245,null,0,0,null,1.4772991700000005E-2]
[818,7.5805489999999998E-3,2.1319999999999999E-2,498367.2,7504225,63255860,7504225,63255860,1.2285000000000008E-2,1.467641566666667E-2,13.177163545273444,{"$f":"0","v":0},0,10.811391428502088,{"$f":"0","v":0},0,{"$f":"0","v":0},0,1.2154041900000008E-2,null,815,0.99259660000000005,7.4033989999999997E-3,1.1832000000000007E-2,2.1055330000000001E-2,0,5.4752190366254803E-2,7539300,504601.1,6964762,13.260843870864862,7539300,64227600,1.1707436667720008E-2,10.887227189428479,null,0,0,null,1.4749755900000003E-2]
[819,7.6416740000000002E-3,2.14104E-2,496314.7,7492116,62934430,7492116,62934430,1.2442499999999999E-2,1.4651363450000003E-2,13.149531679866289,{"$f":"0","v":0},0,10.78644723825477,{"$f":"0","v":0},0,{"$f":"0","v":0},0,1.2309300548999999E-2,null,816,0.99254169999999997,7.4582989999999998E-3,1.197E-2,2.11392E-2,0,5.4557382277477973E-2,7528444,502472,6920761,13.23175951429466,7528444,63898730,1.1843481888000001E-2,10.860508080256947,null,0,0,null,1.4726520100000005E-2]
[820,7.7028000000000001E-3,2.15008E-2,494262.3,7480006,62613000,7480006,62613000,1.259999999999999E-2,1.4626311233333337E-2,13.121665535688237,{"$f":"0","v":0},0,10.761235655652438,{"$f":"0","v":0},0,{"$f":"0","v":0},0,1.2464544959999989E-2,null,817,0.99248060000000005,7.5194240000000002E-3,1.2127499999999991E-2,2.1229600000000001E-2,0,5.4363267315153237E-2,7516334,500419.6,6878888,13.204573488595038,7516334,63577300,1.1998769012999991E-2,10.836075507930898,null,0,0,null,1.4701467883333338E-2]
[821,7.7639249999999996E-3,2.1591200000000001E-2,492209.8,7467897,62291570,7467897,62291570,1.2757500000000008E-2,1.4601259016666668E-2,13.093569771128761,{"$f":"0","v":0},0,10.73575977783568,{"$f":"0","v":0},0,{"$f":"0","v":0},0,1.2619775133000008E-2,null,818,0.99241939999999995,7.5805489999999998E-3,1.2285000000000008E-2,2.1319999999999999E-2,0,5.416984301313927E-2,7504225,498367.2,6837015,13.177163545273444,7504225,63255860,1.2154041900000008E-2,10.811391428502088,null,0,0,null,1.467641566666667E-2]
[822,7.8250500000000001E-3,2.1681599999999999E-2,490157.4,7455787,61970140,7455787,61970140,1.2914999999999999E-2,1.4576206800000002E-2,13.065237972536986,{"$f":"0","v":0},0,10.710007968816848,{"$f":"0","v":0},0,{"$f":"0","v":0},0,1.2774991067999999E-2,null,819,0.99235830000000003,7.6416740000000002E-3,1.2442499999999999E-2,2.14104E-2,0,5.3977106914069262E-2,7492116,496314.7,6795143,13.149531679866289,7492116,62934430,1.2309300548999999E-2,10.78644723825477,null,0,0,null,1.4651363450000003E-2]
[823,7.8861750000000005E-3,2.1772E-2,488104.9,7443678,61648710,7443678,61648710,1.307249999999999E-2,1.4551154583333335E-2,13.036668646090899,{"$f":"0","v":0},0,10.683987397018409,{"$f":"0","v":0},0,{"$f":"0","v":0},0,1.2930192764999991E-2,null,820,0.99229719999999999,7.7028000000000001E-3,1.259999999999999E-2,2.15008E-2,0,5.3785056569319707E-2,7480006,494262.3,6753270,13.121665535688237,7480006,62613000,1.2464544959999989E-2,10.761235655652438,null,0,0,null,1.4626311233333337E-2]
[824,7.9472999999999992E-3,2.1862400000000001E-2,486052.5,7431569,61327280,7431569,61327280,1.3230000000000009E-2,1.4526102366666667E-2,13.007855247118368,{"$f":"0","v":0},0,10.657677822223153,{"$f":"0","v":0},0,{"$f":"0","v":0},0,1.3085380224000008E-2,null,821,0.99223609999999995,7.7639249999999996E-3,1.2757500000000008E-2,2.1591200000000001E-2,0,5.3593689538979292E-2,7467897,492209.8,6711397,13.093569771128761,7467897,62291570,1.2619775133000008E-2,10.73575977783568,null,0,0,null,1.4601259016666668E-2]
[825,8.0084240000000001E-3,2.1952800000000001E-2,484000.1,7419459,61005840,7419459,61005840,1.33875E-2,1.450105015E-2,12.978799548113042,{"$f":"0","v":0},0,10.631082527449678,{"$f":"0","v":0},0,{"$f":"0","v":0},0,1.3240553445000001E-2,null,822,0.99217489999999997,7.8250500000000001E-3,1.2914999999999999E-2,2.1681599999999999E-2,0,5.340300339181793E-2,7455787,490157.4,6669525,13.065237972536986,7455787,61970140,1.2774991067999999E-2,10.710007968816848,null,0,0,null,1.4576206800000002E-2]
[826,8.06955E-3,2.2043199999999999E-2,481947.6,7407350,60684410,7407350,60684410,1.3544999999999991E-2,1.4475997933333335E-2,12.94949710300456,{"$f":"0","v":0},0,10.604200613570999,{"$f":"0","v":0},0,{"$f":"0","v":0},0,1.3395712427999992E-2,null,823,0.99211380000000005,7.8861750000000005E-3,1.307249999999999E-2,2.1772E-2,0,5.3212995705255769E-2,7443678,488104.9,6627652,13.036668646090899,7443678,61648710,1.2930192764999991E-2,10.683987397018409,null,0,0,null,1.4551154583333335E-2]
[827,8.1306750000000004E-3,2.21336E-2,479895.2,7395241,60362980,7395241,60362980,1.3702500000000008E-2,1.4450945716666663E-2,12.919941201051119,{"$f":"0","v":0},0,10.577019757565484,{"$f":"0","v":0},0,{"$f":"0","v":0},0,1.3550857173000008E-2,null,824,0.99205270000000001,7.9472999999999992E-3,1.3230000000000009E-2,2.1862400000000001E-2,0,5.3023664065332571E-2,7431569,486052.5,6585779,13.007855247118368,7431569,61327280,1.3085380224000008E-2,10.657677822223153,null,0,0,null,1.4526102366666667E-2]
[828,8.1918000000000008E-3,2.2224000000000001E-2,477842.7,7383131,60041550,7383131,60041550,1.3859999999999999E-2,1.4425893499999998E-2,12.890136309501013,{"$f":"0","v":0},0,10.549542653792935,{"$f":"0","v":0},0,{"$f":"0","v":0},0,1.3705987679999998E-2,null,825,0.99199159999999997,8.0084240000000001E-3,1.33875E-2,2.1952800000000001E-2,0,5.283500606667689E-2,7419459,484000.1,6543907,12.978799548113042,7419459,61005840,1.3240553445000001E-2,10.631082527449678,null,0,0,null,1.450105015E-2]
[829,8.2616990000000008E-3,2.232133E-2,475862.9,7369658,59727080,7369658,59727080,1.4039499999999989E-2,1.4399024866666667E-2,12.862338982859699,{"$f":"0","v":0},0,10.524457067150731,{"$f":"0","v":0},0,{"$f":"0","v":0},0,1.388280984373249E-2,null,826,0.99193039999999999,8.06955E-3,1.3544999999999991E-2,2.2043199999999999E-2,0,5.2647019312475639E-2,7407350,481947.6,6502034,12.94949710300456,7407350,60684410,1.3395712427999992E-2,10.604200613570999,null,0,0,null,1.4475997933333335E-2]
[830,8.3315999999999998E-3,2.2418670000000002E-2,473883.1,7356185,59412600,7356185,59412600,1.4219000000000009E-2,1.4372156233333332E-2,12.834307281338655,{"$f":"0","v":0},0,10.499108443642308,{"$f":"0","v":0},0,{"$f":"0","v":0},0,1.405961446563501E-2,null,827,0.99186929999999995,8.1306750000000004E-3,1.3702500000000008E-2,2.21336E-2,0,5.2459701414443553E-2,7395241,479895.2,6460161,12.919941201051119,7395241,60362980,1.3550857173000008E-2,10.577019757565484,null,0,0,null,1.4450945716666663E-2]
[831,8.4014999999999992E-3,2.2516000000000001E-2,471903.3,7342713,59098130,7342713,59098130,1.4398499999999998E-2,1.4345287600000001E-2,12.806042493239612,{"$f":"0","v":0},0,10.473480517577343,{"$f":"0","v":0},0,{"$f":"0","v":0},0,1.4236401686999998E-2,null,828,0.99180820000000003,8.1918000000000008E-3,1.3859999999999999E-2,2.2224000000000001E-2,0,5.2273049992792857E-2,7383131,477842.7,6418289,12.890136309501013,7383131,60041550,1.3705987679999998E-2,10.549542653792935,null,0,0,null,1.4425893499999998E-2]
[832,{"$f":"W837","v":8.4714000000000005E-3},{"$f":"Y837","v":2.2613330000000001E-2},{"$f":"AC837","v":469923.4},{"$f":"AF837","v":7329240},{"$f":"AG837","v":58783650},{"$f":"E834","v":7329240},{"$f":"F834","v":58783650},{"$f":"X837","v":1.4577999999999989E-2},{"$f":"AN837","v":1.431841896666667E-2},{"$f":"AE837","v":12.777542378892674},{"$f":"0","v":0},{"$f":"AL837","v":0},{"$f":"AI837","v":10.447585204699392},{"$f":"0","v":0},{"$f":"AK837","v":0},{"$f":"0","v":0},{"$f":"Z837","v":0},{"$f":"AH837","v":1.4413171437629988E-2},null,829,0.99173829999999996,8.2616990000000008E-3,1.4039499999999989E-2,2.232133E-2,0,5.208706267620309E-2,7369658,475862.9,6378469,12.862338982859699,7369658,59727080,1.388280984373249E-2,10.524457067150731,null,0,0,null,1.4399024866666667E-2]
[833,8.5412990000000005E-3,2.2710669999999999E-2,467943.6,7315767,58469180,7315767,58469180,1.4757500000000008E-2,1.4291550333333335E-2,12.748798252609932,{"$f":"0","v":0},0,10.421405982848944,{"$f":"0","v":0},0,{"$f":"0","v":0},0,1.4589923643737509E-2,null,830,0.99166840000000001,8.3315999999999998E-3,1.4219000000000009E-2,2.2418670000000002E-2,0,5.190173710179094E-2,7356185,473883.1,6338648,12.834307281338655,7356185,59412600,1.405961446563501E-2,10.499108443642308,null,0,0,null,1.4372156233333332E-2]
[834,8.6111989999999999E-3,2.2807999999999998E-2,465963.8,7302294,58154700,7302294,58154700,1.4936999999999999E-2,1.4264681700000004E-2,12.719809868635004,{"$f":"0","v":0},0,10.394941799852329,{"$f":"0","v":0},0,{"$f":"0","v":0},0,1.4766658452E-2,null,831,0.99159850000000005,8.4014999999999992E-3,1.4398499999999998E-2,2.2516000000000001E-2,0,5.1717070915080189E-2,7342713,471903.3,6298828,12.806042493239612,7342713,59098130,1.4236401686999998E-2,10.473480517577343,null,0,0,null,1.4345287600000001E-2]
[835,8.6811000000000006E-3,2.2905330000000002E-2,463983.9,7288821,57840230,7288821,57840230,1.5116499999999988E-2,1.4237813066666672E-2,12.690576952131313,{"$f":"0","v":0},0,10.368188737663464,{"$f":"0","v":0},0,{"$f":"0","v":0},0,1.4943375789527489E-2,null,832,0.99152859999999998,8.4714000000000005E-3,1.4577999999999989E-2,2.2613330000000001E-2,0,5.1533061769971862E-2,7329240,469923.4,6259008,12.777542378892674,7329240,58783650,1.4413171437629988E-2,10.447585204699392,null,0,0,null,1.431841896666667E-2]
[836,8.7509990000000006E-3,2.3002669999999999E-2,462004.1,7275348,57525760,7275348,57525760,1.5296000000000008E-2,1.4210944433333338E-2,12.661088460398224,{"$f":"0","v":0},0,10.341145640048302,{"$f":"0","v":0},0,{"$f":"0","v":0},0,1.5120075579840008E-2,null,833,0.99145870000000003,8.5412990000000005E-3,1.4757500000000008E-2,2.2710669999999999E-2,0,5.1349707328714411E-2,7315767,467943.6,6219188,12.748798252609932,7315767,58469180,1.4589923643737509E-2,10.421405982848944,null,0,0,null,1.4291550333333335E-2]
[837,8.8208990000000001E-3,2.3099999999999999E-2,460024.3,7261875,57211280,7261875,57211280,1.5475499999999998E-2,1.4184075800000006E-2,12.631348324063172,{"$f":"0","v":0},0,10.313795318596414,{"$f":"0","v":0},0,{"$f":"0","v":0},0,1.5296757974999999E-2,null,834,0.99138879999999996,8.6111989999999999E-3,1.4936999999999999E-2,2.2807999999999998E-2,0,5.1167005261873968E-2,7302294,465963.8,6179368,12.719809868635004,7302294,58154700,1.4766658452E-2,10.394941799852329,null,0,0,null,1.4264681700000004E-2]
[838,8.8907989999999996E-3,2.3197329999999999E-2,458044.4,7248402,56896810,7248402,56896810,1.5654999999999988E-2,1.4157207166666675E-2,12.601353966267608,{"$f":"0","v":0},0,10.286149492718568,{"$f":"0","v":0},0,{"$f":"0","v":0},0,1.547342289942499E-2,null,835,0.9913189,8.6811000000000006E-3,1.5116499999999988E-2,2.2905330000000002E-2,0,5.0984953248304793E-2,7288821,463983.9,6139548,12.690576952131313,7288821,57840230,1.4943375789527489E-2,10.368188737663464,null,0,0,null,1.4237813066666672E-2]
[839,8.9607000000000003E-3,2.329467E-2,456064.6,7234930,56582340,7234930,56582340,1.5834500000000008E-2,1.413033853333334E-2,12.571096305947302,{"$f":"0","v":0},0,10.25818629736186,{"$f":"0","v":0},0,{"$f":"0","v":0},0,1.5650070273942506E-2,null,836,0.99124900000000005,8.7509990000000006E-3,1.5296000000000008E-2,2.3002669999999999E-2,0,5.0803548975119774E-2,7275348,462004.1,6099727,12.661088460398224,7275348,57525760,1.5120075579840008E-2,10.341145640048302,null,0,0,null,1.4210944433333338E-2]
[840,9.0305990000000003E-3,2.3392E-2,454084.8,7221457,56267860,7221457,56267860,1.6013999999999997E-2,1.4103469900000009E-2,12.540574800125441,{"$f":"0","v":0},0,10.229917367488504,{"$f":"0","v":0},0,{"$f":"0","v":0},0,1.5826700255999998E-2,null,837,0.99117909999999998,8.8208990000000001E-3,1.5475499999999998E-2,2.3099999999999999E-2,0,5.0622790137661043E-2,7261875,460024.3,6059907,12.631348324063172,7261875,57211280,1.5296757974999999E-2,10.313795318596414,null,0,0,null,1.4184075800000006E-2]
[841,9.1118239999999993E-3,2.356507E-2,452173,7206498,55959860,7206498,55959860,1.6013999999999997E-2,1.4103469900000009E-2,12.512199884410023,{"$f":"0","v":0},0,10.204144213047568,{"$f":"0","v":0},0,{"$f":"0","v":0},0,1.5825314484509995E-2,null,838,0.99110920000000002,8.8907989999999996E-3,1.5654999999999988E-2,2.3197329999999999E-2,0,5.044267443947071E-2,7248402,458044.4,6020087,12.601353966267608,7248402,56896810,1.547342289942499E-2,10.286149492718568,null,0,0,null,1.4157207166666675E-2]
[842,9.1930499999999995E-3,2.373813E-2,450261.2,7191539,55651860,7191539,55651860,1.6013999999999997E-2,1.4103469900000009E-2,12.483586230984741,{"$f":"0","v":0},0,10.178100493688566,{"$f":"0","v":0},0,{"$f":"0","v":0},0,1.5823928793089997E-2,null,839,0.99103929999999996,8.9607000000000003E-3,1.5834500000000008E-2,2.329467E-2,0,5.0263199592261644E-2,7234930,456064.6,5980267,12.571096305947302,7234930,56582340,1.5650070273942506E-2,10.25818629736186,null,0,0,null,1.413033853333334E-2]
[843,9.2742740000000008E-3,2.3911200000000001E-2,448349.4,7176580,55343850,7176580,55343850,1.6013999999999997E-2,1.4103469900000009E-2,12.454726325049169,{"$f":"0","v":0},0,10.151764595628363,{"$f":"0","v":0},0,{"$f":"0","v":0},0,1.5822543021599998E-2,null,840,0.9909694,9.0305990000000003E-3,1.6013999999999997E-2,2.3392E-2,0,5.0084363315888468E-2,7221457,454084.8,5940447,12.540574800125441,7221457,56267860,1.5826700255999998E-2,10.229917367488504,null,0,0,null,1.4103469900000009E-2]
[844,9.3554989999999998E-3,2.4084270000000001E-2,446437.6,7161621,55035840,7161621,55035840,1.6013999999999997E-2,1.4103469900000009E-2,12.425621482897798,{"$f":"0","v":0},0,10.125148987344692,{"$f":"0","v":0},0,{"$f":"0","v":0},0,1.5821157250109998E-2,null,841,0.9908882,9.1118239999999993E-3,1.6013999999999997E-2,2.356507E-2,0,4.9906163338318509E-2,7206498,452173,5902606,12.512199884410023,7206498,55959860,1.5825314484509995E-2,10.204144213047568,null,0,0,null,1.4103469900000009E-2]
[845,9.436725E-3,2.4257330000000001E-2,444525.8,7146663,54727840,7146663,54727840,1.6013999999999997E-2,1.4103469900000009E-2,12.396266294704755,{"$f":"0","v":0},0,10.098231710256846,{"$f":"0","v":0},0,{"$f":"0","v":0},0,1.5819771558689997E-2,null,842,0.99080690000000005,9.1930499999999995E-3,1.6013999999999997E-2,2.373813E-2,0,4.9728597395603008E-2,7191539,450261.2,5864766,12.483586230984741,7191539,55651860,1.5823928793089997E-2,10.178100493688566,null,0,0,null,1.4103469900000009E-2]
[846,9.5179489999999995E-3,2.4430400000000001E-2,442614,7131704,54419830,7131704,54419830,1.6013999999999997E-2,1.4103469900000009E-2,12.366655257176683,{"$f":"0","v":0},0,10.071025168394701,{"$f":"0","v":0},0,{"$f":"0","v":0},0,1.5818385787199997E-2,null,843,0.99072579999999999,9.2742740000000008E-3,1.6013999999999997E-2,2.3911200000000001E-2,0,4.9551663231848342E-2,7176580,448349.4,5826925,12.454726325049169,7176580,55343850,1.5822543021599998E-2,10.151764595628363,null,0,0,null,1.4103469900000009E-2]
[847,9.5991740000000002E-3,2.4603469999999999E-2,440702.2,7116745,54111830,7116745,54111830,1.6013999999999997E-2,1.4103469900000009E-2,12.336789578843341,{"$f":"0","v":0},0,10.043507044856648,{"$f":"0","v":0},0,{"$f":"0","v":0},0,1.5817000015709997E-2,null,844,0.99064450000000004,9.3554989999999998E-3,1.6013999999999997E-2,2.4084270000000001E-2,0,4.9375358599187319E-2,7161621,446437.6,5789085,12.425621482897798,7161621,55035840,1.5821157250109998E-2,10.125148987344692,null,0,0,null,1.4103469900000009E-2]
[848,9.6804000000000005E-3,2.4776530000000001E-2,438790.40000000002,7101786,53803820,7101786,53803820,1.6013999999999997E-2,1.4103469900000009E-2,12.306661373326916,{"$f":"0","v":0},0,10.015685169326133,{"$f":"0","v":0},0,{"$f":"0","v":0},0,1.5815614324289996E-2,null,845,0.99056330000000004,9.436725E-3,1.6013999999999997E-2,2.4257330000000001E-2,0,4.9199681257750642E-2,7146663,444525.8,5751245,12.396266294704755,7146663,54727840,1.5819771558689997E-2,10.098231710256846,null,0,0,null,1.4103469900000009E-2]
[849,9.7616249999999995E-3,2.4949599999999999E-2,436878.6,7086827,53495820,7086827,53495820,1.6013999999999997E-2,1.4103469900000009E-2,12.276271772066657,{"$f":"0","v":0},0,9.9875546400476338,{"$f":"0","v":0},0,{"$f":"0","v":0},0,1.5814228552799996E-2,null,846,0.99048199999999997,9.5179489999999995E-3,1.6013999999999997E-2,2.4430400000000001E-2,0,4.9024628975638494E-2,7131704,442614,5713404,12.366655257176683,7131704,54419830,1.5818385787199997E-2,10.071025168394701,null,0,0,null,1.4103469900000009E-2]
[850,9.8428500000000002E-3,2.512267E-2,434966.8,7071868,53187820,7071868,53187820,1.6013999999999997E-2,1.4103469900000009E-2,12.245615029315648,{"$f":"0","v":0},0,9.9590968145316943,{"$f":"0","v":0},0,{"$f":"0","v":0},0,1.5812842781309996E-2,null,847,0.99040090000000003,9.5991740000000002E-3,1.6013999999999997E-2,2.4603469999999999E-2,0,4.8850199528892142E-2,7116745,440702.2,5675564,12.336789578843341,7116745,54111830,1.5817000015709997E-2,10.043507044856648,null,0,0,null,1.4103469900000009E-2]
[851,9.9240749999999992E-3,2.5295729999999999E-2,433055,7056910,52879810,7056910,52879810,1.6013999999999997E-2,1.4103469900000009E-2,12.214685297864397,{"$f":"0","v":0},0,9.9303238922214891,{"$f":"0","v":0},0,{"$f":"0","v":0},0,1.5811457089889996E-2,null,848,0.99031959999999997,9.6804000000000005E-3,1.6013999999999997E-2,2.4776530000000001E-2,0,4.8676390701465656E-2,7101786,438790.40000000002,5637723,12.306661373326916,7101786,53803820,1.5815614324289996E-2,10.015685169326133,null,0,0,null,1.4103469900000009E-2]
[852,1.00053E-2,2.54688E-2,431143.2,7041951,52571800,7041951,52571800,1.6013999999999997E-2,1.4103469900000009E-2,12.183483585036248,{"$f":"0","v":0},0,9.9012125957666264,{"$f":"0","v":0},0,{"$f":"0","v":0},0,1.5810071318399996E-2,null,849,0.99023839999999996,9.7616249999999995E-3,1.6013999999999997E-2,2.4949599999999999E-2,0,4.8503200285197841E-2,7086827,436878.6,5599883,12.276271772066657,7086827,53495820,1.5814228552799996E-2,9.9875546400476338,null,0,0,null,1.4103469900000009E-2]
[853,1.010047E-2,2.565887E-2,429294.4,7026802,52280010,7026802,52280010,1.6013999999999997E-2,1.4103469900000009E-2,12.154592590383972,{"$f":"0","v":0},0,9.8754134306537775,{"$f":"0","v":0},0,{"$f":"0","v":0},0,1.5808549427909997E-2,null,850,0.99015710000000001,9.8428500000000002E-3,1.6013999999999997E-2,2.512267E-2,0,4.8330626079784091E-2,7071868,434966.8,5562043,12.245615029315648,7071868,53187820,1.5812842781309996E-2,9.9590968145316943,null,0,0,null,1.4103469900000009E-2]
[854,1.0195650000000001E-2,2.5848929999999999E-2,427445.6,7011652,51988220,7011652,51988220,1.6013999999999997E-2,1.4103469900000009E-2,12.125454014889069,{"$f":"0","v":0},0,9.8493171220362186,{"$f":"0","v":0},0,{"$f":"0","v":0},0,1.5807027617489998E-2,null,851,0.99007590000000001,9.9240749999999992E-3,1.6013999999999997E-2,2.5295729999999999E-2,0,4.8158665892748476E-2,7056910,433055,5524202,12.214685297864397,7056910,52879810,1.5811457089889996E-2,9.9303238922214891,null,0,0,null,1.4103469900000009E-2]
[855,1.0290819999999999E-2,2.6039E-2,425596.9,6996503,51696420,6996503,51696420,1.6013999999999997E-2,1.4103469900000009E-2,12.096056963369172,{"$f":"0","v":0},0,9.8229367574982867,{"$f":"0","v":0},0,{"$f":"0","v":0},0,1.5805505726999999E-2,null,852,0.98999470000000001,1.00053E-2,1.6013999999999997E-2,2.54688E-2,0,4.7987317539415923E-2,7041951,431143.2,5486362,12.183483585036248,7041951,52571800,1.5810071318399996E-2,9.9012125957666264,null,0,0,null,1.4103469900000009E-2]
[856,1.0385999999999999E-2,2.622907E-2,423748.1,6981354,51404630,6981354,51404630,1.6013999999999997E-2,1.4103469900000009E-2,12.066406384280347,{"$f":"0","v":0},0,9.7962539617142781,{"$f":"0","v":0},0,{"$f":"0","v":0},0,1.5803983836509997E-2,null,853,0.98989950000000004,1.010047E-2,1.6013999999999997E-2,2.565887E-2,0,4.78165788428844E-2,7026802,429294.4,5450433,12.154592590383972,7026802,52280010,1.5808549427909997E-2,9.8754134306537775,null,0,0,null,1.4103469900000009E-2]
[857,1.048118E-2,2.6419129999999999E-2,421899.3,6966205,51112830,6966205,51112830,1.6013999999999997E-2,1.4103469900000009E-2,12.036498312512014,{"$f":"0","v":0},0,9.7692725499428263,{"$f":"0","v":0},0,{"$f":"0","v":0},0,1.5802462026089998E-2,null,854,0.98980429999999997,1.0195650000000001E-2,1.6013999999999997E-2,2.5848929999999999E-2,0,4.7646447633997273E-2,7011652,427445.6,5414505,12.125454014889069,7011652,51988220,1.5807027617489998E-2,9.8493171220362186,null,0,0,null,1.4103469900000009E-2]
[858,1.057635E-2,2.66092E-2,420050.6,6951055,50821040,6951055,50821040,1.6013999999999997E-2,1.4103469900000009E-2,12.006321599508885,{"$f":"0","v":0},0,9.7419737476050994,{"$f":"0","v":0},0,{"$f":"0","v":0},0,1.5800940135599996E-2,null,855,0.98970919999999996,1.0290819999999999E-2,1.6013999999999997E-2,2.6039E-2,0,4.7476921751315779E-2,6996503,425596.9,5378576,12.096056963369172,6996503,51696420,1.5805505726999999E-2,9.8229367574982867,null,0,0,null,1.4103469900000009E-2]
[859,1.067152E-2,2.679927E-2,418201.8,6935906,50529240,6935906,50529240,1.6013999999999997E-2,1.4103469900000009E-2,11.975883473002748,{"$f":"0","v":0},0,9.7143704972530891,{"$f":"0","v":0},0,{"$f":"0","v":0},0,1.5799418245109997E-2,null,856,0.98961399999999999,1.0385999999999999E-2,1.6013999999999997E-2,2.622907E-2,0,4.730799904109155E-2,6981354,423748.1,5342647,12.066406384280347,6981354,51404630,1.5803983836509997E-2,9.7962539617142781,null,0,0,null,1.4103469900000009E-2]
[860,1.0766700000000001E-2,2.6989340000000001E-2,416353,6920757,50237450,6920757,50237450,1.6013999999999997E-2,1.4103469900000009E-2,11.945172625952818,{"$f":"0","v":0},0,9.6864436938036338,{"$f":"0","v":0},0,{"$f":"0","v":0},0,1.5797896354619995E-2,null,857,0.98951880000000003,1.048118E-2,1.6013999999999997E-2,2.6419129999999999E-2,0,4.7139677357239229E-2,6966205,421899.3,5306719,12.036498312512014,6966205,51112830,1.5802462026089998E-2,9.7692725499428263,null,0,0,null,1.4103469900000009E-2]
[861,1.0861869999999999E-2,2.7179399999999999E-2,414504.3,6905608,49945660,6905608,49945660,1.6013999999999997E-2,1.4103469900000009E-2,11.914184816659322,{"$f":"0","v":0},0,9.6581921927929617,{"$f":"0","v":0},0,{"$f":"0","v":0},0,1.5796374544199996E-2,null,858,0.98942359999999996,1.057635E-2,1.6013999999999997E-2,2.66092E-2,0,4.6971954561309225E-2,6951055,420050.6,5270790,12.006321599508885,6951055,50821040,1.5800940135599996E-2,9.7419737476050994,null,0,0,null,1.4103469900000009E-2]
[862,1.0957049999999999E-2,2.736947E-2,412655.5,6890459,49653860,6890459,49653860,1.6013999999999997E-2,1.4103469900000009E-2,11.882924790371954,{"$f":"0","v":0},0,9.6296151129063468,{"$f":"0","v":0},0,{"$f":"0","v":0},0,1.5794852653709997E-2,null,859,0.98932850000000006,1.067152E-2,1.6013999999999997E-2,2.679927E-2,0,4.6804828522460547E-2,6935906,418201.8,5234862,11.975883473002748,6935906,50529240,1.5799418245109997E-2,9.7143704972530891,null,0,0,null,1.4103469900000009E-2]
[863,1.105222E-2,2.755954E-2,410806.8,6875309,49362070,6875309,49362070,1.6013999999999997E-2,1.4103469900000009E-2,11.851377947005746,{"$f":"0","v":0},0,9.6006973201563319,{"$f":"0","v":0},0,{"$f":"0","v":0},0,1.5793330763219999E-2,null,860,0.98923329999999998,1.0766700000000001E-2,1.6013999999999997E-2,2.6989340000000001E-2,0,4.6638297117433739E-2,6920757,416353,5198933,11.945172625952818,6920757,50237450,1.5797896354619995E-2,9.6864436938036338,null,0,0,null,1.4103469900000009E-2]
[864,1.11474E-2,2.7749599999999999E-2,408958,6860160,49070270,6860160,49070270,1.6013999999999997E-2,1.4103469900000009E-2,11.819551355721941,{"$f":"0","v":0},0,9.5714421084747148,{"$f":"0","v":0},0,{"$f":"0","v":0},0,1.5791808952799996E-2,null,861,0.98913810000000002,1.0861869999999999E-2,1.6013999999999997E-2,2.7179399999999999E-2,0,4.6472358230523883E-2,6905608,414504.3,5163004,11.914184816659322,6905608,49945660,1.5796374544199996E-2,9.6581921927929617,null,0,0,null,1.4103469900000009E-2]
[865,1.125877E-2,2.795827E-2,407167,6844760,48793510,6844760,48793510,1.6013999999999997E-2,1.4103469900000009E-2,11.790224179104234,{"$f":"0","v":0},0,9.5456535805277856,{"$f":"0","v":0},0,{"$f":"0","v":0},0,1.5790138132109995E-2,null,862,0.98904289999999995,1.0957049999999999E-2,1.6013999999999997E-2,2.736947E-2,0,4.6307009753553716E-2,6890459,412655.5,5127076,11.882924790371954,6890459,49653860,1.5794852653709997E-2,9.6296151129063468,null,0,0,null,1.4103469900000009E-2]
[866,1.1370150000000001E-2,2.816693E-2,405376.1,6829359,48516750,6829359,48516750,1.6013999999999997E-2,1.4103469900000009E-2,11.760634825700546,{"$f":"0","v":0},0,9.5195674248930153,{"$f":"0","v":0},0,{"$f":"0","v":0},0,1.5788467391489997E-2,null,863,0.98894769999999999,1.105222E-2,1.6013999999999997E-2,2.755954E-2,0,4.6142249585846902E-2,6875309,410806.8,5091147,11.851377947005746,6875309,49362070,1.5793330763219999E-2,9.6006973201563319,null,0,0,null,1.4103469900000009E-2]
[867,1.148152E-2,2.8375600000000001E-2,403585.2,6813958,48239980,6813958,48239980,1.6013999999999997E-2,1.4103469900000009E-2,11.730782868152748,{"$f":"0","v":0},0,9.4931784592442519,{"$f":"0","v":0},0,{"$f":"0","v":0},0,1.5786796570799996E-2,null,864,0.98885259999999997,1.11474E-2,1.6013999999999997E-2,2.7749599999999999E-2,0,4.5978075634201268E-2,6860160,408958,5055219,11.819551355721941,6860160,49070270,1.5791808952799996E-2,9.5714421084747148,null,0,0,null,1.4103469900000009E-2]
[868,1.15929E-2,2.8584269999999998E-2,401794.3,6798558,47963220,6798558,47963220,1.6013999999999997E-2,1.4103469900000009E-2,11.700664794979255,{"$f":"0","v":0},0,9.4664861630486303,{"$f":"0","v":0},0,{"$f":"0","v":0},0,1.5785125750109995E-2,null,865,0.98874119999999999,1.125877E-2,1.6013999999999997E-2,2.795827E-2,0,4.5814485812862259E-2,6844760,407167,5021139,11.790224179104234,6844760,48793510,1.5790138132109995E-2,9.5456535805277856,null,0,0,null,1.4103469900000009E-2]
[869,1.1704269999999999E-2,2.8792930000000001E-2,400003.3,6783157,47686460,6783157,47686460,1.6013999999999997E-2,1.4103469900000009E-2,11.670282584752011,{"$f":"0","v":0},0,9.4394755578778611,{"$f":"0","v":0},0,{"$f":"0","v":0},0,1.5783455009489997E-2,null,866,0.98862989999999995,1.1370150000000001E-2,1.6013999999999997E-2,2.816693E-2,0,4.5651478043496424E-2,6829359,405376.1,4987059,11.760634825700546,6829359,48516750,1.5788467391489997E-2,9.5195674248930153,null,0,0,null,1.4103469900000009E-2]
[870,1.181565E-2,2.9001599999999999E-2,398212.4,6767756,47409700,6767756,47409700,1.6013999999999997E-2,1.4103469900000009E-2,11.639621510195731,{"$f":"0","v":0},0,9.4121458553040576,{"$f":"0","v":0},0,{"$f":"0","v":0},0,1.5781784188799997E-2,null,867,0.98851849999999997,1.148152E-2,1.6013999999999997E-2,2.8375600000000001E-2,0,4.548905025516501E-2,6813958,403585.2,4952979,11.730782868152748,6813958,48239980,1.5786796570799996E-2,9.4931784592442519,null,0,0,null,1.4103469900000009E-2]
[871,1.192703E-2,2.921027E-2,396421.5,6752356,47132930,6752356,47132930,1.6013999999999997E-2,1.4103469900000009E-2,11.608683402640876,{"$f":"0","v":0},0,9.3844913671067545,{"$f":"0","v":0},0,{"$f":"0","v":0},0,1.5780113368109996E-2,null,868,0.98840709999999998,1.15929E-2,1.6013999999999997E-2,2.8584269999999998E-2,0,4.5327200384297689E-2,6798558,401794.3,4918899,11.700664794979255,6798558,47963220,1.5785125750109995E-2,9.4664861630486303,null,0,0,null,1.4103469900000009E-2]
[872,1.2038399999999999E-2,2.9418929999999999E-2,394630.6,6736955,46856170,6736955,46856170,1.6013999999999997E-2,1.4103469900000009E-2,11.577464490420494,{"$f":"0","v":0},0,9.3565111124159603,{"$f":"0","v":0},0,{"$f":"0","v":0},0,1.5778442627489998E-2,null,869,0.9882957,1.1704269999999999E-2,1.6013999999999997E-2,2.8792930000000001E-2,0,4.5165926374666251E-2,6783157,400003.3,4884820,11.670282584752011,6783157,47686460,1.5783455009489997E-2,9.4394755578778611,null,0,0,null,1.4103469900000009E-2]
[873,1.2149780000000001E-2,2.96276E-2,392839.6,6721555,46579410,6721555,46579410,1.6013999999999997E-2,1.4103469900000009E-2,11.545964010077736,{"$f":"0","v":0},0,9.3281894553824785,{"$f":"0","v":0},0,{"$f":"0","v":0},0,1.5776771806799997E-2,null,870,0.98818430000000002,1.181565E-2,1.6013999999999997E-2,2.9001599999999999E-2,0,4.5005226177358595E-2,6767756,398212.4,4850740,11.639621510195731,6767756,47409700,1.5781784188799997E-2,9.4121458553040576,null,0,0,null,1.4103469900000009E-2]
[874,1.226115E-2,2.9836270000000002E-2,391048.7,6706154,46302640,6706154,46302640,1.6013999999999997E-2,1.4103469900000009E-2,11.514171902800513,{"$f":"0","v":0},0,9.2995251155392076,{"$f":"0","v":0},0,{"$f":"0","v":0},0,1.5775100986109996E-2,null,871,0.98807299999999998,1.192703E-2,1.6013999999999997E-2,2.921027E-2,0,4.4845097750752599E-2,6752356,396421.5,4816660,11.608683402640876,6752356,47132930,1.5780113368109996E-2,9.3844913671067545,null,0,0,null,1.4103469900000009E-2]
[875,1.237253E-2,3.0044930000000001E-2,389257.8,6690753,46025880,6690753,46025880,1.6013999999999997E-2,1.4103469900000009E-2,11.482089825817235,{"$f":"0","v":0},0,9.2705118355047205,{"$f":"0","v":0},0,{"$f":"0","v":0},0,1.5773430245489998E-2,null,872,0.9879616,1.2038399999999999E-2,1.6013999999999997E-2,2.9418929999999999E-2,0,4.4685539060490262E-2,6736955,394630.6,4782580,11.577464490420494,6736955,46856170,1.5778442627489998E-2,9.3565111124159603,null,0,0,null,1.4103469900000009E-2]
[876,1.2483899999999999E-2,3.0253599999999999E-2,387466.8,6675353,45749120,6675353,45749120,1.6013999999999997E-2,1.4103469900000009E-2,11.449711691427499,{"$f":"0","v":0},0,9.2411481087864509,{"$f":"0","v":0},0,{"$f":"0","v":0},0,1.5771759424799997E-2,null,873,0.98785020000000001,1.2149780000000001E-2,1.6013999999999997E-2,2.96276E-2,0,4.4526548079451778E-2,6721555,392839.6,4748500,11.545964010077736,6721555,46579410,1.5776771806799997E-2,9.3281894553824785,null,0,0,null,1.4103469900000009E-2]
[877,1.2612979999999999E-2,3.048267E-2,385728.7,6659635,45486280,6659635,45486280,1.6013999999999997E-2,1.4103469900000009E-2,11.420035949705929,{"$f":"0","v":0},0,9.2154256830207029,{"$f":"0","v":0},0,{"$f":"0","v":0},0,1.5769925261309995E-2,null,874,0.98773880000000003,1.226115E-2,1.6013999999999997E-2,2.9836270000000002E-2,0,4.436812278772987E-2,6706154,391048.7,4714420,11.514171902800513,6706154,46302640,1.5775100986109996E-2,9.2995251155392076,null,0,0,null,1.4103469900000009E-2]
[878,1.274205E-2,3.071173E-2,383990.5,6643917,45223440,6643917,45223440,1.6013999999999997E-2,1.4103469900000009E-2,11.390094665970469,{"$f":"0","v":0},0,9.1894008147840776,{"$f":"0","v":0},0,{"$f":"0","v":0},0,1.5768091177889996E-2,null,875,0.98762740000000004,1.237253E-2,1.6013999999999997E-2,3.0044930000000001E-2,0,4.4210261172604043E-2,6690753,389257.8,4680341,11.482089825817235,6690753,46025880,1.5773430245489998E-2,9.2705118355047205,null,0,0,null,1.4103469900000009E-2]
[879,1.287113E-2,3.0940800000000001E-2,382252.4,6628199,44960600,6628199,44960600,1.6013999999999997E-2,1.4103469900000009E-2,11.359877967193055,{"$f":"0","v":0},0,9.1630579537515207,{"$f":"0","v":0},0,{"$f":"0","v":0},0,1.5766257014399997E-2,null,876,0.98751610000000001,1.2483899999999999E-2,1.6013999999999997E-2,3.0253599999999999E-2,0,4.4052961228515104E-2,6675353,387466.8,4646261,11.449711691427499,6675353,45749120,1.5771759424799997E-2,9.2411481087864509,null,0,0,null,1.4103469900000009E-2]
[880,1.30002E-2,3.1169869999999999E-2,380514.2,6612481,44697760,6612481,44697760,1.6013999999999997E-2,1.4103469900000009E-2,11.329388342581346,{"$f":"0","v":0},0,9.1364015991675576,{"$f":"0","v":0},0,{"$f":"0","v":0},0,1.5764422850909995E-2,null,877,0.98738700000000001,1.2612979999999999E-2,1.6013999999999997E-2,3.048267E-2,0,4.3896220957039565E-2,6659635,385728.7,4613972,11.420035949705929,6659635,45486280,1.5769925261309995E-2,9.2154256830207029,null,0,0,null,1.4103469900000009E-2]
[881,1.312928E-2,3.1398929999999999E-2,378776.1,6596763,44434920,6596763,44434920,1.6013999999999997E-2,1.4103469900000009E-2,11.298615758755636,{"$f":"0","v":0},0,9.1094208631192064,{"$f":"0","v":0},0,{"$f":"0","v":0},0,1.5762588767489996E-2,null,878,0.98725799999999997,1.274205E-2,1.6013999999999997E-2,3.071173E-2,0,4.3740038366864388E-2,6643917,383990.5,4581683,11.390094665970469,6643917,45223440,1.5768091177889996E-2,9.1894008147840776,null,0,0,null,1.4103469900000009E-2]
[882,1.325835E-2,3.1628000000000003E-2,377037.9,6581044,44172080,6581044,44172080,1.6013999999999997E-2,1.4103469900000009E-2,11.267562591187783,{"$f":"0","v":0},0,9.0821047866136073,{"$f":"0","v":0},0,{"$f":"0","v":0},0,1.5760754603999998E-2,null,879,0.98712889999999998,1.287113E-2,1.6013999999999997E-2,3.0940800000000001E-2,0,4.3584411473761575E-2,6628199,382252.4,4549394,11.359877967193055,6628199,44960600,1.5766257014399997E-2,9.1630579537515207,null,0,0,null,1.4103469900000009E-2]
[883,1.3387430000000001E-2,3.1857070000000001E-2,375299.7,6565326,43909240,6565326,43909240,1.6013999999999997E-2,1.4103469900000009E-2,11.236224442758681,{"$f":"0","v":0},0,9.0544520232761485,{"$f":"0","v":0},0,{"$f":"0","v":0},0,1.5758920440509996E-2,null,880,0.98699979999999998,1.30002E-2,1.6013999999999997E-2,3.1169869999999999E-2,0,4.3429338300563031E-2,6612481,380514.2,4517105,11.329388342581346,6612481,44697760,1.5764422850909995E-2,9.1364015991675576,null,0,0,null,1.4103469900000009E-2]
[884,1.3516500000000001E-2,3.2086129999999997E-2,373561.59999999998,6549608,43646400,6549608,43646400,1.6013999999999997E-2,1.4103469900000009E-2,11.204588837111025,{"$f":"0","v":0},0,9.0264617583016982,{"$f":"0","v":0},0,{"$f":"0","v":0},0,1.5757086357089996E-2,null,881,0.98687069999999999,1.312928E-2,1.6013999999999997E-2,3.1398929999999999E-2,0,4.3274816877135379E-2,6596763,378776.1,4484816,11.298615758755636,6596763,44434920,1.5762588767489996E-2,9.1094208631192064,null,0,0,null,1.4103469900000009E-2]
[885,1.3645579999999999E-2,3.2315200000000002E-2,371823.4,6533890,43383560,6533890,43383560,1.6013999999999997E-2,1.4103469900000009E-2,11.172660618813483,{"$f":"0","v":0},0,8.9981223830192167,{"$f":"0","v":0},0,{"$f":"0","v":0},0,1.5755252193599998E-2,null,882,0.98674170000000005,1.325835E-2,1.6013999999999997E-2,3.1628000000000003E-2,0,4.3120845240355025E-2,6581044,377037.9,4452527,11.267562591187783,6581044,44172080,1.5760754603999998E-2,9.0821047866136073,null,0,0,null,1.4103469900000009E-2]
[886,1.3774649999999999E-2,3.254427E-2,370085.3,6518172,43120720,6518172,43120720,1.6013999999999997E-2,1.4103469900000009E-2,11.140429325797774,{"$f":"0","v":0},0,8.9694273249913294,{"$f":"0","v":0},0,{"$f":"0","v":0},0,1.5753418030109996E-2,null,883,0.98661259999999995,1.3387430000000001E-2,1.6013999999999997E-2,3.1857070000000001E-2,0,4.2967421434083108E-2,6565326,375299.7,4420239,11.236224442758681,6565326,43909240,1.5758920440509996E-2,9.0544520232761485,null,0,0,null,1.4103469900000009E-2]
[887,1.390373E-2,3.2773330000000003E-2,368347.1,6502454,42857880,6502454,42857880,1.6013999999999997E-2,1.4103469900000009E-2,11.107897019324076,{"$f":"0","v":0},0,8.9403644844848298,{"$f":"0","v":0},0,{"$f":"0","v":0},0,1.5751583946689997E-2,null,884,0.98648349999999996,1.3516500000000001E-2,1.6013999999999997E-2,3.2086129999999997E-2,0,4.2814543509140754E-2,6549608,373561.59999999998,4387950,11.204588837111025,6549608,43646400,1.5757086357089996E-2,9.0264617583016982,null,0,0,null,1.4103469900000009E-2]
[888,1.40328E-2,3.3002400000000001E-2,366608.9,6486736,42595040,6486736,42595040,1.6013999999999997E-2,1.4103469900000009E-2,11.075056222493961,{"$f":"0","v":0},0,8.910932540217793,{"$f":"0","v":0},0,{"$f":"0","v":0},0,1.5749749783199998E-2,null,885,0.98635439999999996,1.3645579999999999E-2,1.6013999999999997E-2,3.2315200000000002E-2,0,4.26622095232842E-2,6533890,371823.4,4355661,11.172660618813483,6533890,43383560,1.5755252193599998E-2,8.9981223830192167,null,0,0,null,1.4103469900000009E-2]
[889,1.4180699999999999E-2,3.3253669999999999E-2,364919,6470637,42345130,6470637,42345130,1.6013999999999997E-2,1.4103469900000009E-2,11.045132047568547,{"$f":"0","v":0},0,8.8853348137097967,{"$f":"0","v":0},0,{"$f":"0","v":0},0,1.5747737864309996E-2,null,886,0.98622540000000003,1.3774649999999999E-2,1.6013999999999997E-2,3.254427E-2,0,4.2510417541180241E-2,6518172,370085.3,4323372,11.140429325797774,6518172,43120720,1.5753418030109996E-2,8.9694273249913294,null,0,0,null,1.4103469900000009E-2]
[890,1.43286E-2,3.3504930000000002E-2,363229.1,6454538,42095220,6454538,42095220,1.6013999999999997E-2,1.4103469900000009E-2,11.014932185132379,{"$f":"0","v":0},0,8.8594142030106475,{"$f":"0","v":0},0,{"$f":"0","v":0},0,1.5745726025489997E-2,null,887,0.98609630000000004,1.390373E-2,1.6013999999999997E-2,3.2773330000000003E-2,0,4.2359165634381517E-2,6502454,368347.1,4291083,11.107897019324076,6502454,42857880,1.5751583946689997E-2,8.9403644844848298,null,0,0,null,1.4103469900000009E-2]
[891,1.44765E-2,3.37562E-2,361539.2,6438438,41845310,6438438,41845310,1.6013999999999997E-2,1.4103469900000009E-2,10.984447237441104,{"$f":"0","v":0},0,8.8331756574659988,{"$f":"0","v":0},0,{"$f":"0","v":0},0,1.5743714106599999E-2,null,888,0.98596720000000004,1.40328E-2,1.6013999999999997E-2,3.3002400000000001E-2,0,4.2208451881302143E-2,6486736,366608.9,4258794,11.075056222493961,6486736,42595040,1.5749749783199998E-2,8.910932540217793,null,0,0,null,1.4103469900000009E-2]
[892,1.4624399999999999E-2,3.4007469999999998E-2,359849.2,6422339,41595400,6422339,41595400,1.6013999999999997E-2,1.4103469900000009E-2,10.953679161530257,{"$f":"0","v":0},0,8.8066021273795023,{"$f":"0","v":0},0,{"$f":"0","v":0},0,1.5741702187709997E-2,null,889,0.98581929999999995,1.4180699999999999E-2,1.6013999999999997E-2,3.3253669999999999E-2,0,4.2058274367193164E-2,6470637,364919,4228243,11.045132047568547,6470637,42345130,1.5747737864309996E-2,8.8853348137097967,null,0,0,null,1.4103469900000009E-2]
[893,1.47723E-2,3.4258730000000001E-2,358159.3,6406240,41345480,6406240,41345480,1.6013999999999997E-2,1.4103469900000009E-2,10.922617521961133,{"$f":"0","v":0},0,8.7796983952943233,{"$f":"0","v":0},0,{"$f":"0","v":0},0,1.5739690348889997E-2,null,890,0.98567139999999998,1.43286E-2,1.6013999999999997E-2,3.3504930000000002E-2,0,4.1908631184118361E-2,6454538,363229.1,4197693,11.014932185132379,6454538,42095220,1.5745726025489997E-2,8.8594142030106475,null,0,0,null,1.4103469900000009E-2]
[894,1.49202E-2,3.4509999999999999E-2,356469.4,6390140,41095580,6390140,41095580,1.6013999999999997E-2,1.4103469900000009E-2,10.891264182376757,{"$f":"0","v":0},0,8.7524469607351119,{"$f":"0","v":0},0,{"$f":"0","v":0},0,1.5737678429999995E-2,null,891,0.9855235,1.44765E-2,1.6013999999999997E-2,3.37562E-2,0,4.1759520430929876E-2,6438438,361539.2,4167142,10.984447237441104,6438438,41845310,1.5743714106599999E-2,8.8331756574659988,null,0,0,null,1.4103469900000009E-2]
[895,1.5068099999999999E-2,3.4761260000000002E-2,354779.4,6374041,40845660,6374041,40845660,1.6013999999999997E-2,1.4103469900000009E-2,10.85961255078508,{"$f":"0","v":0},0,8.7248524233184703,{"$f":"0","v":0},0,{"$f":"0","v":0},0,1.5735666591179996E-2,null,892,0.98537560000000002,1.4624399999999999E-2,1.6013999999999997E-2,3.4007469999999998E-2,0,4.1610940213244192E-2,6422339,359849.2,4136591,10.953679161530257,6422339,41595400,1.5741702187709997E-2,8.8066021273795023,null,0,0,null,1.4103469900000009E-2]
[896,{"$f":"W901","v":1.5216E-2},{"$f":"Y901","v":3.501253E-2},{"$f":"AC901","v":353089.5},{"$f":"AF901","v":6357942},{"$f":"AG901","v":40595750},{"$f":"E898","v":6357942},{"$f":"F898","v":40595750},{"$f":"X901","v":1.6013999999999997E-2},{"$f":"AN901","v":1.4103469900000009E-2},{"$f":"AE901","v":10.827654709358393},{"$f":"0","v":0},{"$f":"AL901","v":0},{"$f":"AI901","v":8.696902481237446},{"$f":"0","v":0},{"$f":"AK901","v":0},{"$f":"0","v":0},{"$f":"Z901","v":0},{"$f":"AH901","v":1.5733654672289998E-2},null,893,0.98522770000000004,1.47723E-2,1.6013999999999997E-2,3.4258730000000001E-2,0,4.1462888643417961E-2,6406240,358159.3,4106040,10.922617521961133,6406240,41345480,1.5739690348889997E-2,8.7796983952943233,null,0,0,null,1.4103469900000009E-2]
[897,1.53639E-2,3.5263799999999998E-2,351399.6,6341843,40345840,6341843,40345840,1.6013999999999997E-2,1.4103469900000009E-2,10.795389493898115,{"$f":"0","v":0},0,8.6685845137482396,{"$f":"0","v":0},0,{"$f":"0","v":0},0,1.5731642753399996E-2,null,894,0.98507979999999995,1.49202E-2,1.6013999999999997E-2,3.4509999999999999E-2,0,4.1315363840524075E-2,6390140,356469.4,4075490,10.891264182376757,6390140,41095580,1.5737678429999995E-2,8.7524469607351119,null,0,0,null,1.4103469900000009E-2]
[898,1.5511799999999999E-2,3.5515070000000003E-2,349709.6,6325743,40095930,6325743,40095930,1.6013999999999997E-2,1.4103469900000009E-2,10.762818540488071,{"$f":"0","v":0},0,8.6399028127406705,{"$f":"0","v":0},0,{"$f":"0","v":0},0,1.5729630834509997E-2,null,895,0.98493189999999997,1.5068099999999999E-2,1.6013999999999997E-2,3.4761260000000002E-2,0,4.1168363930327731E-2,6374041,354779.4,4044939,10.85961255078508,6374041,40845660,1.5735666591179996E-2,8.7248524233184703,null,0,0,null,1.4103469900000009E-2]
[899,1.5659699999999999E-2,3.5766329999999999E-2,348019.7,6309644,39846020,6309644,39846020,1.6013999999999997E-2,1.4103469900000009E-2,10.729925142647577,{"$f":"0","v":0},0,8.6108386425768852,{"$f":"0","v":0},0,{"$f":"0","v":0},0,1.5727618995689998E-2,null,896,0.98478399999999999,1.5216E-2,1.6013999999999997E-2,3.501253E-2,0,4.1021887045262717E-2,6357942,353089.5,4014388,10.827654709358393,6357942,40595750,1.5733654672289998E-2,8.696902481237446,null,0,0,null,1.4103469900000009E-2]
[900,1.5807600000000002E-2,3.6017599999999997E-2,346329.8,6293545,39596100,6293545,39596100,1.6013999999999997E-2,1.4103469900000009E-2,10.696710741226042,{"$f":"0","v":0},0,8.5813960654648156,{"$f":"0","v":0},0,{"$f":"0","v":0},0,1.5725607076799996E-2,null,897,0.98463610000000001,1.53639E-2,1.6013999999999997E-2,3.5263799999999998E-2,0,4.087593132440754E-2,6341843,351399.6,3983837,10.795389493898115,6341843,40345840,1.5731642753399996E-2,8.6685845137482396,null,0,0,null,1.4103469900000009E-2]
[901,1.5975679999999999E-2,3.6293270000000002E-2,344684.3,6277007,39358250,6277007,39358250,1.6013999999999997E-2,1.4103469900000009E-2,10.666630316978949,{"$f":"0","v":0},0,8.555969867886299,{"$f":"0","v":0},0,{"$f":"0","v":0},0,1.5723399787109998E-2,null,898,0.98448820000000004,1.5511799999999999E-2,1.6013999999999997E-2,3.5515070000000003E-2,0,4.0730494913461895E-2,6325743,349709.6,3953287,10.762818540488071,6325743,40095930,1.5729630834509997E-2,8.6399028127406705,null,0,0,null,1.4103469900000009E-2]
[902,1.6143749999999998E-2,3.6568929999999999E-2,343038.7,6260469,39120400,6260469,39120400,1.6013999999999997E-2,1.4103469900000009E-2,10.636267484786217,{"$f":"0","v":0},0,8.5302099295850251,{"$f":"0","v":0},0,{"$f":"0","v":0},0,1.5721192577489995E-2,null,899,0.98434029999999995,1.5659699999999999E-2,1.6013999999999997E-2,3.5766329999999999E-2,0,4.0585575964723071E-2,6309644,348019.7,3922736,10.729925142647577,6309644,39846020,1.5727618995689998E-2,8.6108386425768852,null,0,0,null,1.4103469900000009E-2]
[903,1.6311820000000001E-2,3.6844599999999998E-2,341393.2,6243931,38882550,6243931,38882550,1.6013999999999997E-2,1.4103469900000009E-2,10.60560574532045,{"$f":"0","v":0},0,8.5041216271839009,{"$f":"0","v":0},0,{"$f":"0","v":0},0,1.5718985287799997E-2,null,900,0.98419239999999997,1.5807600000000002E-2,1.6013999999999997E-2,3.6017599999999997E-2,0,4.0441172637062456E-2,6293545,346329.8,3892185,10.696710741226042,6293545,39596100,1.5725607076799996E-2,8.5813960654648156,null,0,0,null,1.4103469900000009E-2]
[904,1.6479899999999999E-2,3.7120269999999997E-2,339747.7,6227393,38644700,6227393,38644700,1.6013999999999997E-2,1.4103469900000009E-2,10.574646997855567,{"$f":"0","v":0},0,8.4776979409232176,{"$f":"0","v":0},0,{"$f":"0","v":0},0,1.5716777998109999E-2,null,901,0.98402429999999996,1.5975679999999999E-2,1.6013999999999997E-2,3.6293270000000002E-2,0,4.0297283095902192E-2,6277007,344684.3,3863324,10.666630316978949,6277007,39358250,1.5723399787109998E-2,8.555969867886299,null,0,0,null,1.4103469900000009E-2]
[905,1.664798E-2,3.7395940000000003E-2,338102.1,6210855,38406850,6210855,38406850,1.6013999999999997E-2,1.4103469900000009E-2,10.543390184503441,{"$f":"0","v":0},0,8.4509153756565318,{"$f":"0","v":0},0,{"$f":"0","v":0},0,1.5714570708419997E-2,null,902,0.98385630000000002,1.6143749999999998E-2,1.6013999999999997E-2,3.6568929999999999E-2,0,4.0153905513191826E-2,6260469,343038.7,3834464,10.636267484786217,6260469,39120400,1.5721192577489995E-2,8.5302099295850251,null,0,0,null,1.4103469900000009E-2]
[906,1.6816049999999999E-2,3.76716E-2,336456.6,6194317,38169000,6194317,38169000,1.6013999999999997E-2,1.4103469900000009E-2,10.511824333361274,{"$f":"0","v":0},0,8.4237843924818119,{"$f":"0","v":0},0,{"$f":"0","v":0},0,1.5712363498799998E-2,null,903,0.98368820000000001,1.6311820000000001E-2,1.6013999999999997E-2,3.6844599999999998E-2,0,4.0011038067385103E-2,6243931,341393.2,3805603,10.60560574532045,6243931,38882550,1.5718985287799997E-2,8.5041216271839009,null,0,0,null,1.4103469900000009E-2]
[907,1.6984119999999998E-2,3.7947269999999998E-2,334811.09999999998,6177779,37931140,6177779,37931140,1.6013999999999997E-2,1.4103469900000009E-2,10.479951194867795,{"$f":"0","v":0},0,8.3962919333929413,{"$f":"0","v":0},0,{"$f":"0","v":0},0,1.5710156209109996E-2,null,904,0.98352010000000001,1.6479899999999999E-2,1.6013999999999997E-2,3.7120269999999997E-2,0,3.9868678943416828E-2,6227393,339747.7,3776742,10.574646997855567,6227393,38644700,1.5716777998109999E-2,8.4776979409232176,null,0,0,null,1.4103469900000009E-2]
[908,1.7152199999999999E-2,3.8222939999999997E-2,333165.5,6161241,37693290,6161241,37693290,1.6013999999999997E-2,1.4103469900000009E-2,10.447763511428004,{"$f":"0","v":0},0,8.368424590097213,{"$f":"0","v":0},0,{"$f":"0","v":0},0,1.5707948919419998E-2,null,905,0.983352,1.664798E-2,1.6013999999999997E-2,3.7395940000000003E-2,0,3.97268263326798E-2,6210855,338102.1,3747881,10.543390184503441,6210855,38406850,1.5714570708419997E-2,8.4509153756565318,null,0,0,null,1.4103469900000009E-2]
[909,1.732028E-2,3.8498600000000001E-2,331520,6144703,37455440,6144703,37455440,1.6013999999999997E-2,1.4103469900000009E-2,10.415252976190477,{"$f":"0","v":0},0,8.3401926101357375,{"$f":"0","v":0},0,{"$f":"0","v":0},0,1.5705741709799995E-2,null,906,0.98318399999999995,1.6816049999999999E-2,1.6013999999999997E-2,3.76716E-2,0,3.9585478433001836E-2,6194317,336456.6,3719020,10.511824333361274,6194317,38169000,1.5712363498799998E-2,8.4237843924818119,null,0,0,null,1.4103469900000009E-2]
[910,1.748835E-2,3.877427E-2,329874.5,6128165,37217590,6128165,37217590,1.6013999999999997E-2,1.4103469900000009E-2,10.382418098903271,{"$f":"0","v":0},0,8.3115712731518343,{"$f":"0","v":0},0,{"$f":"0","v":0},0,1.5703534420109997E-2,null,907,0.98301590000000005,1.6984119999999998E-2,1.6013999999999997E-2,3.7947269999999998E-2,0,3.9444633448622861E-2,6177779,334811.09999999998,3690160,10.479951194867795,6177779,37931140,1.5710156209109996E-2,8.3962919333929413,null,0,0,null,1.4103469900000009E-2]
[911,1.7656419999999999E-2,3.9049929999999997E-2,328228.90000000002,6111627,36979740,6111627,36979740,1.6013999999999997E-2,1.4103469900000009E-2,10.349257319612422,{"$f":"0","v":0},0,8.2825519023305691,{"$f":"0","v":0},0,{"$f":"0","v":0},0,1.5701327210489998E-2,null,908,0.98284780000000005,1.7152199999999999E-2,1.6013999999999997E-2,3.8222939999999997E-2,0,3.930428959017214E-2,6161241,333165.5,3661299,10.447763511428004,6161241,37693290,1.5707948919419998E-2,8.368424590097213,null,0,0,null,1.4103469900000009E-2]
[912,1.78245E-2,3.9325600000000002E-2,326583.40000000002,6095089,36741890,6095089,36741890,1.6013999999999997E-2,1.4103469900000009E-2,10.31576209425627,{"$f":"0","v":0},0,8.2531388785909385,{"$f":"0","v":0},0,{"$f":"0","v":0},0,1.5699119920799996E-2,null,909,0.98267970000000004,1.732028E-2,1.6013999999999997E-2,3.8498600000000001E-2,0,3.9164445074645483E-2,6144703,331520,3632438,10.415252976190477,6144703,37455440,1.5705741709799995E-2,8.3401926101357375,null,0,0,null,1.4103469900000009E-2]
[913,1.801372E-2,3.9627799999999998E-2,324979.09999999998,6078061,36515340,6078061,36515340,1.6013999999999997E-2,1.4103469900000009E-2,10.285614226166135,{"$f":"0","v":0},0,8.2279406226688216,{"$f":"0","v":0},0,{"$f":"0","v":0},0,1.5696700205399997E-2,null,910,0.98251160000000004,1.748835E-2,1.6013999999999997E-2,3.877427E-2,0,3.9025098125382629E-2,6128165,329874.5,3603577,10.382418098903271,6128165,37217590,1.5703534420109997E-2,8.3115712731518343,null,0,0,null,1.4103469900000009E-2]
[914,1.8202949999999999E-2,3.993E-2,323374.8,6061034,36288800,6061034,36288800,1.6013999999999997E-2,1.4103469900000009E-2,10.255170316301705,{"$f":"0","v":0},0,8.2024030002506851,{"$f":"0","v":0},0,{"$f":"0","v":0},0,1.5694280489999997E-2,null,911,0.98234359999999998,1.7656419999999999E-2,1.6013999999999997E-2,3.9049929999999997E-2,0,3.8886246972044666E-2,6111627,328228.90000000002,3574716,10.349257319612422,6111627,36979740,1.5701327210489998E-2,8.2825519023305691,null,0,0,null,1.4103469900000009E-2]
[915,1.8392180000000001E-2,4.0232200000000003E-2,321770.5,6044006,36062250,6044006,36062250,1.6013999999999997E-2,1.4103469900000009E-2,10.224422828796715,{"$f":"0","v":0},0,8.176520724659218,{"$f":"0","v":0},0,{"$f":"0","v":0},0,1.5691860774599997E-2,null,912,0.98217549999999998,1.78245E-2,1.6013999999999997E-2,3.9325600000000002E-2,0,3.8747889850591556E-2,6095089,326583.40000000002,3545856,10.31576209425627,6095089,36741890,1.5699119920799996E-2,8.2531388785909385,null,0,0,null,1.4103469900000009E-2]
[916,1.8581400000000001E-2,4.0534399999999998E-2,320166.2,6026979,35835710,6026979,35835710,1.6013999999999997E-2,1.4103469900000009E-2,10.193364076740977,{"$f":"0","v":0},0,8.1502859582686487,{"$f":"0","v":0},0,{"$f":"0","v":0},0,1.5689441059199997E-2,null,913,0.98198629999999998,1.801372E-2,1.6013999999999997E-2,3.9627799999999998E-2,0,3.861002500325969E-2,6078061,324979.09999999998,3518640,10.285614226166135,6078061,36515340,1.5696700205399997E-2,8.2279406226688216,null,0,0,null,1.4103469900000009E-2]
[917,1.8770619999999998E-2,4.0836600000000001E-2,318561.90000000002,6009951,35609160,6009951,35609160,1.6013999999999997E-2,1.4103469900000009E-2,10.161995635699059,{"$f":"0","v":0},0,8.123697101540003,{"$f":"0","v":0},0,{"$f":"0","v":0},0,1.5687021343799998E-2,null,914,0.98179700000000003,1.8202949999999999E-2,1.6013999999999997E-2,3.993E-2,0,3.8472650678539597E-2,6061034,323374.8,3491425,10.255170316301705,6061034,36288800,1.5694280489999997E-2,8.2024030002506851,null,0,0,null,1.4103469900000009E-2]
[918,1.895985E-2,4.1138800000000003E-2,316957.59999999998,5992924,35382620,5992924,35382620,1.6013999999999997E-2,1.4103469900000009E-2,10.130309648146421,{"$f":"0","v":0},0,8.0967288579264043,{"$f":"0","v":0},0,{"$f":"0","v":0},0,1.5684601628399998E-2,null,915,0.98160780000000003,1.8392180000000001E-2,1.6013999999999997E-2,4.0232200000000003E-2,0,3.8335765131153637E-2,6044006,321770.5,3464210,10.224422828796715,6044006,36062250,1.5691860774599997E-2,8.176520724659218,null,0,0,null,1.4103469900000009E-2]
[919,1.9149079999999999E-2,4.1440999999999999E-2,315353.3,5975897,35156070,5975897,35156070,1.6013999999999997E-2,1.4103469900000009E-2,10.098301267710427,{"$f":"0","v":0},0,8.0693922856737341,{"$f":"0","v":0},0,{"$f":"0","v":0},0,1.5682181912999995E-2,null,916,0.98141860000000003,1.8581400000000001E-2,1.6013999999999997E-2,4.0534399999999998E-2,0,3.8199366622033895E-2,6026979,320166.2,3436994,10.193364076740977,6026979,35835710,1.5689441059199997E-2,8.1502859582686487,null,0,0,null,1.4103469900000009E-2]
[920,1.9338299999999999E-2,4.1743200000000001E-2,313749,5958869,34929520,5958869,34929520,1.6013999999999997E-2,1.4103469900000009E-2,10.065962361633026,{"$f":"0","v":0},0,8.0416729917268217,{"$f":"0","v":0},0,{"$f":"0","v":0},0,1.5679762197599999E-2,null,917,0.98122940000000003,1.8770619999999998E-2,1.6013999999999997E-2,4.0836600000000001E-2,0,3.8063453418300038E-2,6009951,318561.90000000002,3409779,10.161995635699059,6009951,35609160,1.5687021343799998E-2,8.123697101540003,null,0,0,null,1.4103469900000009E-2]
[921,1.952752E-2,4.2045399999999997E-2,312144.7,5941842,34702980,5941842,34702980,1.6013999999999997E-2,1.4103469900000009E-2,10.033294240886786,{"$f":"0","v":0},0,8.0135619133633309,{"$f":"0","v":0},0,{"$f":"0","v":0},0,1.5677342482199999E-2,null,918,0.98104009999999997,1.895985E-2,1.6013999999999997E-2,4.1138800000000003E-2,0,3.7928023793237307E-2,5992924,316957.59999999998,3382564,10.130309648146421,5992924,35382620,1.5684601628399998E-2,8.0967288579264043,null,0,0,null,1.4103469900000009E-2]
[922,1.9716750000000002E-2,4.2347599999999999E-2,310540.40000000002,5924814,34476440,5924814,34476440,1.6013999999999997E-2,1.4103469900000009E-2,10.000288582956248,{"$f":"0","v":0},0,7.9850526379878994,{"$f":"0","v":0},0,{"$f":"0","v":0},0,1.5674922766799996E-2,null,919,0.98085089999999997,1.9149079999999999E-2,1.6013999999999997E-2,4.1440999999999999E-2,0,3.7793076026274616E-2,5975897,315353.3,3355349,10.098301267710427,5975897,35156070,1.5682181912999995E-2,8.0693922856737341,null,0,0,null,1.4103469900000009E-2]
[923,1.990598E-2,4.2649800000000002E-2,308936.09999999998,5907787,34249890,5907787,34249890,1.6013999999999997E-2,1.4103469900000009E-2,9.9669368924512227,{"$f":"0","v":0},0,7.9561356604251356,{"$f":"0","v":0},0,{"$f":"0","v":0},0,1.5672503051399996E-2,null,920,0.98066169999999997,1.9338299999999999E-2,1.6013999999999997E-2,4.1743200000000001E-2,0,3.7658608402962625E-2,5958869,313749,3328133,10.065962361633026,5958869,34929520,1.5679762197599999E-2,8.0416729917268217,null,0,0,null,1.4103469900000009E-2]
[924,2.0095200000000001E-2,4.2951999999999997E-2,307331.8,5890759,34023340,5890759,34023340,1.6013999999999997E-2,1.4103469900000009E-2,9.9332402580316579,{"$f":"0","v":0},0,7.9268021720591397,{"$f":"0","v":0},0,{"$f":"0","v":0},0,1.5670083335999997E-2,null,921,0.98047240000000002,1.952752E-2,1.6013999999999997E-2,4.2045399999999997E-2,0,3.7524619214952024E-2,5941842,312144.7,3300918,10.033294240886786,5941842,34702980,1.5677342482199999E-2,8.0135619133633309,null,0,0,null,1.4103469900000009E-2]
[925,2.0307450000000001E-2,4.3283200000000001E-2,305766.40000000002,5873202,33807470,5873202,33807470,1.6013999999999997E-2,1.4103469900000009E-2,9.9031075138842368,{"$f":"0","v":0},0,7.9018884621645418,{"$f":"0","v":0},0,{"$f":"0","v":0},0,1.5667431417599995E-2,null,922,0.98028329999999997,1.9716750000000002E-2,1.6013999999999997E-2,4.2347599999999999E-2,0,3.7391106759971808E-2,5924814,310540.40000000002,3273703,10.000288582956248,5924814,34476440,1.5674922766799996E-2,7.9850526379878994,null,0,0,null,1.4103469900000009E-2]
[926,2.0519699999999998E-2,4.3614399999999998E-2,304200.90000000002,5855645,33591600,5855645,33591600,1.6013999999999997E-2,1.4103469900000009E-2,9.8726680706730328,{"$f":"0","v":0},0,7.8766251615784642,{"$f":"0","v":0},0,{"$f":"0","v":0},0,1.5664779499199998E-2,null,923,0.98009400000000002,1.990598E-2,1.6013999999999997E-2,4.2649800000000002E-2,0,3.7258069341807622E-2,5907787,308936.09999999998,3246487,9.9669368924512227,5907787,34249890,1.5672503051399996E-2,7.9561356604251356,null,0,0,null,1.4103469900000009E-2]
[927,2.0731949999999999E-2,4.3945600000000001E-2,302635.5,5838088,33375730,5838088,33375730,1.6013999999999997E-2,1.4103469900000009E-2,9.8419102765538096,{"$f":"0","v":0},0,7.8509989894630428,{"$f":"0","v":0},0,{"$f":"0","v":0},0,1.5662127580799996E-2,null,924,0.97990480000000002,2.0095200000000001E-2,1.6013999999999997E-2,4.2951999999999997E-2,0,3.712550527028026E-2,5890759,307331.8,3219272,9.9332402580316579,5890759,34023340,1.5670083335999997E-2,7.9268021720591397,null,0,0,null,1.4103469900000009E-2]
[928,2.09442E-2,4.4276799999999998E-2,301070,5820531,33159850,5820531,33159850,1.6013999999999997E-2,1.4103469900000009E-2,9.8108360735598588,{"$f":"0","v":0},0,7.8250140424834429,{"$f":"0","v":0},0,{"$f":"0","v":0},0,1.5659475662399999E-2,null,925,0.97969260000000002,2.0307450000000001E-2,1.6013999999999997E-2,4.3283200000000001E-2,0,3.6993412861224151E-2,5873202,305766.40000000002,3193661,9.9031075138842368,5873202,33807470,1.5667431417599995E-2,7.9018884621645418,null,0,0,null,1.4103469900000009E-2]
[929,2.115645E-2,4.4608000000000002E-2,299504.59999999998,5802974,32943980,5802974,32943980,1.6013999999999997E-2,1.4103469900000009E-2,9.7794335768688256,{"$f":"0","v":0},0,7.7986507161666188,{"$f":"0","v":0},0,{"$f":"0","v":0},0,1.5656823743999997E-2,null,926,0.97948029999999997,2.0519699999999998E-2,1.6013999999999997E-2,4.3614399999999998E-2,0,3.6861790436465987E-2,5855645,304200.90000000002,3168050,9.8726680706730328,5855645,33591600,1.5664779499199998E-2,7.8766251615784642,null,0,0,null,1.4103469900000009E-2]
[930,2.1368700000000001E-2,4.4939199999999999E-2,297939.09999999998,5785417,32728110,5785417,32728110,1.6013999999999997E-2,1.4103469900000009E-2,9.7477045504713331,{"$f":"0","v":0},0,7.7719127562023216,{"$f":"0","v":0},0,{"$f":"0","v":0},0,1.5654171825599996E-2,null,927,0.97926809999999997,2.0731949999999999E-2,1.6013999999999997E-2,4.3945600000000001E-2,0,3.6730636323803384E-2,5838088,302635.5,3142439,9.8419102765538096,5838088,33375730,1.5662127580799996E-2,7.8509989894630428,null,0,0,null,1.4103469900000009E-2]
[931,2.1580950000000002E-2,4.5270400000000002E-2,296373.7,5767860,32512240,5767860,32512240,1.6013999999999997E-2,1.4103469900000009E-2,9.7156368660017183,{"$f":"0","v":0},0,7.7447931663307417,{"$f":"0","v":0},0,{"$f":"0","v":0},0,1.5651519907199998E-2,null,928,0.97905580000000003,2.09442E-2,1.6013999999999997E-2,4.4276799999999998E-2,0,3.6599948856983665E-2,5820531,301070,3116828,9.8108360735598588,5820531,33159850,1.5659475662399999E-2,7.8250140424834429,null,0,0,null,1.4103469900000009E-2]
[932,2.1793199999999999E-2,4.5601599999999999E-2,294808.2,5750303,32296360,5750303,32296360,1.6013999999999997E-2,1.4103469900000009E-2,9.6832320980216977,{"$f":"0","v":0},0,7.7172630701181921,{"$f":"0","v":0},0,{"$f":"0","v":0},0,1.5648867988799997E-2,null,929,0.97884360000000004,2.115645E-2,1.6013999999999997E-2,4.4608000000000002E-2,0,3.646972637568266E-2,5802974,299504.59999999998,3091217,9.7794335768688256,5802974,32943980,1.5656823743999997E-2,7.7986507161666188,null,0,0,null,1.4103469900000009E-2]
[933,2.2005449999999999E-2,4.5932800000000003E-2,293242.8,5732746,32080490,5732746,32080490,1.6013999999999997E-2,1.4103469900000009E-2,9.6504778633951123,{"$f":"0","v":0},0,7.6893327716090374,{"$f":"0","v":0},0,{"$f":"0","v":0},0,1.5646216070399996E-2,null,930,0.97863129999999998,2.1368700000000001E-2,1.6013999999999997E-2,4.4939199999999999E-2,0,3.6339967225483633E-2,5785417,297939.09999999998,3065606,9.7477045504713331,5785417,32728110,1.5654171825599996E-2,7.7719127562023216,null,0,0,null,1.4103469900000009E-2]
[934,2.22177E-2,4.6264E-2,291677.3,5715189,31864620,5715189,31864620,1.6013999999999997E-2,1.4103469900000009E-2,9.6173755351090637,{"$f":"0","v":0},0,7.6609812122411851,{"$f":"0","v":0},0,{"$f":"0","v":0},0,1.5643564151999998E-2,null,931,0.97841909999999999,2.1580950000000002E-2,1.6013999999999997E-2,4.5270400000000002E-2,0,3.6210669757856244E-2,5767860,296373.7,3039995,9.7156368660017183,5767860,32512240,1.5651519907199998E-2,7.7447931663307417,null,0,0,null,1.4103469900000009E-2]
[935,2.2429950000000001E-2,4.6595200000000003E-2,290111.90000000002,5697632,31648750,5697632,31648750,1.6013999999999997E-2,1.4103469900000009E-2,9.5839124633173149,{"$f":"0","v":0},0,7.6322111119184148,{"$f":"0","v":0},0,{"$f":"0","v":0},0,1.5640912233599997E-2,null,932,0.97820680000000004,2.1793199999999999E-2,1.6013999999999997E-2,4.5601599999999999E-2,0,3.6081832330135656E-2,5750303,294808.2,3014384,9.6832320980216977,5750303,32296360,1.5648867988799997E-2,7.7172630701181921,null,0,0,null,1.4103469900000009E-2]
[936,2.2642200000000001E-2,4.69264E-2,288546.40000000002,5680075,31432870,5680075,31432870,1.6013999999999997E-2,1.4103469900000009E-2,9.5500898064690229,{"$f":"0","v":0},0,7.6030007639263433,{"$f":"0","v":0},0,{"$f":"0","v":0},0,1.5638260315199996E-2,null,933,0.97799460000000005,2.2005449999999999E-2,1.6013999999999997E-2,4.5932800000000003E-2,0,3.5953453305501565E-2,5732746,293242.8,2988773,9.6504778633951123,5732746,32080490,1.5646216070399996E-2,7.6893327716090374,null,0,0,null,1.4103469900000009E-2]
[937,2.2880919999999999E-2,4.7289070000000002E-2,287018,5661955,31227130,5661955,31227130,1.6013999999999997E-2,1.4103469900000009E-2,9.5200542010141067,{"$f":"0","v":0},0,7.5784241376983834,{"$f":"0","v":0},0,{"$f":"0","v":0},0,1.5635356416509996E-2,null,934,0.97778229999999999,2.22177E-2,1.6013999999999997E-2,4.6264E-2,0,3.5825531052957521E-2,5715189,291677.3,2963162,9.6173755351090637,5715189,31864620,1.5643564151999998E-2,7.6609812122411851,null,0,0,null,1.4103469900000009E-2]
[938,2.3119649999999999E-2,4.7651730000000003E-2,285489.59999999998,5643835,31021380,5643835,31021380,1.6013999999999997E-2,1.4103469900000009E-2,9.4896934949644418,{"$f":"0","v":0},0,7.5534941884379174,{"$f":"0","v":0},0,{"$f":"0","v":0},0,1.5632452597889996E-2,null,935,0.9775701,2.2429950000000001E-2,1.6013999999999997E-2,4.6595200000000003E-2,0,3.5698063947310128E-2,5697632,290111.90000000002,2937551,9.5839124633173149,5697632,31648750,1.5640912233599997E-2,7.6322111119184148,null,0,0,null,1.4103469900000009E-2]
[939,2.335837E-2,4.8014399999999999E-2,283961.09999999998,5625716,30815630,5625716,30815630,1.6013999999999997E-2,1.4103469900000009E-2,9.459013003893844,{"$f":"0","v":0},0,7.528187804457775,{"$f":"0","v":0},0,{"$f":"0","v":0},0,1.5629548699199997E-2,null,936,0.97735780000000005,2.2642200000000001E-2,1.6013999999999997E-2,4.69264E-2,0,3.5571050369148427E-2,5680075,288546.40000000002,2911940,9.5500898064690229,5680075,31432870,1.5638260315199996E-2,7.6030007639263433,null,0,0,null,1.4103469900000009E-2]
[940,2.3597099999999999E-2,4.8377070000000001E-2,282432.7,5607596,30609880,5607596,30609880,1.6013999999999997E-2,1.4103469900000009E-2,9.4279933620764638,{"$f":"0","v":0},0,7.5025042629844743,{"$f":"0","v":0},0,{"$f":"0","v":0},0,1.5626644800509997E-2,null,937,0.97711910000000002,2.2880919999999999E-2,1.6013999999999997E-2,4.7289070000000002E-2,0,3.5444488704823328E-2,5661955,287018,2887895,9.5200542010141067,5661955,31227130,1.5635356416509996E-2,7.5784241376983834,null,0,0,null,1.4103469900000009E-2]
[941,2.3835820000000001E-2,4.8739739999999997E-2,280904.2,5589477,30404130,5589477,30404130,1.6013999999999997E-2,1.4103469900000009E-2,9.3966432624835559,{"$f":"0","v":0},0,7.4764288548700106,{"$f":"0","v":0},0,{"$f":"0","v":0},0,1.5623740901819996E-2,null,938,0.97688039999999998,2.3119649999999999E-2,1.6013999999999997E-2,4.7651730000000003E-2,0,3.5318377346427073E-2,5643835,285489.59999999998,2863849,9.4896934949644418,5643835,31021380,1.5632452597889996E-2,7.5534941884379174,null,0,0,null,1.4103469900000009E-2]
[942,2.407455E-2,4.9102399999999997E-2,279375.8,5571357,30198380,5571357,30198380,1.6013999999999997E-2,1.4103469900000009E-2,9.3649429967329567,{"$f":"0","v":0},0,7.4499652305171811,{"$f":"0","v":0},0,{"$f":"0","v":0},0,1.5620837083199998E-2,null,939,0.97664169999999995,2.335837E-2,1.6013999999999997E-2,4.8014399999999999E-2,0,3.5192714691772854E-2,5625716,283961.09999999998,2839804,9.459013003893844,5625716,30815630,1.5629548699199997E-2,7.528187804457775,null,0,0,null,1.4103469900000009E-2]
[943,2.4313270000000001E-2,4.946507E-2,277847.3,5553237,29992630,5553237,29992630,1.6013999999999997E-2,1.4103469900000009E-2,9.3328975274068409,{"$f":"0","v":0},0,7.4230981831629803,{"$f":"0","v":0},0,{"$f":"0","v":0},0,1.5617933184509996E-2,null,940,0.97640289999999996,2.3597099999999999E-2,1.6013999999999997E-2,4.8377070000000001E-2,0,3.5067499144374452E-2,5607596,282432.7,2815758,9.4279933620764638,5607596,30609880,1.5626644800509997E-2,7.5025042629844743,null,0,0,null,1.4103469900000009E-2]
[944,2.4552000000000001E-2,4.9827740000000002E-2,276318.90000000002,5535118,29786880,5535118,29786880,1.6013999999999997E-2,1.4103469900000009E-2,9.3004975863033614,{"$f":"0","v":0},0,7.3958263459569942,{"$f":"0","v":0},0,{"$f":"0","v":0},0,1.5615029285819997E-2,null,941,0.97616420000000004,2.3835820000000001E-2,1.6013999999999997E-2,4.8739739999999997E-2,0,3.4942729113425899E-2,5589477,280904.2,2791713,9.3966432624835559,5589477,30404130,1.5623740901819996E-2,7.4764288548700106,null,0,0,null,1.4103469900000009E-2]
[945,2.4790719999999999E-2,5.0190400000000003E-2,274790.40000000002,5516998,29581130,5516998,29581130,1.6013999999999997E-2,1.4103469900000009E-2,9.267737155300912,{"$f":"0","v":0},0,7.3681219417090942,{"$f":"0","v":0},0,{"$f":"0","v":0},0,1.5612125467199997E-2,null,942,0.97592540000000005,2.407455E-2,1.6013999999999997E-2,4.9102399999999997E-2,0,3.4818403013781342E-2,5571357,279375.8,2767667,9.3649429967329567,5571357,30198380,1.5620837083199998E-2,7.4499652305171811,null,0,0,null,1.4103469900000009E-2]
[946,2.5029450000000002E-2,5.0553069999999999E-2,273262,5498878,29375390,5498878,29375390,1.6013999999999997E-2,1.4103469900000009E-2,9.2346103129353274,{"$f":"0","v":0},0,7.3399829955254203,{"$f":"0","v":0},0,{"$f":"0","v":0},0,1.5609221568509996E-2,null,943,0.97568670000000002,2.4313270000000001E-2,1.6013999999999997E-2,4.946507E-2,0,3.4694519265934851E-2,5553237,277847.3,2743621,9.3328975274068409,5553237,29992630,1.5617933184509996E-2,7.4230981831629803,null,0,0,null,1.4103469900000009E-2]
[947,2.526817E-2,5.0915729999999999E-2,271733.59999999998,5480759,29169640,5480759,29169640,1.6013999999999997E-2,1.4103469900000009E-2,9.2011071382658134,{"$f":"0","v":0},0,7.3114072054407098,{"$f":"0","v":0},0,{"$f":"0","v":0},0,1.5606317749889997E-2,null,944,0.97544799999999998,2.4552000000000001E-2,1.6013999999999997E-2,4.9827740000000002E-2,0,3.457107629600039E-2,5535118,276318.90000000002,2719576,9.3004975863033614,5535118,29786880,1.5615029285819997E-2,7.3958263459569942,null,0,0,null,1.4103469900000009E-2]
[948,2.5506899999999999E-2,5.1278400000000002E-2,270205.09999999998,5462639,28963890,5462639,28963890,1.6013999999999997E-2,1.4103469900000009E-2,9.1672322401267294,{"$f":"0","v":0},0,7.2823793521675482,{"$f":"0","v":0},0,{"$f":"0","v":0},0,1.5603413851199998E-2,null,945,0.97520929999999995,2.4790719999999999E-2,1.6013999999999997E-2,5.0190400000000003E-2,0,3.4448072535691779E-2,5516998,274790.40000000002,2695530,9.267737155300912,5516998,29581130,1.5612125467199997E-2,7.3681219417090942,null,0,0,null,1.4103469900000009E-2]
[949,2.5776299999999999E-2,5.1675470000000001E-2,268712,5443925,28767760,5443925,28767760,1.6013999999999997E-2,1.4103469900000009E-2,9.1373837665108617,{"$f":"0","v":0},0,7.2581933712829958,{"$f":"0","v":0},0,{"$f":"0","v":0},0,1.5600234511709998E-2,null,946,0.97497060000000002,2.5029450000000002E-2,1.6013999999999997E-2,5.0553069999999999E-2,0,3.4325506422302837E-2,5498878,273262,2671485,9.2346103129353274,5498878,29375390,1.5609221568509996E-2,7.3399829955254203,null,0,0,null,1.4103469900000009E-2]
[950,2.6045700000000001E-2,5.2072529999999999E-2,267218.90000000002,5425211,28571620,5425211,28571620,1.6013999999999997E-2,1.4103469900000009E-2,9.1072017329862014,{"$f":"0","v":0},0,7.2336405601724376,{"$f":"0","v":0},0,{"$f":"0","v":0},0,1.5597055252289996E-2,null,947,0.97473180000000004,2.526817E-2,1.6013999999999997E-2,5.0915729999999999E-2,0,3.4203376398687438E-2,5480759,271733.59999999998,2647439,9.2011071382658134,5480759,29169640,1.5606317749889997E-2,7.3114072054407098,null,0,0,null,1.4103469900000009E-2]
[951,2.6315100000000001E-2,5.2469599999999998E-2,265725.8,5406496,28375490,5406496,28375490,1.6013999999999997E-2,1.4103469900000009E-2,9.0766805167833411,{"$f":"0","v":0},0,7.208701015782931,{"$f":"0","v":0},0,{"$f":"0","v":0},0,1.5593875912799997E-2,null,948,0.9744931,2.5506899999999999E-2,1.6013999999999997E-2,5.1278400000000002E-2,0,3.4081680913239806E-2,5462639,270205.09999999998,2623394,9.1672322401267294,5462639,28963890,1.5603413851199998E-2,7.2823793521675482,null,0,0,null,1.4103469900000009E-2]
[952,2.65845E-2,5.2866669999999998E-2,264232.8,5387782,28179360,5387782,28179360,1.6013999999999997E-2,1.4103469900000009E-2,9.0458107396205172,{"$f":"0","v":0},0,7.1833779184178717,{"$f":"0","v":0},0,{"$f":"0","v":0},0,1.5590696573309998E-2,null,949,0.97422370000000003,2.5776299999999999E-2,1.6013999999999997E-2,5.1675470000000001E-2,0,3.3960418419874745E-2,5443925,268712,2600877,9.1373837665108617,5443925,28767760,1.5600234511709998E-2,7.2581933712829958,null,0,0,null,1.4103469900000009E-2]
[953,2.68539E-2,5.3263739999999997E-2,262739.7,5369068,27983230,5369068,27983230,1.6013999999999997E-2,1.4103469900000009E-2,9.0145899629937922,{"$f":"0","v":0},0,7.1576490401075636,{"$f":"0","v":0},0,{"$f":"0","v":0},0,1.5587517233819997E-2,null,950,0.97395430000000005,2.6045700000000001E-2,1.6013999999999997E-2,5.2072529999999999E-2,0,3.3839587378008081E-2,5425211,267218.90000000002,2578360,9.1072017329862014,5425211,28571620,1.5597055252289996E-2,7.2336405601724376,null,0,0,null,1.4103469900000009E-2]
[954,2.7123299999999999E-2,5.3660800000000002E-2,261246.6,5350354,27787100,5350354,27787100,1.6013999999999997E-2,1.4103469900000009E-2,8.9830161426024304,{"$f":"0","v":0},0,7.1315170708518982,{"$f":"0","v":0},0,{"$f":"0","v":0},0,1.5584337974399997E-2,null,951,0.97368489999999996,2.6315100000000001E-2,1.6013999999999997E-2,5.2469599999999998E-2,0,3.3719186252536948E-2,5406496,265725.8,2555843,9.0766805167833411,5406496,28375490,1.5593875912799997E-2,7.208701015782931,null,0,0,null,1.4103469900000009E-2]
[955,2.7392699999999999E-2,5.4057870000000001E-2,259753.5,5331639,27590960,5331639,27590960,1.6013999999999997E-2,1.4103469900000009E-2,8.9510793406056131,{"$f":"0","v":0},0,7.1049607739132412,{"$f":"0","v":0},0,{"$f":"0","v":0},0,1.5581158634909997E-2,null,952,0.97341549999999999,2.65845E-2,1.6013999999999997E-2,5.2866669999999998E-2,0,3.3599213513820447E-2,5387782,264232.8,2533326,9.0458107396205172,5387782,28179360,1.5590696573309998E-2,7.1833779184178717,null,0,0,null,1.4103469900000009E-2]
[956,2.7662099999999998E-2,5.4454929999999999E-2,258260.4,5312925,27394830,5312925,27394830,1.6013999999999997E-2,1.4103469900000009E-2,8.9187732614059314,{"$f":"0","v":0},0,7.07798147161175,{"$f":"0","v":0},0,{"$f":"0","v":0},0,1.5577979375489997E-2,null,953,0.97314610000000001,2.68539E-2,1.6013999999999997E-2,5.3263739999999997E-2,0,3.3479667637660103E-2,5369068,262739.7,2510808,9.0145899629937922,5369068,27983230,1.5587517233819997E-2,7.1576490401075636,null,0,0,null,1.4103469900000009E-2]
[957,2.7931500000000001E-2,5.4851999999999998E-2,256767.3,5294211,27198700,5294211,27198700,1.6013999999999997E-2,1.4103469900000009E-2,8.8860914629705583,{"$f":"0","v":0},0,7.0505571885354277,{"$f":"0","v":0},0,{"$f":"0","v":0},0,1.5574800035999998E-2,null,954,0.97287670000000004,2.7123299999999999E-2,1.6013999999999997E-2,5.3660800000000002E-2,0,3.3360547105280532E-2,5350354,261246.6,2488291,8.9830161426024304,5350354,27787100,1.5584337974399997E-2,7.1315170708518982,null,0,0,null,1.4103469900000009E-2]
[958,2.8200900000000001E-2,5.5249069999999997E-2,255274.2,5275497,27002570,5275497,27002570,1.6013999999999997E-2,1.4103469900000009E-2,8.8530273525487502,{"$f":"0","v":0},0,7.0226895498801651,{"$f":"0","v":0},0,{"$f":"0","v":0},0,1.5571620696509999E-2,null,955,0.97260729999999995,2.7392699999999999E-2,1.6013999999999997E-2,5.4057870000000001E-2,0,3.3241850403310153E-2,5331639,259753.5,2465774,8.9510793406056131,5331639,27590960,1.5581158634909997E-2,7.1049607739132412,null,0,0,null,1.4103469900000009E-2]
[959,2.84703E-2,5.5646130000000002E-2,253781.1,5256782,26806430,5256782,26806430,1.6013999999999997E-2,1.4103469900000009E-2,8.8195741822381581,{"$f":"0","v":0},0,6.9943540244472384,{"$f":"0","v":0},0,{"$f":"0","v":0},0,1.5568441437089997E-2,null,956,0.97233789999999998,2.7662099999999998E-2,1.6013999999999997E-2,5.4454929999999999E-2,0,3.3123576023761946E-2,5312925,258260.4,2443257,8.9187732614059314,5312925,27394830,1.5577979375489997E-2,7.07798147161175,null,0,0,null,1.4103469900000009E-2]
[960,{"$f":"W965","v":2.87397E-2},{"$f":"Y965","v":5.6043200000000001E-2},{"$f":"AC965","v":252288},{"$f":"AF965","v":5238068},{"$f":"AG965","v":26610300},{"$f":"E962","v":5238068},{"$f":"F962","v":26610300},{"$f":"X965","v":1.6013999999999997E-2},{"$f":"AN965","v":1.4103469900000009E-2},{"$f":"AE965","v":8.7857250443937094},{"$f":"0","v":0},{"$f":"AL965","v":0},{"$f":"AI965","v":6.9655515909084089},{"$f":"0","v":0},{"$f":"AK965","v":0},{"$f":"0","v":0},{"$f":"Z965","v":0},{"$f":"AH965","v":1.5565262097599997E-2},null,957,0.9720685,2.7931500000000001E-2,1.6013999999999997E-2,5.4851999999999998E-2,0,3.3005722464014314E-2,5294211,256767.3,2420740,8.8860914629705583,5294211,27198700,1.5574800035999998E-2,7.0505571885354277,null,0,0,null,1.4103469900000009E-2]
[961,2.9043599999999999E-2,5.6477600000000003E-2,250828.79999999999,5218729,26423320,5218729,26423320,1.6013999999999997E-2,1.4103469900000009E-2,8.7561691480404171,{"$f":"0","v":0},0,6.9418119759921346,{"$f":"0","v":0},0,{"$f":"0","v":0},0,1.5561783856799996E-2,null,958,0.97179910000000003,2.8200900000000001E-2,1.6013999999999997E-2,5.5249069999999997E-2,0,3.288828822679199E-2,5275497,255274.2,2398223,8.8530273525487502,5275497,27002570,1.5571620696509999E-2,7.0226895498801651,null,0,0,null,1.4103469900000009E-2]
[962,2.9347499999999999E-2,5.6911999999999997E-2,249369.60000000001,5199389,26236340,5199389,26236340,1.6013999999999997E-2,1.4103469900000009E-2,8.7262673557642962,{"$f":"0","v":0},0,6.917694967555577,{"$f":"0","v":0},0,{"$f":"0","v":0},0,1.5558305615999997E-2,null,959,0.97152970000000005,2.84703E-2,1.6013999999999997E-2,5.5646130000000002E-2,0,3.2771271820146976E-2,5256782,253781.1,2375706,8.8195741822381581,5256782,26806430,1.5568441437089997E-2,6.9943540244472384,null,0,0,null,1.4103469900000009E-2]
[963,2.9651400000000001E-2,5.7346399999999999E-2,247910.39999999999,5180050,26049360,5180050,26049360,1.6013999999999997E-2,1.4103469900000009E-2,8.6960135597377128,{"$f":"0","v":0},0,6.8931784740315418,{"$f":"0","v":0},0,{"$f":"0","v":0},0,1.5554827375199998E-2,null,960,0.97126029999999997,2.87397E-2,1.6013999999999997E-2,5.6043200000000001E-2,0,3.2654671757439642E-2,5238068,252288,2353189,8.7857250443937094,5238068,26610300,1.5565262097599997E-2,6.9655515909084089,null,0,0,null,1.4103469900000009E-2]
[964,2.9955300000000001E-2,5.77808E-2,246451.20000000001,5160711,25862370,5160711,25862370,1.6013999999999997E-2,1.4103469900000009E-2,8.6654015074789648,{"$f":"0","v":0},0,6.868264622443327,{"$f":"0","v":0},0,{"$f":"0","v":0},0,1.5551349134399997E-2,null,961,0.97095640000000005,2.9043599999999999E-2,1.6013999999999997E-2,5.6477600000000003E-2,0,3.2538486557319835E-2,5218729,250828.79999999999,2332165,8.7561691480404171,5218729,26423320,1.5561783856799996E-2,6.9418119759921346,null,0,0,null,1.4103469900000009E-2]
[965,3.02592E-2,5.8215200000000002E-2,244992,5141371,25675390,5141371,25675390,1.6013999999999997E-2,1.4103469900000009E-2,8.6344247975444102,{"$f":"0","v":0},0,6.8429296126794767,{"$f":"0","v":0},0,{"$f":"0","v":0},0,1.5547870893599996E-2,null,962,0.97065250000000003,2.9347499999999999E-2,1.6013999999999997E-2,5.6911999999999997E-2,0,3.2422714743707996E-2,5199389,249369.60000000001,2311141,8.7262673557642962,5199389,26236340,1.5558305615999997E-2,6.917694967555577,null,0,0,null,1.4103469900000009E-2]
[966,3.0563099999999999E-2,5.8649600000000003E-2,243532.79999999999,5122032,25488410,5122032,25488410,1.6013999999999997E-2,1.4103469900000009E-2,8.6030768750657014,{"$f":"0","v":0},0,6.8171796947332961,{"$f":"0","v":0},0,{"$f":"0","v":0},0,1.5544392652799997E-2,null,963,0.97034860000000001,2.9651400000000001E-2,1.6013999999999997E-2,5.7346399999999999E-2,0,3.2307354845776473E-2,5180050,247910.39999999999,2290117,8.6960135597377128,5180050,26049360,1.5554827375199998E-2,6.8931784740315418,null,0,0,null,1.4103469900000009E-2]
[967,3.0866999999999999E-2,5.9083999999999998E-2,242073.60000000001,5102693,25301430,5102693,25301430,1.6013999999999997E-2,1.4103469900000009E-2,8.571351027125635,{"$f":"0","v":0},0,6.7909944488019995,{"$f":"0","v":0},0,{"$f":"0","v":0},0,1.5540914411999998E-2,null,964,0.97004469999999998,2.9955300000000001E-2,1.6013999999999997E-2,5.77808E-2,0,3.2192405397930834E-2,5160711,246451.20000000001,2269093,8.6654015074789648,5160711,25862370,1.5551349134399997E-2,6.868264622443327,null,0,0,null,1.4103469900000009E-2]
[968,3.1170900000000001E-2,5.9518399999999999E-2,240614.39999999999,5083353,25114440,5083353,25114440,1.6013999999999997E-2,1.4103469900000009E-2,8.5392403779657418,{"$f":"0","v":0},0,6.7643567047989235,{"$f":"0","v":0},0,{"$f":"0","v":0},0,1.5537436171199997E-2,null,965,0.96974079999999996,3.02592E-2,1.6013999999999997E-2,5.8215200000000002E-2,0,3.2077864939791194E-2,5141371,244992,2248069,8.6344247975444102,5141371,25675390,1.5547870893599996E-2,6.8429296126794767,null,0,0,null,1.4103469900000009E-2]
[969,3.1474799999999997E-2,5.9952800000000001E-2,239155.20000000001,5064014,24927460,5064014,24927460,1.6013999999999997E-2,1.4103469900000009E-2,8.5067378840184116,{"$f":"0","v":0},0,6.7372690077073916,{"$f":"0","v":0},0,{"$f":"0","v":0},0,1.5533957930399998E-2,null,966,0.96943690000000005,3.0563099999999999E-2,1.6013999999999997E-2,5.8649600000000003E-2,0,3.1963732016173703E-2,5122032,243532.79999999999,2227045,8.6030768750657014,5122032,25488410,1.5544392652799997E-2,6.8171796947332961,null,0,0,null,1.4103469900000009E-2]
[970,3.17787E-2,6.0387200000000002E-2,237696,5044674,24740480,5044674,24740480,1.6013999999999997E-2,1.4103469900000009E-2,8.4738363287560592,{"$f":"0","v":0},0,6.7097054164649972,{"$f":"0","v":0},0,{"$f":"0","v":0},0,1.5530479689599997E-2,null,967,0.96913300000000002,3.0866999999999999E-2,1.6013999999999997E-2,5.9083999999999998E-2,0,3.1850005177072066E-2,5102693,242073.60000000001,2206021,8.571351027125635,5102693,25301430,1.5540914411999998E-2,6.7909944488019995,null,0,0,null,1.4103469900000009E-2]
[971,3.2082600000000003E-2,6.0821600000000003E-2,236236.79999999999,5025335,24553500,5025335,24553500,1.6013999999999997E-2,1.4103469900000009E-2,8.4405283173493721,{"$f":"0","v":0},0,6.6816678009399668,{"$f":"0","v":0},0,{"$f":"0","v":0},0,1.5527001448799998E-2,null,968,0.9688291,3.1170900000000001E-2,1.6013999999999997E-2,5.9518399999999999E-2,0,3.1736682977639076E-2,5083353,240614.39999999999,2184997,8.5392403779657418,5083353,25114440,1.5537436171199997E-2,6.7643567047989235,null,0,0,null,1.4103469900000009E-2]
[972,3.2386499999999999E-2,6.1255999999999998E-2,234777.60000000001,5005996,24366510,5005996,24366510,1.6013999999999997E-2,1.4103469900000009E-2,8.4068062711263778,{"$f":"0","v":0},0,6.6531363959741894,{"$f":"0","v":0},0,{"$f":"0","v":0},0,1.5523523207999997E-2,null,969,0.96852519999999998,3.1474799999999997E-2,1.6013999999999997E-2,5.9952800000000001E-2,0,3.1623763978168316E-2,5064014,239155.20000000001,2163973,8.5067378840184116,5064014,24927460,1.5533957930399998E-2,6.7372690077073916,null,0,0,null,1.4103469900000009E-2]
[973,3.2729029999999999E-2,6.1730930000000003E-2,233351.3,4986009,24188280,4986009,24188280,1.6013999999999997E-2,1.4103469900000009E-2,8.3776579739074393,{"$f":"0","v":0},0,6.6298994246933782,{"$f":"0","v":0},0,{"$f":"0","v":0},0,1.5519720443489997E-2,null,970,0.96822129999999995,3.17787E-2,1.6013999999999997E-2,6.0387200000000002E-2,0,3.1511246744075821E-2,5044674,237696,2142949,8.4738363287560592,5044674,24740480,1.5530479689599997E-2,6.7097054164649972,null,0,0,null,1.4103469900000009E-2]
[974,3.3071549999999998E-2,6.2205870000000003E-2,231925,4966023,24010060,4966023,24010060,1.6013999999999997E-2,1.4103469900000009E-2,8.3481511623728935,{"$f":"0","v":0},0,6.6062685441485458,{"$f":"0","v":0},0,{"$f":"0","v":0},0,1.5515917598909997E-2,null,971,0.96791740000000004,3.2082600000000003E-2,1.6013999999999997E-2,6.0821600000000003E-2,0,3.139912984588189E-2,5025335,236236.79999999999,2121925,8.4405283173493721,5025335,24553500,1.5527001448799998E-2,6.6816678009399668,null,0,0,null,1.4103469900000009E-2]
[975,3.3414069999999997E-2,6.2680799999999995E-2,230498.7,4946036,23831830,4946036,23831830,1.6013999999999997E-2,1.4103469900000009E-2,8.3182791811841028,{"$f":"0","v":0},0,6.5822310993833888,{"$f":"0","v":0},0,{"$f":"0","v":0},0,1.5512114834399996E-2,null,972,0.96761350000000002,3.2386499999999999E-2,1.6013999999999997E-2,6.1255999999999998E-2,0,3.1287411859192878E-2,5005996,234777.60000000001,2100901,8.4068062711263778,5005996,24366510,1.5523523207999997E-2,6.6531363959741894,null,0,0,null,1.4103469900000009E-2]
[976,3.3756599999999998E-2,6.3155729999999993E-2,229072.4,4926050,23653600,4926050,23653600,1.6013999999999997E-2,1.4103469900000009E-2,8.2880352092468002,{"$f":"0","v":0},0,6.5577771044719455,{"$f":"0","v":0},0,{"$f":"0","v":0},0,1.5508312069889996E-2,null,973,0.96727099999999999,3.2729029999999999E-2,1.6013999999999997E-2,6.1730930000000003E-2,0,3.1176091364683134E-2,4986009,233351.3,2081336,8.3776579739074393,4986009,24188280,1.5519720443489997E-2,6.6298994246933782,null,0,0,null,1.4103469900000009E-2]
[977,3.4099119999999997E-2,6.363067E-2,227646.1,4906063,23475370,4906063,23475370,1.6013999999999997E-2,1.4103469900000009E-2,8.2574166473018131,{"$f":"0","v":0},0,6.5328960677932155,{"$f":"0","v":0},0,{"$f":"0","v":0},0,1.5504509225309998E-2,null,974,0.96692840000000002,3.3071549999999998E-2,1.6013999999999997E-2,6.2205870000000003E-2,0,3.1065166948076987E-2,4966023,231925,2061771,8.3481511623728935,4966023,24010060,1.5515917598909997E-2,6.6062685441485458,null,0,0,null,1.4103469900000009E-2]
[978,3.4441649999999997E-2,6.4105599999999999E-2,226219.8,4886077,23297140,4886077,23297140,1.6013999999999997E-2,1.4103469900000009E-2,8.2264075690987273,{"$f":"0","v":0},0,6.5075751999993017,{"$f":"0","v":0},0,{"$f":"0","v":0},0,1.5500706460799997E-2,null,975,0.9665859,3.3414069999999997E-2,1.6013999999999997E-2,6.2680799999999995E-2,0,3.0954637200130725E-2,4946036,230498.7,2042206,8.3182791811841028,4946036,23831830,1.5512114834399996E-2,6.5822310993833888,null,0,0,null,1.4103469900000009E-2]
[979,3.4784179999999998E-2,6.4580529999999997E-2,224793.60000000001,4866091,23118910,4866091,23118910,1.6013999999999997E-2,1.4103469900000009E-2,8.1950011032342562,{"$f":"0","v":0},0,6.4818031903815569,{"$f":"0","v":0},0,{"$f":"0","v":0},0,1.5496903696289997E-2,null,976,0.96624339999999997,3.3756599999999998E-2,1.6013999999999997E-2,6.3155729999999993E-2,0,3.084450071661473E-2,4926050,229072.4,2022641,8.2880352092468002,4926050,23653600,1.5508312069889996E-2,6.5577771044719455,null,0,0,null,1.4103469900000009E-2]
[980,3.5126699999999997E-2,6.5055470000000004E-2,223367.3,4846104,22940680,4846104,22940680,1.6013999999999997E-2,1.4103469900000009E-2,8.1631974741453508,{"$f":"0","v":0},0,6.4555681939901266,{"$f":"0","v":0},0,{"$f":"0","v":0},0,1.5493100851709999E-2,null,977,0.96590089999999995,3.4099119999999997E-2,1.6013999999999997E-2,6.363067E-2,0,3.0734756098295631E-2,4906063,227646.1,2003077,8.2574166473018131,4906063,23475370,1.5504509225309998E-2,6.5328960677932155,null,0,0,null,1.4103469900000009E-2]
[981,3.5469229999999997E-2,6.5530400000000003E-2,221941,4826118,22762450,4826118,22762450,1.6013999999999997E-2,1.4103469900000009E-2,8.1309895798132548,{"$f":"0","v":0},0,6.4288579476318386,{"$f":"0","v":0},0,{"$f":"0","v":0},0,1.5489298087199996E-2,null,978,0.96555840000000004,3.4441649999999997E-2,1.6013999999999997E-2,6.4105599999999999E-2,0,3.0625401950918528E-2,4886077,226219.8,1983512,8.2264075690987273,4886077,23297140,1.5500706460799997E-2,6.5075751999993017,null,0,0,null,1.4103469900000009E-2]
[982,3.5811750000000003E-2,6.6005330000000001E-2,220514.7,4806131,22584220,4806131,22584220,1.6013999999999997E-2,1.4103469900000009E-2,8.0983605061249886,{"$f":"0","v":0},0,6.4016598413962669,{"$f":"0","v":0},0,{"$f":"0","v":0},0,1.5485495322689996E-2,null,979,0.96521579999999996,3.4784179999999998E-2,1.6013999999999997E-2,6.4580529999999997E-2,0,3.0516436885189256E-2,4866091,224793.60000000001,1963947,8.1950011032342562,4866091,23118910,1.5496903696289997E-2,6.4818031903815569,null,0,0,null,1.4103469900000009E-2]
[983,3.6154270000000002E-2,6.6480259999999999E-2,219088.4,4786145,22405990,4786145,22405990,1.6013999999999997E-2,1.4103469900000009E-2,8.0653065916162916,{"$f":"0","v":0},0,6.3739588399114089,{"$f":"0","v":0},0,{"$f":"0","v":0},0,1.5481692558179997E-2,null,980,0.96487330000000004,3.5126699999999997E-2,1.6013999999999997E-2,6.5055470000000004E-2,0,3.0407859516756765E-2,4846104,223367.3,1944382,8.1631974741453508,4846104,22940680,1.5493100851709999E-2,6.4555681939901266,null,0,0,null,1.4103469900000009E-2]
[984,3.6496800000000003E-2,6.6955200000000006E-2,217662.1,4766158,22227760,4766158,22227760,1.6013999999999997E-2,1.4103469900000009E-2,8.0318194845741786,{"$f":"0","v":0},0,6.3457413135357674,{"$f":"0","v":0},0,{"$f":"0","v":0},0,1.5477889713599997E-2,null,981,0.96453080000000002,3.5469229999999997E-2,1.6013999999999997E-2,6.5530400000000003E-2,0,3.0299668466195535E-2,4826118,221941,1924818,8.1309895798132548,4826118,22762450,1.5489298087199996E-2,6.4288579476318386,null,0,0,null,1.4103469900000009E-2]
[985,3.6882150000000002E-2,6.7474000000000006E-2,216268.4,4745515,22057960,4745515,22057960,1.6013999999999997E-2,1.4103469900000009E-2,8.0032016543640534,{"$f":"0","v":0},0,6.3230587740044317,{"$f":"0","v":0},0,{"$f":"0","v":0},0,1.5473735681999997E-2,null,982,0.9641883,3.5811750000000003E-2,1.6013999999999997E-2,6.6005330000000001E-2,0,3.0191862358988009E-2,4806131,220514.7,1905253,8.0983605061249886,4806131,22584220,1.5485495322689996E-2,6.4016598413962669,null,0,0,null,1.4103469900000009E-2]
[986,3.7267500000000002E-2,6.7992800000000006E-2,214874.6,4724872,21888160,4724872,21888160,1.6013999999999997E-2,1.4103469900000009E-2,7.9742118969234452,{"$f":"0","v":0},0,6.2999689894160849,{"$f":"0","v":0},0,{"$f":"0","v":0},0,1.5469581650399996E-2,null,983,0.96384570000000003,3.6154270000000002E-2,1.6013999999999997E-2,6.6480259999999999E-2,0,3.0084439825507184E-2,4786145,219088.4,1885688,8.0653065916162916,4786145,22405990,1.5481692558179997E-2,6.3739588399114089,null,0,0,null,1.4103469900000009E-2]
[987,3.7652850000000002E-2,6.8511610000000001E-2,213480.9,4704228,21718360,4704228,21718360,1.6013999999999997E-2,1.4103469900000009E-2,7.9448443045724462,{"$f":"0","v":0},0,6.2764600888934545,{"$f":"0","v":0},0,{"$f":"0","v":0},0,1.5465427538729997E-2,null,984,0.9635032,3.6496800000000003E-2,1.6013999999999997E-2,6.6955200000000006E-2,0,2.9977399500999171E-2,4766158,217662.1,1866123,8.0318194845741786,4766158,22227760,1.5477889713599997E-2,6.3457413135357674,null,0,0,null,1.4103469900000009E-2]
[988,3.8038200000000001E-2,6.9030400000000006E-2,212087.1,4683585,21548560,4683585,21548560,1.6013999999999997E-2,1.4103469900000009E-2,7.915090014904254,{"$f":"0","v":0},0,6.2525189982057414,{"$f":"0","v":0},0,{"$f":"0","v":0},0,1.5461273587199998E-2,null,985,0.96311780000000002,3.6882150000000002E-2,1.6013999999999997E-2,6.7474000000000006E-2,0,2.9870740025565865E-2,4745515,216268.4,1847985,8.0032016543640534,4745515,22057960,1.5473735681999997E-2,6.3230587740044317,null,0,0,null,1.4103469900000009E-2]
[989,3.8423550000000001E-2,6.9549200000000005E-2,210693.4,4662942,21378760,4662942,21378760,1.6013999999999997E-2,1.4103469900000009E-2,7.8849428047263617,{"$f":"0","v":0},0,6.2281368834494888,{"$f":"0","v":0},0,{"$f":"0","v":0},0,1.5457119555599997E-2,null,986,0.96273249999999999,3.7267500000000002E-2,1.6013999999999997E-2,6.7992800000000006E-2,0,2.9764460044147692E-2,4724872,214874.6,1829846,7.9742118969234452,4724872,21888160,1.5469581650399996E-2,6.2999689894160849,null,0,0,null,1.4103469900000009E-2]
[990,3.88089E-2,7.0068000000000005E-2,209299.6,4642298,21208960,4642298,21208960,1.6013999999999997E-2,1.4103469900000009E-2,7.8543933353591369,{"$f":"0","v":0},0,6.2032998076469728,{"$f":"0","v":0},0,{"$f":"0","v":0},0,1.5452965523999997E-2,null,987,0.96234710000000001,3.7652850000000002E-2,1.6013999999999997E-2,6.8511610000000001E-2,0,2.9658558206506355E-2,4704228,213480.9,1811708,7.9448443045724462,4704228,21718360,1.5465427538729997E-2,6.2764600888934545,null,0,0,null,1.4103469900000009E-2]
[991,3.919425E-2,7.0586800000000005E-2,207905.9,4621655,21039160,4621655,21039160,1.6013999999999997E-2,1.4103469900000009E-2,7.8234350452135635,{"$f":"0","v":0},0,6.1779941243986993,{"$f":"0","v":0},0,{"$f":"0","v":0},0,1.5448811492399997E-2,null,988,0.96196179999999998,3.8038200000000001E-2,1.6013999999999997E-2,6.9030400000000006E-2,0,2.9553033167207712E-2,4683585,212087.1,1793569,7.915090014904254,4683585,21548560,1.5461273587199998E-2,6.2525189982057414,null,0,0,null,1.4103469900000009E-2]
[992,3.95796E-2,7.1105600000000005E-2,206512.2,4601012,20869370,4601012,20869370,1.6013999999999997E-2,1.4103469900000009E-2,7.7920540529808884,{"$f":"0","v":0},0,6.1522068807386221,{"$f":"0","v":0},0,{"$f":"0","v":0},0,1.5444657460799996E-2,null,989,0.96157649999999995,3.8423550000000001E-2,1.6013999999999997E-2,6.9549200000000005E-2,0,2.9447883585604673E-2,4662942,210693.4,1775431,7.8849428047263617,4662942,21378760,1.5457119555599997E-2,6.2281368834494888,null,0,0,null,1.4103469900000009E-2]
[993,3.9964949999999999E-2,7.1624400000000005E-2,205118.4,4580369,20699570,4580369,20699570,1.6013999999999997E-2,1.4103469900000009E-2,7.7602555402148221,{"$f":"0","v":0},0,6.1259262034575759,{"$f":"0","v":0},0,{"$f":"0","v":0},0,1.5440503429199998E-2,null,990,0.96119109999999996,3.88089E-2,1.6013999999999997E-2,7.0068000000000005E-2,0,2.9343108125820146E-2,4642298,209299.6,1757292,7.8543933353591369,4642298,21208960,1.5452965523999997E-2,6.2032998076469728,null,0,0,null,1.4103469900000009E-2]
[994,4.0350299999999999E-2,7.2143200000000005E-2,203724.7,4559725,20529770,4559725,20529770,1.6013999999999997E-2,1.4103469900000009E-2,7.7280129549010654,{"$f":"0","v":0},0,6.0991337079552927,{"$f":"0","v":0},0,{"$f":"0","v":0},0,1.5436349397599997E-2,null,991,0.96080580000000004,3.919425E-2,1.6013999999999997E-2,7.0586800000000005E-2,0,2.9238705456730109E-2,4621655,207905.9,1739154,7.8234350452135635,4621655,21039160,1.5448811492399997E-2,6.1779941243986993,null,0,0,null,1.4103469900000009E-2]
[995,4.0735649999999998E-2,7.2662000000000004E-2,202330.9,4539082,20359970,4539082,20359970,1.6013999999999997E-2,1.4103469900000009E-2,7.6953351951349669,{"$f":"0","v":0},0,6.0718188543648282,{"$f":"0","v":0},0,{"$f":"0","v":0},0,1.5432195365999997E-2,null,992,0.96042039999999995,3.95796E-2,1.6013999999999997E-2,7.1105600000000005E-2,0,2.9134674251946664E-2,4601012,206512.2,1721015,7.7920540529808884,4601012,20869370,1.5444657460799996E-2,6.1522068807386221,null,0,0,null,1.4103469900000009E-2]
[996,4.1120999999999998E-2,7.3180800000000004E-2,200937.2,4518439,20190170,4518439,20190170,1.6013999999999997E-2,1.4103469900000009E-2,7.6621950373881313,{"$f":"0","v":0},0,6.0439640926758935,{"$f":"0","v":0},0,{"$f":"0","v":0},0,1.5428041334399997E-2,null,993,0.96003499999999997,3.9964949999999999E-2,1.6013999999999997E-2,7.1624400000000005E-2,0,2.9031013189801183E-2,4580369,205118.4,1702877,7.7602555402148221,4580369,20699570,1.5440503429199998E-2,6.1259262034575759,null,0,0,null,1.4103469900000009E-2]
[997,4.1553449999999999E-2,7.3747069999999998E-2,199576.3,4497146,20028560,4497146,20028560,1.6013999999999997E-2,1.4103469900000009E-2,7.6342339788508626,{"$f":"0","v":0},0,6.0218834061252648,{"$f":"0","v":0},0,{"$f":"0","v":0},0,1.5423507210509996E-2,null,994,0.95964970000000005,4.0350299999999999E-2,1.6013999999999997E-2,7.2143200000000005E-2,0,2.8927720953327563E-2,4559725,203724.7,1684738,7.7280129549010654,4559725,20529770,1.5436349397599997E-2,6.0991337079552927,null,0,0,null,1.4103469900000009E-2]
[998,4.19859E-2,7.4313340000000006E-2,198215.5,4475853,19866950,4475853,19866950,1.6013999999999997E-2,1.4103469900000009E-2,7.6058899068606296,{"$f":"0","v":0},0,5.9993823252983072,{"$f":"0","v":0},0,{"$f":"0","v":0},0,1.5418973086619997E-2,null,995,0.95926429999999996,4.0735649999999998E-2,1.6013999999999997E-2,7.2662000000000004E-2,0,2.8824796230245423E-2,4539082,202330.9,1666600,7.6953351951349669,4539082,20359970,1.5432195365999997E-2,6.0718188543648282,null,0,0,null,1.4103469900000009E-2]
[999,4.241835E-2,7.4879600000000004E-2,196854.7,4454560,19705340,4454560,19705340,1.6013999999999997E-2,1.4103469900000009E-2,7.5771488861242995,{"$f":"0","v":0},0,5.9764512791055324,{"$f":"0","v":0},0,{"$f":"0","v":0},0,1.5414439042799996E-2,null,996,0.95887900000000004,4.1120999999999998E-2,1.6013999999999997E-2,7.3180800000000004E-2,0,2.8722237712943504E-2,4518439,200937.2,1648461,7.6621950373881313,4518439,20190170,1.5428041334399997E-2,6.0439640926758935,null,0,0,null,1.4103469900000009E-2]
[1000,4.2850800000000001E-2,7.5445869999999998E-2,195493.8,4433268,19543740,4433268,19543740,1.6013999999999997E-2,1.4103469900000009E-2,7.548011880683684,{"$f":"0","v":0},0,5.9530747989564121,{"$f":"0","v":0},0,{"$f":"0","v":0},0,1.5409904918909997E-2,null,997,0.95844660000000004,4.1553449999999999E-2,1.6013999999999997E-2,7.3747069999999998E-2,0,2.8620044098462999E-2,4497146,199576.3,1631716,7.6342339788508626,4497146,20028560,1.5423507210509996E-2,6.0218834061252648,null,0,0,null,1.4103469900000009E-2]
[1001,4.3283250000000002E-2,7.6012129999999997E-2,194133,4411975,19382130,4411975,19382130,1.6013999999999997E-2,1.4103469900000009E-2,7.5184622140491308,{"$f":"0","v":0},0,5.9292393547761257,{"$f":"0","v":0},0,{"$f":"0","v":0},0,1.5405370875089997E-2,null,998,0.95801409999999998,4.19859E-2,1.6013999999999997E-2,7.4313340000000006E-2,0,2.8518214088481039E-2,4475853,198215.5,1614972,7.6058899068606296,4475853,19866950,1.5418973086619997E-2,5.9993823252983072,null,0,0,null,1.4103469900000009E-2]
[1002,4.3715700000000003E-2,7.6578400000000005E-2,192772.1,4390682,19220520,4390682,19220520,1.6013999999999997E-2,1.4103469900000009E-2,7.4885047118678818,{"$f":"0","v":0},0,5.9049331115369927,{"$f":"0","v":0},0,{"$f":"0","v":0},0,1.5400836751199997E-2,null,999,0.95758160000000003,4.241835E-2,1.6013999999999997E-2,7.4879600000000004E-2,0,2.8416746389294163E-2,4454560,196854.7,1598227,7.5771488861242995,4454560,19705340,1.5414439042799996E-2,5.9764512791055324,null,0,0,null,1.4103469900000009E-2]
[1003,4.4148149999999997E-2,7.7144669999999999E-2,191411.3,4369389,19058910,4369389,19058910,1.6013999999999997E-2,1.4103469900000009E-2,7.4581118208103003,{"$f":"0","v":0},0,5.8801423534777619,{"$f":"0","v":0},0,{"$f":"0","v":0},0,1.5396302627309996E-2,null,1000,0.95714920000000003,4.2850800000000001E-2,1.6013999999999997E-2,7.5445869999999998E-2,0,2.8315639711801933E-2,4433268,195493.8,1581482,7.548011880683684,4433268,19543740,1.5409904918909997E-2,5.9530747989564121,null,0,0,null,1.4103469900000009E-2]
[1004,4.4580599999999998E-2,7.7710929999999998E-2,190050.5,4348096,18897300,4348096,18897300,1.6013999999999997E-2,1.4103469900000009E-2,7.4272836912645142,{"$f":"0","v":0},0,5.8548502186697764,{"$f":"0","v":0},0,{"$f":"0","v":0},0,1.5391768583489996E-2,null,1001,0.95671680000000003,4.3283250000000002E-2,1.6013999999999997E-2,7.6012129999999997E-2,0,2.8214892771490498E-2,4411975,194133,1564737,7.5184622140491308,4411975,19382130,1.5405370875089997E-2,5.9292393547761257,null,0,0,null,1.4103469900000009E-2]
[1005,4.5013049999999999E-2,7.8277200000000005E-2,188689.6,4326804,18735690,4326804,18735690,1.6013999999999997E-2,1.4103469900000009E-2,7.3960151133572447,{"$f":"0","v":0},0,5.8290440849502128,{"$f":"0","v":0},0,{"$f":"0","v":0},0,1.5387234459599997E-2,null,1002,0.95628429999999998,4.3715700000000003E-2,1.6013999999999997E-2,7.6578400000000005E-2,0,2.8114504288416314E-2,4390682,192772.1,1547993,7.4885047118678818,4390682,19220520,1.5400836751199997E-2,5.9049331115369927,null,0,0,null,1.4103469900000009E-2]
[1006,4.54455E-2,7.8843469999999999E-2,187328.8,4305511,18574090,4305511,18574090,1.6013999999999997E-2,1.4103469900000009E-2,7.3642879970049098,{"$f":"0","v":0},0,5.8027075819131335,{"$f":"0","v":0},0,{"$f":"0","v":0},0,1.5382700335709997E-2,null,1003,0.95585189999999998,4.4148149999999997E-2,1.6013999999999997E-2,7.7144669999999999E-2,0,2.801447298718987E-2,4369389,191411.3,1531248,7.4581118208103003,4369389,19058910,1.5396302627309996E-2,5.8801423534777619,null,0,0,null,1.4103469900000009E-2]
[1007,4.5877950000000001E-2,7.9409729999999998E-2,185968,4284218,18412480,4284218,18412480,1.6013999999999997E-2,1.4103469900000009E-2,7.332101938684791,{"$f":"0","v":0},0,5.7758201585547173,{"$f":"0","v":0},0,{"$f":"0","v":0},0,1.5378166291889997E-2,null,1004,0.95541940000000003,4.4580599999999998E-2,1.6013999999999997E-2,7.7710929999999998E-2,0,2.791479759695949E-2,4348096,190050.5,1514503,7.4272836912645142,4348096,18897300,1.5391768583489996E-2,5.8548502186697764,null,0,0,null,1.4103469900000009E-2]
[1008,4.6310400000000002E-2,7.9976000000000005E-2,184607.1,4262925,18250870,4262925,18250870,1.6013999999999997E-2,1.4103469900000009E-2,7.2994402030041092,{"$f":"0","v":0},0,5.7483698850680423,{"$f":"0","v":0},0,{"$f":"0","v":0},0,1.5373632167999998E-2,null,1005,0.95498689999999997,4.5013049999999999E-2,1.6013999999999997E-2,7.8277200000000005E-2,0,2.7815476851395175E-2,4326804,188689.6,1497758,7.3960151133572447,4326804,18735690,1.5387234459599997E-2,5.8290440849502128,null,0,0,null,1.4103469900000009E-2]
[1009,4.6794679999999998E-2,8.0593600000000001E-2,183280.4,4241012,18097300,4241012,18097300,1.6013999999999997E-2,1.4103469900000009E-2,7.2722621549640154,{"$f":"0","v":0},0,5.7269388999651802,{"$f":"0","v":0},0,{"$f":"0","v":0},0,1.5368687044799996E-2,null,1006,0.95455449999999997,4.54455E-2,1.6013999999999997E-2,7.8843469999999999E-2,0,2.7716509488672537E-2,4305511,187328.8,1481013,7.3642879970049098,4305511,18574090,1.5382700335709997E-2,5.8027075819131335,null,0,0,null,1.4103469900000009E-2]
[1010,4.727895E-2,8.1211199999999997E-2,181953.6,4219099,17943730,4219099,17943730,1.6013999999999997E-2,1.4103469900000009E-2,7.2446920533586576,{"$f":"0","v":0},0,5.7050743507670783,{"$f":"0","v":0},0,{"$f":"0","v":0},0,1.5363741921599996E-2,null,1007,0.95412209999999997,4.5877950000000001E-2,1.6013999999999997E-2,7.9409729999999998E-2,0,2.7617894251456727E-2,4284218,185968,1464269,7.332101938684791,4284218,18412480,1.5378166291889997E-2,5.7758201585547173,null,0,0,null,1.4103469900000009E-2]
[1011,4.7763220000000002E-2,8.1828799999999993E-2,180626.9,4197187,17790160,4197187,17790160,1.6013999999999997E-2,1.4103469900000009E-2,7.2167126223539606,{"$f":"0","v":0},0,5.6827657018653772,{"$f":"0","v":0},0,{"$f":"0","v":0},0,1.5358796798399996E-2,null,1008,0.95368960000000003,4.6310400000000002E-2,1.6013999999999997E-2,7.9976000000000005E-2,0,2.7519629886886526E-2,4262925,184607.1,1447524,7.2994402030041092,4262925,18250870,1.5373632167999998E-2,5.7483698850680423,null,0,0,null,1.4103469900000009E-2]
[1012,4.8247499999999999E-2,8.2446400000000003E-2,179300.2,4175274,17636600,4175274,17636600,1.6013999999999997E-2,1.4103469900000009E-2,7.1883191336838062,{"$f":"0","v":0},0,5.6599983465546089,{"$f":"0","v":0},0,{"$f":"0","v":0},0,1.5353851675199997E-2,null,1009,0.95320530000000003,4.6794679999999998E-2,1.6013999999999997E-2,8.0593600000000001E-2,0,2.7421715146558362E-2,4241012,183280.4,1432140,7.2722621549640154,4241012,18097300,1.5368687044799996E-2,5.7269388999651802,null,0,0,null,1.4103469900000009E-2]
[1013,4.8731770000000001E-2,8.3063999999999999E-2,177973.4,4153361,17483030,4153361,17483030,1.6013999999999997E-2,1.4103469900000009E-2,7.1595066547397908,{"$f":"0","v":0},0,5.6367579901145568,{"$f":"0","v":0},0,{"$f":"0","v":0},0,1.5348906551999997E-2,null,1010,0.95272109999999999,4.727895E-2,1.6013999999999997E-2,8.1211199999999997E-2,0,2.7324148786510495E-2,4219099,181953.6,1416756,7.2446920533586576,4219099,17943730,1.5363741921599996E-2,5.7050743507670783,null,0,0,null,1.4103469900000009E-2]
[1014,4.9216049999999997E-2,8.3681599999999995E-2,176646.7,4131448,17329460,4131448,17329460,1.6013999999999997E-2,1.4103469900000009E-2,7.1302570092355717,{"$f":"0","v":0},0,5.6130297376330516,{"$f":"0","v":0},0,{"$f":"0","v":0},0,1.5343961428799997E-2,null,1011,0.95223679999999999,4.7763220000000002E-2,1.6013999999999997E-2,8.1828799999999993E-2,0,2.7226929567207171E-2,4197187,180626.9,1401372,7.2167126223539606,4197187,17790160,1.5358796798399996E-2,5.6827657018653772,null,0,0,null,1.4103469900000009E-2]
[1015,4.9700330000000001E-2,8.4299200000000005E-2,175320,4109535,17175890,4109535,17175890,1.6013999999999997E-2,1.4103469900000009E-2,7.1005646817248458,{"$f":"0","v":0},0,5.5887965651854836,{"$f":"0","v":0},0,{"$f":"0","v":0},0,1.5339016305599997E-2,null,1012,0.9517525,4.8247499999999999E-2,1.6013999999999997E-2,8.2446400000000003E-2,0,2.7130056253522945E-2,4175274,179300.2,1385988,7.1883191336838062,4175274,17636600,1.5353851675199997E-2,5.6599983465546089,null,0,0,null,1.4103469900000009E-2]
[1016,5.0184600000000003E-2,8.4916800000000001E-2,173993.2,4087622,17022320,4087622,17022320,1.6013999999999997E-2,1.4103469900000009E-2,7.0704296681326237,{"$f":"0","v":0},0,5.5640443340297834,{"$f":"0","v":0},0,{"$f":"0","v":0},0,1.5334071182399997E-2,null,1013,0.95126820000000001,4.8731770000000001E-2,1.6013999999999997E-2,8.3063999999999999E-2,0,2.7033527614726896E-2,4153361,177973.4,1370604,7.1595066547397908,4153361,17483030,1.5348906551999997E-2,5.6367579901145568,null,0,0,null,1.4103469900000009E-2]
[1017,5.0668879999999999E-2,8.5534390000000002E-2,172666.5,4065709,16868760,4065709,16868760,1.6013999999999997E-2,1.4103469900000009E-2,7.0398213463526504,{"$f":"0","v":0},0,5.5387574394895687,{"$f":"0","v":0},0,{"$f":"0","v":0},0,1.5329126139269997E-2,null,1014,0.95078399999999996,4.9216049999999997E-2,1.6013999999999997E-2,8.3681599999999995E-2,0,2.6937342424467072E-2,4131448,176646.7,1355220,7.1302570092355717,4131448,17329460,1.5343961428799997E-2,5.6130297376330516,null,0,0,null,1.4103469900000009E-2]
[1018,5.1153150000000001E-2,8.6151989999999998E-2,171339.8,4043796,16715190,4043796,16715190,1.6013999999999997E-2,1.4103469900000009E-2,7.0087390184105898,{"$f":"0","v":0},0,5.5129154748099465,{"$f":"0","v":0},0,{"$f":"0","v":0},0,1.5324181016069997E-2,null,1015,0.95029969999999997,4.9700330000000001E-2,1.6013999999999997E-2,8.4299200000000005E-2,0,2.6841499460754852E-2,4109535,175320,1339836,7.1005646817248458,4109535,17175890,1.5339016305599997E-2,5.5887965651854836,null,0,0,null,1.4103469900000009E-2]
[1019,5.1637429999999998E-2,8.6769600000000002E-2,170013,4021884,16561620,4021884,16561620,1.6013999999999997E-2,1.4103469900000009E-2,6.9771760100698179,{"$f":"0","v":0},0,5.4865000046378531,{"$f":"0","v":0},0,{"$f":"0","v":0},0,1.5319235812799998E-2,null,1016,0.94981539999999998,5.0184600000000003E-2,1.6013999999999997E-2,8.4916800000000001E-2,0,2.6745997505949467E-2,4087622,173993.2,1324453,7.0704296681326237,4087622,17022320,1.5334071182399997E-2,5.5640443340297834,null,0,0,null,1.4103469900000009E-2]
[1020,5.21217E-2,8.7387199999999998E-2,168686.3,3999971,16408050,3999971,16408050,1.6013999999999997E-2,1.4103469900000009E-2,6.9451120462460008,{"$f":"0","v":0},0,5.4594936654665505,{"$f":"0","v":0},0,{"$f":"0","v":0},0,1.5314290689599996E-2,null,1017,0.94933109999999998,5.0668879999999999E-2,1.6013999999999997E-2,8.5534390000000002E-2,0,2.6650835346742494E-2,4065709,172666.5,1309069,7.0398213463526504,4065709,16868760,1.5329126139269997E-2,5.5387574394895687,null,0,0,null,1.4103469900000009E-2]
[1021,5.2662149999999998E-2,8.8059999999999999E-2,167395.70000000001,3977492,16262450,3977492,16262450,1.6013999999999997E-2,1.4103469900000009E-2,6.9188594997760786,{"$f":"0","v":0},0,5.4387543401571286,{"$f":"0","v":0},0,{"$f":"0","v":0},0,1.5308903579999996E-2,null,1018,0.94884679999999999,5.1153150000000001E-2,1.6013999999999997E-2,8.6151989999999998E-2,0,2.6556011774142477E-2,4043796,171339.8,1293685,7.0087390184105898,4043796,16715190,1.5324181016069997E-2,5.5129154748099465,null,0,0,null,1.4103469900000009E-2]
[1022,5.3202600000000003E-2,8.8732790000000006E-2,166105.1,3955014,16116850,3955014,16116850,1.6013999999999997E-2,1.4103469900000009E-2,6.8921929800269019,{"$f":"0","v":0},0,5.4175715945864793,{"$f":"0","v":0},0,{"$f":"0","v":0},0,1.5303516550469997E-2,null,1019,0.94836259999999994,5.1637429999999998E-2,1.6013999999999997E-2,8.6769600000000002E-2,0,2.6461525583459513E-2,4021884,170013,1278301,6.9771760100698179,4021884,16561620,1.5319235812799998E-2,5.4865000046378531,null,0,0,null,1.4103469900000009E-2]
[1023,5.3743050000000001E-2,8.9405600000000002E-2,164814.5,3932535,15971260,3932535,15971260,1.6013999999999997E-2,1.4103469900000009E-2,6.865114896848679,{"$f":"0","v":0},0,5.3959326862459767,{"$f":"0","v":0},0,{"$f":"0","v":0},0,1.5298129360799996E-2,null,1020,0.94787829999999995,5.21217E-2,1.6013999999999997E-2,8.7387199999999998E-2,0,2.636737557429002E-2,3999971,168686.3,1262917,6.9451120462460008,3999971,16408050,1.5314290689599996E-2,5.4594936654665505,null,0,0,null,1.4103469900000009E-2]
[1024,{"$f":"W1029","v":5.4283499999999998E-2},{"$f":"Y1029","v":9.0078400000000003E-2},{"$f":"AC1029","v":163523.9},{"$f":"AF1029","v":3910057},{"$f":"AG1029","v":15825660},{"$f":"E1026","v":3910057},{"$f":"F1026","v":15825660},{"$f":"X1029","v":1.6013999999999997E-2},{"$f":"AN1029","v":1.4103469900000009E-2},{"$f":"AE1029","v":6.8376093902277688},{"$f":"0","v":0},{"$f":"AL1029","v":0},{"$f":"AI1029","v":5.3738193661081226},{"$f":"0","v":0},{"$f":"AK1029","v":0},{"$f":"0","v":0},{"$f":"Z1029","v":0},{"$f":"AH1029","v":1.5292742251199998E-2},null,1021,0.94733789999999996,5.2662149999999998E-2,1.6013999999999997E-2,8.8059999999999999E-2,0,2.6273560550501413E-2,3977492,167395.70000000001,1248860,6.9188594997760786,3977492,16262450,1.5308903579999996E-2,5.4387543401571286,null,0,0,null,1.4103469900000009E-2]
[1025,5.4823950000000003E-2,9.0751200000000004E-2,162233.29999999999,3887578,15680060,3887578,15680060,1.6013999999999997E-2,1.4103469900000009E-2,6.8096662594342021,{"$f":"0","v":0},0,5.3512175833329154,{"$f":"0","v":0},0,{"$f":"0","v":0},0,1.5287355141599998E-2,null,1022,0.94679740000000001,5.3202600000000003E-2,1.6013999999999997E-2,8.8732790000000006E-2,0,2.618007932021698E-2,3955014,166105.1,1234802,6.8921929800269019,3955014,16116850,1.5303516550469997E-2,5.4175715945864793,null,0,0,null,1.4103469900000009E-2]
[1026,5.5364400000000001E-2,9.1424000000000005E-2,160942.79999999999,3865100,15534460,3865100,15534460,1.6013999999999997E-2,1.4103469900000009E-2,6.7812704265117798,{"$f":"0","v":0},0,5.3281119627383111,{"$f":"0","v":0},0,{"$f":"0","v":0},0,1.5281968031999998E-2,null,1023,0.94625689999999996,5.3743050000000001E-2,1.6013999999999997E-2,8.9405600000000002E-2,0,2.6086930695800654E-2,3932535,164814.5,1220745,6.865114896848679,3932535,15971260,1.5298129360799996E-2,5.3959326862459767,null,0,0,null,1.4103469900000009E-2]
[1027,5.5904849999999999E-2,9.2096800000000006E-2,159652.20000000001,3842621,15388870,3842621,15388870,1.6013999999999997E-2,1.4103469900000009E-2,6.7524201044520522,{"$f":"0","v":0},0,5.3044851325128715,{"$f":"0","v":0},0,{"$f":"0","v":0},0,1.5276580922399998E-2,null,1024,0.94571649999999996,5.4283499999999998E-2,1.6013999999999997E-2,9.0078400000000003E-2,0,2.5994113493842015E-2,3910057,163523.9,1206688,6.8376093902277688,3910057,15825660,1.5292742251199998E-2,5.3738193661081226,null,0,0,null,1.4103469900000009E-2]
[1028,5.6445299999999997E-2,9.2769599999999994E-2,158361.60000000001,3820143,15243270,3820143,15243270,1.6013999999999997E-2,1.4103469900000009E-2,6.7230932246201096,{"$f":"0","v":0},0,5.2803167973924543,{"$f":"0","v":0},0,{"$f":"0","v":0},0,1.5271193812799996E-2,null,1025,0.94517609999999996,5.4823950000000003E-2,1.6013999999999997E-2,9.0751200000000004E-2,0,2.5901626535141192E-2,3887578,162233.29999999999,1192631,6.8096662594342021,3887578,15680060,1.5287355141599998E-2,5.3512175833329154,null,0,0,null,1.4103469900000009E-2]
[1029,5.6985750000000002E-2,9.3442399999999995E-2,157071,3797664,15097670,3797664,15097670,1.6013999999999997E-2,1.4103469900000009E-2,6.6932907729625457,{"$f":"0","v":0},0,5.2555899313186698,{"$f":"0","v":0},0,{"$f":"0","v":0},0,1.5265806703199996E-2,null,1026,0.94463560000000002,5.5364400000000001E-2,1.6013999999999997E-2,9.1424000000000005E-2,0,2.5809468644693911E-2,3865100,160942.79999999999,1178574,6.7812704265117798,3865100,15534460,1.5281968031999998E-2,5.3281119627383111,null,0,0,null,1.4103469900000009E-2]
[1030,5.75262E-2,9.4115199999999996E-2,155780.4,3775186,14952070,3775186,14952070,1.6013999999999997E-2,1.4103469900000009E-2,6.6629945102207984,{"$f":"0","v":0},0,5.2302849464529917,{"$f":"0","v":0},0,{"$f":"0","v":0},0,1.5260419593599996E-2,null,1027,0.94409509999999996,5.5904849999999999E-2,1.6013999999999997E-2,9.2096800000000006E-2,0,2.5717638651676554E-2,3842621,159652.20000000001,1164517,6.7524201044520522,3842621,15388870,1.5276580922399998E-2,5.3044851325128715,null,0,0,null,1.4103469900000009E-2]
[1031,5.8066649999999997E-2,9.4787999999999997E-2,154489.79999999999,3752707,14806470,3752707,14806470,1.6013999999999997E-2,1.4103469900000009E-2,6.6321920605761679,{"$f":"0","v":0},0,5.2043813281881555,{"$f":"0","v":0},0,{"$f":"0","v":0},0,1.5255032483999996E-2,null,1028,0.94355469999999997,5.6445299999999997E-2,1.6013999999999997E-2,9.2769599999999994E-2,0,2.5626135389431287E-2,3820143,158361.60000000001,1150459,6.7230932246201096,3820143,15243270,1.5271193812799996E-2,5.2803167973924543,null,0,0,null,1.4103469900000009E-2]
[1032,5.8607100000000002E-2,9.5460799999999998E-2,153199.29999999999,3730229,14660880,3730229,14660880,1.6013999999999997E-2,1.4103469900000009E-2,6.6008659689263158,{"$f":"0","v":0},0,5.1778593875856505,{"$f":"0","v":0},0,{"$f":"0","v":0},0,1.5249645374399998E-2,null,1029,0.94301429999999997,5.6985750000000002E-2,1.6013999999999997E-2,9.3442399999999995E-2,0,2.5534957695451242E-2,3797664,157071,1136402,6.6932907729625457,3797664,15097670,1.5265806703199996E-2,5.2555899313186698,null,0,0,null,1.4103469900000009E-2]
[1033,5.9208370000000003E-2,9.6192929999999996E-2,151947.79999999999,3707270,14523270,3707270,14523270,1.6013999999999997E-2,1.4103469900000009E-2,6.5756723142201912,{"$f":"0","v":0},0,5.1578543584810213,{"$f":"0","v":0},0,{"$f":"0","v":0},0,1.5243783209489997E-2,null,1030,0.94247380000000003,5.75262E-2,1.6013999999999997E-2,9.4115199999999996E-2,0,2.544410441136576E-2,3775186,155780.4,1122345,6.6629945102207984,3775186,14952070,1.5260419593599996E-2,5.2302849464529917,null,0,0,null,1.4103469900000009E-2]
[1034,5.9809649999999999E-2,9.6925059999999993E-2,150696.4,3684312,14385660,3684312,14385660,1.6013999999999997E-2,1.4103469900000009E-2,6.5500554978973176,{"$f":"0","v":0},0,5.1373946659250969,{"$f":"0","v":0},0,{"$f":"0","v":0},0,1.5237921044579997E-2,null,1031,0.94193329999999997,5.8066649999999997E-2,1.6013999999999997E-2,9.4787999999999997E-2,0,2.5353574382925632E-2,3752707,154489.79999999999,1108288,6.6321920605761679,3752707,14806470,1.5255032483999996E-2,5.2043813281881555,null,0,0,null,1.4103469900000009E-2]
[1035,6.041092E-2,9.76572E-2,149445,3661353,14248050,3661353,14248050,1.6013999999999997E-2,1.4103469900000009E-2,6.5240163605339756,{"$f":"0","v":0},0,5.1164635735290354,{"$f":"0","v":0},0,{"$f":"0","v":0},0,1.5232058799599997E-2,null,1032,0.94139289999999998,5.8607100000000002E-2,1.6013999999999997E-2,9.5460799999999998E-2,0,2.5263366459988487E-2,3730229,153199.29999999999,1094231,6.6008659689263158,3730229,14660880,1.5249645374399998E-2,5.1778593875856505,null,0,0,null,1.4103469900000009E-2]
[1036,6.1012200000000003E-2,9.8389329999999997E-2,148193.5,3638394,14110440,3638394,14110440,1.6013999999999997E-2,1.4103469900000009E-2,6.4975354575830471,{"$f":"0","v":0},0,5.0950467820568148,{"$f":"0","v":0},0,{"$f":"0","v":0},0,1.5226196634689996E-2,null,1033,0.94079159999999995,5.9208370000000003E-2,1.6013999999999997E-2,9.6192929999999996E-2,0,2.5173479496504152E-2,3707270,151947.79999999999,1081464,6.5756723142201912,3707270,14523270,1.5243783209489997E-2,5.1578543584810213,null,0,0,null,1.4103469900000009E-2]
[1037,6.1613469999999997E-2,9.9121470000000003E-2,146942.1,3615436,13972830,3615436,13972830,1.6013999999999997E-2,1.4103469900000009E-2,6.4706055140085788,{"$f":"0","v":0},0,5.0731260619314194,{"$f":"0","v":0},0,{"$f":"0","v":0},0,1.5220334389709997E-2,null,1034,0.94019039999999998,5.9809649999999999E-2,1.6013999999999997E-2,9.6925059999999993E-2,0,2.5083912350500087E-2,3684312,150696.4,1068697,6.5500554978973176,3684312,14385660,1.5237921044579997E-2,5.1373946659250969,null,0,0,null,1.4103469900000009E-2]
[1038,6.2214749999999999E-2,9.9853609999999995E-2,145690.70000000001,3592477,13835210,3592477,13835210,1.6013999999999997E-2,1.4103469900000009E-2,6.4432060808731553,{"$f":"0","v":0},0,5.0506834155510436,{"$f":"0","v":0},0,{"$f":"0","v":0},0,1.5214472144729997E-2,null,1035,0.93958909999999995,6.041092E-2,1.6013999999999997E-2,9.76572E-2,0,2.4994663884066896E-2,3661353,149445,1055931,6.5240163605339756,3661353,14248050,1.5232058799599997E-2,5.1164635735290354,null,0,0,null,1.4103469900000009E-2]
[1039,6.281602E-2,0.1005857,144439.29999999999,3569519,13697600,3569519,13697600,1.6013999999999997E-2,1.4103469900000009E-2,6.4153388020665663,{"$f":"0","v":0},0,5.0276999779522686,{"$f":"0","v":0},0,{"$f":"0","v":0},0,1.5208610300099998E-2,null,1036,0.93898780000000004,6.1012200000000003E-2,1.6013999999999997E-2,9.8389329999999997E-2,0,2.4905732963343856E-2,3638394,148193.5,1043164,6.4975354575830471,3638394,14110440,1.5226196634689996E-2,5.0950467820568148,null,0,0,null,1.4103469900000009E-2]
[1040,6.3417299999999996E-2,0.1013179,143187.79999999999,3546560,13559990,3546560,13559990,1.6013999999999997E-2,1.4103469900000009E-2,6.3869815840921271,{"$f":"0","v":0},0,5.0041579482081389,{"$f":"0","v":0},0,{"$f":"0","v":0},0,1.5202747574699997E-2,null,1037,0.93838650000000001,6.1613469999999997E-2,1.6013999999999997E-2,9.9121470000000003E-2,0,2.4817118458504515E-2,3615436,146942.1,1030398,6.4706055140085788,3615436,13972830,1.5220334389709997E-2,5.0731260619314194,null,0,0,null,1.4103469900000009E-2]
[1041,6.4018580000000005E-2,0.10205,141936.4,3523602,13422380,3523602,13422380,1.6013999999999997E-2,1.4103469900000009E-2,6.3581236619593939,{"$f":"0","v":0},0,4.9800326199739553,{"$f":"0","v":0},0,{"$f":"0","v":0},0,1.5196885649999997E-2,null,1038,0.93778530000000004,6.2214749999999999E-2,1.6013999999999997E-2,9.9853609999999995E-2,0,2.4728819243742338E-2,3592477,145690.70000000001,1017631,6.4432060808731553,3592477,13835210,1.5214472144729997E-2,5.0506834155510436,null,0,0,null,1.4103469900000009E-2]
[1042,6.4619850000000006E-2,0.1027821,140685,3500643,13284770,3500643,13284770,1.6013999999999997E-2,1.4103469900000009E-2,6.3287516437431144,{"$f":"0","v":0},0,4.9553041532590676,{"$f":"0","v":0},0,{"$f":"0","v":0},0,1.5191023725299997E-2,null,1039,0.93718400000000002,6.281602E-2,1.6013999999999997E-2,0.1005857,0,2.4640834197256416E-2,3569519,144439.29999999999,1004865,6.4153388020665663,3569519,13697600,1.5208610300099998E-2,5.0276999779522686,null,0,0,null,1.4103469900000009E-2]
[1043,6.5221119999999994E-2,0.1035143,139433.5,3477684,13147160,3477684,13147160,1.6013999999999997E-2,1.4103469900000009E-2,6.2988573107132311,{"$f":"0","v":0},0,4.9299485169120763,{"$f":"0","v":0},0,{"$f":"0","v":0},0,1.5185160999899997E-2,null,1040,0.93658269999999999,6.3417299999999996E-2,1.6013999999999997E-2,0.1013179,0,2.455316220123719E-2,3546560,143187.79999999999,992097.9,6.3869815840921271,3546560,13559990,1.5202747574699997E-2,5.0041579482081389,null,0,0,null,1.4103469900000009E-2]
[1044,6.5822400000000003E-2,0.1042464,138182.1,3454726,13009550,3454726,13009550,1.6013999999999997E-2,1.4103469900000009E-2,6.2684165496109836,{"$f":"0","v":0},0,4.9039438770401524,{"$f":"0","v":0},0,{"$f":"0","v":0},0,1.5179299075199996E-2,null,1041,0.93598139999999996,6.4018580000000005E-2,1.6013999999999997E-2,0.10205,0,2.4465802141852268E-2,3523602,141936.4,979331.4,6.3581236619593939,3523602,13422380,1.5196885649999997E-2,4.9800326199739553,null,0,0,null,1.4103469900000009E-2]
[1045,6.6486519999999993E-2,0.10504230000000001,136973.79999999999,3431406,12880020,3431406,12880020,1.6013999999999997E-2,1.4103469900000009E-2,6.2444223518171604,{"$f":"0","v":0},0,4.8847104268200479,{"$f":"0","v":0},0,{"$f":"0","v":0},0,1.5172926303899997E-2,null,1042,0.93538019999999999,6.4619850000000006E-2,1.6013999999999997E-2,0.1027821,0,2.4378752909232276E-2,3500643,140685,966564.8,6.3287516437431144,3500643,13284770,1.5191023725299997E-2,4.9553041532590676,null,0,0,null,1.4103469900000009E-2]
[1046,6.7150650000000006E-2,0.1058381,135765.4,3408086,12750490,3408086,12750490,1.6013999999999997E-2,1.4103469900000009E-2,6.2200067788503803,{"$f":"0","v":0},0,4.8650115856419509,{"$f":"0","v":0},0,{"$f":"0","v":0},0,1.5166554333299997E-2,null,1043,0.93477889999999997,6.5221119999999994E-2,1.6013999999999997E-2,0.1035143,0,2.4292013397456742E-2,3477684,139433.5,953798.2,6.2988573107132311,3477684,13147160,1.5185160999899997E-2,4.9299485169120763,null,0,0,null,1.4103469900000009E-2]
[1047,6.7814769999999996E-2,0.10663400000000001,134557,3384766,12620960,3384766,12620960,1.6013999999999997E-2,1.4103469900000009E-2,6.1951519306564,{"$f":"0","v":0},0,4.8448302550737159,{"$f":"0","v":0},0,{"$f":"0","v":0},0,1.5160181561999997E-2,null,1044,0.93417760000000005,6.5822400000000003E-2,1.6013999999999997E-2,0.1042464,0,2.4205582504540055E-2,3454726,138182.1,941031.6,6.2684165496109836,3454726,13009550,1.5179299075199996E-2,4.9039438770401524,null,0,0,null,1.4103469900000009E-2]
[1048,6.8478899999999995E-2,0.10742989999999999,133348.70000000001,3361446,12491420,3361446,12491420,1.6013999999999997E-2,1.4103469900000009E-2,6.1698415820076731,{"$f":"0","v":0},0,4.8241484887046591,{"$f":"0","v":0},0,{"$f":"0","v":0},0,1.5153808790699996E-2,null,1045,0.9335135,6.6486519999999993E-2,1.6013999999999997E-2,0.10504230000000001,0,2.4119459132417476E-2,3431406,136973.79999999999,929516.4,6.2444223518171604,3431406,12880020,1.5172926303899997E-2,4.8847104268200479,null,0,0,null,1.4103469900000009E-2]
[1049,6.9143029999999994E-2,0.10822569999999999,132140.29999999999,3338126,12361890,3338126,12361890,1.6013999999999997E-2,1.4103469900000009E-2,6.144074170912786,{"$f":"0","v":0},0,4.8029474389173705,{"$f":"0","v":0},0,{"$f":"0","v":0},0,1.5147436820099997E-2,null,1046,0.93284929999999999,6.7150650000000006E-2,1.6013999999999997E-2,0.1058381,0,2.4033642186931166E-2,3408086,135765.4,918001.3,6.2200067788503803,3408086,12750490,1.5166554333299997E-2,4.8650115856419509,null,0,0,null,1.4103469900000009E-2]
[1050,6.9807149999999998E-2,0.1090216,130931.9,3314807,12232360,3314807,12232360,1.6013999999999997E-2,1.4103469900000009E-2,6.1178303695788925,{"$f":"0","v":0},0,4.7812072995991466,{"$f":"0","v":0},0,{"$f":"0","v":0},0,1.5141064048799998E-2,null,1047,0.93218520000000005,6.7814769999999996E-2,1.6013999999999997E-2,0.10663400000000001,0,2.3948130577816293E-2,3384766,134557,906486.1,6.1951519306564,3384766,12620960,1.5160181561999997E-2,4.8448302550737159,null,0,0,null,1.4103469900000009E-2]
[1051,7.0471270000000003E-2,0.1098175,129723.6,3291487,12102830,3291487,12102830,1.6013999999999997E-2,1.4103469900000009E-2,6.0910925228717057,{"$f":"0","v":0},0,4.7589072444270295,{"$f":"0","v":0},0,{"$f":"0","v":0},0,1.5134691277499997E-2,null,1048,0.93152109999999999,6.8478899999999995E-2,1.6013999999999997E-2,0.10742989999999999,0,2.3862923218687195E-2,3361446,133348.70000000001,894970.9,6.1698415820076731,3361446,12491420,1.5153808790699996E-2,4.8241484887046591,null,0,0,null,1.4103469900000009E-2]
[1052,7.1135400000000001E-2,0.1106133,128515.2,3268167,11973290,3268167,11973290,1.6013999999999997E-2,1.4103469900000009E-2,6.0638570379223617,{"$f":"0","v":0},0,4.7360253603222544,{"$f":"0","v":0},0,{"$f":"0","v":0},0,1.5128319306899996E-2,null,1049,0.93085689999999999,6.9143029999999994E-2,1.6013999999999997E-2,0.10822569999999999,0,2.3778019027023551E-2,3338126,132140.29999999999,883455.8,6.144074170912786,3338126,12361890,1.5147436820099997E-2,4.8029474389173705,null,0,0,null,1.4103469900000009E-2]
[1053,7.1799520000000006E-2,0.1114092,127306.8,3244847,11843760,3244847,11843760,1.6013999999999997E-2,1.4103469900000009E-2,6.0361045128775519,{"$f":"0","v":0},0,4.7125398020657379,{"$f":"0","v":0},0,{"$f":"0","v":0},0,1.5121946535599997E-2,null,1050,0.93019280000000004,6.9807149999999998E-2,1.6013999999999997E-2,0.1090216,0,2.3693416924156659E-2,3314807,130931.9,871940.6,6.1178303695788925,3314807,12232360,1.5141064048799998E-2,4.7812072995991466,null,0,0,null,1.4103469900000009E-2]
[1054,7.2463650000000004E-2,0.1122051,126098.5,3221527,11714230,3221527,11714230,1.6013999999999997E-2,1.4103469900000009E-2,6.0078156824493023,{"$f":"0","v":0},0,4.6884238196716774,{"$f":"0","v":0},0,{"$f":"0","v":0},0,1.5115573764299997E-2,null,1051,0.92952869999999999,7.0471270000000003E-2,1.6013999999999997E-2,0.1098175,0,2.3609115835255708E-2,3291487,129723.6,860425.4,6.0910925228717057,3291487,12102830,1.5134691277499997E-2,4.7589072444270295,null,0,0,null,1.4103469900000009E-2]
[1055,7.3127780000000003E-2,0.1130009,124890.1,3198207,11584700,3198207,11584700,1.6013999999999997E-2,1.4103469900000009E-2,5.9789838893021399,{"$f":"0","v":0},0,4.6636517530464721,{"$f":"0","v":0},0,{"$f":"0","v":0},0,1.5109201793699997E-2,null,1052,0.92886460000000004,7.1135400000000001E-2,1.6013999999999997E-2,0.1106133,0,2.352511468931413E-2,3268167,128515.2,848910.2,6.0638570379223617,3268167,11973290,1.5128319306899996E-2,4.7360253603222544,null,0,0,null,1.4103469900000009E-2]
[1056,7.3791899999999994E-2,0.1137968,123681.7,3174887,11455170,3174887,11455170,1.6013999999999997E-2,1.4103469900000009E-2,5.9495887090275543,{"$f":"0","v":0},0,4.6381990483773894,{"$f":"0","v":0},0,{"$f":"0","v":0},0,1.5102829022399997E-2,null,1053,0.92820049999999998,7.1799520000000006E-2,1.6013999999999997E-2,0.1114092,0,2.3441412419135995E-2,3244847,127306.8,837395,6.0361045128775519,3244847,11843760,1.5121946535599997E-2,4.7125398020657379,null,0,0,null,1.4103469900000009E-2]
[1057,7.4510850000000003E-2,0.1146607,122521.5,3151368,11333890,3151368,11333890,1.6013999999999997E-2,1.4103469900000009E-2,5.9269343543786182,{"$f":"0","v":0},0,4.6197734128115258,{"$f":"0","v":0},0,{"$f":"0","v":0},0,1.5095911775099998E-2,null,1054,0.92753640000000004,7.2463650000000004E-2,1.6013999999999997E-2,0.1122051,0,2.3358007961322452E-2,3221527,126098.5,825879.9,6.0078156824493023,3221527,11714230,1.5115573764299997E-2,4.6884238196716774,null,0,0,null,1.4103469900000009E-2]
[1058,7.5229799999999999E-2,0.1155245,121361.2,3127849,11212620,3127849,11212620,1.6013999999999997E-2,1.4103469900000009E-2,5.9038521647226077,{"$f":"0","v":0},0,4.600871121049928,{"$f":"0","v":0},0,{"$f":"0","v":0},0,1.5088995328499997E-2,null,1055,0.92687229999999998,7.3127780000000003E-2,1.6013999999999997E-2,0.1130009,0,2.3274900256258224E-2,3198207,124890.1,814364.7,5.9789838893021399,3198207,11584700,1.5109201793699997E-2,4.6636517530464721,null,0,0,null,1.4103469900000009E-2]
[1059,7.5948749999999995E-2,0.1163884,120201,3104329,11091340,3104329,11091340,1.6013999999999997E-2,1.4103469900000009E-2,5.8803190073293896,{"$f":"0","v":0},0,4.5814735626272771,{"$f":"0","v":0},0,{"$f":"0","v":0},0,1.5082078081199997E-2,null,1056,0.92620809999999998,7.3791899999999994E-2,1.6013999999999997E-2,0.1137968,0,2.3192088248098139E-2,3174887,123681.7,802849.5,5.9495887090275543,3174887,11455170,1.5102829022399997E-2,4.6381990483773894,null,0,0,null,1.4103469900000009E-2]
[1060,7.6667700000000005E-2,0.1172523,119040.7,3080810,10970070,3080810,10970070,1.6013999999999997E-2,1.4103469900000009E-2,5.8563325050451933,{"$f":"0","v":0},0,4.5615635550268561,{"$f":"0","v":0},0,{"$f":"0","v":0},0,1.5075160833899997E-2,null,1057,0.92548909999999995,7.4510850000000003E-2,1.6013999999999997E-2,0.1146607,0,2.3109570884753711E-2,3151368,122521.5,792542.7,5.9269343543786182,3151368,11333890,1.5095911775099998E-2,4.6197734128115258,null,0,0,null,1.4103469900000009E-2]
[1061,7.7386650000000001E-2,0.1181161,117880.4,3057291,10848790,3057291,10848790,1.6013999999999997E-2,1.4103469900000009E-2,5.8318729548480217,{"$f":"0","v":0},0,4.5411192089634964,{"$f":"0","v":0},0,{"$f":"0","v":0},0,1.5068244387299997E-2,null,1058,0.92477019999999999,7.5229799999999999E-2,1.6013999999999997E-2,0.1155245,0,2.3027347117879789E-2,3127849,121361.2,782235.9,5.9038521647226077,3127849,11212620,1.5088995328499997E-2,4.600871121049928,null,0,0,null,1.4103469900000009E-2]
[1062,7.8105599999999997E-2,0.11898,116720.2,3033772,10727520,3033772,10727520,1.6013999999999997E-2,1.4103469900000009E-2,5.8069225235506217,{"$f":"0","v":0},0,4.5201160923130095,{"$f":"0","v":0},0,{"$f":"0","v":0},0,1.5061327139999997E-2,null,1059,0.92405130000000002,7.5948749999999995E-2,1.6013999999999997E-2,0.1163884,0,2.2945415902861227E-2,3104329,120201,771929.1,5.8803190073293896,3104329,11091340,1.5082078081199997E-2,4.5814735626272771,null,0,0,null,1.4103469900000009E-2]
[1063,7.8824549999999993E-2,0.1198439,115559.9,3010253,10606240,3010253,10606240,1.6013999999999997E-2,1.4103469900000009E-2,5.7814765690059158,{"$f":"0","v":0},0,4.4985377642693969,{"$f":"0","v":0},0,{"$f":"0","v":0},0,1.5054409892699997E-2,null,1060,0.92333229999999999,7.6667700000000005E-2,1.6013999999999997E-2,0.1172523,0,2.2863776198799621E-2,3080810,119040.7,761622.3,5.8563325050451933,3080810,10970070,1.5075160833899997E-2,4.5615635550268561,null,0,0,null,1.4103469900000009E-2]
[1064,7.9543500000000003E-2,0.1207077,114399.6,2986733,10484970,2986733,10484970,1.6013999999999997E-2,1.4103469900000009E-2,5.7555144423581899,{"$f":"0","v":0},0,4.4763546649039441,{"$f":"0","v":0},0,{"$f":"0","v":0},0,1.5047493446099996E-2,null,1061,0.92261340000000003,7.7386650000000001E-2,1.6013999999999997E-2,0.1181161,0,2.2782426968500066E-2,3057291,117880.4,751315.4,5.8318729548480217,3057291,10848790,1.5068244387299997E-2,4.5411192089634964,null,0,0,null,1.4103469900000009E-2]
[1065,8.0262449999999999E-2,0.1215716,113239.4,2963214,10363690,2963214,10363690,1.6013999999999997E-2,1.4103469900000009E-2,5.7290147392750814,{"$f":"0","v":0},0,4.4535397138628516,{"$f":"0","v":0},0,{"$f":"0","v":0},0,1.5040576198799997E-2,null,1062,0.9218944,7.8105599999999997E-2,1.6013999999999997E-2,0.11898,0,2.2701367178458019E-2,3033772,116720.2,741008.6,5.8069225235506217,3033772,10727520,1.5061327139999997E-2,4.5201160923130095,null,0,0,null,1.4103469900000009E-2]
[1066,8.0981399999999995E-2,0.1224355,112079.1,2939695,10242420,2939695,10242420,1.6013999999999997E-2,1.4103469900000009E-2,5.701971977826374,{"$f":"0","v":0},0,4.4300725882727772,{"$f":"0","v":0},0,{"$f":"0","v":0},0,1.5033658951499999E-2,null,1063,0.92117550000000004,7.8824549999999993E-2,1.6013999999999997E-2,0.1198439,0,2.2620595798846104E-2,3010253,115559.9,730701.8,5.7814765690059158,3010253,10606240,1.5054409892699997E-2,4.4985377642693969,null,0,0,null,1.4103469900000009E-2]
[1067,8.1700350000000005E-2,0.1232993,110918.8,2916176,10121140,2916176,10121140,1.6013999999999997E-2,1.4103469900000009E-2,5.6743634382389034,{"$f":"0","v":0},0,4.4059191025234181,{"$f":"0","v":0},0,{"$f":"0","v":0},0,1.5026742504899998E-2,null,1064,0.92045650000000001,7.9543500000000003E-2,1.6013999999999997E-2,0.1207077,0,2.2540111803501101E-2,2986733,114399.6,720395,5.7555144423581899,2986733,10484970,1.5047493446099996E-2,4.4763546649039441,null,0,0,null,1.4103469900000009E-2]
[1068,8.2419300000000001E-2,0.1241632,109758.6,2892656,9999867,2892656,9999867,1.6013999999999997E-2,1.4103469900000009E-2,5.6461655396479182,{"$f":"0","v":0},0,4.3810473290303475,{"$f":"0","v":0},0,{"$f":"0","v":0},0,1.5019825257599997E-2,null,1065,0.91973760000000004,8.0262449999999999E-2,1.6013999999999997E-2,0.1215716,0,2.2459914169910861E-2,2963214,113239.4,710088.2,5.7290147392750814,2963214,10363690,1.5040576198799997E-2,4.4535397138628516,null,0,0,null,1.4103469900000009E-2]
[1069,8.3182870000000006E-2,0.1250995,108653.3,2869168,9887177,2869168,9887177,1.6013999999999997E-2,1.4103469900000009E-2,5.6249311264974606,{"$f":"0","v":0},0,4.3634591890401433,{"$f":"0","v":0},0,{"$f":"0","v":0},0,1.5012328303499998E-2,null,1066,0.91901860000000002,8.0981399999999995E-2,1.6013999999999997E-2,0.1224355,0,2.2380001879201323E-2,2939695,112079.1,699781.4,5.701971977826374,2939695,10242420,1.5033658951499999E-2,4.4300725882727772,null,0,0,null,1.4103469900000009E-2]
[1070,8.3946450000000006E-2,0.12603590000000001,107548.1,2845680,9774487,2845680,9774487,1.6013999999999997E-2,1.4103469900000009E-2,5.603254536032404,{"$f":"0","v":0},0,4.3453822149406305,{"$f":"0","v":0},0,{"$f":"0","v":0},0,1.5004830548699997E-2,null,1067,0.91829970000000005,8.1700350000000005E-2,1.6013999999999997E-2,0.1232993,0,2.2300373916123592E-2,2916176,110918.8,689474.6,5.6743634382389034,2916176,10121140,1.5026742504899998E-2,4.4059191025234181,null,0,0,null,1.4103469900000009E-2]
[1071,8.4710019999999997E-2,0.12697220000000001,106442.8,2822192,9661798,2822192,9661798,1.6013999999999997E-2,1.4103469900000009E-2,5.5811344997814158,{"$f":"0","v":0},0,4.3268048132927595,{"$f":"0","v":0},0,{"$f":"0","v":0},0,1.4997333594599998E-2,null,1068,0.91758070000000003,8.2419300000000001E-2,1.6013999999999997E-2,0.1241632,0,2.2221029269041015E-2,2892656,109758.6,679167.8,5.6461655396479182,2892656,9999867,1.5019825257599997E-2,4.3810473290303475,null,0,0,null,1.4103469900000009E-2]
[1072,8.5473599999999997E-2,0.12790850000000001,105337.60000000001,2798704,9549108,2798704,9549108,1.6013999999999997E-2,1.4103469900000009E-2,5.5585444640217094,{"$f":"0","v":0},0,4.3076967226056544,{"$f":"0","v":0},0,{"$f":"0","v":0},0,1.4989836640499998E-2,null,1069,0.91681710000000005,8.3182870000000006E-2,1.6013999999999997E-2,0.1250995,0,2.2141966929916337E-2,2869168,108653.3,670021.19999999995,5.6249311264974606,2869168,9887177,1.5012328303499998E-2,4.3634591890401433,null,0,0,null,1.4103469900000009E-2]
[1073,8.6237179999999997E-2,0.12884490000000001,104232.3,2775216,9436418,2775216,9436418,1.6013999999999997E-2,1.4103469900000009E-2,5.5354802446074771,{"$f":"0","v":0},0,4.288044189718792,{"$f":"0","v":0},0,{"$f":"0","v":0},0,1.4982338885699997E-2,null,1070,0.91605349999999997,8.3946450000000006E-2,1.6013999999999997E-2,0.12603590000000001,0,2.2063185894298898E-2,2845680,107548.1,660874.6,5.603254536032404,2845680,9774487,1.5004830548699997E-2,4.3453822149406305,null,0,0,null,1.4103469900000009E-2]
[1074,8.7000750000000002E-2,0.12978120000000001,103127,2751728,9323728,2751728,9323728,1.6013999999999997E-2,1.4103469900000009E-2,5.511922597056703,{"$f":"0","v":0},0,4.267815667421436,{"$f":"0","v":0},0,{"$f":"0","v":0},0,1.4974841931599998E-2,null,1071,0.91529000000000005,8.4710019999999997E-2,1.6013999999999997E-2,0.12697220000000001,0,2.198468516131187E-2,2822192,106442.8,651728.1,5.5811344997814158,2822192,9661798,1.4997333594599998E-2,4.3268048132927595,null,0,0,null,1.4103469900000009E-2]
[1075,8.7764320000000007E-2,0.13071749999999999,102021.8,2728239,9211038,2728239,9211038,1.6013999999999997E-2,1.4103469900000009E-2,5.4878476136146066,{"$f":"0","v":0},0,4.246987244062832,{"$f":"0","v":0},0,{"$f":"0","v":0},0,1.4967344977499996E-2,null,1072,0.91452639999999996,8.5473599999999997E-2,1.6013999999999997E-2,0.12790850000000001,0,2.1906463733639546E-2,2798704,105337.60000000001,642581.6,5.5585444640217094,2798704,9549108,1.4989836640499998E-2,4.3076967226056544,null,0,0,null,1.4103469900000009E-2]
[1076,8.8527900000000007E-2,0.13165389999999999,100916.5,2704751,9098348,2704751,9098348,1.6013999999999997E-2,1.4103469900000009E-2,5.4632522514488047,{"$f":"0","v":0},0,4.2255381851760996,{"$f":"0","v":0},0,{"$f":"0","v":0},0,1.4959847222699997E-2,null,1073,0.91376279999999999,8.6237179999999997E-2,1.6013999999999997E-2,0.12884490000000001,0,2.1828520617514651E-2,2775216,104232.3,633435,5.5354802446074771,2775216,9436418,1.4982338885699997E-2,4.288044189718792,null,0,0,null,1.4103469900000009E-2]
[1077,8.9291480000000006E-2,0.13259019999999999,99811.27,2681263,8985658,2681263,8985658,1.6013999999999997E-2,1.4103469900000009E-2,5.4381069600991285,{"$f":"0","v":0},0,4.2034304917262206,{"$f":"0","v":0},0,{"$f":"0","v":0},0,1.4952350268599996E-2,null,1074,0.91299929999999996,8.7000750000000002E-2,1.6013999999999997E-2,0.12978120000000001,0,2.1750854822705747E-2,2751728,103127,624288.5,5.511922597056703,2751728,9323728,1.4974841931599998E-2,4.267815667421436,null,0,0,null,1.4103469900000009E-2]
[1078,9.0055049999999998E-2,0.13352649999999999,98706.02,2657775,8872969,2657775,8872969,1.6013999999999997E-2,1.4103469900000009E-2,5.4124007752178303,{"$f":"0","v":0},0,4.1806433375248302,{"$f":"0","v":0},0,{"$f":"0","v":0},0,1.4944853314499998E-2,null,1075,0.91223569999999998,8.7764320000000007E-2,1.6013999999999997E-2,0.13071749999999999,0,2.1673465362504623E-2,2728239,102021.8,615141.9,5.4878476136146066,2728239,9211038,1.4967344977499996E-2,4.246987244062832,null,0,0,null,1.4103469900000009E-2]
[1079,9.0818629999999997E-2,0.1344629,97600.76,2634287,8760279,2634287,8760279,1.6013999999999997E-2,1.4103469900000009E-2,5.3861129940654839,{"$f":"0","v":0},0,4.1571347842032944,{"$f":"0","v":0},0,{"$f":"0","v":0},0,1.4937355559699998E-2,null,1076,0.91147210000000001,8.8527900000000007E-2,1.6013999999999997E-2,0.13165389999999999,0,2.1596351253713782E-2,2704751,100916.5,605995.4,5.4632522514488047,2704751,9098348,1.4959847222699997E-2,4.2255381851760996,null,0,0,null,1.4103469900000009E-2]
[1080,9.1582200000000002E-2,0.1353992,96495.5,2610799,8647589,2610799,8647589,1.6013999999999997E-2,1.4103469900000009E-2,5.3592219758088886,{"$f":"0","v":0},0,4.1328768906373883,{"$f":"0","v":0},0,{"$f":"0","v":0},0,1.4929858605599998E-2,null,1077,0.91070850000000003,8.9291480000000006E-2,1.6013999999999997E-2,0.13259019999999999,0,2.1519511516633925E-2,2681263,99811.27,596848.80000000005,5.4381069600991285,2681263,8985658,1.4952350268599996E-2,4.2034304917262206,null,0,0,null,1.4103469900000009E-2]
[1081,9.237998E-2,0.13641249999999999,95453.2,2587625,8543874,2587625,8543874,1.6013999999999997E-2,1.4103469900000009E-2,5.3394132761744322,{"$f":"0","v":0},0,4.1161519717091961,{"$f":"0","v":0},0,{"$f":"0","v":0},0,1.4921745112499997E-2,null,1078,0.909945,9.0055049999999998E-2,1.6013999999999997E-2,0.13352649999999999,0,2.1442945175051544E-2,2657775,98706.02,587702.30000000005,5.4124007752178303,2657775,8872969,1.4944853314499998E-2,4.1806433375248302,null,0,0,null,1.4103469900000009E-2]
[1082,9.3177750000000004E-2,0.13742570000000001,94410.91,2564452,8440158,2564452,8440158,1.6013999999999997E-2,1.4103469900000009E-2,5.3191665781352313,{"$f":"0","v":0},0,4.098933005769358,{"$f":"0","v":0},0,{"$f":"0","v":0},0,1.4913632420099996E-2,null,1079,0.90918140000000003,9.0818629999999997E-2,1.6013999999999997E-2,0.1344629,0,2.1366651256226468E-2,2634287,97600.76,578555.80000000005,5.3861129940654839,2634287,8760279,1.4937355559699998E-2,4.1571347842032944,null,0,0,null,1.4103469900000009E-2]
[1083,9.3975530000000002E-2,0.13843900000000001,93368.61,2541278,8336443,2541278,8336443,1.6013999999999997E-2,1.4103469900000009E-2,5.2984684708276157,{"$f":"0","v":0},0,4.0811992458862685,{"$f":"0","v":0},0,{"$f":"0","v":0},0,1.4905518926999997E-2,null,1080,0.90841780000000005,9.1582200000000002E-2,1.6013999999999997E-2,0.1353992,0,2.1290628790879548E-2,2610799,96495.5,569409.19999999995,5.3592219758088886,2610799,8647589,1.4929858605599998E-2,4.1328768906373883,null,0,0,null,1.4103469900000009E-2]
[1084,9.4773300000000005E-2,0.1394523,92326.32,2518105,8232728,2518105,8232728,1.6013999999999997E-2,1.4103469900000009E-2,5.2773023987092733,{"$f":"0","v":0},0,4.0629278006082821,{"$f":"0","v":0},0,{"$f":"0","v":0},0,1.4897405433899997E-2,null,1081,0.90761999999999998,9.237998E-2,1.6013999999999997E-2,0.13641249999999999,0,2.1214876813180326E-2,2587625,95453.2,561367.9,5.3394132761744322,2587625,8543874,1.4921745112499997E-2,4.1161519717091961,null,0,0,null,1.4103469900000009E-2]
[1085,9.5571080000000003E-2,0.14046549999999999,91284.02,2494931,8129013,2494931,8129013,1.6013999999999997E-2,1.4103469900000009E-2,5.255653609105587,{"$f":"0","v":0},0,4.0440915742841304,{"$f":"0","v":0},0,{"$f":"0","v":0},0,1.4889292741499999E-2,null,1082,0.90682229999999997,9.3177750000000004E-2,1.6013999999999997E-2,0.13742570000000001,0,2.113939436073476E-2,2564452,94410.91,553326.6,5.3191665781352313,2564452,8440158,1.4913632420099996E-2,4.098933005769358,null,0,0,null,1.4103469900000009E-2]
[1086,9.6368850000000006E-2,0.14147879999999999,90241.73,2471758,8025297,2471758,8025297,1.6013999999999997E-2,1.4103469900000009E-2,5.2335040885925688,{"$f":"0","v":0},0,4.0246698014878577,{"$f":"0","v":0},0,{"$f":"0","v":0},0,1.4881179248399996E-2,null,1083,0.90602450000000001,9.3975530000000002E-2,1.6013999999999997E-2,0.13843900000000001,0,2.1064180474573001E-2,2541278,93368.61,545285.30000000005,5.2984684708276157,2541278,8336443,1.4905518926999997E-2,4.0811992458862685,null,0,0,null,1.4103469900000009E-2]
[1087,9.7166630000000004E-2,0.14249210000000001,89199.43,2448584,7921582,2448584,7921582,1.6013999999999997E-2,1.4103469900000009E-2,5.2108375813985957,{"$f":"0","v":0},0,4.0046307773485514,{"$f":"0","v":0},0,{"$f":"0","v":0},0,1.4873065755299996E-2,null,1084,0.90522670000000005,9.4773300000000005E-2,1.6013999999999997E-2,0.1394523,0,2.098923419913722E-2,2518105,92326.32,537244,5.2773023987092733,2518105,8232728,1.4897405433899997E-2,4.0629278006082821,null,0,0,null,1.4103469900000009E-2]
[1088,{"$f":"W1093","v":9.7964410000000002E-2},{"$f":"Y1093","v":0.1435053},{"$f":"AC1093","v":88157.13},{"$f":"AF1093","v":2425411},{"$f":"AG1093","v":7817867},{"$f":"E1090","v":2425411},{"$f":"F1090","v":7817867},{"$f":"X1093","v":1.6013999999999997E-2},{"$f":"AN1093","v":1.4103469900000009E-2},{"$f":"AE1093","v":5.1876350925897876},{"$f":"0","v":0},{"$f":"AL1093","v":0},{"$f":"AI1093","v":3.9839407492033758},{"$f":"0","v":0},{"$f":"AK1093","v":0},{"$f":"0","v":0},{"$f":"Z1093","v":0},{"$f":"AH1093","v":1.4864953062899998E-2},null,1085,0.90442889999999998,9.5571080000000003E-2,1.6013999999999997E-2,0.14046549999999999,0,2.0914554582269446E-2,2494931,91284.02,529202.69999999995,5.255653609105587,2494931,8129013,1.4889292741499999E-2,4.0440915742841304,null,0,0,null,1.4103469900000009E-2]
[1089,9.8762180000000005E-2,0.1445186,87114.84,2402238,7714152,2402238,7714152,1.6013999999999997E-2,1.4103469900000009E-2,5.1638767286951337,{"$f":"0","v":0},0,3.96257549372462,{"$f":"0","v":0},0,{"$f":"0","v":0},0,1.4856839569799997E-2,null,1086,0.90363119999999997,9.6368850000000006E-2,1.6013999999999997E-2,0.14147879999999999,0,2.0840140675199501E-2,2471758,90241.73,521161.4,5.2335040885925688,2471758,8025297,1.4881179248399996E-2,4.0246698014878577,null,0,0,null,1.4103469900000009E-2]
[1090,9.9559960000000003E-2,0.14553189999999999,86072.55,2379064,7610436,2379064,7610436,1.6013999999999997E-2,1.4103469900000009E-2,5.1395429640460284,{"$f":"0","v":0},0,3.9404972296522733,{"$f":"0","v":0},0,{"$f":"0","v":0},0,1.4848726076699998E-2,null,1087,0.90283329999999995,9.7166630000000004E-2,1.6013999999999997E-2,0.14249210000000001,0,2.0765991532532911E-2,2448584,89199.43,513120.1,5.2108375813985957,2448584,7921582,1.4873065755299996E-2,4.0046307773485514,null,0,0,null,1.4103469900000009E-2]
[1091,0.10035769999999999,0.14654510000000001,85030.25,2355891,7506721,2355891,7506721,1.6013999999999997E-2,1.4103469900000009E-2,5.1146133042848474,{"$f":"0","v":0},0,3.9176656112366195,{"$f":"0","v":0},0,{"$f":"0","v":0},0,1.4840613384299997E-2,null,1088,0.90203560000000005,9.7964410000000002E-2,1.6013999999999997E-2,0.1435053,0,2.0692106212238912E-2,2425411,88157.13,505078.8,5.1876350925897876,2425411,7817867,1.4864953062899998E-2,3.9839407492033758,null,0,0,null,1.4103469900000009E-2]
[1092,0.1011555,0.14755840000000001,83987.95,2332717,7403006,2332717,7403006,1.6013999999999997E-2,1.4103469900000009E-2,5.0890648847046904,{"$f":"0","v":0},0,3.8940498603103122,{"$f":"0","v":0},0,{"$f":"0","v":0},0,1.4832499891199996E-2,null,1089,0.90123779999999998,9.8762180000000005E-2,1.6013999999999997E-2,0.1445186,0,2.0618483775638498E-2,2402238,87114.84,497037.5,5.1638767286951337,2402238,7714152,1.4856839569799997E-2,3.96257549372462,null,0,0,null,1.4103469900000009E-2]
[1093,0.1019771,0.1486529,83016.56,2310170,7308616,2310170,7308616,1.6013999999999997E-2,1.4103469900000009E-2,5.0706424918915776,{"$f":"0","v":0},0,3.878209112847617,{"$f":"0","v":0},0,{"$f":"0","v":0},0,1.4823736229699996E-2,null,1090,0.90044000000000002,9.9559960000000003E-2,1.6013999999999997E-2,0.14553189999999999,0,2.0545123287392466E-2,2379064,86072.55,488996.2,5.1395429640460284,2379064,7610436,1.4848726076699998E-2,3.9404972296522733,null,0,0,null,1.4103469900000009E-2]
[1094,0.1027986,0.14974750000000001,82045.16,2287623,7214227,2287623,7214227,1.6013999999999997E-2,1.4103469900000009E-2,5.0517845497122149,{"$f":"0","v":0},0,3.8618735668117057,{"$f":"0","v":0},0,{"$f":"0","v":0},0,1.4814971767499997E-2,null,1091,0.89964230000000001,0.10035769999999999,1.6013999999999997E-2,0.14654510000000001,0,2.047202381548955E-2,2355891,85030.25,480954.9,5.1146133042848474,2355891,7506721,1.4840613384299997E-2,3.9176656112366195,null,0,0,null,1.4103469900000009E-2]
[1095,0.1036202,0.150842,81073.77,2265075,7119837,2265075,7119837,1.6013999999999997E-2,1.4103469900000009E-2,5.0324740202657399,{"$f":"0","v":0},0,3.8450151503185785,{"$f":"0","v":0},0,{"$f":"0","v":0},0,1.4806208105999998E-2,null,1092,0.89884450000000005,0.1011555,1.6013999999999997E-2,0.14755840000000001,0,2.0399184431234573E-2,2332717,83987.95,472913.6,5.0890648847046904,2332717,7403006,1.4832499891199996E-2,3.8940498603103122,null,0,0,null,1.4103469900000009E-2]
[1096,0.1044417,0.1519365,80102.38,2242528,7025448,2242528,7025448,1.6013999999999997E-2,1.4103469900000009E-2,5.0126951388127701,{"$f":"0","v":0},0,3.827606158048328,{"$f":"0","v":0},0,{"$f":"0","v":0},0,1.4797444444499997E-2,null,1093,0.89802289999999996,0.1019771,1.6013999999999997E-2,0.1486529,0,2.0326604209236657E-2,2310170,83016.56,465914.6,5.0706424918915776,2310170,7308616,1.4823736229699996E-2,3.878209112847617,null,0,0,null,1.4103469900000009E-2]
[1097,0.1052633,0.1530311,79130.98,2219981,6931058,2219981,6931058,1.6013999999999997E-2,1.4103469900000009E-2,4.9924313566359633,{"$f":"0","v":0},0,3.8096219564733134,{"$f":"0","v":0},0,{"$f":"0","v":0},0,1.4788679982299997E-2,null,1094,0.89720140000000004,0.1027986,1.6013999999999997E-2,0.14974750000000001,0,2.0254282227397464E-2,2287623,82045.16,458915.6,5.0517845497122149,2287623,7214227,1.4814971767499997E-2,3.8618735668117057,null,0,0,null,1.4103469900000009E-2]
[1098,0.10608480000000001,0.1541256,78159.59,2197434,6836669,2197434,6836669,1.6013999999999997E-2,1.4103469900000009E-2,4.9716631755190459,{"$f":"0","v":0},0,3.7910335356934763,{"$f":"0","v":0},0,{"$f":"0","v":0},0,1.4779916320799998E-2,null,1095,0.89637979999999995,0.1036202,1.6013999999999997E-2,0.150842,0,2.0182217566899467E-2,2265075,81073.77,451916.6,5.0324740202657399,2265075,7119837,1.4806208105999998E-2,3.8450151503185785,null,0,0,null,1.4103469900000009E-2]
[1099,0.1069064,0.1552201,77188.2,2174886,6742279,2174886,6742279,1.6013999999999997E-2,1.4103469900000009E-2,4.9503722719275745,{"$f":"0","v":0},0,3.771809440619895,{"$f":"0","v":0},0,{"$f":"0","v":0},0,1.4771152659299997E-2,null,1096,0.89555830000000003,0.1044417,1.6013999999999997E-2,0.1519365,0,2.0110409312194301E-2,2242528,80102.38,444917.6,5.0126951388127701,2242528,7025448,1.4797444444499997E-2,3.827606158048328,null,0,0,null,1.4103469900000009E-2]
[1100,0.1077279,0.1563147,76216.800000000003,2152339,6647890,2152339,6647890,1.6013999999999997E-2,1.4103469900000009E-2,4.9285393771451957,{"$f":"0","v":0},0,3.7519164964660505,{"$f":"0","v":0},0,{"$f":"0","v":0},0,1.4762388197099997E-2,null,1097,0.8947368,0.1052633,1.6013999999999997E-2,0.1530311,0,2.0038856550991111E-2,2219981,79130.98,437918.6,4.9924313566359633,2219981,6931058,1.4788679982299997E-2,3.8096219564733134,null,0,0,null,1.4103469900000009E-2]
[1101,0.10854949999999999,0.1574092,75245.41,2129792,6553500,2129792,6553500,1.6013999999999997E-2,1.4103469900000009E-2,4.9061420435257546,{"$f":"0","v":0},0,3.7313191791270053,{"$f":"0","v":0},0,{"$f":"0","v":0},0,1.4753624535599997E-2,null,1098,0.89391520000000002,0.10608480000000001,1.6013999999999997E-2,0.1541256,0,1.9967558374244968E-2,2197434,78159.59,430919.6,4.9716631755190459,2197434,6836669,1.4779916320799998E-2,3.7910335356934763,null,0,0,null,1.4103469900000009E-2]
[1102,0.109371,0.1585037,74274.02,2107244,6459111,2107244,6459111,1.6013999999999997E-2,1.4103469900000009E-2,4.8831588645217616,{"$f":"0","v":0},0,3.7099768511881073,{"$f":"0","v":0},0,{"$f":"0","v":0},0,1.4744860874099998E-2,null,1099,0.89309360000000004,0.1069064,1.6013999999999997E-2,0.1552201,0,1.9896513876145331E-2,2174886,77188.2,423920.6,4.9503722719275745,2174886,6742279,1.4771152659299997E-2,3.771809440619895,null,0,0,null,1.4103469900000009E-2]
[1103,0.1101926,0.1595983,73302.63,2084697,6364721,2084697,6364721,1.6013999999999997E-2,1.4103469900000009E-2,4.8595665496585854,{"$f":"0","v":0},0,3.6878541950418637,{"$f":"0","v":0},0,{"$f":"0","v":0},0,1.4736096411899997E-2,null,1100,0.89227210000000001,0.1077279,1.6013999999999997E-2,0.1563147,0,1.9825722154104521E-2,2152339,76216.800000000003,416921.59999999998,4.9285393771451957,2152339,6647890,1.4762388197099997E-2,3.7519164964660505,null,0,0,null,1.4103469900000009E-2]
[1104,0.1110141,0.1606928,72331.23,2062150,6270332,2062150,6270332,1.6013999999999997E-2,1.4103469900000009E-2,4.8353413007078681,{"$f":"0","v":0},0,3.6649032699944892,{"$f":"0","v":0},0,{"$f":"0","v":0},0,1.4727332750399997E-2,null,1101,0.89145050000000003,0.10854949999999999,1.6013999999999997E-2,0.1574092,0,1.9755182308746261E-2,2129792,75245.41,409922.6,4.9061420435257546,2129792,6553500,1.4753624535599997E-2,3.7313191791270053,null,0,0,null,1.4103469900000009E-2]
[1105,0.1118494,0.16187270000000001,71437.73,2040542,6185501,2040542,6185501,1.6013999999999997E-2,1.4103469900000009E-2,4.8182180889099735,{"$f":"0","v":0},0,3.6499775894385142,{"$f":"0","v":0},0,{"$f":"0","v":0},0,1.4717885291099997E-2,null,1102,0.890629,0.109371,1.6013999999999997E-2,0.1585037,0,1.968489344389426E-2,2107244,74274.02,402923.6,4.8831588645217616,2107244,6459111,1.4744860874099998E-2,3.7099768511881073,null,0,0,null,1.4103469900000009E-2]
[1106,0.1126847,0.16305269999999999,70544.22,2018934,6100670,2018934,6100670,1.6013999999999997E-2,1.4103469900000009E-2,4.8006618756292152,{"$f":"0","v":0},0,3.6345461210251275,{"$f":"0","v":0},0,{"$f":"0","v":0},0,1.4708437031099997E-2,null,1103,0.88980749999999997,0.1101926,1.6013999999999997E-2,0.1595983,0,1.9614854666560815E-2,2084697,73302.63,395924.6,4.8595665496585854,2084697,6364721,1.4736096411899997E-2,3.6878541950418637,null,0,0,null,1.4103469900000009E-2]
[1107,0.11351990000000001,0.16423260000000001,69650.7,1997325,6015839,1997325,6015839,1.6013999999999997E-2,1.4103469900000009E-2,4.7826559890998936,{"$f":"0","v":0},0,3.6185850574292204,{"$f":"0","v":0},0,{"$f":"0","v":0},0,1.4698989571799997E-2,null,1104,0.8889859,0.1110141,1.6013999999999997E-2,0.1606928,0,1.9545065086935466E-2,2062150,72331.23,388925.6,4.8353413007078681,2062150,6270332,1.4727332750399997E-2,3.6649032699944892,null,0,0,null,1.4103469900000009E-2]
[1108,0.1143552,0.16541249999999999,68757.2,1975717,5931009,1975717,5931009,1.6013999999999997E-2,1.4103469900000009E-2,4.7641805755130617,{"$f":"0","v":0},0,3.602066120383046,{"$f":"0","v":0},0,{"$f":"0","v":0},0,1.4689542112499997E-2,null,1105,0.88815060000000001,0.1118494,1.6013999999999997E-2,0.16187270000000001,0,1.9475523818373704E-2,2040542,71437.73,382898,4.8182180889099735,2040542,6185501,1.4717885291099997E-2,3.6499775894385142,null,0,0,null,1.4103469900000009E-2]
[1109,0.1151905,0.1665925,67863.69,1954109,5846178,1954109,5846178,1.6013999999999997E-2,1.4103469900000009E-2,4.7452194428272314,{"$f":"0","v":0},0,3.5849606685576645,{"$f":"0","v":0},0,{"$f":"0","v":0},0,1.4680093852499998E-2,null,1106,0.88731530000000003,0.1126847,1.6013999999999997E-2,0.16305269999999999,0,1.9406229977385687E-2,2018934,70544.22,376870.40000000002,4.8006618756292152,2018934,6100670,1.4708437031099997E-2,3.6345461210251275,null,0,0,null,1.4103469900000009E-2]
[1110,0.1160258,0.16777239999999999,66970.179999999993,1932501,5761347,1932501,5761347,1.6013999999999997E-2,1.4103469900000009E-2,4.7257523547545093,{"$f":"0","v":0},0,3.5672386077985681,{"$f":"0","v":0},0,{"$f":"0","v":0},0,1.4670646393199998E-2,null,1107,0.88648009999999999,0.11351990000000001,1.6013999999999997E-2,0.16423260000000001,0,1.9337182683625029E-2,1997325,69650.7,370842.8,4.7826559890998936,1997325,6015839,1.4698989571799997E-2,3.6185850574292204,null,0,0,null,1.4103469900000009E-2]
[1111,0.11686100000000001,0.1689523,66076.67,1910893,5676516,1910893,5676516,1.6013999999999997E-2,1.4103469900000009E-2,4.7057587862201089,{"$f":"0","v":0},0,3.5488605993751778,{"$f":"0","v":0},0,{"$f":"0","v":0},0,1.4661198933899998E-2,null,1108,0.88564480000000001,0.1143552,1.6013999999999997E-2,0.16541249999999999,0,1.9268381059877621E-2,1975717,68757.2,364815.2,4.7641805755130617,1975717,5931009,1.4689542112499997E-2,3.602066120383046,null,0,0,null,1.4103469900000009E-2]
[1112,0.1176963,0.17013229999999999,65183.16,1889285,5591686,1889285,5591686,1.6013999999999997E-2,1.4103469900000009E-2,4.6852170867444896,{"$f":"0","v":0},0,3.5297926796385055,{"$f":"0","v":0},0,{"$f":"0","v":0},0,1.4651750673899998E-2,null,1109,0.88480950000000003,0.1151905,1.6013999999999997E-2,0.1665925,0,1.919982423205048E-2,1954109,67863.69,358787.6,4.7452194428272314,1954109,5846178,1.4680093852499998E-2,3.5849606685576645,null,0,0,null,1.4103469900000009E-2]
[1113,0.1185316,0.1713122,64289.65,1867677,5506855,1867677,5506855,1.6013999999999997E-2,1.4103469900000009E-2,4.6641044022378928,{"$f":"0","v":0},0,3.5099958474574939,{"$f":"0","v":0},0,{"$f":"0","v":0},0,1.4642303214599996E-2,null,1110,0.88397429999999999,0.1160258,1.6013999999999997E-2,0.16777239999999999,0,1.9131511329160623E-2,1932501,66970.179999999993,352760,4.7257523547545093,1932501,5761347,1.4670646393199998E-2,3.5672386077985681,null,0,0,null,1.4103469900000009E-2]
[1114,0.1193669,0.17249210000000001,63396.14,1846068,5422024,1846068,5422024,1.6013999999999997E-2,1.4103469900000009E-2,4.6423965901814626,{"$f":"0","v":0},0,3.4894268542913962,{"$f":"0","v":0},0,{"$f":"0","v":0},0,1.4632855755299998E-2,null,1111,0.88313900000000001,0.11686100000000001,1.6013999999999997E-2,0.1689523,0,1.9063441483324044E-2,1910893,66076.67,346732.4,4.7057587862201089,1910893,5676516,1.4661198933899998E-2,3.5488605993751778,null,0,0,null,1.4103469900000009E-2]
[1115,0.12020210000000001,0.1736721,62502.63,1824460,5337193,1824460,5337193,1.6013999999999997E-2,1.4103469900000009E-2,4.6200665276005193,{"$f":"0","v":0},0,3.4680420890948347,{"$f":"0","v":0},0,{"$f":"0","v":0},0,1.4623407495299997E-2,null,1112,0.88230370000000002,0.1176963,1.6013999999999997E-2,0.17013229999999999,0,1.8995613829744653E-2,1889285,65183.16,340704.8,4.6852170867444896,1889285,5591686,1.4651750673899998E-2,3.5297926796385055,null,0,0,null,1.4103469900000009E-2]
[1116,0.1210374,0.17485200000000001,61609.120000000003,1802852,5252363,1802852,5252363,1.6013999999999997E-2,1.4103469900000009E-2,4.5970903874837568,{"$f":"0","v":0},0,3.4457862181729721,{"$f":"0","v":0},0,{"$f":"0","v":0},0,1.4613960035999997E-2,null,1113,0.88146840000000004,0.1185316,1.6013999999999997E-2,0.1713122,0,1.8928027506703301E-2,1867677,64289.65,334677.2,4.6641044022378928,1867677,5506855,1.4642303214599996E-2,3.5099958474574939,null,0,0,null,1.4103469900000009E-2]
[1117,0.1218776,0.17612140000000001,60798.76,1782472,5177148,1782472,5177148,1.6013999999999997E-2,1.4103469900000009E-2,4.5811401142611015,{"$f":"0","v":0},0,3.431789093465289,{"$f":"0","v":0},0,{"$f":"0","v":0},0,1.4603795950199998E-2,null,1114,0.88063309999999995,0.1193669,1.6013999999999997E-2,0.17249210000000001,0,1.886068165554684E-2,1846068,63396.14,328649.59999999998,4.6423965901814626,1846068,5422024,1.4632855755299998E-2,3.4894268542913962,null,0,0,null,1.4103469900000009E-2]
[1118,0.1227178,0.17739079999999999,59988.39,1762092,5101933,1762092,5101933,1.6013999999999997E-2,1.4103469900000009E-2,4.5647580931910321,{"$f":"0","v":0},0,3.4172883802651448,{"$f":"0","v":0},0,{"$f":"0","v":0},0,1.4593631864399997E-2,null,1115,0.87979790000000002,0.12020210000000001,1.6013999999999997E-2,0.1736721,0,1.8793575420677198E-2,1824460,62502.63,322621.90000000002,4.6200665276005193,1824460,5337193,1.4623407495299997E-2,3.4680420890948347,null,0,0,null,1.4103469900000009E-2]
[1119,0.1235581,0.17866019999999999,59178.03,1741712,5026719,1741712,5026719,1.6013999999999997E-2,1.4103469900000009E-2,4.5479265489236456,{"$f":"0","v":0},0,3.4022510113386364,{"$f":"0","v":0},0,{"$f":"0","v":0},0,1.4583467778599998E-2,null,1116,0.87896260000000004,0.1210374,1.6013999999999997E-2,0.17485200000000001,0,1.8726707949540521E-2,1802852,61609.120000000003,316594.3,4.5970903874837568,1802852,5252363,1.4613960035999997E-2,3.4457862181729721,null,0,0,null,1.4103469900000009E-2]
[1120,0.1243983,0.1799296,58367.66,1721332,4951504,1721332,4951504,1.6013999999999997E-2,1.4103469900000009E-2,4.5306285050088801,{"$f":"0","v":0},0,3.3866494629961013,{"$f":"0","v":0},0,{"$f":"0","v":0},0,1.4573303692799997E-2,null,1117,0.87812239999999997,0.1218776,1.6013999999999997E-2,0.17612140000000001,0,1.8660078392616342E-2,1782472,60798.76,311460.3,4.5811401142611015,1782472,5177148,1.4603795950199998E-2,3.431789093465289,null,0,0,null,1.4103469900000009E-2]
[1121,0.1252385,0.181199,57557.3,1700952,4876289,1700952,4876289,1.6013999999999997E-2,1.4103469900000009E-2,4.5128424920325774,{"$f":"0","v":0},0,3.3704540646394126,{"$f":"0","v":0},0,{"$f":"0","v":0},0,1.4563139606999998E-2,null,1118,0.87728209999999995,0.1227178,1.6013999999999997E-2,0.17739079999999999,0,1.8593685903406782E-2,1762092,59988.39,306326.2,4.5647580931910321,1762092,5101933,1.4593631864399997E-2,3.4172883802651448,null,0,0,null,1.4103469900000009E-2]
[1122,0.12607879999999999,0.1824684,56746.94,1680572,4801075,1680572,4801075,1.6013999999999997E-2,1.4103469900000009E-2,4.4945485019397804,{"$f":"0","v":0},0,3.3536246021319842,{"$f":"0","v":0},0,{"$f":"0","v":0},0,1.4552975521199997E-2,null,1119,0.87644200000000005,0.1235581,1.6013999999999997E-2,0.17866019999999999,0,1.8527529638425796E-2,1741712,59178.03,301192.09999999998,4.5479265489236456,1741712,5026719,1.4583467778599998E-2,3.4022510113386364,null,0,0,null,1.4103469900000009E-2]
[1123,0.126919,0.18373780000000001,55936.57,1660192,4725860,1660192,4725860,1.6013999999999997E-2,1.4103469900000009E-2,4.4757253543314031,{"$f":"0","v":0},0,3.3361288388132886,{"$f":"0","v":0},0,{"$f":"0","v":0},0,1.4542811435399997E-2,null,1120,0.87560170000000004,0.1243983,1.6013999999999997E-2,0.1799296,0,1.8461608757188466E-2,1721332,58367.66,296058,4.5306285050088801,1721332,4951504,1.4573303692799997E-2,3.3866494629961013,null,0,0,null,1.4103469900000009E-2]
[1124,0.12775919999999999,0.18500720000000001,55126.21,1639812,4650645,1639812,4650645,1.6013999999999997E-2,1.4103469900000009E-2,4.4563478893857074,{"$f":"0","v":0},0,3.3179198415480085,{"$f":"0","v":0},0,{"$f":"0","v":0},0,1.4532647349599997E-2,null,1121,0.87476149999999997,0.1252385,1.6013999999999997E-2,0.181199,0,1.8395922422200301E-2,1700952,57557.3,290923.90000000002,4.5128424920325774,1700952,4876289,1.4563139606999998E-2,3.3704540646394126,null,0,0,null,1.4103469900000009E-2]
[1125,0.1285994,0.18627659999999999,54315.839999999997,1619433,4575431,1619433,4575431,1.6013999999999997E-2,1.4103469900000009E-2,4.4363931405645207,{"$f":"0","v":0},0,3.2989577011412181,{"$f":"0","v":0},0,{"$f":"0","v":0},0,1.4522483263799997E-2,null,1122,0.87392130000000001,0.12607879999999999,1.6013999999999997E-2,0.1824684,0,1.8330469798946633E-2,1680572,56746.94,285789.8,4.4945485019397804,1680572,4801075,1.4552975521199997E-2,3.3536246021319842,null,0,0,null,1.4103469900000009E-2]
[1126,0.12943969999999999,0.18754599999999999,53505.48,1599053,4500216,1599053,4500216,1.6013999999999997E-2,1.4103469900000009E-2,4.4158330137399009,{"$f":"0","v":0},0,3.2791975584304325,{"$f":"0","v":0},0,{"$f":"0","v":0},0,1.4512319177999998E-2,null,1123,0.873081,0.126919,1.6013999999999997E-2,0.18373780000000001,0,1.8265250055881976E-2,1660192,55936.57,280655.7,4.4757253543314031,1660192,4725860,1.4542811435399997E-2,3.3361288388132886,null,0,0,null,1.4103469900000009E-2]
[1127,0.1302799,0.18881539999999999,52695.11,1578673,4425001,1578673,4425001,1.6013999999999997E-2,1.4103469900000009E-2,4.3946414651504977,{"$f":"0","v":0},0,3.2585794421068939,{"$f":"0","v":0},0,{"$f":"0","v":0},0,1.4502155092199997E-2,null,1124,0.87224080000000004,0.12775919999999999,1.6013999999999997E-2,0.18500720000000001,0,1.8200262364419496E-2,1639812,55126.21,275521.59999999998,4.4563478893857074,1639812,4650645,1.4532647349599997E-2,3.3179198415480085,null,0,0,null,1.4103469900000009E-2]
[1128,0.13112009999999999,0.1900848,51884.75,1558293,4349787,1558293,4349787,1.6013999999999997E-2,1.4103469900000009E-2,4.3727889296308966,{"$f":"0","v":0},0,3.2370549626085192,{"$f":"0","v":0},0,{"$f":"0","v":0},0,1.4491991006399998E-2,null,1125,0.87140059999999997,0.1285994,1.6013999999999997E-2,0.18627659999999999,0,1.8135505898920455E-2,1619433,54315.839999999997,270387.5,4.4363931405645207,1619433,4575431,1.4522483263799997E-2,3.2989577011412181,null,0,0,null,1.4103469900000009E-2]
[1129,0.13195689999999999,0.19144710000000001,51160.52,1539384,4284038,1539384,4284038,1.6013999999999997E-2,1.4103469900000009E-2,4.3578437370587055,{"$f":"0","v":0},0,3.2240112504703746,{"$f":"0","v":0},0,{"$f":"0","v":0},0,1.4481083070299997E-2,null,1126,0.87056029999999995,0.12943969999999999,1.6013999999999997E-2,0.18754599999999999,0,1.8070979836683737E-2,1599053,53505.48,265253.40000000002,4.4158330137399009,1599053,4500216,1.4512319177999998E-2,3.2791975584304325,null,0,0,null,1.4103469900000009E-2]
[1130,0.13279369999999999,0.19280929999999999,50436.3,1520475,4218289,1520475,4218289,1.6013999999999997E-2,1.4103469900000009E-2,4.3424703536936686,{"$f":"0","v":0},0,3.2104639812183366,{"$f":"0","v":0},0,{"$f":"0","v":0},0,1.4470175934899998E-2,null,1127,0.8697201,0.1302799,1.6013999999999997E-2,0.18881539999999999,0,1.8006683357935396E-2,1578673,52695.11,260119.3,4.3946414651504977,1578673,4425001,1.4502155092199997E-2,3.2585794421068939,null,0,0,null,1.4103469900000009E-2]
[1131,0.13363040000000001,0.1941716,49712.07,1501566,4152540,1501566,4152540,1.6013999999999997E-2,1.4103469900000009E-2,4.3266500218156274,{"$f":"0","v":0},0,3.1963809488207571,{"$f":"0","v":0},0,{"$f":"0","v":0},0,1.4459267998799997E-2,null,1128,0.86887990000000004,0.13112009999999999,1.6013999999999997E-2,0.1900848,0,1.7942615645818241E-2,1558293,51884.75,254985.3,4.3727889296308966,1558293,4349787,1.4491991006399998E-2,3.2370549626085192,null,0,0,null,1.4103469900000009E-2]
[1132,0.13446720000000001,0.19553390000000001,48987.85,1482657,4086790,1482657,4086790,1.6013999999999997E-2,1.4103469900000009E-2,4.3103588866082774,{"$f":"0","v":0},0,3.181730586845287,{"$f":"0","v":0},0,{"$f":"0","v":0},0,1.4448360062699997E-2,null,1129,0.86804309999999996,0.13195689999999999,1.6013999999999997E-2,0.19144710000000001,0,1.787877588638145E-2,1539384,51160.52,250661.5,4.3578437370587055,1539384,4284038,1.4481083070299997E-2,3.2240112504703746,null,0,0,null,1.4103469900000009E-2]
[1133,0.13530400000000001,0.19689609999999999,48263.62,1463748,4021041,1463748,4021041,1.6013999999999997E-2,1.4103469900000009E-2,4.2935819118692988,{"$f":"0","v":0},0,3.1664761053866197,{"$f":"0","v":0},0,{"$f":"0","v":0},0,1.4437452927299997E-2,null,1130,0.86720629999999999,0.13279369999999999,1.6013999999999997E-2,0.19280929999999999,0,1.7815163268570241E-2,1520475,50436.3,246337.8,4.3424703536936686,1520475,4218289,1.4470175934899998E-2,3.2104639812183366,null,0,0,null,1.4103469900000009E-2]
[1134,0.1361407,0.1982584,47539.39,1444840,3955292,1444840,3955292,1.6013999999999997E-2,1.4103469900000009E-2,4.2762937657242412,{"$f":"0","v":0},0,3.1505778959541701,{"$f":"0","v":0},0,{"$f":"0","v":0},0,1.4426544991199997E-2,null,1131,0.86636959999999996,0.13363040000000001,1.6013999999999997E-2,0.1941716,0,1.7751776984215553E-2,1501566,49712.07,242014.1,4.3266500218156274,1501566,4152540,1.4459267998799997E-2,3.1963809488207571,null,0,0,null,1.4103469900000009E-2]
[1135,0.1369775,0.19962070000000001,46815.17,1425931,3889543,1425931,3889543,1.6013999999999997E-2,1.4103469900000009E-2,4.258467563327585,{"$f":"0","v":0},0,3.1339994186272797,{"$f":"0","v":0},0,{"$f":"0","v":0},0,1.4415637055099996E-2,null,1132,0.86553279999999999,0.13446720000000001,1.6013999999999997E-2,0.19553390000000001,0,1.7688616228023802E-2,1482657,48987.85,237690.3,4.3103588866082774,1482657,4086790,1.4448360062699997E-2,3.181730586845287,null,0,0,null,1.4103469900000009E-2]
[1136,0.1378143,0.20098289999999999,46090.94,1407022,3823794,1407022,3823794,1.6013999999999997E-2,1.4103469900000009E-2,4.2400843672675501,{"$f":"0","v":0},0,3.1166942989934285,{"$f":"0","v":0},0,{"$f":"0","v":0},0,1.4404729919699997E-2,null,1133,0.86469600000000002,0.13530400000000001,1.6013999999999997E-2,0.19689609999999999,0,1.7625680197566617E-2,1463748,48263.62,233366.6,4.2935819118692988,1463748,4021041,1.4437452927299997E-2,3.1664761053866197,null,0,0,null,1.4103469900000009E-2]
[1137,0.1386511,0.2023452,45366.720000000001,1388113,3758045,1388113,3758045,1.6013999999999997E-2,1.4103469900000009E-2,4.2211131860535653,{"$f":"0","v":0},0,3.0986117227010097,{"$f":"0","v":0},0,{"$f":"0","v":0},0,1.4393821983599998E-2,null,1134,0.86385920000000005,0.1361407,1.6013999999999997E-2,0.1982584,0,1.7562968093270681E-2,1444840,47539.39,229042.9,4.2762937657242412,1444840,3955292,1.4426544991199997E-2,3.1505778959541701,null,0,0,null,1.4103469900000009E-2]
[1138,0.1394878,0.20370750000000001,44642.49,1369204,3692296,1369204,3692296,1.6013999999999997E-2,1.4103469900000009E-2,4.2015253013440779,{"$f":"0","v":0},0,3.0796956046956048,{"$f":"0","v":0},0,{"$f":"0","v":0},0,1.4382914047499997E-2,null,1135,0.86302239999999997,0.1369775,1.6013999999999997E-2,0.19962070000000001,0,1.7500479118407544E-2,1425931,46815.17,224719.1,4.258467563327585,1425931,3889543,1.4415637055099996E-2,3.1339994186272797,null,0,0,null,1.4103469900000009E-2]
[1139,0.14032459999999999,0.2050698,43918.27,1350295,3626547,1350295,3626547,1.6013999999999997E-2,1.4103469900000009E-2,4.181292593796007,{"$f":"0","v":0},0,3.0598954513234364,{"$f":"0","v":0},0,{"$f":"0","v":0},0,1.4372006111399998E-2,null,1136,0.86218570000000005,0.1378143,1.6013999999999997E-2,0.20098289999999999,0,1.7438212479083524E-2,1407022,46090.94,220395.4,4.2400843672675501,1407022,3823794,1.4404729919699997E-2,3.1166942989934285,null,0,0,null,1.4103469900000009E-2]
[1140,0.14116139999999999,0.206432,43194.04,1331386,3560798,1331386,3560798,1.6013999999999997E-2,1.4103469900000009E-2,4.1603825049320076,{"$f":"0","v":0},0,3.0391417031658015,{"$f":"0","v":0},0,{"$f":"0","v":0},0,1.4361098975999997E-2,null,1137,0.86134889999999997,0.1386511,1.6013999999999997E-2,0.2023452,0,1.7376167384229597E-2,1388113,45366.720000000001,216071.7,4.2211131860535653,1388113,3758045,1.4393821983599998E-2,3.0986117227010097,null,0,0,null,1.4103469900000009E-2]
[1141,0.141986,0.2078902,42556.49,1314131,3504157,1314131,3504157,1.6013999999999997E-2,1.4103469900000009E-2,4.1462434499806413,{"$f":"0","v":0},0,3.0270816349825402,{"$f":"0","v":0},0,{"$f":"0","v":0},0,1.4349423168599997E-2,null,1138,0.8605121,0.1394878,1.6013999999999997E-2,0.20370750000000001,0,1.731434304559137E-2,1369204,44642.49,211747.9,4.2015253013440779,1369204,3692296,1.4382914047499997E-2,3.0796956046956048,null,0,0,null,1.4103469900000009E-2]
[1142,0.14281060000000001,0.20934829999999999,41918.94,1296876,3447517,1296876,3447517,1.6013999999999997E-2,1.4103469900000009E-2,4.131674309989708,{"$f":"0","v":0},0,3.014520872929908,{"$f":"0","v":0},0,{"$f":"0","v":0},0,1.4337748161899998E-2,null,1139,0.85967539999999998,0.14032459999999999,1.6013999999999997E-2,0.2050698,0,1.7252738677719051E-2,1350295,43918.27,207424.2,4.181292593796007,1350295,3626547,1.4372006111399998E-2,3.0598954513234364,null,0,0,null,1.4103469900000009E-2]
[1143,0.14363529999999999,0.2108064,41281.39,1279621,3390876,1279621,3390876,1.6013999999999997E-2,1.4103469900000009E-2,4.1166551582525033,{"$f":"0","v":0},0,3.0014257172570531,{"$f":"0","v":0},0,{"$f":"0","v":0},0,1.4326073155199997E-2,null,1140,0.85883860000000001,0.14116139999999999,1.6013999999999997E-2,0.206432,0,1.7191353497957477E-2,1331386,43194.04,203100.5,4.1603825049320076,1331386,3560798,1.4361098975999997E-2,3.0391417031658015,null,0,0,null,1.4103469900000009E-2]
[1144,0.1444599,0.21226449999999999,40643.839999999997,1262366,3334235,1262366,3334235,1.6013999999999997E-2,1.4103469900000009E-2,4.1011648177600017,{"$f":"0","v":0},0,2.9877616921869525,{"$f":"0","v":0},0,{"$f":"0","v":0},0,1.4314398148499996E-2,null,1141,0.85801400000000005,0.141986,1.6013999999999997E-2,0.2078902,0,1.7130186726436167E-2,1314131,42556.49,199501,4.1462434499806413,1314131,3504157,1.4349423168599997E-2,3.0270816349825402,null,0,0,null,1.4103469900000009E-2]
[1145,0.14528450000000001,0.21372269999999999,40006.300000000003,1245111,3277594,1245111,3277594,1.6013999999999997E-2,1.4103469900000009E-2,4.0851796050455382,{"$f":"0","v":0},0,2.973491735812408,{"$f":"0","v":0},0,{"$f":"0","v":0},0,1.4302722341099998E-2,null,1142,0.85718939999999999,0.14281060000000001,1.6013999999999997E-2,0.20934829999999999,0,1.7069237586059421E-2,1296876,41918.94,195901.5,4.131674309989708,1296876,3447517,1.4337748161899998E-2,3.014520872929908,null,0,0,null,1.4103469900000009E-2]
[1146,0.14610909999999999,0.21518080000000001,39368.75,1227856,3220954,1227856,3220954,1.6013999999999997E-2,1.4103469900000009E-2,4.0686778324601782,{"$f":"0","v":0},0,2.9585745380682611,{"$f":"0","v":0},0,{"$f":"0","v":0},0,1.4291047334399998E-2,null,1143,0.85636469999999998,0.14363529999999999,1.6013999999999997E-2,0.2108064,0,1.7008505302496438E-2,1279621,41281.39,192302,4.1166551582525033,1279621,3390876,1.4326073155199997E-2,3.0014257172570531,null,0,0,null,1.4103469900000009E-2]
[1147,0.1469338,0.2166389,38731.199999999997,1210601,3164313,1210601,3164313,1.6013999999999997E-2,1.4103469900000009E-2,4.0516327921675552,{"$f":"0","v":0},0,2.9429643080315246,{"$f":"0","v":0},0,{"$f":"0","v":0},0,1.4279372327699998E-2,null,1144,0.85554010000000003,0.1444599,1.6013999999999997E-2,0.21226449999999999,0,1.6947989104171484E-2,1262366,40643.839999999997,188702.5,4.1011648177600017,1262366,3334235,1.4314398148499996E-2,2.9877616921869525,null,0,0,null,1.4103469900000009E-2]
[1148,0.14775840000000001,0.21809709999999999,38093.65,1193346,3107672,1193346,3107672,1.6013999999999997E-2,1.4103469900000009E-2,4.0340172071548226,{"$f":"0","v":0},0,2.9266115662910059,{"$f":"0","v":0},0,{"$f":"0","v":0},0,1.4267696520299997E-2,null,1145,0.85471549999999996,0.14528450000000001,1.6013999999999997E-2,0.21372269999999999,0,1.6887688222254092E-2,1245111,40006.300000000003,185103,4.0851796050455382,1245111,3277594,1.4302722341099998E-2,2.973491735812408,null,0,0,null,1.4103469900000009E-2]
[1149,0.14858299999999999,0.21955520000000001,37456.1,1176091,3051032,1176091,3051032,1.6013999999999997E-2,1.4103469900000009E-2,4.0158019432526784,{"$f":"0","v":0},0,2.9094629429579979,{"$f":"0","v":0},0,{"$f":"0","v":0},0,1.4256021513599997E-2,null,1146,0.85389079999999995,0.14610909999999999,1.6013999999999997E-2,0.21518080000000001,0,1.6827601890649285E-2,1227856,39368.75,181503.5,4.0686778324601782,1227856,3220954,1.4291047334399998E-2,2.9585745380682611,null,0,0,null,1.4103469900000009E-2]
[1150,0.1494077,0.2210133,36818.550000000003,1158836,2994391,1158836,2994391,1.6013999999999997E-2,1.4103469900000009E-2,3.996955848342751,{"$f":"0","v":0},0,2.8914579693282039,{"$f":"0","v":0},0,{"$f":"0","v":0},0,1.4244346506899997E-2,null,1147,0.8530662,0.1469338,1.6013999999999997E-2,0.2166389,0,1.6767729345987852E-2,1210601,38731.199999999997,177904,4.0516327921675552,1210601,3164313,1.4279372327699998E-2,2.9429643080315246,null,0,0,null,1.4103469900000009E-2]
[1151,0.15023230000000001,0.22247149999999999,36181,1141581,2937750,1141581,2937750,1.6013999999999997E-2,1.4103469900000009E-2,3.9774455745649191,{"$f":"0","v":0},0,2.8725326561847857,{"$f":"0","v":0},0,{"$f":"0","v":0},0,1.4232670699499997E-2,null,1148,0.85224160000000004,0.14775840000000001,1.6013999999999997E-2,0.21809709999999999,0,1.6708069827616655E-2,1193346,38093.65,174304.5,4.0340172071548226,1193346,3107672,1.4267696520299997E-2,2.9266115662910059,null,0,0,null,1.4103469900000009E-2]
[1152,{"$f":"W1157","v":0.15105689999999999},{"$f":"Y1157","v":0.22392960000000001},{"$f":"AC1157","v":35543.46},{"$f":"AF1157","v":1124326},{"$f":"AG1157","v":2881109},{"$f":"E1154","v":1124326},{"$f":"F1154","v":2881109},{"$f":"X1157","v":1.6013999999999997E-2},{"$f":"AN1157","v":1.4103469900000009E-2},{"$f":"AE1157","v":3.957234115643216},{"$f":"0","v":0},{"$f":"AL1157","v":0},{"$f":"AI1157","v":2.8526117930255359},{"$f":"0","v":0},{"$f":"AK1157","v":0},{"$f":"0","v":0},{"$f":"Z1157","v":0},{"$f":"AH1157","v":1.4220995692799998E-2},null,1149,0.85141690000000003,0.14858299999999999,1.6013999999999997E-2,0.21955520000000001,0,1.664862257758894E-2,1176091,37456.1,170705,4.0158019432526784,1176091,3051032,1.4256021513599997E-2,2.9094629429579979,null,0,0,null,1.4103469900000009E-2]
[1153,0.1518611,0.22548579999999999,34990.75,1108840,2833036,1108840,2833036,1.6013999999999997E-2,1.4103469900000009E-2,3.9436473091698043,{"$f":"0","v":0},0,2.8415745348741872,{"$f":"0","v":0},0,{"$f":"0","v":0},0,1.4208535199399998E-2,null,1150,0.85059240000000003,0.1494077,1.6013999999999997E-2,0.2210133,0,1.6589386840654738E-2,1158836,36818.550000000003,167105.5,3.996955848342751,1158836,2994391,1.4244346506899997E-2,2.8914579693282039,null,0,0,null,1.4103469900000009E-2]
[1154,0.1526652,0.22704199999999999,34438.04,1093355,2784963,1093355,2784963,1.6013999999999997E-2,1.4103469900000009E-2,3.9296243824174275,{"$f":"0","v":0},0,2.8300426357536042,{"$f":"0","v":0},0,{"$f":"0","v":0},0,1.4196074705999998E-2,null,1151,0.84976770000000001,0.15023230000000001,1.6013999999999997E-2,0.22247149999999999,0,1.6530361864251251E-2,1141581,36181,163506,3.9774455745649191,1141581,2937750,1.4232670699499997E-2,2.8725326561847857,null,0,0,null,1.4103469900000009E-2]
[1155,0.15346940000000001,0.2285982,33885.33,1077869,2736890,1077869,2736890,1.6013999999999997E-2,1.4103469900000009E-2,3.9151469455956307,{"$f":"0","v":0},0,2.8179860564007169,{"$f":"0","v":0},0,{"$f":"0","v":0},0,1.4183614212599997E-2,null,1152,0.84894309999999995,0.15105689999999999,1.6013999999999997E-2,0.22392960000000001,0,1.6471546898493297E-2,1124326,35543.46,159906.5,3.957234115643216,1124326,2881109,1.4220995692799998E-2,2.8526117930255359,null,0,0,null,1.4103469900000009E-2]
[1156,0.15427350000000001,0.23015440000000001,33332.629999999997,1062384,2688817,1062384,2688817,1.6013999999999997E-2,1.4103469900000009E-2,3.9001850564046907,{"$f":"0","v":0},0,2.8053640895612864,{"$f":"0","v":0},0,{"$f":"0","v":0},0,1.4171153719199997E-2,null,1153,0.84813890000000003,0.1518611,1.6013999999999997E-2,0.22548579999999999,0,1.641294119616379E-2,1108840,34990.75,156944.5,3.9436473091698043,1108840,2833036,1.4208535199399998E-2,2.8415745348741872,null,0,0,null,1.4103469900000009E-2]
[1157,0.15507770000000001,0.23171059999999999,32779.919999999998,1046898,2640743,1046898,2640743,1.6013999999999997E-2,1.4103469900000009E-2,3.8847230255595506,{"$f":"0","v":0},0,2.7921401735312377,{"$f":"0","v":0},0,{"$f":"0","v":0},0,1.4158693225799997E-2,null,1154,0.84733480000000005,0.1526652,1.6013999999999997E-2,0.22704199999999999,0,1.6354544012704225E-2,1093355,34438.04,153982.5,3.9296243824174275,1093355,2784963,1.4196074705999998E-2,2.8300426357536042,null,0,0,null,1.4103469900000009E-2]
[1158,0.15588179999999999,0.2332668,32227.21,1031413,2592670,1031413,2592670,1.6013999999999997E-2,1.4103469900000009E-2,3.868727531279728,{"$f":"0","v":0},0,2.7782659313914424,{"$f":"0","v":0},0,{"$f":"0","v":0},0,1.4146232732399998E-2,null,1155,0.84653069999999997,0.15346940000000001,1.6013999999999997E-2,0.2285982,0,1.6296354606205248E-2,1077869,33885.33,151020.6,3.9151469455956307,1077869,2736890,1.4183614212599997E-2,2.8179860564007169,null,0,0,null,1.4103469900000009E-2]
[1159,0.15668589999999999,0.234823,31674.5,1015927,2544597,1015927,2544597,1.6013999999999997E-2,1.4103469900000009E-2,3.8521769614884733,{"$f":"0","v":0},0,2.763696552870754,{"$f":"0","v":0},0,{"$f":"0","v":0},0,1.4133772238999998E-2,null,1156,0.84572650000000005,0.15427350000000001,1.6013999999999997E-2,0.23015440000000001,0,1.6238372237397207E-2,1062384,33332.629999999997,148058.6,3.9001850564046907,1062384,2688817,1.4171153719199997E-2,2.8053640895612864,null,0,0,null,1.4103469900000009E-2]
[1160,0.15749009999999999,0.23637920000000001,31121.79,1000442,2496524,1000442,2496524,1.6013999999999997E-2,1.4103469900000009E-2,3.835035316092037,{"$f":"0","v":0},0,2.7483755917384469,{"$f":"0","v":0},0,{"$f":"0","v":0},0,1.4121311745599998E-2,null,1157,0.84492239999999996,0.15507770000000001,1.6013999999999997E-2,0.23171059999999999,0,1.6180596169640769E-2,1046898,32779.919999999998,145096.70000000001,3.8847230255595506,1046898,2640743,1.4158693225799997E-2,2.7921401735312377,null,0,0,null,1.4103469900000009E-2]
[1161,0.1582942,0.23793539999999999,30569.09,984956.3,2448451,984956.3,2448451,1.6013999999999997E-2,1.4103469900000009E-2,3.8172723792781089,{"$f":"0","v":0},0,2.7322428280737312,{"$f":"0","v":0},0,{"$f":"0","v":0},0,1.4108851252199997E-2,null,1158,0.84411820000000004,0.15588179999999999,1.6013999999999997E-2,0.2332668,0,1.6123025668917566E-2,1031413,32227.21,142134.70000000001,3.868727531279728,1031413,2592670,1.4146232732399998E-2,2.7782659313914424,null,0,0,null,1.4103469900000009E-2]
[1162,0.1590984,0.2394916,30016.38,969470.8,2400377,969470.8,2400377,1.6013999999999997E-2,1.4103469900000009E-2,3.7988600724004695,{"$f":"0","v":0},0,2.7152343745103691,{"$f":"0","v":0},0,{"$f":"0","v":0},0,1.4096390758799997E-2,null,1159,0.84331409999999996,0.15668589999999999,1.6013999999999997E-2,0.234823,0,1.6065660003820863E-2,1015927,31674.5,139172.79999999999,3.8521769614884733,1015927,2544597,1.4133772238999998E-2,2.763696552870754,null,0,0,null,1.4103469900000009E-2]
[1163,0.1599025,0.24104780000000001,29463.67,953985.2,2352304,953985.2,2352304,1.6013999999999997E-2,1.4103469900000009E-2,3.7797535773151592,{"$f":"0","v":0},0,2.6972744775163622,{"$f":"0","v":0},0,{"$f":"0","v":0},0,1.4083930265399997E-2,null,1160,0.84250990000000003,0.15749009999999999,1.6013999999999997E-2,0.23637920000000001,0,1.6008498445546263E-2,1000442,31121.79,136210.79999999999,3.835035316092037,1000442,2496524,1.4121311745599998E-2,2.7483755917384469,null,0,0,null,1.4103469900000009E-2]
[1164,0.16070670000000001,0.24260399999999999,28910.959999999999,938499.7,2304231,938499.7,2304231,1.6013999999999997E-2,1.4103469900000009E-2,3.759919998044571,{"$f":"0","v":0},0,2.6782835512361984,{"$f":"0","v":0},0,{"$f":"0","v":0},0,1.4071469771999997E-2,null,1161,0.8417057,0.1582942,1.6013999999999997E-2,0.23793539999999999,0,1.5951540267882456E-2,984956.3,30569.09,133248.79999999999,3.8172723792781089,984956.3,2448451,1.4108851252199997E-2,2.7322428280737312,null,0,0,null,1.4103469900000009E-2]
[1165,0.16153480000000001,0.2442597,28439.119999999999,924830.6,2264035,924830.6,2264035,1.6013999999999997E-2,1.4103469900000009E-2,3.7465708034097633,{"$f":"0","v":0},0,2.6683305235126866,{"$f":"0","v":0},0,{"$f":"0","v":0},0,1.4058212582099997E-2,null,1162,0.84090160000000003,0.1590984,1.6013999999999997E-2,0.2394916,0,1.5894784747201986E-2,969470.8,30016.38,130286.9,3.7988600724004695,969470.8,2400377,1.4096390758799997E-2,2.7152343745103691,null,0,0,null,1.4103469900000009E-2]
[1166,0.1623628,0.2459153,27967.27,911161.5,2223840,911161.5,2223840,1.6013999999999997E-2,1.4103469900000009E-2,3.7327762803925206,{"$f":"0","v":0},0,2.6578981462119629,{"$f":"0","v":0},0,{"$f":"0","v":0},0,1.4044956192899997E-2,null,1163,0.84009739999999999,0.1599025,1.6013999999999997E-2,0.24104780000000001,0,1.5838231162452074E-2,953985.2,29463.67,127324.9,3.7797535773151592,953985.2,2352304,1.4083930265399997E-2,2.6972744775163622,null,0,0,null,1.4103469900000009E-2]
[1167,0.1631909,0.24757100000000001,27495.42,897492.4,2183644,897492.4,2183644,1.6013999999999997E-2,1.4103469900000009E-2,3.7185046636858066,{"$f":"0","v":0},0,2.6469562505077855,{"$f":"0","v":0},0,{"$f":"0","v":0},0,1.4031699002999998E-2,null,1164,0.83929330000000002,0.16070670000000001,1.6013999999999997E-2,0.24260399999999999,0,1.5781878795145421E-2,938499.7,28910.959999999999,124363,3.759919998044571,938499.7,2304231,1.4071469771999997E-2,2.6782835512361984,null,0,0,null,1.4103469900000009E-2]
[1168,0.164019,0.2492267,27023.58,883823.3,2143449,883823.3,2143449,1.6013999999999997E-2,1.4103469900000009E-2,3.7037367920904631,{"$f":"0","v":0},0,2.6354631172340621,{"$f":"0","v":0},0,{"$f":"0","v":0},0,1.4018441813099998E-2,null,1165,0.83846520000000002,0.16153480000000001,1.6013999999999997E-2,0.2442597,0,1.5725726929351126E-2,924830.6,28439.119999999999,121953.7,3.7465708034097633,924830.6,2264035,1.4058212582099997E-2,2.6683305235126866,null,0,0,null,1.4103469900000009E-2]
[1169,0.1648471,0.2508823,26551.73,870154.2,2103254,870154.2,2103254,1.6013999999999997E-2,1.4103469900000009E-2,3.688441879932745,{"$f":"0","v":0},0,2.6233773635911644,{"$f":"0","v":0},0,{"$f":"0","v":0},0,1.4005185423899997E-2,null,1166,0.83763719999999997,0.1623628,1.6013999999999997E-2,0.2459153,0,1.5669774851685546E-2,911161.5,27967.27,119544.5,3.7327762803925206,911161.5,2223840,1.4044956192899997E-2,2.6578981462119629,null,0,0,null,1.4103469900000009E-2]
[1170,0.16567509999999999,0.25253799999999998,26079.88,856485.1,2063058,856485.1,2063058,1.6013999999999997E-2,1.4103469900000009E-2,3.6725973560205545,{"$f":"0","v":0},0,2.6106484645046182,{"$f":"0","v":0},0,{"$f":"0","v":0},0,1.3991928233999997E-2,null,1167,0.83680900000000003,0.1631909,1.6013999999999997E-2,0.24757100000000001,0,1.5614021851303271E-2,897492.4,27495.42,117135.2,3.7185046636858066,897492.4,2183644,1.4031699002999998E-2,2.6469562505077855,null,0,0,null,1.4103469900000009E-2]
[1171,0.16650319999999999,0.25419370000000002,25608.04,842815.9,2022863,842815.9,2022863,1.6013999999999997E-2,1.4103469900000009E-2,3.6561633898312142,{"$f":"0","v":0},0,2.5972295743037224,{"$f":"0","v":0},0,{"$f":"0","v":0},0,1.3978671044099996E-2,null,1168,0.83598099999999997,0.164019,1.6013999999999997E-2,0.2492267,0,1.5558467219888074E-2,883823.3,27023.58,114726,3.7037367920904631,883823.3,2143449,1.4018441813099998E-2,2.6354631172340621,null,0,0,null,1.4103469900000009E-2]
[1172,0.16733129999999999,0.2558493,25136.19,829146.9,1982667,829146.9,1982667,1.6013999999999997E-2,1.4103469900000009E-2,3.6391180902913294,{"$f":"0","v":0},0,2.5830598713454895,{"$f":"0","v":0},0,{"$f":"0","v":0},0,1.3965414654899998E-2,null,1169,0.83515289999999998,0.1648471,1.6013999999999997E-2,0.2508823,0,1.5503110251643908E-2,870154.2,26551.73,112316.7,3.688441879932745,870154.2,2103254,1.4005185423899997E-2,2.6233773635911644,null,0,0,null,1.4103469900000009E-2]
[1173,0.16815939999999999,0.25750499999999998,24664.34,815477.8,1942472,815477.8,1942472,1.6013999999999997E-2,1.4103469900000009E-2,3.6214165538857581,{"$f":"0","v":0},0,2.5680738201995164,{"$f":"0","v":0},0,{"$f":"0","v":0},0,1.3952157464999997E-2,null,1170,0.83432479999999998,0.16567509999999999,1.6013999999999997E-2,0.25253799999999998,0,1.5447950243285951E-2,856485.1,26079.88,109907.5,3.6725973560205545,856485.1,2063058,1.3991928233999997E-2,2.6106484645046182,null,0,0,null,1.4103469900000009E-2]
[1174,0.16898750000000001,0.25916070000000002,24192.5,801808.6,1902276,801808.6,1902276,1.6013999999999997E-2,1.4103469900000009E-2,3.6030269367228134,{"$f":"0","v":0},0,2.5521979636635157,{"$f":"0","v":0},0,{"$f":"0","v":0},0,1.3938900275099997E-2,null,1171,0.83349680000000004,0.16650319999999999,1.6013999999999997E-2,0.25419370000000002,0,1.5392986494031658E-2,842815.9,25608.04,107498.2,3.6561633898312142,842815.9,2022863,1.3978671044099996E-2,2.5972295743037224,null,0,0,null,1.4103469900000009E-2]
[1175,0.16981550000000001,0.2608163,23720.65,788139.6,1862081,788139.6,1862081,1.6013999999999997E-2,1.4103469900000009E-2,3.583905356022425,{"$f":"0","v":0},0,2.5353541121953596,{"$f":"0","v":0},0,{"$f":"0","v":0},0,1.3925643885899997E-2,null,1172,0.83266870000000004,0.16733129999999999,1.6013999999999997E-2,0.2558493,0,1.5338218305591877E-2,829146.9,25136.19,105089,3.6391180902913294,829146.9,1982667,1.3965414654899998E-2,2.5830598713454895,null,0,0,null,1.4103469900000009E-2]
[1176,0.17064360000000001,0.26247199999999998,23248.799999999999,774470.4,1821885,774470.4,1821885,1.6013999999999997E-2,1.4103469900000009E-2,3.5640076046935758,{"$f":"0","v":0},0,2.5174498337672224,{"$f":"0","v":0},0,{"$f":"0","v":0},0,1.3912386695999998E-2,null,1173,0.83184060000000004,0.16815939999999999,1.6013999999999997E-2,0.25750499999999998,0,1.5283644982161958E-2,815477.8,24664.34,102679.7,3.6214165538857581,815477.8,1942472,1.3952157464999997E-2,2.5680738201995164,null,0,0,null,1.4103469900000009E-2]
[1177,0.1715401,0.2642273,22850.92,762559.4,1788682,762559.4,1788682,1.6013999999999997E-2,1.4103469900000009E-2,3.5507112332165769,{"$f":"0","v":0},0,2.5086856064812983,{"$f":"0","v":0},0,{"$f":"0","v":0},0,1.3898332008899998E-2,null,1174,0.83101250000000004,0.16898750000000001,1.6013999999999997E-2,0.25916070000000002,0,1.5229265830412923E-2,801808.6,24192.5,100270.5,3.6030269367228134,801808.6,1902276,1.3938900275099997E-2,2.5521979636635157,null,0,0,null,1.4103469900000009E-2]
[1178,0.1724366,0.26598250000000001,22453.040000000001,750648.3,1755478,750648.3,1755478,1.6013999999999997E-2,1.4103469900000009E-2,3.5369436239665837,{"$f":"0","v":0},0,2.4994708517368776,{"$f":"0","v":0},0,{"$f":"0","v":0},0,1.3884278122499998E-2,null,1175,0.83018449999999999,0.16981550000000001,1.6013999999999997E-2,0.2608163,0,1.5175080159482662E-2,788139.6,23720.65,97861.25,3.583905356022425,788139.6,1862081,1.3925643885899997E-2,2.5353541121953596,null,0,0,null,1.4103469900000009E-2]
[1179,0.17333299999999999,0.26773780000000003,22055.16,738737.1,1722274,738737.1,1722274,1.6013999999999997E-2,1.4103469900000009E-2,3.5226792732403669,{"$f":"0","v":0},0,2.4897672259865913,{"$f":"0","v":0},0,{"$f":"0","v":0},0,1.3870223435399998E-2,null,1176,0.82935639999999999,0.17064360000000001,1.6013999999999997E-2,0.26247199999999998,0,1.5121087280967139E-2,774470.4,23248.799999999999,95452,3.5640076046935758,774470.4,1821885,1.3912386695999998E-2,2.5174498337672224,null,0,0,null,1.4103469900000009E-2]
[1180,0.17422950000000001,0.26949309999999999,21657.279999999999,726826.1,1689070,726826.1,1689070,1.6013999999999997E-2,1.4103469900000009E-2,3.5078908031541052,{"$f":"0","v":0},0,2.4795413461142943,{"$f":"0","v":0},0,{"$f":"0","v":0},0,1.3856168748299997E-2,null,1177,0.82845990000000003,0.1715401,1.6013999999999997E-2,0.2642273,0,1.5067286508911662E-2,762559.4,22850.92,93514.6,3.5507112332165769,762559.4,1788682,1.3898332008899998E-2,2.5086856064812983,null,0,0,null,1.4103469900000009E-2]
[1181,0.175126,0.2712483,21259.39,714915,1655867,714915,1655867,1.6013999999999997E-2,1.4103469900000009E-2,3.4925506838781986,{"$f":"0","v":0},0,2.468745022392377,{"$f":"0","v":0},0,{"$f":"0","v":0},0,1.3842114861899998E-2,null,1178,0.82756350000000001,0.1724366,1.6013999999999997E-2,0.26598250000000001,0,1.5013677159802171E-2,750648.3,22453.040000000001,91577.2,3.5369436239665837,750648.3,1755478,1.3884278122499998E-2,2.4994708517368776,null,0,0,null,1.4103469900000009E-2]
[1182,0.1760224,0.27300360000000001,20861.509999999998,703003.9,1622663,703003.9,1622663,1.6013999999999997E-2,1.4103469900000009E-2,3.4766229969291138,{"$f":"0","v":0},0,2.4573301135143564,{"$f":"0","v":0},0,{"$f":"0","v":0},0,1.3828060174799997E-2,null,1179,0.82666700000000004,0.17333299999999999,1.6013999999999997E-2,0.26773780000000003,0,1.4960258552556532E-2,738737.1,22055.16,89639.8,3.5226792732403669,738737.1,1722274,1.3870223435399998E-2,2.4897672259865913,null,0,0,null,1.4103469900000009E-2]
[1183,0.17691889999999999,0.27475880000000003,20463.63,691092.8,1589459,691092.8,1589459,1.6013999999999997E-2,1.4103469900000009E-2,3.4600769145063706,{"$f":"0","v":0},0,2.4452421884343574,{"$f":"0","v":0},0,{"$f":"0","v":0},0,1.3814006288399997E-2,null,1180,0.82577049999999996,0.17422950000000001,1.6013999999999997E-2,0.26949309999999999,0,1.490703000851591E-2,726826.1,21657.279999999999,87702.399999999994,3.5078908031541052,726826.1,1689070,1.3856168748299997E-2,2.4795413461142943,null,0,0,null,1.4103469900000009E-2]
[1184,0.17781540000000001,0.27651409999999998,20065.75,679181.7,1556256,679181.7,1556256,1.6013999999999997E-2,1.4103469900000009E-2,3.4428741553808524,{"$f":"0","v":0},0,2.4324198820066671,{"$f":"0","v":0},0,{"$f":"0","v":0},0,1.3799951601299997E-2,null,1181,0.824874,0.175126,1.6013999999999997E-2,0.2712483,0,1.4853990851436131E-2,714915,21259.39,85765,3.4925506838781986,714915,1655867,1.3842114861899998E-2,2.468745022392377,null,0,0,null,1.4103469900000009E-2]
[1185,0.17871190000000001,0.2782694,19667.87,667270.6,1523052,667270.6,1523052,1.6013999999999997E-2,1.4103469900000009E-2,3.4249753743881097,{"$f":"0","v":0},0,2.4187931984406759,{"$f":"0","v":0},0,{"$f":"0","v":0},0,1.3785896914199996E-2,null,1182,0.82397759999999998,0.1760224,1.6013999999999997E-2,0.27300360000000001,0,1.4801140407479095E-2,703003.9,20861.509999999998,83827.59,3.4766229969291138,703003.9,1622663,1.3828060174799997E-2,2.4573301135143564,null,0,0,null,1.4103469900000009E-2]
[1186,0.1796083,0.28002460000000001,19269.98,655359.5,1489848,655359.5,1489848,1.6013999999999997E-2,1.4103469900000009E-2,3.4063395066661548,{"$f":"0","v":0},0,2.4042840549705828,{"$f":"0","v":0},0,{"$f":"0","v":0},0,1.3771843027799997E-2,null,1183,0.82308110000000001,0.17691889999999999,1.6013999999999997E-2,0.27475880000000003,0,1.4748478005204213E-2,691092.8,20463.63,81890.2,3.4600769145063706,691092.8,1589459,1.3814006288399997E-2,2.4452421884343574,null,0,0,null,1.4103469900000009E-2]
[1187,0.18050479999999999,0.28177990000000003,18872.099999999999,643448.4,1456645,643448.4,1456645,1.6013999999999997E-2,1.4103469900000009E-2,3.3869152081644334,{"$f":"0","v":0},0,2.3888062908372039,{"$f":"0","v":0},0,{"$f":"0","v":0},0,1.3757788340699996E-2,null,1184,0.82218460000000004,0.17781540000000001,1.6013999999999997E-2,0.27651409999999998,0,1.4696002975559891E-2,679181.7,20065.75,79952.800000000003,3.4428741553808524,679181.7,1556256,1.3799951601299997E-2,2.4324198820066671,null,0,0,null,1.4103469900000009E-2]
[1188,0.18140129999999999,0.28353519999999999,18474.22,631537.30000000005,1423441,631537.30000000005,1423441,1.6013999999999997E-2,1.4103469900000009E-2,3.3666553084965605,{"$f":"0","v":0},0,2.3722562506939342,{"$f":"0","v":0},0,{"$f":"0","v":0},0,1.3743733653599998E-2,null,1185,0.82128809999999997,0.17871190000000001,1.6013999999999997E-2,0.2782694,0,1.4643714651875002E-2,667270.6,19667.87,78015.399999999994,3.4249753743881097,667270.6,1523052,1.3785896914199996E-2,2.4187931984406759,null,0,0,null,1.4103469900000009E-2]
[1189,0.1824105,0.2853889,18142.18,621267.19999999995,1396295,621267.19999999995,1396295,1.6013999999999997E-2,1.4103469900000009E-2,3.3533272094827264,{"$f":"0","v":0},0,2.3648643048500917,{"$f":"0","v":0},0,{"$f":"0","v":0},0,1.3728891077699997E-2,null,1186,0.82039169999999995,0.1796083,1.6013999999999997E-2,0.28002460000000001,0,1.4591612369850442E-2,655359.5,19269.98,76078,3.4063395066661548,655359.5,1489848,1.3771843027799997E-2,2.4042840549705828,null,0,0,null,1.4103469900000009E-2]
[1190,0.18341969999999999,0.28724270000000002,17810.14,610997.1,1369150,610997.1,1369150,1.6013999999999997E-2,1.4103469900000009E-2,3.3395021506475153,{"$f":"0","v":0},0,2.3570640833392842,{"$f":"0","v":0},0,{"$f":"0","v":0},0,1.3714047701099998E-2,null,1187,0.81949519999999998,0.18050479999999999,1.6013999999999997E-2,0.28177990000000003,0,1.4539695467550675E-2,643448.4,18872.099999999999,74140.59,3.3869152081644334,643448.4,1456645,1.3757788340699996E-2,2.3888062908372039,null,0,0,null,1.4103469900000009E-2]
[1191,0.18442890000000001,0.28909639999999998,17478.11,600726.9,1342004,600726.9,1342004,1.6013999999999997E-2,1.4103469900000009E-2,3.325149596647845,{"$f":"0","v":0},0,2.3488223177503138,{"$f":"0","v":0},0,{"$f":"0","v":0},0,1.3699205125199997E-2,null,1188,0.81859870000000001,0.18140129999999999,1.6013999999999997E-2,0.28353519999999999,0,1.4487963285395344E-2,631537.30000000005,18474.22,72203.199999999997,3.3666553084965605,631537.30000000005,1423441,1.3743733653599998E-2,2.3722562506939342,null,0,0,null,1.4103469900000009E-2]
[1192,0.18543809999999999,0.29095009999999999,17146.07,590456.9,1314859,590456.9,1314859,1.6013999999999997E-2,1.4103469900000009E-2,3.3102440044083963,{"$f":"0","v":0},0,2.3400996085667645,{"$f":"0","v":0},0,{"$f":"0","v":0},0,1.3684362549299998E-2,null,1189,0.81758949999999997,0.1824105,1.6013999999999997E-2,0.2853889,0,1.4436415166150853E-2,621267.19999999995,18142.18,70663.679999999993,3.3533272094827264,621267.19999999995,1396295,1.3728891077699997E-2,2.3648643048500917,null,0,0,null,1.4103469900000009E-2]
[1193,0.18644730000000001,0.29280390000000001,16814.03,580186.80000000005,1287713,580186.80000000005,1287713,1.6013999999999997E-2,1.4103469900000009E-2,3.2947491122988763,{"$f":"0","v":0},0,2.3308529982283588,{"$f":"0","v":0},0,{"$f":"0","v":0},0,1.3669519172699998E-2,null,1190,0.81658030000000004,0.18341969999999999,1.6013999999999997E-2,0.28724270000000002,0,1.4385050454922058E-2,610997.1,17810.14,69124.160000000003,3.3395021506475153,610997.1,1369150,1.3714047701099998E-2,2.3570640833392842,null,0,0,null,1.4103469900000009E-2]
[1194,0.1874565,0.29465760000000002,16482,569916.6,1260568,569916.6,1260568,1.6013999999999997E-2,1.4103469900000009E-2,3.2786275937386238,{"$f":"0","v":0},0,2.3210329509436569,{"$f":"0","v":0},0,{"$f":"0","v":0},0,1.3654676596799998E-2,null,1191,0.81557109999999999,0.18442890000000001,1.6013999999999997E-2,0.28909639999999998,0,1.4333868499143924E-2,600726.9,17478.11,67584.639999999999,3.325149596647845,600726.9,1342004,1.3699205125199997E-2,2.3488223177503138,null,0,0,null,1.4103469900000009E-2]
[1195,0.18846570000000001,0.29651129999999998,16149.96,559646.5,1233422,559646.5,1233422,1.6013999999999997E-2,1.4103469900000009E-2,3.2618455401747126,{"$f":"0","v":0},0,2.3105848891760852,{"$f":"0","v":0},0,{"$f":"0","v":0},0,1.3639834020899999E-2,null,1192,0.81456189999999995,0.18543809999999999,1.6013999999999997E-2,0.29095009999999999,0,1.4282868648573239E-2,590456.9,17146.07,66045.13,3.3102440044083963,590456.9,1314859,1.3684362549299998E-2,2.3400996085667645,null,0,0,null,1.4103469900000009E-2]
[1196,0.1894749,0.29836509999999999,15817.92,549376.4,1206276,549376.4,1206276,1.6013999999999997E-2,1.4103469900000009E-2,3.2443589296190654,{"$f":"0","v":0},0,2.2994457580293437,{"$f":"0","v":0},0,{"$f":"0","v":0},0,1.3624990644299997E-2,null,1193,0.81355270000000002,0.18644730000000001,1.6013999999999997E-2,0.29280390000000001,0,1.4232050255280361E-2,580186.80000000005,16814.03,64505.61,3.2947491122988763,580186.80000000005,1287713,1.3669519172699998E-2,2.3308529982283588,null,0,0,null,1.4103469900000009E-2]
[1197,0.19048409999999999,0.30021880000000001,15485.88,539106.30000000005,1179131,539106.30000000005,1179131,1.6013999999999997E-2,1.4103469900000009E-2,3.2261224418631684,{"$f":"0","v":0},0,2.2875464374503065,{"$f":"0","v":0},0,{"$f":"0","v":0},0,1.3610148068399996E-2,null,1194,0.81254349999999997,0.1874565,1.6013999999999997E-2,0.29465760000000002,0,1.4181412673640965E-2,569916.6,16482,62966.09,3.2786275937386238,569916.6,1260568,1.3654676596799998E-2,2.3210329509436569,null,0,0,null,1.4103469900000009E-2]
[1198,0.19149330000000001,0.30207250000000002,15153.84,528836.1,1151985,528836.1,1151985,1.6013999999999997E-2,1.4103469900000009E-2,3.2070867846037707,{"$f":"0","v":0},0,2.2748053821811101,{"$f":"0","v":0},0,{"$f":"0","v":0},0,1.3595305492499998E-2,null,1195,0.81153430000000004,0.18846570000000001,1.6013999999999997E-2,0.29651129999999998,0,1.4130955260327866E-2,559646.5,16149.96,61426.57,3.2618455401747126,559646.5,1233422,1.3639834020899999E-2,2.3105848891760852,null,0,0,null,1.4103469900000009E-2]
[1199,0.19250249999999999,0.30392629999999998,14821.81,518566,1124840,518566,1124840,1.6013999999999997E-2,1.4103469900000009E-2,3.187196407411331,{"$f":"0","v":0},0,2.2611304980816378,{"$f":"0","v":0},0,{"$f":"0","v":0},0,1.3580462115899996E-2,null,1196,0.8105251,0.1894749,1.6013999999999997E-2,0.29836509999999999,0,1.4080677374302837E-2,549376.4,15817.92,59887.05,3.2443589296190654,549376.4,1206276,1.3624990644299997E-2,2.2994457580293437,null,0,0,null,1.4103469900000009E-2]
[1200,0.19351170000000001,0.30578,14489.77,508295.9,1097694,508295.9,1097694,1.6013999999999997E-2,1.4103469900000009E-2,3.1663963322629232,{"$f":"0","v":0},0,2.2464141296926807,{"$f":"0","v":0},0,{"$f":"0","v":0},0,1.3565619539999997E-2,null,1197,0.80951589999999995,0.19048409999999999,1.6013999999999997E-2,0.30021880000000001,0,1.4030578376808453E-2,539106.30000000005,15485.88,58347.53,3.2261224418631684,539106.30000000005,1179131,1.3610148068399996E-2,2.2875464374503065,null,0,0,null,1.4103469900000009E-2]
[1201,0.19467809999999999,0.30772929999999998,14215.33,499524.5,1075715,499524.5,1075715,1.6013999999999997E-2,1.4103469900000009E-2,3.1530417924405088,{"$f":"0","v":0},0,2.2407193119232378,{"$f":"0","v":0},0,{"$f":"0","v":0},0,1.3550011494899997E-2,null,1198,0.80850670000000002,0.19149330000000001,1.6013999999999997E-2,0.30207250000000002,0,1.3980657631359993E-2,528836.1,15153.84,56808.01,3.2070867846037707,528836.1,1151985,1.3595305492499998E-2,2.2748053821811101,null,0,0,null,1.4103469900000009E-2]
[1202,0.1958445,0.30967869999999997,13940.9,490753.2,1053736,490753.2,1053736,1.6013999999999997E-2,1.4103469900000009E-2,3.139158818058136,{"$f":"0","v":0},0,2.2346894077571382,{"$f":"0","v":0},0,{"$f":"0","v":0},0,1.3534402649099997E-2,null,1199,0.80749749999999998,0.19250249999999999,1.6013999999999997E-2,0.30392629999999998,0,1.3930914503737337E-2,518566,14821.81,55268.5,3.187196407411331,518566,1124840,1.3580462115899996E-2,2.2611304980816378,null,0,0,null,1.4103469900000009E-2]
[1203,0.19701089999999999,0.31162800000000002,13666.46,481981.8,1031756,481981.8,1031756,1.6013999999999997E-2,1.4103469900000009E-2,3.1247209713902997,{"$f":"0","v":0},0,2.2282922412580577,{"$f":"0","v":0},0,{"$f":"0","v":0},0,1.3518794603999996E-2,null,1200,0.80648830000000005,0.19351170000000001,1.6013999999999997E-2,0.30578,0,1.3881348361976933E-2,508295.9,14489.77,53728.98,3.1663963322629232,508295.9,1097694,1.3565619539999997E-2,2.2464141296926807,null,0,0,null,1.4103469900000009E-2]
[1204,0.1981773,0.3135773,13392.03,473210.4,1009777,473210.4,1009777,1.6013999999999997E-2,1.4103469900000009E-2,3.1096879076585107,{"$f":"0","v":0},0,2.2214932053469458,{"$f":"0","v":0},0,{"$f":"0","v":0},0,1.3503186558899998E-2,null,1201,0.80532190000000003,0.19467809999999999,1.6013999999999997E-2,0.30772929999999998,0,1.3831958576363738E-2,499524.5,14215.33,52521.5,3.1530417924405088,499524.5,1075715,1.3550011494899997E-2,2.2407193119232378,null,0,0,null,1.4103469900000009E-2]
[1205,0.19934370000000001,0.31552669999999999,13117.59,464439,987797.9,464439,987797.9,1.6013999999999997E-2,1.4103469900000009E-2,3.0940293720111698,{"$f":"0","v":0},0,2.2142515594169692,{"$f":"0","v":0},0,{"$f":"0","v":0},0,1.3487577713099998E-2,null,1202,0.80415550000000002,0.1958445,1.6013999999999997E-2,0.30967869999999997,0,1.3782744519423244E-2,490753.2,13940.9,51314.02,3.139158818058136,490753.2,1053736,1.3534402649099997E-2,2.2346894077571382,null,0,0,null,1.4103469900000009E-2]
[1206,0.2005101,0.31747599999999998,12843.15,455667.6,965818.7,455667.6,965818.7,1.6013999999999997E-2,1.4103469900000009E-2,3.0777016347235686,{"$f":"0","v":0},0,2.2065262047267082,{"$f":"0","v":0},0,{"$f":"0","v":0},0,1.3471969667999996E-2,null,1203,0.80298910000000001,0.19701089999999999,1.6013999999999997E-2,0.31162800000000002,0,1.3733705565913487E-2,481981.8,13666.46,50106.54,3.1247209713902997,481981.8,1031756,1.3518794603999996E-2,2.2282922412580577,null,0,0,null,1.4103469900000009E-2]
[1207,0.20167650000000001,0.31942530000000002,12568.72,446896.3,943839.4,446896.3,943839.4,1.6013999999999997E-2,1.4103469900000009E-2,3.0606579932827955,{"$f":"0","v":0},0,2.1982650565251145,{"$f":"0","v":0},0,{"$f":"0","v":0},0,1.3456361622899997E-2,null,1204,0.8018227,0.1981773,1.6013999999999997E-2,0.3135773,0,1.3684841092817115E-2,473210.4,13392.03,48899.05,3.1096879076585107,473210.4,1009777,1.3503186558899998E-2,2.2214932053469458,null,0,0,null,1.4103469900000009E-2]
[1208,0.20284289999999999,0.32137470000000001,12294.28,438124.9,921860.2,438124.9,921860.2,1.6013999999999997E-2,1.4103469900000009E-2,3.0428563798232453,{"$f":"0","v":0},0,2.1894079060148273,{"$f":"0","v":0},0,{"$f":"0","v":0},0,1.3440752777099997E-2,null,1205,0.80065629999999999,0.19934370000000001,1.6013999999999997E-2,0.31552669999999999,0,1.3636150479333468E-2,464439,13117.59,47691.57,3.0940293720111698,464439,987797.9,1.3487577713099998E-2,2.2142515594169692,null,0,0,null,1.4103469900000009E-2]
[1209,0.2040093,0.323324,12019.85,429353.5,899881,429353.5,899881,1.6013999999999997E-2,1.4103469900000009E-2,3.0242388978786483,{"$f":"0","v":0},0,2.179893937285033,{"$f":"0","v":0},0,{"$f":"0","v":0},0,1.3425144731999999E-2,null,1206,0.79948989999999998,0.2005101,1.6013999999999997E-2,0.31747599999999998,0,1.3587633106870698E-2,455667.6,12843.15,46484.09,3.0777016347235686,455667.6,965818.7,1.3471969667999996E-2,2.2065262047267082,null,0,0,null,1.4103469900000009E-2]
[1210,0.20517569999999999,0.32527329999999999,11745.41,420582.1,877901.8,420582.1,877901.8,1.6013999999999997E-2,1.4103469900000009E-2,3.0047544459211442,{"$f":"0","v":0},0,2.1696420856016649,{"$f":"0","v":0},0,{"$f":"0","v":0},0,1.3409536686899997E-2,null,1207,0.79832349999999996,0.20167650000000001,1.6013999999999997E-2,0.31942530000000002,0,1.3539288359037893E-2,446896.3,12568.72,45276.61,3.0606579932827955,446896.3,943839.4,1.3456361622899997E-2,2.1982650565251145,null,0,0,null,1.4103469900000009E-2]
[1211,0.2063421,0.32722259999999997,11470.98,411810.7,855922.5,411810.7,855922.5,1.6013999999999997E-2,1.4103469900000009E-2,2.9843345991362558,{"$f":"0","v":0},0,2.1585641871367907,{"$f":"0","v":0},0,{"$f":"0","v":0},0,1.3393928641799998E-2,null,1208,0.79715709999999995,0.20284289999999999,1.6013999999999997E-2,0.32137470000000001,0,1.3491115621637269E-2,438124.9,12294.28,44069.13,3.0428563798232453,438124.9,921860.2,1.3440752777099997E-2,2.1894079060148273,null,0,0,null,1.4103469900000009E-2]
[1212,0.20750850000000001,0.32917200000000002,11196.54,403039.3,833943.3,403039.3,833943.3,1.6013999999999997E-2,1.4103469900000009E-2,2.9629168921827636,{"$f":"0","v":0},0,2.1465573706584782,{"$f":"0","v":0},0,{"$f":"0","v":0},0,1.3378319795999998E-2,null,1209,0.79599070000000005,0.2040093,1.6013999999999997E-2,0.323324,0,1.3443114282656351E-2,429353.5,12019.85,42861.65,3.0242388978786483,429353.5,899881,1.3425144731999999E-2,2.179893937285033,null,0,0,null,1.4103469900000009E-2]
[1213,0.20887649999999999,0.33121240000000002,10971.96,395620.5,816325.6,395620.5,816325.6,1.6013999999999997E-2,1.4103469900000009E-2,2.9496110995665323,{"$f":"0","v":0},0,2.143155827485427,{"$f":"0","v":0},0,{"$f":"0","v":0},0,1.3361982313199997E-2,null,1210,0.79482430000000004,0.20517569999999999,1.6013999999999997E-2,0.32527329999999999,0,1.3395283732260201E-2,420582.1,11745.41,41654.17,3.0047544459211442,420582.1,877901.8,1.3409536686899997E-2,2.1696420856016649,null,0,0,null,1.4103469900000009E-2]
[1214,0.2102445,0.33325280000000002,10747.39,388201.7,798707.9,388201.7,798707.9,1.6013999999999997E-2,1.4103469900000009E-2,2.9357469193295618,{"$f":"0","v":0},0,2.1395389218083558,{"$f":"0","v":0},0,{"$f":"0","v":0},0,1.3345644830399999E-2,null,1211,0.79365790000000003,0.2063421,1.6013999999999997E-2,0.32722259999999997,0,1.3347623362783672E-2,411810.7,11470.98,40446.69,2.9843345991362558,411810.7,855922.5,1.3393928641799998E-2,2.1585641871367907,null,0,0,null,1.4103469900000009E-2]
[1215,0.21161250000000001,0.33529320000000001,10522.82,380782.8,781090.3,380782.8,781090.3,1.6013999999999997E-2,1.4103469900000009E-2,2.9212909815683128,{"$f":"0","v":0},0,2.1356855320642247,{"$f":"0","v":0},0,{"$f":"0","v":0},0,1.3329307347599998E-2,null,1212,0.79249150000000002,0.20750850000000001,1.6013999999999997E-2,0.32917200000000002,0,1.3300132568723689E-2,403039.3,11196.54,39239.21,2.9629168921827636,403039.3,833943.3,1.3378319795999998E-2,2.1465573706584782,null,0,0,null,1.4103469900000009E-2]
[1216,{"$f":"W1221","v":0.21298049999999999},{"$f":"Y1221","v":0.33733360000000001},{"$f":"AC1221","v":10298.24},{"$f":"AF1221","v":373364},{"$f":"AG1221","v":763472.7},{"$f":"E1218","v":373364},{"$f":"F1218","v":763472.7},{"$f":"X1221","v":1.6013999999999997E-2},{"$f":"AN1221","v":1.4103469900000009E-2},{"$f":"AE1221","v":2.9062069505727841},{"$f":"0","v":0},{"$f":"AL1221","v":0},{"$f":"AI1221","v":2.1315708050616373},{"$f":"0","v":0},{"$f":"AK1221","v":0},{"$f":"0","v":0},{"$f":"Z1221","v":0},{"$f":"AH1221","v":1.3312969864799998E-2},null,1213,0.79112349999999998,0.20887649999999999,1.6013999999999997E-2,0.33121240000000002,0,1.3252810746731552E-2,395620.5,10971.96,38306.160000000003,2.9496110995665323,395620.5,816325.6,1.3361982313199997E-2,2.143155827485427,null,0,0,null,1.4103469900000009E-2]
[1217,0.2143485,0.33937400000000001,10073.67,365945.1,745855,365945.1,745855,1.6013999999999997E-2,1.4103469900000009E-2,2.8904469523023888,{"$f":"0","v":0},0,2.1271691311624488,{"$f":"0","v":0},0,{"$f":"0","v":0},0,1.3296632381999997E-2,null,1214,0.78975550000000005,0.2102445,1.6013999999999997E-2,0.33325280000000002,0,1.3205657295605279E-2,388201.7,10747.39,37373.120000000003,2.9357469193295618,388201.7,798707.9,1.3345644830399999E-2,2.1395389218083558,null,0,0,null,1.4103469900000009E-2]
[1218,0.21571650000000001,0.34141440000000001,9849.0910000000003,358526.3,728237.4,358526.3,728237.4,1.6013999999999997E-2,1.4103469900000009E-2,2.8739724009386589,{"$f":"0","v":0},0,2.1224483682244308,{"$f":"0","v":0},0,{"$f":"0","v":0},0,1.3280294899199997E-2,null,1215,0.78838750000000002,0.21161250000000001,1.6013999999999997E-2,0.33529320000000001,0,1.3158671616281949E-2,380782.8,10522.82,36440.080000000002,2.9212909815683128,380782.8,781090.3,1.3329307347599998E-2,2.1356855320642247,null,0,0,null,1.4103469900000009E-2]
[1219,0.21708450000000001,0.3434548,9624.5159999999996,351107.5,710619.8,351107.5,710619.8,1.6013999999999997E-2,1.4103469900000009E-2,2.8567276006398665,{"$f":"0","v":0},0,2.117371538701081,{"$f":"0","v":0},0,{"$f":"0","v":0},0,1.3263957416399998E-2,null,1216,0.78701949999999998,0.21298049999999999,1.6013999999999997E-2,0.33733360000000001,0,1.3111853111830121E-2,373364,10298.24,35507.03,2.9062069505727841,373364,763472.7,1.3312969864799998E-2,2.1315708050616373,null,0,0,null,1.4103469900000009E-2]
[1220,0.21845249999999999,0.3454952,9399.9410000000007,343688.6,693002.1,343688.6,693002.1,1.6013999999999997E-2,1.4103469900000009E-2,2.8386577417524923,{"$f":"0","v":0},0,2.1118986557888708,{"$f":"0","v":0},0,{"$f":"0","v":0},0,1.3247619933599998E-2,null,1217,0.78565149999999995,0.2143485,1.6013999999999997E-2,0.33937400000000001,0,1.3065201187442227E-2,365945.1,10073.67,34573.980000000003,2.8904469523023888,365945.1,745855,1.3296632381999997E-2,2.1271691311624488,null,0,0,null,1.4103469900000009E-2]
[1221,0.2198205,0.3475356,9175.366,336269.8,675384.4,336269.8,675384.4,1.6013999999999997E-2,1.4103469900000009E-2,2.8197044219634764,{"$f":"0","v":0},0,2.1059809044537974,{"$f":"0","v":0},0,{"$f":"0","v":0},0,1.3231282450799997E-2,null,1218,0.78428350000000002,0.21571650000000001,1.6013999999999997E-2,0.34141440000000001,0,1.301871525042702E-2,358526.3,9849.0910000000003,33640.94,2.8739724009386589,358526.3,728237.4,1.3280294899199997E-2,2.1224483682244308,null,0,0,null,1.4103469900000009E-2]
[1222,0.22118850000000001,0.349576,8950.7909999999993,328850.90000000002,657766.80000000005,328850.90000000002,657766.80000000005,1.6013999999999997E-2,1.4103469900000009E-2,2.7997989088338677,{"$f":"0","v":0},0,2.0995614149828201,{"$f":"0","v":0},0,{"$f":"0","v":0},0,1.3214944967999999E-2,null,1219,0.78291549999999999,0.21708450000000001,1.6013999999999997E-2,0.3434548,0,1.2972394710202048E-2,351107.5,9624.5159999999996,32707.9,2.8567276006398665,351107.5,710619.8,1.3263957416399998E-2,2.117371538701081,null,0,0,null,1.4103469900000009E-2]
[1223,0.22255649999999999,0.3516164,8726.2170000000006,321432.09999999998,640149.1,321432.09999999998,640149.1,1.6013999999999997E-2,1.4103469900000009E-2,2.7788695977879074,{"$f":"0","v":0},0,2.0925724046910079,{"$f":"0","v":0},0,{"$f":"0","v":0},0,1.3198607485199998E-2,null,1220,0.78154749999999995,0.21845249999999999,1.6013999999999997E-2,0.3454952,0,1.292623897828615E-2,343688.6,9399.9410000000007,31774.85,2.8386577417524923,343688.6,693002.1,1.3247619933599998E-2,2.1118986557888708,null,0,0,null,1.4103469900000009E-2]
[1224,0.2239245,0.35365679999999999,8501.6419999999998,314013.3,622531.5,314013.3,622531.5,1.6013999999999997E-2,1.4103469900000009E-2,2.7568337877161455,{"$f":"0","v":0},0,2.0849374506829621,{"$f":"0","v":0},0,{"$f":"0","v":0},0,1.3182270002399998E-2,null,1221,0.78017950000000003,0.2198205,1.6013999999999997E-2,0.3475356,0,1.2880247468291976E-2,336269.8,9175.366,30841.81,2.8197044219634764,336269.8,675384.4,1.3231282450799997E-2,2.1059809044537974,null,0,0,null,1.4103469900000009E-2]
[1225,0.22553860000000001,0.35365679999999999,8319.9770000000008,307808.7,608573.9,307808.7,608573.9,1.6013999999999997E-2,1.4103469900000009E-2,2.743702992408112,{"$f":"0","v":0},0,2.0849376520520937,{"$f":"0","v":0},0,{"$f":"0","v":0},0,1.3182270002399998E-2,null,1222,0.77881149999999999,0.22118850000000001,1.6013999999999997E-2,0.349576,0,1.2834419595918545E-2,328850.90000000002,8950.7909999999993,29908.76,2.7997989088338677,328850.90000000002,657766.80000000005,1.3214944967999999E-2,2.0995614149828201,null,0,0,null,1.4103469900000009E-2]
[1226,0.22715260000000001,0.35365679999999999,8138.3109999999997,301604.09999999998,594616.30000000005,301604.09999999998,594616.30000000005,1.6013999999999997E-2,1.4103469900000009E-2,2.7299863827191335,{"$f":"0","v":0},0,2.0849378670644492,{"$f":"0","v":0},0,{"$f":"0","v":0},0,1.3182270002399998E-2,null,1223,0.77744349999999995,0.22255649999999999,1.6013999999999997E-2,0.3516164,0,1.2788754778943813E-2,321432.09999999998,8726.2170000000006,28975.72,2.7788695977879074,321432.09999999998,640149.1,1.3198607485199998E-2,2.0925724046910079,null,0,0,null,1.4103469900000009E-2]
[1227,0.22876669999999999,0.35365679999999999,7956.6459999999997,295399.59999999998,580658.6,295399.59999999998,580658.6,1.6013999999999997E-2,1.4103469900000009E-2,2.7156430087920631,{"$f":"0","v":0},0,2.0849367697933872,{"$f":"0","v":0},0,{"$f":"0","v":0},0,1.3182270002399998E-2,null,1224,0.77607550000000003,0.2239245,1.6013999999999997E-2,0.35365679999999999,0,1.2743252437217278E-2,314013.3,8501.6419999999998,28042.67,2.7568337877161455,314013.3,622531.5,1.3182270002399998E-2,2.0849374506829621,null,0,0,null,1.4103469900000009E-2]
[1228,0.2303808,0.35365679999999999,7774.9809999999998,289195,566700.9,289195,566700.9,1.6013999999999997E-2,1.4103469900000009E-2,2.7006293595229796,{"$f":"0","v":0},0,2.0849369683723964,{"$f":"0","v":0},0,{"$f":"0","v":0},0,1.3182270002399998E-2,null,1225,0.77446139999999997,0.22553860000000001,1.6013999999999997E-2,0.35365679999999999,0,1.2697911992652616E-2,307808.7,8319.9770000000008,27334.2,2.743702992408112,307808.7,608573.9,1.3182270002399998E-2,2.0849376520520937,null,0,0,null,1.4103469900000009E-2]
[1229,0.2319949,0.35365679999999999,7593.3149999999996,282990.5,552743.30000000005,282990.5,552743.30000000005,1.6013999999999997E-2,1.4103469900000009E-2,2.6848977521675317,{"$f":"0","v":0},0,2.0849371819275992,{"$f":"0","v":0},0,{"$f":"0","v":0},0,1.3182270002399998E-2,null,1226,0.77284739999999996,0.22715260000000001,1.6013999999999997E-2,0.35365679999999999,0,1.2652732869220331E-2,301604.09999999998,8138.3109999999997,26625.73,2.7299863827191335,301604.09999999998,594616.30000000005,1.3182270002399998E-2,2.0849378670644492,null,0,0,null,1.4103469900000009E-2]
[1230,0.23360890000000001,0.35365679999999999,7411.65,276785.90000000002,538785.6,276785.90000000002,538785.6,1.6013999999999997E-2,1.4103469900000009E-2,2.6683945207882185,{"$f":"0","v":0},0,2.0849374122195705,{"$f":"0","v":0},0,{"$f":"0","v":0},0,1.3182270002399998E-2,null,1227,0.77123330000000001,0.22876669999999999,1.6013999999999997E-2,0.35365679999999999,0,1.2607714492940434E-2,295399.59999999998,7956.6459999999997,25917.26,2.7156430087920631,295399.59999999998,580658.6,1.3182270002399998E-2,2.0849367697933872,null,0,0,null,1.4103469900000009E-2]
[1231,0.23522299999999999,0.35365679999999999,7229.9849999999997,270581.3,524828,270581.3,524828,1.6013999999999997E-2,1.4103469900000009E-2,2.6510619489528682,{"$f":"0","v":0},0,2.0849376612960961,{"$f":"0","v":0},0,{"$f":"0","v":0},0,1.3182270002399998E-2,null,1228,0.76961919999999995,0.2303808,1.6013999999999997E-2,0.35365679999999999,0,1.2562856291875162E-2,289195,7774.9809999999998,25208.79,2.7006293595229796,289195,566700.9,1.3182270002399998E-2,2.0849369683723964,null,0,0,null,1.4103469900000009E-2]
[1232,0.23683709999999999,0.35365679999999999,7048.32,264376.8,510870.4,264376.8,510870.4,1.6013999999999997E-2,1.4103469900000009E-2,2.6328359098338332,{"$f":"0","v":0},0,2.0849363220056594,{"$f":"0","v":0},0,{"$f":"0","v":0},0,1.3182270002399998E-2,null,1229,0.7680051,0.2319949,1.6013999999999997E-2,0.35365679999999999,0,1.2518157696121692E-2,282990.5,7593.3149999999996,24500.32,2.6848977521675317,282990.5,552743.30000000005,1.3182270002399998E-2,2.0849371819275992,null,0,0,null,1.4103469900000009E-2]
[1233,0.2384512,0.35365679999999999,6866.6549999999997,258172.3,496912.8,258172.3,496912.8,1.6013999999999997E-2,1.4103469900000009E-2,2.6136454904170954,{"$f":"0","v":0},0,2.0849365447909087,{"$f":"0","v":0},0,{"$f":"0","v":0},0,1.3182270002399998E-2,null,1230,0.76639100000000004,0.23360890000000001,1.6013999999999997E-2,0.35365679999999999,0,1.2473618137804928E-2,276785.90000000002,7411.65,23791.85,2.6683945207882185,276785.90000000002,538785.6,1.3182270002399998E-2,2.0849374122195705,null,0,0,null,1.4103469900000009E-2]
[1234,0.24006520000000001,0.35365679999999999,6684.99,251967.7,482955.1,251967.7,482955.1,1.6013999999999997E-2,1.4103469900000009E-2,2.5934120694271798,{"$f":"0","v":0},0,2.0849367882817904,{"$f":"0","v":0},0,{"$f":"0","v":0},0,1.3182270002399998E-2,null,1231,0.76477689999999998,0.23522299999999999,1.6013999999999997E-2,0.35365679999999999,0,1.2429237051070262E-2,270581.3,7229.9849999999997,23083.38,2.6510619489528682,270581.3,524828,1.3182270002399998E-2,2.0849376612960961,null,0,0,null,1.4103469900000009E-2]
[1235,0.24167930000000001,0.35365679999999999,6503.3239999999996,245763.1,468997.4,245763.1,468997.4,1.6013999999999997E-2,1.4103469900000009E-2,2.5720487194958559,{"$f":"0","v":0},0,2.0849370555055495,{"$f":"0","v":0},0,{"$f":"0","v":0},0,1.3182270002399998E-2,null,1232,0.76316289999999998,0.23683709999999999,1.6013999999999997E-2,0.35365679999999999,0,1.2385013872076394E-2,264376.8,7048.32,22374.91,2.6328359098338332,264376.8,510870.4,1.3182270002399998E-2,2.0849363220056594,null,0,0,null,1.4103469900000009E-2]
[1236,0.24329339999999999,0.35365679999999999,6321.6589999999997,239558.6,455039.8,239558.6,455039.8,1.6013999999999997E-2,1.4103469900000009E-2,2.5494570399426268,{"$f":"0","v":0},0,2.0849354107248765,{"$f":"0","v":0},0,{"$f":"0","v":0},0,1.3182270002399998E-2,null,1233,0.76154880000000003,0.2384512,1.6013999999999997E-2,0.35365679999999999,0,1.2340948038988176E-2,258172.3,6866.6549999999997,21666.44,2.6136454904170954,258172.3,496912.8,1.3182270002399998E-2,2.0849365447909087,null,0,0,null,1.4103469900000009E-2]
[1237,0.2451979,0.35365679999999999,6176.8,234438.5,444133.8,234438.5,444133.8,1.6013999999999997E-2,1.4103469900000009E-2,2.5366635366748693,{"$f":"0","v":0},0,2.0849351023621301,{"$f":"0","v":0},0,{"$f":"0","v":0},0,1.3182270002399998E-2,null,1234,0.75993480000000002,0.24006520000000001,1.6013999999999997E-2,0.35365679999999999,0,1.2297038991969465E-2,251967.7,6684.99,20957.97,2.5934120694271798,251967.7,482955.1,1.3182270002399998E-2,2.0849367882817904,null,0,0,null,1.4103469900000009E-2]
[1238,0.2471023,0.35365679999999999,6031.9409999999998,229318.39999999999,433227.7,229318.39999999999,433227.7,1.6013999999999997E-2,1.4103469900000009E-2,2.5232538953879025,{"$f":"0","v":0},0,2.0849353170192901,{"$f":"0","v":0},0,{"$f":"0","v":0},0,1.3182270002399998E-2,null,1235,0.75832069999999996,0.24167930000000001,1.6013999999999997E-2,0.35365679999999999,0,1.2253286173176005E-2,245763.1,6503.3239999999996,20249.5,2.5720487194958559,245763.1,468997.4,1.3182270002399998E-2,2.0849370555055495,null,0,0,null,1.4103469900000009E-2]
[1239,0.2490068,0.35365679999999999,5887.0820000000003,224198.3,422321.6,224198.3,422321.6,1.6013999999999997E-2,1.4103469900000009E-2,2.509186030815719,{"$f":"0","v":0},0,2.0849349837459368,{"$f":"0","v":0},0,{"$f":"0","v":0},0,1.3182270002399998E-2,null,1236,0.75670660000000001,0.24329339999999999,1.6013999999999997E-2,0.35365679999999999,0,1.2209689026748358E-2,239558.6,6321.6589999999997,19541.03,2.5494570399426268,239558.6,455039.8,1.3182270002399998E-2,2.0849354107248765,null,0,0,null,1.4103469900000009E-2]
[1240,0.2509113,0.35365679999999999,5742.2219999999998,219078.3,411415.6,219078.3,411415.6,1.6013999999999997E-2,1.4103469900000009E-2,2.4944071737386682,{"$f":"0","v":0},0,2.0849346262515156,{"$f":"0","v":0},0,{"$f":"0","v":0},0,1.3182270002399998E-2,null,1237,0.75480210000000003,0.2451979,1.6013999999999997E-2,0.35365679999999999,0,1.2166246998804831E-2,234438.5,6176.8,19014.23,2.5366635366748693,234438.5,444133.8,1.3182270002399998E-2,2.0849351023621301,null,0,0,null,1.4103469900000009E-2]
[1241,0.25281579999999998,0.35365679999999999,5597.3630000000003,213958.2,400509.5,213958.2,400509.5,1.6013999999999997E-2,1.4103469900000009E-2,2.4788646085070174,{"$f":"0","v":0},0,2.0849365468368157,{"$f":"0","v":0},0,{"$f":"0","v":0},0,1.3182270002399998E-2,null,1238,0.75289759999999994,0.2471023,1.6013999999999997E-2,0.35365679999999999,0,1.2122959537434429E-2,229318.39999999999,6031.9409999999998,18487.419999999998,2.5232538953879025,229318.39999999999,433227.7,1.3182270002399998E-2,2.0849353170192901,null,0,0,null,1.4103469900000009E-2]
[1242,0.25472020000000001,0.35365679999999999,5452.5039999999999,208838.1,389603.4,208838.1,389603.4,1.6013999999999997E-2,1.4103469900000009E-2,2.4624943573325826,{"$f":"0","v":0},0,2.0849362225761512,{"$f":"0","v":0},0,{"$f":"0","v":0},0,1.3182270002399998E-2,null,1239,0.75099320000000003,0.2490068,1.6013999999999997E-2,0.35365679999999999,0,1.2079826092689872E-2,224198.3,5887.0820000000003,17960.62,2.509186030815719,224198.3,422321.6,1.3182270002399998E-2,2.0849349837459368,null,0,0,null,1.4103469900000009E-2]
[1243,0.25662469999999998,0.35365679999999999,5307.6450000000004,203718,378697.3,203718,378697.3,1.6013999999999997E-2,1.4103469900000009E-2,2.4452324194628692,{"$f":"0","v":0},0,2.0849358718660582,{"$f":"0","v":0},0,{"$f":"0","v":0},0,1.3182270002399998E-2,null,1240,0.74908870000000005,0.2509113,1.6013999999999997E-2,0.35365679999999999,0,1.2036846116580574E-2,219078.3,5742.2219999999998,17433.810000000001,2.4944071737386682,219078.3,411415.6,1.3182270002399998E-2,2.0849346262515156,null,0,0,null,1.4103469900000009E-2]
[1244,0.25852920000000001,0.35365679999999999,5162.7860000000001,198597.9,367791.3,198597.9,367791.3,1.6013999999999997E-2,1.4103469900000009E-2,2.4269998633812571,{"$f":"0","v":0},0,2.0849354913327849,{"$f":"0","v":0},0,{"$f":"0","v":0},0,1.3182270002399998E-2,null,1241,0.74718419999999997,0.25281579999999998,1.6013999999999997E-2,0.35365679999999999,0,1.1994019063065705E-2,213958.2,5597.3630000000003,16907.009999999998,2.4788646085070174,213958.2,400509.5,1.3182270002399998E-2,2.0849365468368157,null,0,0,null,1.4103469900000009E-2]
[1245,0.26043369999999999,0.35365679999999999,5017.9260000000004,193477.9,356885.2,193477.9,356885.2,1.6013999999999997E-2,1.4103469900000009E-2,2.4077172022863631,{"$f":"0","v":0},0,2.0849342626608984,{"$f":"0","v":0},0,{"$f":"0","v":0},0,1.3182270002399998E-2,null,1242,0.74527980000000005,0.25472020000000001,1.6013999999999997E-2,0.35365679999999999,0,1.1951344388047246E-2,208838.1,5452.5039999999999,16380.2,2.4624943573325826,208838.1,389603.4,1.3182270002399998E-2,2.0849362225761512,null,0,0,null,1.4103469900000009E-2]
[1246,0.26233820000000002,0.35365679999999999,4873.067,188357.8,345979.2,188357.8,345979.2,1.6013999999999997E-2,1.4103469900000009E-2,2.3872854696368155,{"$f":"0","v":0},0,2.0849340560428953,{"$f":"0","v":0},0,{"$f":"0","v":0},0,1.3182270002399998E-2,null,1243,0.74337529999999996,0.25662469999999998,1.6013999999999997E-2,0.35365679999999999,0,1.1908821549363079E-2,203718,5307.6450000000004,15853.4,2.4452324194628692,203718,378697.3,1.3182270002399998E-2,2.0849358718660582,null,0,0,null,1.4103469900000009E-2]
[1247,0.26424259999999999,0.35365679999999999,4728.2079999999996,183237.7,335073.09999999998,183237.7,335073.09999999998,1.6013999999999997E-2,1.4103469900000009E-2,2.3656039102622675,{"$f":"0","v":0},0,2.0849335313807429,{"$f":"0","v":0},0,{"$f":"0","v":0},0,1.3182270002399998E-2,null,1244,0.74147079999999999,0.25852920000000001,1.6013999999999997E-2,0.35365679999999999,0,1.1866450006780088E-2,198597.9,5162.7860000000001,15326.59,2.4269998633812571,198597.9,367791.3,1.3182270002399998E-2,2.0849354913327849,null,0,0,null,1.4103469900000009E-2]
[1248,0.26614710000000003,0.35365679999999999,4583.3490000000002,178117.6,324167,178117.6,324167,1.6013999999999997E-2,1.4103469900000009E-2,2.3425496563757204,{"$f":"0","v":0},0,2.0849332661276221,{"$f":"0","v":0},0,{"$f":"0","v":0},0,1.3182270002399998E-2,null,1245,0.73956630000000001,0.26043369999999999,1.6013999999999997E-2,0.35365679999999999,0,1.1824229221987316E-2,193477.9,5017.9260000000004,14799.79,2.4077172022863631,193477.9,356885.2,1.3182270002399998E-2,2.0849342626608984,null,0,0,null,1.4103469900000009E-2]
[1249,0.26838640000000002,0.35365679999999999,4469.9589999999998,173971.5,315806.09999999998,173971.5,315806.09999999998,1.6013999999999997E-2,1.4103469900000009E-2,2.3302679528678754,{"$f":"0","v":0},0,2.0849330114571365,{"$f":"0","v":0},0,{"$f":"0","v":0},0,1.3182270002399998E-2,null,1246,0.73766180000000003,0.26233820000000002,1.6013999999999997E-2,0.35365679999999999,0,1.1782158658589103E-2,188357.8,4873.067,14272.98,2.3872854696368155,188357.8,345979.2,1.3182270002399998E-2,2.0849340560428953,null,0,0,null,1.4103469900000009E-2]
[1250,0.27062570000000002,0.35365679999999999,4356.5690000000004,169825.4,307445.2,169825.4,307445.2,1.6013999999999997E-2,1.4103469900000009E-2,2.3173446332806082,{"$f":"0","v":0},0,2.0849330739172971,{"$f":"0","v":0},0,{"$f":"0","v":0},0,1.3182270002399998E-2,null,1247,0.73575740000000001,0.26424259999999999,1.6013999999999997E-2,0.35365679999999999,0,1.1740237782098293E-2,183237.7,4728.2079999999996,13746.18,2.3656039102622675,183237.7,335073.09999999998,1.3182270002399998E-2,2.0849335313807429,null,0,0,null,1.4103469900000009E-2]
[1251,0.27286490000000002,0.35365679999999999,4243.18,165679.29999999999,299084.3,165679.29999999999,299084.3,1.6013999999999997E-2,1.4103469900000009E-2,2.3037299462510035,{"$f":"0","v":0},0,2.0849331407576717,{"$f":"0","v":0},0,{"$f":"0","v":0},0,1.3182270002399998E-2,null,1248,0.73385290000000003,0.26614710000000003,1.6013999999999997E-2,0.35365679999999999,0,1.1698466059929429E-2,178117.6,4583.3490000000002,13219.37,2.3425496563757204,178117.6,324167,1.3182270002399998E-2,2.0849332661276221,null,0,0,null,1.4103469900000009E-2]
[1252,0.27510420000000002,0.35365679999999999,4129.79,161533.1,290723.40000000002,161533.1,290723.40000000002,1.6013999999999997E-2,1.4103469900000009E-2,2.2893707468579922,{"$f":"0","v":0},0,2.0849332124557693,{"$f":"0","v":0},0,{"$f":"0","v":0},0,1.3182270002399998E-2,null,1249,0.73161359999999998,0.26838640000000002,1.6013999999999997E-2,0.35365679999999999,0,1.1656842961391986E-2,173971.5,4469.9589999999998,12837.43,2.3302679528678754,173971.5,315806.09999999998,1.3182270002399998E-2,2.0849330114571365,null,0,0,null,1.4103469900000009E-2]
[1253,0.27734350000000002,0.35365679999999999,4016.4,157387,282362.40000000002,157387,282362.40000000002,1.6013999999999997E-2,1.4103469900000009E-2,2.2741982870232049,{"$f":"0","v":0},0,2.0849319396951156,{"$f":"0","v":0},0,{"$f":"0","v":0},0,1.3182270002399998E-2,null,1250,0.72937430000000003,0.27062570000000002,1.6013999999999997E-2,0.35365679999999999,0,1.1615367957683642E-2,169825.4,4356.5690000000004,12455.48,2.3173446332806082,169825.4,307445.2,1.3182270002399998E-2,2.0849330739172971,null,0,0,null,1.4103469900000009E-2]
[1254,0.27958270000000002,0.35365679999999999,3903.01,153240.9,274001.5,153240.9,274001.5,1.6013999999999997E-2,1.4103469900000009E-2,2.2581468106239373,{"$f":"0","v":0},0,2.0849319699473337,{"$f":"0","v":0},0,{"$f":"0","v":0},0,1.3182270002399998E-2,null,1251,0.72713510000000003,0.27286490000000002,1.6013999999999997E-2,0.35365679999999999,0,1.1574040521883544E-2,165679.29999999999,4243.18,12073.53,2.3037299462510035,165679.29999999999,299084.3,1.3182270002399998E-2,2.0849331407576717,null,0,0,null,1.4103469900000009E-2]
[1255,0.28182200000000002,0.35365679999999999,3789.6210000000001,149094.79999999999,265640.59999999998,149094.79999999999,265640.59999999998,1.6013999999999997E-2,1.4103469900000009E-2,2.2411314020584117,{"$f":"0","v":0},0,2.084931600093773,{"$f":"0","v":0},0,{"$f":"0","v":0},0,1.3182270002399998E-2,null,1252,0.72489579999999998,0.27510420000000002,1.6013999999999997E-2,0.35365679999999999,0,1.1532860128945633E-2,161533.1,4129.79,11691.59,2.2893707468579922,161533.1,290723.40000000002,1.3182270002399998E-2,2.0849332124557693,null,0,0,null,1.4103469900000009E-2]
[1256,0.28406130000000002,0.35365679999999999,3676.2310000000002,144948.6,257279.7,144948.6,257279.7,1.6013999999999997E-2,1.4103469900000009E-2,2.2230698256810664,{"$f":"0","v":0},0,2.084931618479239,{"$f":"0","v":0},0,{"$f":"0","v":0},0,1.3182270002399998E-2,null,1253,0.72265650000000003,0.27734350000000002,1.6013999999999997E-2,0.35365679999999999,0,1.1491826255691952E-2,157387,4016.4,11309.64,2.2741982870232049,157387,282362.40000000002,1.3182270002399998E-2,2.0849319396951156,null,0,0,null,1.4103469900000009E-2]
[1257,0.28630060000000002,0.35365679999999999,3562.8409999999999,140802.5,248918.8,140802.5,248918.8,1.6013999999999997E-2,1.4103469900000009E-2,2.2038555163327995,{"$f":"0","v":0},0,2.0849316384975727,{"$f":"0","v":0},0,{"$f":"0","v":0},0,1.3182270002399998E-2,null,1254,0.72041730000000004,0.27958270000000002,1.6013999999999997E-2,0.35365679999999999,0,1.1450938380806011E-2,153240.9,3903.01,10927.7,2.2581468106239373,153240.9,274001.5,1.3182270002399998E-2,2.0849319699473337,null,0,0,null,1.4103469900000009E-2]
[1258,0.28853990000000002,0.35365679999999999,3449.4520000000002,136656.4,240557.8,136656.4,240557.8,1.6013999999999997E-2,1.4103469900000009E-2,2.1833789347795922,{"$f":"0","v":0},0,2.084929996870164,{"$f":"0","v":0},0,{"$f":"0","v":0},0,1.3182270002399998E-2,null,1255,0.71817799999999998,0.28182200000000002,1.6013999999999997E-2,0.35365679999999999,0,1.141019598482616E-2,149094.79999999999,3789.6210000000001,10545.75,2.2411314020584117,149094.79999999999,265640.59999999998,1.3182270002399998E-2,2.084931600093773,null,0,0,null,1.4103469900000009E-2]
[1259,0.29077910000000001,0.35365679999999999,3336.0619999999999,132510.29999999999,232196.9,132510.29999999999,232196.9,1.6013999999999997E-2,1.4103469900000009E-2,2.1615109121673002,{"$f":"0","v":0},0,2.0849299398109666,{"$f":"0","v":0},0,{"$f":"0","v":0},0,1.3182270002399998E-2,null,1256,0.71593870000000004,0.28406130000000002,1.6013999999999997E-2,0.35365679999999999,0,1.1369598550139E-2,144948.6,3676.2310000000002,10163.81,2.2230698256810664,144948.6,257279.7,1.3182270002399998E-2,2.084931618479239,null,0,0,null,1.4103469900000009E-2]
[1260,0.29301840000000001,0.35365679999999999,3222.672,128364.1,223836,128364.1,223836,1.6013999999999997E-2,1.4103469900000009E-2,2.1381040329267145,{"$f":"0","v":0},0,2.0849293712099182,{"$f":"0","v":0},0,{"$f":"0","v":0},0,1.3182270002399998E-2,null,1257,0.71369950000000004,0.28630060000000002,1.6013999999999997E-2,0.35365679999999999,0,1.132914556097279E-2,140802.5,3562.8409999999999,9781.8590000000004,2.2038555163327995,140802.5,248918.8,1.3182270002399998E-2,2.0849316384975727,null,0,0,null,1.4103469900000009E-2]
[1261,0.29563699999999998,0.35365679999999999,3136.0309999999999,125088.7,217582.6,125088.7,217582.6,1.6013999999999997E-2,1.4103469900000009E-2,2.1265043431224591,{"$f":"0","v":0},0,2.0849298980816853,{"$f":"0","v":0},0,{"$f":"0","v":0},0,1.3182270002399998E-2,null,1258,0.71146010000000004,0.28853990000000002,1.6013999999999997E-2,0.35365679999999999,0,1.1288836503390907E-2,136656.4,3449.4520000000002,9399.9140000000007,2.1833789347795922,136656.4,240557.8,1.3182270002399998E-2,2.084929996870164,null,0,0,null,1.4103469900000009E-2]
[1262,0.29825570000000001,0.35365679999999999,3049.3890000000001,121813.3,211329.2,121813.3,211329.2,1.6013999999999997E-2,1.4103469900000009E-2,2.1142460424039045,{"$f":"0","v":0},0,2.0849285024425872,{"$f":"0","v":0},0,{"$f":"0","v":0},0,1.3182270002399998E-2,null,1259,0.70922090000000004,0.29077910000000001,1.6013999999999997E-2,0.35365679999999999,0,1.1248670865285309E-2,132510.29999999999,3336.0619999999999,9017.9680000000008,2.1615109121673002,132510.29999999999,232196.9,1.3182270002399998E-2,2.0849299398109666,null,0,0,null,1.4103469900000009E-2]
[1263,0.30087429999999998,0.35365679999999999,2962.748,118537.8,205075.8,118537.8,205075.8,1.6013999999999997E-2,1.4103469900000009E-2,2.1012695533560963,{"$f":"0","v":0},0,2.0849290358001089,{"$f":"0","v":0},0,{"$f":"0","v":0},0,1.3182270002399998E-2,null,1260,0.70698159999999999,0.29301840000000001,1.6013999999999997E-2,0.35365679999999999,0,1.1208648136370042E-2,128364.1,3222.672,8636.0220000000008,2.1381040329267145,128364.1,223836,1.3182270002399998E-2,2.0849293712099182,null,0,0,null,1.4103469900000009E-2]
[1264,0.30349290000000001,0.35365679999999999,2876.1060000000002,115262.39999999999,198822.3,115262.39999999999,198822.3,1.6013999999999997E-2,1.4103469900000009E-2,2.0875128559239471,{"$f":"0","v":0},0,2.0849275073978255,{"$f":"0","v":0},0,{"$f":"0","v":0},0,1.3182270002399998E-2,null,1261,0.70436299999999996,0.29563699999999998,1.6013999999999997E-2,0.35365679999999999,0,1.1168767808174733E-2,125088.7,3136.0309999999999,8367.4670000000006,2.1265043431224591,125088.7,217582.6,1.3182270002399998E-2,2.0849298980816853,null,0,0,null,1.4103469900000009E-2]
[1265,0.30611149999999998,0.35365679999999999,2789.4650000000001,111987,192568.9,111987,192568.9,1.6013999999999997E-2,1.4103469900000009E-2,2.0729002843436528,{"$f":"0","v":0},0,2.0849280434576167,{"$f":"0","v":0},0,{"$f":"0","v":0},0,1.3182270002399998E-2,null,1262,0.70174429999999999,0.29825570000000001,1.6013999999999997E-2,0.35365679999999999,0,1.1129029374038158E-2,121813.3,3049.3890000000001,8098.9110000000001,2.1142460424039045,121813.3,211329.2,1.3182270002399998E-2,2.0849285024425872,null,0,0,null,1.4103469900000009E-2]
[1266,0.30873020000000001,0.35365679999999999,2702.8229999999999,108711.5,186315.5,108711.5,186315.5,1.6013999999999997E-2,1.4103469900000009E-2,2.0573518410195564,{"$f":"0","v":0},0,2.0849279969369969,{"$f":"0","v":0},0,{"$f":"0","v":0},0,1.3182270002399998E-2,null,1263,0.69912569999999996,0.30087429999999998,1.6013999999999997E-2,0.35365679999999999,0,1.1089432329101784E-2,118537.8,2962.748,7830.3540000000003,2.1012695533560963,118537.8,205075.8,1.3182270002399998E-2,2.0849290358001089,null,0,0,null,1.4103469900000009E-2]
[1267,0.31134879999999998,0.35365679999999999,2616.1819999999998,105436.1,180062,105436.1,180062,1.6013999999999997E-2,1.4103469900000009E-2,2.0407725520115449,{"$f":"0","v":0},0,2.084926889227646,{"$f":"0","v":0},0,{"$f":"0","v":0},0,1.3182270002399998E-2,null,1264,0.69650710000000005,0.30349290000000001,1.6013999999999997E-2,0.35365679999999999,0,1.1049976170303363E-2,115262.39999999999,2876.1060000000002,7561.799,2.0875128559239471,115262.39999999999,198822.3,1.3182270002399998E-2,2.0849275073978255,null,0,0,null,1.4103469900000009E-2]
[1268,0.31396740000000001,0.35365679999999999,2529.54,102160.7,173808.6,102160.7,173808.6,1.6013999999999997E-2,1.4103469900000009E-2,2.0230585402879577,{"$f":"0","v":0},0,2.084926789674832,{"$f":"0","v":0},0,{"$f":"0","v":0},0,1.3182270002399998E-2,null,1265,0.69388850000000002,0.30611149999999998,1.6013999999999997E-2,0.35365679999999999,0,1.1010660396370544E-2,111987,2789.4650000000001,7293.2430000000004,2.0729002843436528,111987,192568.9,1.3182270002399998E-2,2.0849280434576167,null,0,0,null,1.4103469900000009E-2]
[1269,0.31658599999999998,0.35365679999999999,2442.8980000000001,98885.24,167555.20000000001,98885.24,167555.20000000001,1.6013999999999997E-2,1.4103469900000009E-2,2.0040884160261023,{"$f":"0","v":0},0,2.084925529977228,{"$f":"0","v":0},0,{"$f":"0","v":0},0,1.3182270002399998E-2,null,1266,0.69126989999999999,0.30873020000000001,1.6013999999999997E-2,0.35365679999999999,0,1.0971484507814502E-2,108711.5,2702.8229999999999,7024.6869999999999,2.0573518410195564,108711.5,186315.5,1.3182270002399998E-2,2.0849279969369969,null,0,0,null,1.4103469900000009E-2]
[1270,0.31920470000000001,0.35365679999999999,2356.2570000000001,95609.81,161301.79999999999,95609.81,161301.79999999999,1.6013999999999997E-2,1.4103469900000009E-2,1.9837212685203696,{"$f":"0","v":0},0,2.0849253580072622,{"$f":"0","v":0},0,{"$f":"0","v":0},0,1.3182270002399998E-2,null,1267,0.68865120000000002,0.31134879999999998,1.6013999999999997E-2,0.35365679999999999,0,1.0932448006923584E-2,105436.1,2616.1819999999998,6756.1310000000003,2.0407725520115449,105436.1,180062,1.3182270002399998E-2,2.084926889227646,null,0,0,null,1.4103469900000009E-2]
[1271,0.32182329999999998,0.35365679999999999,2269.6149999999998,92334.38,155048.29999999999,92334.38,155048.29999999999,1.6013999999999997E-2,1.4103469900000009E-2,1.9618006614925148,{"$f":"0","v":0},0,2.0849251692753845,{"$f":"0","v":0},0,{"$f":"0","v":0},0,1.3182270002399998E-2,null,1268,0.68603259999999999,0.31396740000000001,1.6013999999999997E-2,0.35365679999999999,0,1.0893550397757005E-2,102160.7,2529.54,6487.5749999999998,2.0230585402879577,102160.7,173808.6,1.3182270002399998E-2,2.084926789674832,null,0,0,null,1.4103469900000009E-2]
[1272,0.32444190000000001,0.35365679999999999,2182.9740000000002,89058.95,148794.9,89058.95,148794.9,1.6013999999999997E-2,1.4103469900000009E-2,1.9381393227770922,{"$f":"0","v":0},0,2.0849236329547645,{"$f":"0","v":0},0,{"$f":"0","v":0},0,1.3182270002399998E-2,null,1269,0.68341399999999997,0.31658599999999998,1.6013999999999997E-2,0.35365679999999999,0,1.085479118613852E-2,98885.24,2442.8980000000001,6219.02,2.0040884160261023,98885.24,167555.20000000001,1.3182270002399998E-2,2.084925529977228,null,0,0,null,1.4103469900000009E-2]
[1273,0.3274841,0.35365679999999999,2118.808,86553.24,144264.6,86553.24,144264.6,1.6013999999999997E-2,1.4103469900000009E-2,1.9273805523357157,{"$f":"0","v":0},0,2.0849235595091415,{"$f":"0","v":0},0,{"$f":"0","v":0},0,1.3182270002399998E-2,null,1270,0.68079529999999999,0.31920470000000001,1.6013999999999997E-2,0.35365679999999999,0,1.0816169879650181E-2,95609.81,2356.2570000000001,5950.4629999999997,1.9837212685203696,95609.81,161301.79999999999,1.3182270002399998E-2,2.0849253580072622,null,0,0,null,1.4103469900000009E-2]
[1274,0.3305264,0.35365679999999999,2054.6410000000001,84047.54,139734.29999999999,84047.54,139734.29999999999,1.6013999999999997E-2,1.4103469900000009E-2,1.9159509901405323,{"$f":"0","v":0},0,2.0849234810873778,{"$f":"0","v":0},0,{"$f":"0","v":0},0,1.3182270002399998E-2,null,1271,0.67817669999999997,0.32182329999999998,1.6013999999999997E-2,0.35365679999999999,0,1.0777685987626039E-2,92334.38,2269.6149999999998,5681.9070000000002,1.9618006614925148,92334.38,155048.29999999999,1.3182270002399998E-2,2.0849251692753845,null,0,0,null,1.4103469900000009E-2]
[1275,0.33356859999999999,0.35365679999999999,1990.4749999999999,81541.83,135204.1,81541.83,135204.1,1.6013999999999997E-2,1.4103469900000009E-2,1.9037837911386313,{"$f":"0","v":0},0,2.0849210267128977,{"$f":"0","v":0},0,{"$f":"0","v":0},0,1.3182270002399998E-2,null,1272,0.67555810000000005,0.32444190000000001,1.6013999999999997E-2,0.35365679999999999,0,1.0739339021145948E-2,89058.95,2182.9740000000002,5413.3519999999999,1.9381393227770922,89058.95,148794.9,1.3182270002399998E-2,2.0849236329547645,null,0,0,null,1.4103469900000009E-2]
[1276,0.33661079999999999,0.35365679999999999,1926.309,79036.13,130673.8,79036.13,130673.8,1.6013999999999997E-2,1.4103469900000009E-2,1.8908054860357297,{"$f":"0","v":0},0,2.0849208505541363,{"$f":"0","v":0},0,{"$f":"0","v":0},0,1.3182270002399998E-2,null,1273,0.67251590000000006,0.3274841,1.6013999999999997E-2,0.35365679999999999,0,1.0701128493029337E-2,86553.24,2118.808,5231.4369999999999,1.9273805523357157,86553.24,144264.6,1.3182270002399998E-2,2.0849235595091415,null,0,0,null,1.4103469900000009E-2]
[1277,0.33965299999999998,0.35365679999999999,1862.1420000000001,76530.42,126143.5,76530.42,126143.5,1.6013999999999997E-2,1.4103469900000009E-2,1.8769346000466132,{"$f":"0","v":0},0,2.0849206611099684,{"$f":"0","v":0},0,{"$f":"0","v":0},0,1.3182270002399998E-2,null,1274,0.6694736,0.3305264,1.6013999999999997E-2,0.35365679999999999,0,1.0663053917829016E-2,84047.54,2054.6410000000001,5049.5219999999999,1.9159509901405323,84047.54,139734.29999999999,1.3182270002399998E-2,2.0849234810873778,null,0,0,null,1.4103469900000009E-2]
[1278,0.34269519999999998,0.35365679999999999,1797.9760000000001,74024.72,121613.2,74024.72,121613.2,1.6013999999999997E-2,1.4103469900000009E-2,1.8620717592077609,{"$f":"0","v":0},0,2.0849199269951084,{"$f":"0","v":0},0,{"$f":"0","v":0},0,1.3182270002399998E-2,null,1275,0.66643140000000001,0.33356859999999999,1.6013999999999997E-2,0.35365679999999999,0,1.0625114811825015E-2,81541.83,1990.4749999999999,4867.6080000000002,1.9037837911386313,81541.83,135204.1,1.3182270002399998E-2,2.0849210267128977,null,0,0,null,1.4103469900000009E-2]
[1279,0.34573749999999998,0.35365679999999999,1733.81,71519.02,117082.9,71519.02,117082.9,1.6013999999999997E-2,1.4103469900000009E-2,1.8461093872262051,{"$f":"0","v":0},0,2.0849191329996088,{"$f":"0","v":0},0,{"$f":"0","v":0},0,1.3182270002399998E-2,null,1276,0.66338920000000001,0.33661079999999999,1.6013999999999997E-2,0.35365679999999999,0,1.0587310693018442E-2,79036.13,1926.309,4685.6930000000002,1.8908054860357297,79036.13,130673.8,1.3182270002399998E-2,2.0849208505541363,null,0,0,null,1.4103469900000009E-2]
[1280,{"$f":"W1285","v":0.34877970000000003},{"$f":"Y1285","v":0.35365679999999999},{"$f":"AC1285","v":1669.644},{"$f":"AF1285","v":69013.31},{"$f":"AG1285","v":112552.6},{"$f":"E1282","v":69013.31},{"$f":"F1282","v":112552.6},{"$f":"X1285","v":1.6013999999999997E-2},{"$f":"AN1285","v":1.4103469900000009E-2},{"$f":"AE1285","v":1.8289195181727362},{"$f":"0","v":0},{"$f":"AL1285","v":0},{"$f":"AI1285","v":2.0849182714853982},{"$f":"0","v":0},{"$f":"AK1285","v":0},{"$f":"0","v":0},{"$f":"Z1285","v":0},{"$f":"AH1285","v":1.3182270002399998E-2},null,1277,0.66034700000000002,0.33965299999999998,1.6013999999999997E-2,0.35365679999999999,0,1.0549641081125351E-2,76530.42,1862.1420000000001,4503.7790000000005,1.8769346000466132,76530.42,126143.5,1.3182270002399998E-2,2.0849206611099684,null,0,0,null,1.4103469900000009E-2]
[1281,0.35182190000000002,0.35365679999999999,1605.4770000000001,66507.61,108022.39999999999,66507.61,108022.39999999999,1.6013999999999997E-2,1.4103469900000009E-2,1.8103576849746212,{"$f":"0","v":0},0,2.0849173334576854,{"$f":"0","v":0},0,{"$f":"0","v":0},0,1.3182270002399998E-2,null,1278,0.65730480000000002,0.34269519999999998,1.6013999999999997E-2,0.35365679999999999,0,1.051210549757065E-2,74024.72,1797.9760000000001,4321.8639999999996,1.8620717592077609,74024.72,121613.2,1.3182270002399998E-2,2.0849199269951084,null,0,0,null,1.4103469900000009E-2]
[1282,0.35486420000000002,0.35365679999999999,1541.3109999999999,64001.9,103492.1,64001.9,103492.1,1.6013999999999997E-2,1.4103469900000009E-2,1.7902481772551639,{"$f":"0","v":0},0,2.0849163082497295,{"$f":"0","v":0},0,{"$f":"0","v":0},0,1.3182270002399998E-2,null,1279,0.65426249999999997,0.34573749999999998,1.6013999999999997E-2,0.35365679999999999,0,1.0474703465482007E-2,71519.02,1733.81,4139.95,1.8461093872262051,71519.02,117082.9,1.3182270002399998E-2,2.0849191329996088,null,0,0,null,1.4103469900000009E-2]
[1283,0.35790640000000001,0.35365679999999999,1477.145,61496.2,98961.78,61496.2,98961.78,1.6013999999999997E-2,1.4103469900000009E-2,1.7683922645824661,{"$f":"0","v":0},0,2.0849151831154296,{"$f":"0","v":0},0,{"$f":"0","v":0},0,1.3182270002399998E-2,null,1280,0.65122029999999997,0.34877970000000003,1.6013999999999997E-2,0.35365679999999999,0,1.0437434509683808E-2,69013.31,1669.644,3958.0349999999999,1.8289195181727362,69013.31,112552.6,1.3182270002399998E-2,2.0849182714853982,null,0,0,null,1.4103469900000009E-2]
[1284,0.36094860000000001,0.35365679999999999,1412.979,58990.49,94431.5,58990.49,94431.5,1.6013999999999997E-2,1.4103469900000009E-2,1.7445506090324061,{"$f":"0","v":0},0,2.0849139426966801,{"$f":"0","v":0},0,{"$f":"0","v":0},0,1.3182270002399998E-2,null,1281,0.64817809999999998,0.35182190000000002,1.6013999999999997E-2,0.35365679999999999,0,1.0400298156691107E-2,66507.61,1605.4770000000001,3776.1210000000001,1.8103576849746212,66507.61,108022.39999999999,1.3182270002399998E-2,2.0849173334576854,null,0,0,null,1.4103469900000009E-2]
[1285,0.36445899999999998,0.35365679999999999,1367.327,57151.31,91281.14,57151.31,91281.14,1.6013999999999997E-2,1.4103469900000009E-2,1.7347668419234514,{"$f":"0","v":0},0,2.0849130821259885,{"$f":"0","v":0},0,{"$f":"0","v":0},0,1.3182270002399998E-2,null,1282,0.64513589999999998,0.35486420000000002,1.6013999999999997E-2,0.35365679999999999,0,1.0363293934703617E-2,64001.9,1541.3109999999999,3594.2060000000001,1.7902481772551639,64001.9,103492.1,1.3182270002399998E-2,2.0849163082497295,null,0,0,null,1.4103469900000009E-2]
[1286,0.3679695,0.35365679999999999,1321.675,55312.13,88130.77,55312.13,88130.77,1.6013999999999997E-2,1.4103469900000009E-2,1.7243071922623439,{"$f":"0","v":0},0,2.0849111251154335,{"$f":"0","v":0},0,{"$f":"0","v":0},0,1.3182270002399998E-2,null,1283,0.64209369999999999,0.35790640000000001,1.6013999999999997E-2,0.35365679999999999,0,1.0326421373599718E-2,61496.2,1477.145,3412.2919999999999,1.7683922645824661,61496.2,98961.78,1.3182270002399998E-2,2.0849151831154296,null,0,0,null,1.4103469900000009E-2]
[1287,0.37147989999999997,0.35365679999999999,1276.0229999999999,53472.95,84980.41,53472.95,84980.41,1.6013999999999997E-2,1.4103469900000009E-2,1.7130991173356596,{"$f":"0","v":0},0,2.0849104881728904,{"$f":"0","v":0},0,{"$f":"0","v":0},0,1.3182270002399998E-2,null,1284,0.63905140000000005,0.36094860000000001,1.6013999999999997E-2,0.35365679999999999,0,1.0289680004930475E-2,58990.49,1412.979,3230.377,1.7445506090324061,58990.49,94431.5,1.3182270002399998E-2,2.0849139426966801,null,0,0,null,1.4103469900000009E-2]
[1288,0.3749904,0.35365679999999999,1230.3720000000001,51633.77,81830.05,51633.77,81830.05,1.6013999999999997E-2,1.4103469900000009E-2,1.7010574850533011,{"$f":"0","v":0},0,2.0849098049396648,{"$f":"0","v":0},0,{"$f":"0","v":0},0,1.3182270002399998E-2,null,1285,0.63554100000000002,0.36445899999999998,1.6013999999999997E-2,0.35365679999999999,0,1.0253069361913697E-2,57151.31,1367.327,3112.6289999999999,1.7347668419234514,57151.31,91281.14,1.3182270002399998E-2,2.0849130821259885,null,0,0,null,1.4103469900000009E-2]
[1289,0.37850080000000003,0.35365679999999999,1184.72,49794.59,78679.69,49794.59,78679.69,1.6013999999999997E-2,1.4103469900000009E-2,1.6880888873882998,{"$f":"0","v":0},0,2.0849090701791093,{"$f":"0","v":0},0,{"$f":"0","v":0},0,1.3182270002399998E-2,null,1286,0.63203050000000005,0.3679695,1.6013999999999997E-2,0.35365679999999999,0,1.0216588979427999E-2,55312.13,1321.675,2994.8809999999999,1.7243071922623439,55312.13,88130.77,1.3182270002399998E-2,2.0849111251154335,null,0,0,null,1.4103469900000009E-2]
[1290,0.3820113,0.35365679999999999,1139.068,47955.41,75529.33,47955.41,75529.33,1.6013999999999997E-2,1.4103469900000009E-2,1.674081646866854,{"$f":"0","v":0},0,2.0849082778337573,{"$f":"0","v":0},0,{"$f":"0","v":0},0,1.3182270002399998E-2,null,1287,0.62852010000000003,0.37147989999999997,1.6013999999999997E-2,0.35365679999999999,0,1.0180238394006901E-2,53472.95,1276.0229999999999,2877.1329999999998,1.7130991173356596,53472.95,84980.41,1.3182270002399998E-2,2.0849104881728904,null,0,0,null,1.4103469900000009E-2]
[1291,0.38552170000000002,0.35365679999999999,1093.4169999999999,46116.23,72378.960000000006,46116.23,72378.960000000006,1.6013999999999997E-2,1.4103469900000009E-2,1.6589027409792729,{"$f":"0","v":0},0,2.0849052805901489,{"$f":"0","v":0},0,{"$f":"0","v":0},0,1.3182270002399998E-2,null,1288,0.62500960000000005,0.3749904,1.6013999999999997E-2,0.35365679999999999,0,1.0144017143832932E-2,51633.77,1230.3720000000001,2759.3850000000002,1.7010574850533011,51633.77,81830.05,1.3182270002399998E-2,2.0849098049396648,null,0,0,null,1.4103469900000009E-2]
[1292,0.38903219999999999,0.35365679999999999,1047.7650000000001,44277.05,69228.600000000006,44277.05,69228.600000000006,1.6013999999999997E-2,1.4103469900000009E-2,1.6424032345039201,{"$f":"0","v":0},0,2.0849042597394587,{"$f":"0","v":0},0,{"$f":"0","v":0},0,1.3182270002399998E-2,null,1289,0.62149920000000003,0.37850080000000003,1.6013999999999997E-2,0.35365679999999999,0,1.0107924768731761E-2,49794.59,1184.72,2641.636,1.6880888873882998,49794.59,78679.69,1.3182270002399998E-2,2.0849090701791093,null,0,0,null,1.4103469900000009E-2]
[1293,0.39254270000000002,0.35365679999999999,1002.1130000000001,42437.87,66078.240000000005,42437.87,66078.240000000005,1.6013999999999997E-2,1.4103469900000009E-2,1.6244004335505742,{"$f":"0","v":0},0,2.084903148224091,{"$f":"0","v":0},0,{"$f":"0","v":0},0,1.3182270002399998E-2,null,1290,0.61798869999999995,0.3820113,1.6013999999999997E-2,0.35365679999999999,0,1.0071960810166366E-2,47955.41,1139.068,2523.8879999999999,1.674081646866854,47955.41,75529.33,1.3182270002399998E-2,2.0849082778337573,null,0,0,null,1.4103469900000009E-2]
[1294,0.39605309999999999,0.35365679999999999,956.46180000000004,40598.69,62927.88,40598.69,62927.88,1.6013999999999997E-2,1.4103469900000009E-2,1.6046762400756625,{"$f":"0","v":0},0,2.0849014261203531,{"$f":"0","v":0},0,{"$f":"0","v":0},0,1.3182270002399998E-2,null,1291,0.61447819999999997,0.38552170000000002,1.6013999999999997E-2,0.35365679999999999,0,1.003612481123119E-2,46116.23,1093.4169999999999,2406.14,1.6589027409792729,46116.23,72378.960000000006,1.3182270002399998E-2,2.0849052805901489,null,0,0,null,1.4103469900000009E-2]
[1295,0.39956360000000002,0.35365679999999999,910.81010000000003,38759.51,59777.52,38759.51,59777.52,1.6013999999999997E-2,1.4103469900000009E-2,1.5829770982630369,{"$f":"0","v":0},0,2.0848980426899817,{"$f":"0","v":0},0,{"$f":"0","v":0},0,1.3182270002399998E-2,null,1292,0.61096779999999995,0.38903219999999999,1.6013999999999997E-2,0.35365679999999999,0,1.0000416316646348E-2,44277.05,1047.7650000000001,2288.3919999999998,1.6424032345039201,44277.05,69228.600000000006,1.3182270002399998E-2,2.0849042597394587,null,0,0,null,1.4103469900000009E-2]
[1296,0.40307399999999999,0.35365679999999999,865.15840000000003,36920.33,56627.15,36920.33,56627.15,1.6013999999999997E-2,1.4103469900000009E-2,1.5589879649013789,{"$f":"0","v":0},0,2.0848964418328495,{"$f":"0","v":0},0,{"$f":"0","v":0},0,1.3182270002399998E-2,null,1293,0.60745729999999998,0.39254270000000002,1.6013999999999997E-2,0.35365679999999999,0,9.9648348727518384E-3,42437.87,1002.1130000000001,2170.6439999999998,1.6244004335505742,42437.87,66078.240000000005,1.3182270002399998E-2,2.084903148224091,null,0,0,null,1.4103469900000009E-2]
[1297,0.40709679999999998,0.35365679999999999,834.29629999999997,35639.629999999997,54547.53,35639.629999999997,54547.53,1.6013999999999997E-2,1.4103469900000009E-2,1.550278365332157,{"$f":"0","v":0},0,2.0848960920613955,{"$f":"0","v":0},0,{"$f":"0","v":0},0,1.3182270002399998E-2,null,1294,0.60394689999999995,0.39605309999999999,1.6013999999999997E-2,0.35365679999999999,0,9.9293800275017767E-3,40598.69,956.46180000000004,2052.895,1.6046762400756625,40598.69,62927.88,1.3182270002399998E-2,2.0849014261203531,null,0,0,null,1.4103469900000009E-2]
[1298,0.41111969999999998,0.35365679999999999,803.43409999999994,34358.94,52467.91,34358.94,52467.91,1.6013999999999997E-2,1.4103469900000009E-2,1.5409011506564965,{"$f":"0","v":0},0,2.0848934450809518,{"$f":"0","v":0},0,{"$f":"0","v":0},0,1.3182270002399998E-2,null,1295,0.60043639999999998,0.39956360000000002,1.6013999999999997E-2,0.35365679999999999,0,9.8940513304586596E-3,38759.51,910.81010000000003,1935.1469999999999,1.5829770982630369,38759.51,59777.52,1.3182270002399998E-2,2.0848980426899817,null,0,0,null,1.4103469900000009E-2]
[1299,0.41514250000000003,0.35365679999999999,772.57190000000003,33078.25,50388.29,33078.25,50388.29,1.6013999999999997E-2,1.4103469900000009E-2,1.530773451851752,{"$f":"0","v":0},0,2.0848923476127279,{"$f":"0","v":0},0,{"$f":"0","v":0},0,1.3182270002399998E-2,null,1296,0.59692599999999996,0.40307399999999999,1.6013999999999997E-2,0.35365679999999999,0,9.8588483327876411E-3,36920.33,865.15840000000003,1817.3989999999999,1.5589879649013789,36920.33,56627.15,1.3182270002399998E-2,2.0848964418328495,null,0,0,null,1.4103469900000009E-2]
[1300,0.41916540000000002,0.35365679999999999,741.7097,31797.55,48308.66,31797.55,48308.66,1.6013999999999997E-2,1.4103469900000009E-2,1.519804283490787,{"$f":"0","v":0},0,2.084891810934471,{"$f":"0","v":0},0,{"$f":"0","v":0},0,1.3182270002399998E-2,null,1297,0.59290310000000002,0.40709679999999998,1.6013999999999997E-2,0.35365679999999999,0,9.8237705872508217E-3,35639.629999999997,834.29629999999997,1745.3019999999999,1.550278365332157,35639.629999999997,54547.53,1.3182270002399998E-2,2.0848960920613955,null,0,0,null,1.4103469900000009E-2]
[1301,0.42318820000000001,0.35365679999999999,710.84749999999997,30516.86,46229.04,30516.86,46229.04,1.6013999999999997E-2,1.4103469900000009E-2,1.5078812321442601,{"$f":"0","v":0},0,2.084888703079089,{"$f":"0","v":0},0,{"$f":"0","v":0},0,1.3182270002399998E-2,null,1298,0.58888030000000002,0.41111969999999998,1.6013999999999997E-2,0.35365679999999999,0,9.7888176482015775E-3,34358.94,803.43409999999994,1673.2059999999999,1.5409011506564965,34358.94,52467.91,1.3182270002399998E-2,2.0848934450809518,null,0,0,null,1.4103469900000009E-2]
[1302,0.42721110000000001,0.35365679999999999,679.98540000000003,29236.17,44149.42,29236.17,44149.42,1.6013999999999997E-2,1.4103469900000009E-2,1.4948770591250931,{"$f":"0","v":0},0,2.0848871925637074,{"$f":"0","v":0},0,{"$f":"0","v":0},0,1.3182270002399998E-2,null,1299,0.58485750000000003,0.41514250000000003,1.6013999999999997E-2,0.35365679999999999,0,9.7539890715788915E-3,33078.25,772.57190000000003,1601.1089999999999,1.530773451851752,33078.25,50388.29,1.3182270002399998E-2,2.0848923476127279,null,0,0,null,1.4103469900000009E-2]
[1303,0.4312339,0.35365679999999999,649.1232,27955.47,42069.8,27955.47,42069.8,1.6013999999999997E-2,1.4103469900000009E-2,1.4806351090209069,{"$f":"0","v":0},0,2.0848845662040469,{"$f":"0","v":0},0,{"$f":"0","v":0},0,1.3182270002399998E-2,null,1300,0.58083459999999998,0.41916540000000002,1.6013999999999997E-2,0.35365679999999999,0,9.7192844149017136E-3,31797.55,741.7097,1529.0129999999999,1.519804283490787,31797.55,48308.66,1.3182270002399998E-2,2.084891810934471,null,0,0,null,1.4103469900000009E-2]
[1304,0.4352568,0.35365679999999999,618.26099999999997,26674.78,39990.18,26674.78,39990.18,1.6013999999999997E-2,1.4103469900000009E-2,1.4649729240563452,{"$f":"0","v":0},0,2.0848824659959599,{"$f":"0","v":0},0,{"$f":"0","v":0},0,1.3182270002399998E-2,null,1301,0.57681179999999999,0.42318820000000001,1.6013999999999997E-2,0.35365679999999999,0,9.6847032372633403E-3,30516.86,710.84749999999997,1456.9159999999999,1.5078812321442601,30516.86,46229.04,1.3182270002399998E-2,2.084888703079089,null,0,0,null,1.4103469900000009E-2]
[1305,0.43927959999999999,0.35365679999999999,587.39880000000005,25394.09,37910.550000000003,25394.09,37910.550000000003,1.6013999999999997E-2,1.4103469900000009E-2,1.4476632400338576,{"$f":"0","v":0},0,2.0848798812402207,{"$f":"0","v":0},0,{"$f":"0","v":0},0,1.3182270002399998E-2,null,1302,0.57278890000000005,0.42721110000000001,1.6013999999999997E-2,0.35365679999999999,0,9.6502450993258167E-3,29236.17,679.98540000000003,1384.82,1.4948770591250931,29236.17,44149.42,1.3182270002399998E-2,2.0848871925637074,null,0,0,null,1.4103469900000009E-2]
[1306,0.44330249999999999,0.35365679999999999,556.53660000000002,24113.39,35830.93,24113.39,35830.93,1.6013999999999997E-2,1.4103469900000009E-2,1.4284337723700471,{"$f":"0","v":0},0,2.084877368128168,{"$f":"0","v":0},0,{"$f":"0","v":0},0,1.3182270002399998E-2,null,1303,0.56876610000000005,0.4312339,1.6013999999999997E-2,0.35365679999999999,0,9.615909563314342E-3,27955.47,649.1232,1312.723,1.4806351090209069,27955.47,42069.8,1.3182270002399998E-2,2.0848845662040469,null,0,0,null,1.4103469900000009E-2]
[1307,0.44732529999999998,0.35365679999999999,525.67439999999999,22832.7,33751.31,22832.7,33751.31,1.6013999999999997E-2,1.4103469900000009E-2,1.4069482934683522,{"$f":"0","v":0},0,2.084873751001652,{"$f":"0","v":0},0,{"$f":"0","v":0},0,1.3182270002399998E-2,null,1304,0.5647432,0.4352568,1.6013999999999997E-2,0.35365679999999999,0,9.5816961930117253E-3,26674.78,618.26099999999997,1240.627,1.4649729240563452,26674.78,39990.18,1.3182270002399998E-2,2.0848824659959599,null,0,0,null,1.4103469900000009E-2]
[1308,0.45134819999999998,0.35365679999999999,494.81229999999999,21552.01,31671.69,21552.01,31671.69,1.6013999999999997E-2,1.4103469900000009E-2,1.3827810481536806,{"$f":"0","v":0},0,2.0848706663283418,{"$f":"0","v":0},0,{"$f":"0","v":0},0,1.3182270002399998E-2,null,1305,0.56072029999999995,0.43927959999999999,1.6013999999999997E-2,0.35365679999999999,0,9.547604553752826E-3,25394.09,587.39880000000005,1168.53,1.4476632400338576,25394.09,37910.550000000003,1.3182270002399998E-2,2.0848798812402207,null,0,0,null,1.4103469900000009E-2]
[1309,0.4559281,0.35365679999999999,475.25400000000002,20717.71,30386.48,20717.71,30386.48,1.6013999999999997E-2,1.4103469900000009E-2,1.3752156741447732,{"$f":"0","v":0},0,2.0848680856619386,{"$f":"0","v":0},0,{"$f":"0","v":0},0,1.3182270002399998E-2,null,1306,0.55669749999999996,0.44330249999999999,1.6013999999999997E-2,0.35365679999999999,0,9.5136342124190511E-3,24113.39,556.53660000000002,1096.433,1.4284337723700471,24113.39,35830.93,1.3182270002399998E-2,2.084877368128168,null,0,0,null,1.4103469900000009E-2]
[1310,0.46050790000000003,0.35365679999999999,455.69569999999999,19883.41,29101.26,19883.41,29101.26,1.6013999999999997E-2,1.4103469900000009E-2,1.3670011131697462,{"$f":"0","v":0},0,2.0848656972708701,{"$f":"0","v":0},0,{"$f":"0","v":0},0,1.3182270002399998E-2,null,1307,0.55267469999999996,0.44732529999999998,1.6013999999999997E-2,0.35365679999999999,0,9.4797847374328333E-3,22832.7,525.67439999999999,1024.337,1.4069482934683522,22832.7,33751.31,1.3182270002399998E-2,2.084873751001652,null,0,0,null,1.4103469900000009E-2]
[1311,0.4650878,0.35365679999999999,436.13740000000001,19049.12,27816.05,19049.12,27816.05,1.6013999999999997E-2,1.4103469900000009E-2,1.3580495695469668,{"$f":"0","v":0},0,2.0848627613930728,{"$f":"0","v":0},0,{"$f":"0","v":0},0,1.3182270002399998E-2,null,1308,0.54865180000000002,0.45134819999999998,1.6013999999999997E-2,0.35365679999999999,0,9.4460556987521586E-3,21552.01,494.81229999999999,952.24040000000002,1.3827810481536806,21552.01,31671.69,1.3182270002399998E-2,2.0848706663283418,null,0,0,null,1.4103469900000009E-2]
[1312,0.46966770000000002,0.35365679999999999,416.57909999999998,18214.82,26530.84,18214.82,26530.84,1.6013999999999997E-2,1.4103469900000009E-2,1.3482577198424024,{"$f":"0","v":0},0,2.0848606464790462,{"$f":"0","v":0},0,{"$f":"0","v":0},0,1.3182270002399998E-2,null,1309,0.54407190000000005,0.4559281,1.6013999999999997E-2,0.35365679999999999,0,9.4124466678651049E-3,20717.71,475.25400000000002,911.00599999999997,1.3752156741447732,20717.71,30386.48,1.3182270002399998E-2,2.0848680856619386,null,0,0,null,1.4103469900000009E-2]
[1313,0.47424759999999999,0.35365679999999999,397.02080000000001,17380.52,25245.63,17380.52,25245.63,1.6013999999999997E-2,1.4103469900000009E-2,1.3375008731700371,{"$f":"0","v":0},0,2.0848581160326436,{"$f":"0","v":0},0,{"$f":"0","v":0},0,1.3182270002399998E-2,null,1310,0.53949210000000003,0.46050790000000003,1.6013999999999997E-2,0.35365679999999999,0,9.378957217784388E-3,19883.41,455.69569999999999,869.77170000000001,1.3670011131697462,19883.41,29101.26,1.3182270002399998E-2,2.0848656972708701,null,0,0,null,1.4103469900000009E-2]
[1314,0.47882740000000001,0.35365679999999999,377.46249999999998,16546.23,23960.41,16546.23,23960.41,1.6013999999999997E-2,1.4103469900000009E-2,1.3256295548122883,{"$f":"0","v":0},0,2.0848545379392545,{"$f":"0","v":0},0,{"$f":"0","v":0},0,1.3182270002399998E-2,null,1311,0.53491219999999995,0.4650878,1.6013999999999997E-2,0.35365679999999999,0,9.3455869230419444E-3,19049.12,436.13740000000001,828.53729999999996,1.3580495695469668,19049.12,27816.05,1.3182270002399998E-2,2.0848627613930728,null,0,0,null,1.4103469900000009E-2]
[1315,0.48340729999999998,0.35365679999999999,357.9042,15711.93,22675.200000000001,15711.93,22675.200000000001,1.6013999999999997E-2,1.4103469900000009E-2,1.3124604992062121,{"$f":"0","v":0},0,2.0848506679867289,{"$f":"0","v":0},0,{"$f":"0","v":0},0,1.3182270002399998E-2,null,1312,0.53033229999999998,0.46966770000000002,1.6013999999999997E-2,0.35365679999999999,0,9.3123353596835309E-3,18214.82,416.57909999999998,787.303,1.3482577198424024,18214.82,26530.84,1.3182270002399998E-2,2.0848606464790462,null,0,0,null,1.4103469900000009E-2]
[1316,0.48798720000000001,0.35365679999999999,338.34589999999997,14877.63,21389.99,14877.63,21389.99,1.6013999999999997E-2,1.4103469900000009E-2,1.297769247881138,{"$f":"0","v":0},0,2.0848469297245242,{"$f":"0","v":0},0,{"$f":"0","v":0},0,1.3182270002399998E-2,null,1313,0.52575240000000001,0.47424759999999999,1.6013999999999997E-2,0.35365679999999999,0,9.2792021052633226E-3,17380.52,397.02080000000001,746.06859999999995,1.3375008731700371,17380.52,25245.63,1.3182270002399998E-2,2.0848581160326436,null,0,0,null,1.4103469900000009E-2]
[1317,0.49256709999999998,0.35365679999999999,318.7876,14043.33,20104.78,14043.33,20104.78,1.6013999999999997E-2,1.4103469900000009E-2,1.2812750035865053,{"$f":"0","v":0},0,2.0848423782184859,{"$f":"0","v":0},0,{"$f":"0","v":0},0,1.3182270002399998E-2,null,1314,0.52117250000000004,0.47882740000000001,1.6013999999999997E-2,0.35365679999999999,0,9.246186738838558E-3,16546.23,377.46249999999998,704.83429999999998,1.3256295548122883,16546.23,23960.41,1.3182270002399998E-2,2.0848545379392545,null,0,0,null,1.4103469900000009E-2]
[1318,0.49714700000000001,0.35365679999999999,299.22930000000002,13209.04,18819.560000000001,13209.04,18819.560000000001,1.6013999999999997E-2,1.4103469900000009E-2,1.2626248916800593,{"$f":"0","v":0},0,2.0848379072986201,{"$f":"0","v":0},0,{"$f":"0","v":0},0,1.3182270002399998E-2,null,1315,0.51659270000000002,0.48340729999999998,1.6013999999999997E-2,0.35365679999999999,0,9.2132888409641941E-3,15711.93,357.9042,663.59990000000005,1.3124604992062121,15711.93,22675.200000000001,1.3182270002399998E-2,2.0848506679867289,null,0,0,null,1.4103469900000009E-2]
[1319,0.50172680000000003,0.35365679999999999,279.67099999999999,12374.74,17534.349999999999,12374.74,17534.349999999999,1.6013999999999997E-2,1.4103469900000009E-2,1.2413658965951662,{"$f":"0","v":0},0,2.0848338596299429,{"$f":"0","v":0},0,{"$f":"0","v":0},0,1.3182270002399998E-2,null,1316,0.51201280000000005,0.48798720000000001,1.6013999999999997E-2,0.35365679999999999,0,9.1805079936875655E-3,14877.63,338.34589999999997,622.36559999999997,1.297769247881138,14877.63,21389.99,1.3182270002399998E-2,2.0848469297245242,null,0,0,null,1.4103469900000009E-2]
[1320,0.5063067,0.35365679999999999,260.11270000000002,11540.44,16249.14,11540.44,16249.14,1.6013999999999997E-2,1.4103469900000009E-2,1.216910288630018,{"$f":"0","v":0},0,2.0848284941866577,{"$f":"0","v":0},0,{"$f":"0","v":0},0,1.3182270002399998E-2,null,1317,0.50743289999999996,0.49256709999999998,1.6013999999999997E-2,0.35365679999999999,0,9.1478437805430825E-3,14043.33,318.7876,581.13120000000004,1.2812750035865053,14043.33,20104.78,1.3182270002399998E-2,2.0848423782184859,null,0,0,null,1.4103469900000009E-2]
[1321,0.51148780000000005,0.35365679999999999,248.68989999999999,11040.85,15518.46,11040.85,15518.46,1.6013999999999997E-2,1.4103469900000009E-2,1.2105239128462126,{"$f":"0","v":0},0,2.0848241590214065,{"$f":"0","v":0},0,{"$f":"0","v":0},0,1.3182270002399998E-2,null,1318,0.50285299999999999,0.49714700000000001,1.6013999999999997E-2,0.35365679999999999,0,9.1152957865469394E-3,13209.04,299.22930000000002,539.89689999999996,1.2626248916800593,13209.04,18819.560000000001,1.3182270002399998E-2,2.0848379072986201,null,0,0,null,1.4103469900000009E-2]
[1322,0.51666900000000004,0.35365679999999999,237.2671,10541.25,14787.78,10541.25,14787.78,1.6013999999999997E-2,1.4103469900000009E-2,1.203523037257729,{"$f":"0","v":0},0,2.0848201229585301,{"$f":"0","v":0},0,{"$f":"0","v":0},0,1.3182270002399998E-2,null,1319,0.49827320000000003,0.50172680000000003,1.6013999999999997E-2,0.35365679999999999,0,9.0828635981918381E-3,12374.74,279.67099999999999,498.66250000000002,1.2413658965951662,12374.74,17534.349999999999,1.3182270002399998E-2,2.0848338596299429,null,0,0,null,1.4103469900000009E-2]
[1323,0.52185020000000004,0.35365679999999999,225.8443,10041.66,14057.1,10041.66,14057.1,1.6013999999999997E-2,1.4103469900000009E-2,1.1958135354017494,{"$f":"0","v":0},0,2.0848158038557325,{"$f":"0","v":0},0,{"$f":"0","v":0},0,1.3182270002399998E-2,null,1320,0.4936933,0.5063067,1.6013999999999997E-2,0.35365679999999999,0,9.0505468034417433E-3,11540.44,260.11270000000002,457.4282,1.216910288630018,11540.44,16249.14,1.3182270002399998E-2,2.0848284941866577,null,0,0,null,1.4103469900000009E-2]
[1324,0.52703129999999998,0.35365679999999999,214.42150000000001,9542.0650000000005,13326.42,9542.0650000000005,13326.42,1.6013999999999997E-2,1.4103469900000009E-2,1.1872830888382615,{"$f":"0","v":0},0,2.0848111708576886,{"$f":"0","v":0},0,{"$f":"0","v":0},0,1.3182270002399998E-2,null,1321,0.48851220000000001,0.51148780000000005,1.6013999999999997E-2,0.35365679999999999,0,9.0183449917266394E-3,11040.85,248.68989999999999,435.75209999999998,1.2105239128462126,11040.85,15518.46,1.3182270002399998E-2,2.0848241590214065,null,0,0,null,1.4103469900000009E-2]
[1325,0.53221240000000003,0.35365679999999999,202.99870000000001,9042.4709999999995,12595.73,9042.4709999999995,12595.73,1.6013999999999997E-2,1.4103469900000009E-2,1.1777921278970425,{"$f":"0","v":0},0,2.0848072617348428,{"$f":"0","v":0},0,{"$f":"0","v":0},0,1.3182270002399998E-2,null,1322,0.48333100000000001,0.51666900000000004,1.6013999999999997E-2,0.35365679999999999,0,8.9862577539373129E-3,10541.25,237.2671,414.0761,1.203523037257729,10541.25,14787.78,1.3182270002399998E-2,2.0848201229585301,null,0,0,null,1.4103469900000009E-2]
[1326,0.53739360000000003,0.35365679999999999,191.57589999999999,8542.8770000000004,11865.05,8542.8770000000004,11865.05,1.6013999999999997E-2,1.4103469900000009E-2,1.1671698832333992,{"$f":"0","v":0},0,2.084801930906226,{"$f":"0","v":0},0,{"$f":"0","v":0},0,1.3182270002399998E-2,null,1323,0.47814980000000001,0.52185020000000004,1.6013999999999997E-2,0.35365679999999999,0,8.9542846824201706E-3,10041.66,225.8443,392.4,1.1958135354017494,10041.66,14057.1,1.3182270002399998E-2,2.0848158038557325,null,0,0,null,1.4103469900000009E-2]
[1327,0.54257480000000002,0.35365679999999999,180.15309999999999,8043.2820000000002,11134.37,8043.2820000000002,11134.37,1.6013999999999997E-2,1.4103469900000009E-2,1.1552000539171035,{"$f":"0","v":0},0,2.0847961652517424,{"$f":"0","v":0},0,{"$f":"0","v":0},0,1.3182270002399998E-2,null,1324,0.47296870000000002,0.52703129999999998,1.6013999999999997E-2,0.35365679999999999,0,8.9224253709720407E-3,9542.0650000000005,214.42150000000001,370.72399999999999,1.1872830888382615,9542.0650000000005,13326.42,1.3182270002399998E-2,2.0848111708576886,null,0,0,null,1.4103469900000009E-2]
[1328,0.54775589999999996,0.35365679999999999,168.7303,7543.6880000000001,10403.69,7543.6880000000001,10403.69,1.6013999999999997E-2,1.4103469900000009E-2,1.1416095439487357,{"$f":"0","v":0},0,2.0847899093074287,{"$f":"0","v":0},0,{"$f":"0","v":0},0,1.3182270002399998E-2,null,1325,0.46778760000000003,0.53221240000000003,1.6013999999999997E-2,0.35365679999999999,0,8.8906794148350191E-3,9042.4709999999995,202.99870000000001,349.04790000000003,1.1777921278970425,9042.4709999999995,12595.73,1.3182270002399998E-2,2.0848072617348428,null,0,0,null,1.4103469900000009E-2]
[1329,0.55293700000000001,0.35365679999999999,157.3075,7044.0929999999998,9673.0120000000006,7044.0929999999998,9673.0120000000006,1.6013999999999997E-2,1.4103469900000009E-2,1.1260459344489826,{"$f":"0","v":0},0,2.0847823206643836,{"$f":"0","v":0},0,{"$f":"0","v":0},0,1.3182270002399998E-2,null,1326,0.46260639999999997,0.53739360000000003,1.6013999999999997E-2,0.35365679999999999,0,8.8590464106913357E-3,8542.8770000000004,191.57589999999999,327.37189999999998,1.1671698832333992,8542.8770000000004,11865.05,1.3182270002399998E-2,2.084801930906226,null,0,0,null,1.4103469900000009E-2]
[1330,0.55811820000000001,0.35365679999999999,145.88470000000001,6544.4989999999998,8942.3320000000003,6544.4989999999998,8942.3320000000003,1.6013999999999997E-2,1.4103469900000009E-2,1.1080443722565376,{"$f":"0","v":0},0,2.0847769757767871,{"$f":"0","v":0},0,{"$f":"0","v":0},0,1.3182270002399998E-2,null,1327,0.45742519999999998,0.54257480000000002,1.6013999999999997E-2,0.35365679999999999,0,8.8275259566582189E-3,8043.2820000000002,180.15309999999999,305.69580000000002,1.1552000539171035,8043.2820000000002,11134.37,1.3182270002399998E-2,2.0847961652517424,null,0,0,null,1.4103469900000009E-2]
[1331,0.56329940000000001,0.35365679999999999,134.46190000000001,6044.9040000000005,8211.6509999999998,6044.9040000000005,8211.6509999999998,1.6013999999999997E-2,1.4103469900000009E-2,1.0869850183087797,{"$f":"0","v":0},0,2.0847688699976175,{"$f":"0","v":0},0,{"$f":"0","v":0},0,1.3182270002399998E-2,null,1328,0.45224409999999998,0.54775589999999996,1.6013999999999997E-2,0.35365679999999999,0,8.7961176522827964E-3,7543.6880000000001,168.7303,284.0197,1.1416095439487357,7543.6880000000001,10403.69,1.3182270002399998E-2,2.0847899093074287,null,0,0,null,1.4103469900000009E-2]
[1332,0.56848050000000006,0.35365679999999999,123.0391,5545.31,7480.97,5545.31,7480.97,1.6013999999999997E-2,1.4103469900000009E-2,1.0620146021332513,{"$f":"0","v":0},0,2.0847590371527227,{"$f":"0","v":0},0,{"$f":"0","v":0},0,1.3182270002399998E-2,null,1329,0.44706299999999999,0.55293700000000001,1.6013999999999997E-2,0.35365679999999999,0,8.764821098537004E-3,7044.0929999999998,157.3075,262.34370000000001,1.1260459344489826,7044.0929999999998,9673.0120000000006,1.3182270002399998E-2,2.0847823206643836,null,0,0,null,1.4103469900000009E-2]
[1333,0.57430740000000002,0.35365679999999999,117.02509999999999,5276.5190000000002,7107.4340000000002,5276.5190000000002,7107.4340000000002,1.6013999999999997E-2,1.4103469900000009E-2,1.0568134884453562,{"$f":"0","v":0},0,2.0847525121308808,{"$f":"0","v":0},0,{"$f":"0","v":0},0,1.3182270002399998E-2,null,1330,0.44188179999999999,0.55811820000000001,1.6013999999999997E-2,0.35365679999999999,0,8.7336358978125205E-3,6544.4989999999998,145.88470000000001,240.66759999999999,1.1080443722565376,6544.4989999999998,8942.3320000000003,1.3182270002399998E-2,2.0847769757767871,null,0,0,null,1.4103469900000009E-2]
[1334,0.5801345,0.35365679999999999,111.011,5007.7269999999999,6733.8969999999999,5007.7269999999999,6733.8969999999999,1.6013999999999997E-2,1.4103469900000009E-2,1.0510493704828052,{"$f":"0","v":0},0,2.0847480592141898,{"$f":"0","v":0},0,{"$f":"0","v":0},0,1.3182270002399998E-2,null,1331,0.43670059999999999,0.56329940000000001,1.6013999999999997E-2,0.35365679999999999,0,8.7025616539157108E-3,6044.9040000000005,134.46190000000001,218.99160000000001,1.0869850183087797,6044.9040000000005,8211.6509999999998,1.3182270002399998E-2,2.0847688699976175,null,0,0,null,1.4103469900000009E-2]
[1335,0.58596139999999997,0.35365679999999999,104.997,4738.9350000000004,6360.3609999999999,4738.9350000000004,6360.3609999999999,1.6013999999999997E-2,1.4103469900000009E-2,1.0446234178119376,{"$f":"0","v":0},0,2.0847406916760218,{"$f":"0","v":0},0,{"$f":"0","v":0},0,1.3182270002399998E-2,null,1332,0.4315195,0.56848050000000006,1.6013999999999997E-2,0.35365679999999999,0,8.6715979720625967E-3,5545.31,123.0391,197.31549999999999,1.0620146021332513,5545.31,7480.97,1.3182270002399998E-2,2.0847590371527227,null,0,0,null,1.4103469900000009E-2]
[1336,0.59178839999999999,0.35365679999999999,98.982960000000006,4470.143,5986.8239999999996,4470.143,5986.8239999999996,1.6013999999999997E-2,1.4103469900000009E-2,1.037418258657854,{"$f":"0","v":0},0,2.0847338674549523,{"$f":"0","v":0},0,{"$f":"0","v":0},0,1.3182270002399998E-2,null,1333,0.42569259999999998,0.57430740000000002,1.6013999999999997E-2,0.35365679999999999,0,8.6407444588738388E-3,5276.5190000000002,117.02509999999999,187.06229999999999,1.0568134884453562,5276.5190000000002,7107.4340000000002,1.3182270002399998E-2,2.0847525121308808,null,0,0,null,1.4103469900000009E-2]
[1337,0.59761540000000002,0.35365679999999999,92.96893,4201.3519999999999,5613.2879999999996,4201.3519999999999,5613.2879999999996,1.6013999999999997E-2,1.4103469900000009E-2,1.0292796699212667,{"$f":"0","v":0},0,2.0847249032931958,{"$f":"0","v":0},0,{"$f":"0","v":0},0,1.3182270002399998E-2,null,1334,0.4198655,0.5801345,1.6013999999999997E-2,0.35365679999999999,0,8.6100007223697452E-3,5007.7269999999999,111.011,176.809,1.0510493704828052,5007.7269999999999,6733.8969999999999,1.3182270002399998E-2,2.0847480592141898,null,0,0,null,1.4103469900000009E-2]
[1338,0.60344229999999999,0.35365679999999999,86.954899999999995,3932.56,5239.7510000000002,3932.56,5239.7510000000002,1.6013999999999997E-2,1.4103469900000009E-2,1.0200164587236218,{"$f":"0","v":0},0,2.0847169255573128,{"$f":"0","v":0},0,{"$f":"0","v":0},0,1.3182270002399998E-2,null,1335,0.41403859999999998,0.58596139999999997,1.6013999999999997E-2,0.35365679999999999,0,8.579366371965276E-3,4738.9350000000004,104.997,166.5557,1.0446234178119376,4738.9350000000004,6360.3609999999999,1.3182270002399998E-2,2.0847406916760218,null,0,0,null,1.4103469900000009E-2]
[1339,0.60926930000000001,0.35365679999999999,80.940870000000004,3663.768,4866.2150000000001,3663.768,4866.2150000000001,1.6013999999999997E-2,1.4103469900000009E-2,1.0093754706367748,{"$f":"0","v":0},0,2.0847079944040292,{"$f":"0","v":0},0,{"$f":"0","v":0},0,1.3182270002399998E-2,null,1336,0.40821160000000001,0.59178839999999999,1.6013999999999997E-2,0.35365679999999999,0,8.5488410184651042E-3,4470.143,98.982960000000006,156.30250000000001,1.037418258657854,4470.143,5986.8239999999996,1.3182270002399998E-2,2.0847338674549523,null,0,0,null,1.4103469900000009E-2]
[1340,0.61509630000000004,0.35365679999999999,74.926839999999999,3394.9760000000001,4492.6779999999999,3394.9760000000001,4492.6779999999999,1.6013999999999997E-2,1.4103469900000009E-2,0.99702761164535081,{"$f":"0","v":0},0,2.0846983037757445,{"$f":"0","v":0},0,{"$f":"0","v":0},0,1.3182270002399998E-2,null,1337,0.40238459999999998,0.59761540000000002,1.6013999999999997E-2,0.35365679999999999,0,8.518424274058644E-3,4201.3519999999999,92.96893,146.04920000000001,1.0292796699212667,4201.3519999999999,5613.2879999999996,1.3182270002399998E-2,2.0847249032931958,null,0,0,null,1.4103469900000009E-2]
[1341,0.62092329999999996,0.35365679999999999,68.912809999999993,3126.1849999999999,4119.1419999999998,3126.1849999999999,4119.1419999999998,1.6013999999999997E-2,1.4103469900000009E-2,0.98252310298573919,{"$f":"0","v":0},0,2.0846874229323795,{"$f":"0","v":0},0,{"$f":"0","v":0},0,1.3182270002399998E-2,null,1338,0.39655770000000001,0.60344229999999999,1.6013999999999997E-2,0.35365679999999999,0,8.4881157523151521E-3,3932.56,86.954899999999995,135.79599999999999,1.0200164587236218,3932.56,5239.7510000000002,1.3182270002399998E-2,2.0847169255573128,null,0,0,null,1.4103469900000009E-2]
[1342,0.62675020000000004,0.35365679999999999,62.898780000000002,2857.393,3745.605,2857.393,3745.605,1.6013999999999997E-2,1.4103469900000009E-2,0.96524539108707652,{"$f":"0","v":0},0,2.0846762205809668,{"$f":"0","v":0},0,{"$f":"0","v":0},0,1.3182270002399998E-2,null,1339,0.39073069999999999,0.60926930000000001,1.6013999999999997E-2,0.35365679999999999,0,8.4579150681787941E-3,3663.768,80.940870000000004,125.5427,1.0093754706367748,3663.768,4866.2150000000001,1.3182270002399998E-2,2.0847079944040292,null,0,0,null,1.4103469900000009E-2]
[1343,0.63257719999999995,0.35365679999999999,56.884740000000001,2588.6010000000001,3372.069,2588.6010000000001,3372.069,1.6013999999999997E-2,1.4103469900000009E-2,0.94431481096687786,{"$f":"0","v":0},0,2.0846635646584524,{"$f":"0","v":0},0,{"$f":"0","v":0},0,1.3182270002399998E-2,null,1340,0.38490370000000002,0.61509630000000004,1.6013999999999997E-2,0.35365679999999999,0,8.4278218379637681E-3,3394.9760000000001,74.926839999999999,115.2895,0.99702761164535081,3394.9760000000001,4492.6779999999999,1.3182270002399998E-2,2.0846983037757445,null,0,0,null,1.4103469900000009E-2]
[1344,{"$f":"W1349","v":0.63840419999999998},{"$f":"Y1349","v":0.35365679999999999},{"$f":"AC1349","v":50.870719999999999},{"$f":"AF1349","v":2319.81},{"$f":"AG1349","v":2998.5320000000002},{"$f":"E1346","v":2319.81},{"$f":"F1346","v":2998.5320000000002},{"$f":"X1349","v":1.6013999999999997E-2},{"$f":"AN1349","v":1.4103469900000009E-2},{"$f":"AE1349","v":0.91843474333893182},{"$f":"0","v":0},{"$f":"AL1349","v":0},{"$f":"AI1349","v":2.0846481642818824},{"$f":"0","v":0},{"$f":"AK1349","v":0},{"$f":"0","v":0},{"$f":"Z1349","v":0},{"$f":"AH1349","v":1.3182270002399998E-2},null,1341,0.37907669999999999,0.62092329999999996,1.6013999999999997E-2,0.35365679999999999,0,8.3978356793494215E-3,3126.1849999999999,68.912809999999993,105.03619999999999,0.98252310298573919,3126.1849999999999,4119.1419999999998,1.3182270002399998E-2,2.0846874229323795,null,0,0,null,1.4103469900000009E-2]
[1345,0.64492130000000003,0.35365679999999999,48.100189999999998,2193.846,2832.07,2193.846,2832.07,1.6013999999999997E-2,1.4103469900000009E-2,0.91440221788451692,{"$f":"0","v":0},0,2.0846399073080231,{"$f":"0","v":0},0,{"$f":"0","v":0},0,1.3182270002399998E-2,null,1342,0.37324980000000002,0.62675020000000004,1.6013999999999997E-2,0.35365679999999999,0,8.3679562113754043E-3,2857.393,62.898780000000002,94.782929999999993,0.96524539108707652,2857.393,3745.605,1.3182270002399998E-2,2.0846762205809668,null,0,0,null,1.4103469900000009E-2]
[1346,0.65143850000000003,0.35365679999999999,45.32967,2067.884,2665.6080000000002,2067.884,2665.6080000000002,1.6013999999999997E-2,1.4103469900000009E-2,0.90987621904152405,{"$f":"0","v":0},0,2.0846295451271217,{"$f":"0","v":0},0,{"$f":"0","v":0},0,1.3182270002399998E-2,null,1343,0.36742279999999999,0.63257719999999995,1.6013999999999997E-2,0.35365679999999999,0,8.3381830544368117E-3,2588.6010000000001,56.884740000000001,84.529669999999996,0.94431481096687786,2588.6010000000001,3372.069,1.3182270002399998E-2,2.0846635646584524,null,0,0,null,1.4103469900000009E-2]
[1347,0.65795559999999997,0.35365679999999999,42.559150000000002,1941.92,2499.1460000000002,1941.92,2499.1460000000002,1.6013999999999997E-2,1.4103469900000009E-2,0.90476095230598663,{"$f":"0","v":0},0,2.084618456266901,{"$f":"0","v":0},0,{"$f":"0","v":0},0,1.3182270002399998E-2,null,1344,0.36159580000000002,0.63840419999999998,1.6013999999999997E-2,0.35365679999999999,0,8.3085158302793755E-3,2319.81,50.870719999999999,74.276409999999998,0.91843474333893182,2319.81,2998.5320000000002,1.3182270002399998E-2,2.0846481642818824,null,0,0,null,1.4103469900000009E-2]
[1348,0.66447270000000003,0.35365679999999999,39.788629999999998,1815.9570000000001,2332.6840000000002,1815.9570000000001,2332.6840000000002,1.6013999999999997E-2,1.4103469900000009E-2,0.89893357516121253,{"$f":"0","v":0},0,2.0846061260414577,{"$f":"0","v":0},0,{"$f":"0","v":0},0,1.3182270002399998E-2,null,1345,0.35507870000000002,0.64492130000000003,1.6013999999999997E-2,0.35365679999999999,0,8.2789541619946623E-3,2193.846,48.100189999999998,70.037189999999995,0.91440221788451692,2193.846,2832.07,1.3182270002399998E-2,2.0846399073080231,null,0,0,null,1.4103469900000009E-2]
[1349,0.67098979999999997,0.35365679999999999,37.018099999999997,1689.9939999999999,2166.221,1689.9939999999999,2166.221,1.6013999999999997E-2,1.4103469900000009E-2,0.8922340467681128,{"$f":"0","v":0},0,2.0845933177993605,{"$f":"0","v":0},0,{"$f":"0","v":0},0,1.3182270002399998E-2,null,1346,0.34856150000000002,0.65143850000000003,1.6013999999999997E-2,0.35365679999999999,0,8.2494976740152687E-3,2067.884,45.32967,65.797960000000003,0.90987621904152405,2067.884,2665.6080000000002,1.3182270002399998E-2,2.0846295451271217,null,0,0,null,1.4103469900000009E-2]
[1350,0.67750690000000002,0.35365679999999999,34.247579999999999,1564.0309999999999,1999.759,1564.0309999999999,1999.759,1.6013999999999997E-2,1.4103469900000009E-2,0.88445044876163526,{"$f":"0","v":0},0,2.0845795057478971,{"$f":"0","v":0},0,{"$f":"0","v":0},0,1.3182270002399998E-2,null,1347,0.34204440000000003,0.65795559999999997,1.6013999999999997E-2,0.35365679999999999,0,8.2201459921100572E-3,1941.92,42.559150000000002,61.558729999999997,0.90476095230598663,1941.92,2499.1460000000002,1.3182270002399998E-2,2.084618456266901,null,0,0,null,1.4103469900000009E-2]
[1351,0.68402410000000002,0.35365679999999999,31.477060000000002,1438.068,1833.297,1438.068,1833.297,1.6013999999999997E-2,1.4103469900000009E-2,0.87529635338666745,{"$f":"0","v":0},0,2.0845645670682451,{"$f":"0","v":0},0,{"$f":"0","v":0},0,1.3182270002399998E-2,null,1348,0.33552729999999997,0.66447270000000003,1.6013999999999997E-2,0.35365679999999999,0,8.1908987433794139E-3,1815.9570000000001,39.788629999999998,57.319510000000001,0.89893357516121253,1815.9570000000001,2332.6840000000002,1.3182270002399998E-2,2.0846061260414577,null,0,0,null,1.4103469900000009E-2]
[1352,0.69054119999999997,0.35365679999999999,28.70654,1312.105,1666.835,1312.105,1666.835,1.6013999999999997E-2,1.4103469900000009E-2,0.86437564982288573,{"$f":"0","v":0},0,2.0845483580533788,{"$f":"0","v":0},0,{"$f":"0","v":0},0,1.3182270002399998E-2,null,1349,0.32901019999999997,0.67098979999999997,1.6013999999999997E-2,0.35365679999999999,0,8.1617555562504881E-3,1689.9939999999999,37.018099999999997,53.080280000000002,0.8922340467681128,1689.9939999999999,2166.221,1.3182270002399998E-2,2.0845933177993605,null,0,0,null,1.4103469900000009E-2]
[1353,0.69705830000000002,0.35365679999999999,25.93601,1186.1420000000001,1500.373,1186.1420000000001,1500.373,1.6013999999999997E-2,1.4103469900000009E-2,0.85112196967331,{"$f":"0","v":0},0,2.0845327357445189,{"$f":"0","v":0},0,{"$f":"0","v":0},0,1.3182270002399998E-2,null,1350,0.32249309999999998,0.67750690000000002,1.6013999999999997E-2,0.35365679999999999,0,8.1327160604724932E-3,1564.0309999999999,34.247579999999999,48.841059999999999,0.88445044876163526,1564.0309999999999,1999.759,1.3182270002399998E-2,2.0845795057478971,null,0,0,null,1.4103469900000009E-2]
[1354,0.70357550000000002,0.35365679999999999,23.165489999999998,1060.1790000000001,1333.91,1060.1790000000001,1333.91,1.6013999999999997E-2,1.4103469900000009E-2,0.83469748535429222,{"$f":"0","v":0},0,2.0845135410638886,{"$f":"0","v":0},0,{"$f":"0","v":0},0,1.3182270002399998E-2,null,1351,0.31597589999999998,0.68402410000000002,1.6013999999999997E-2,0.35365679999999999,0,8.10377988711199E-3,1438.068,31.477060000000002,44.60183,0.87529635338666745,1438.068,1833.297,1.3182270002399998E-2,2.0845645670682451,null,0,0,null,1.4103469900000009E-2]
[1355,0.71009259999999996,0.35365679999999999,20.394970000000001,934.21609999999998,1167.4480000000001,934.21609999999998,1167.4480000000001,1.6013999999999997E-2,1.4103469900000009E-2,0.81381117909628353,{"$f":"0","v":0},0,2.0844918914920134,{"$f":"0","v":0},0,{"$f":"0","v":0},0,1.3182270002399998E-2,null,1352,0.30945879999999998,0.69054119999999997,1.6013999999999997E-2,0.35365679999999999,0,8.0749466685482024E-3,1312.105,28.70654,40.362609999999997,0.86437564982288573,1312.105,1666.835,1.3182270002399998E-2,2.0845483580533788,null,0,0,null,1.4103469900000009E-2]
[1356,0.71660970000000002,0.35365679999999999,17.62445,808.25310000000002,1000.986,808.25310000000002,1000.986,1.6013999999999997E-2,1.4103469900000009E-2,0.78635775395355123,{"$f":"0","v":0},0,2.0844686375663484,{"$f":"0","v":0},0,{"$f":"0","v":0},0,1.3182270002399998E-2,null,1353,0.30294169999999998,0.69705830000000002,1.6013999999999997E-2,0.35365679999999999,0,8.046216038468345E-3,1186.1420000000001,25.93601,36.123379999999997,0.85112196967331,1186.1420000000001,1500.373,1.3182270002399998E-2,2.0845327357445189,null,0,0,null,1.4103469900000009E-2]
[1357,0.72386150000000005,0.35365679999999999,16.55453,759.09829999999999,939.16639999999995,759.09829999999999,939.16639999999995,1.6013999999999997E-2,1.4103469900000009E-2,0.7834691118785414,{"$f":"0","v":0},0,2.0844526624480828,{"$f":"0","v":0},0,{"$f":"0","v":0},0,1.3182270002399998E-2,null,1354,0.29642449999999998,0.70357550000000002,1.6013999999999997E-2,0.35365679999999999,0,8.01758763186298E-3,1060.1790000000001,23.165489999999998,31.884150000000002,0.83469748535429222,1060.1790000000001,1333.91,1.3182270002399998E-2,2.0845135410638886,null,0,0,null,1.4103469900000009E-2]
[1358,0.73111320000000002,0.35365679999999999,15.48462,709.94359999999995,877.34670000000006,709.94359999999995,877.34670000000006,1.6013999999999997E-2,1.4103469900000009E-2,0.78017978484457495,{"$f":"0","v":0},0,2.0844374455593346,{"$f":"0","v":0},0,{"$f":"0","v":0},0,1.3182270002399998E-2,null,1355,0.28990739999999998,0.71009259999999996,1.6013999999999997E-2,0.35365679999999999,0,7.9890610850213654E-3,934.21609999999998,20.394970000000001,27.644929999999999,0.81381117909628353,934.21609999999998,1167.4480000000001,1.3182270002399998E-2,2.0844918914920134,null,0,0,null,1.4103469900000009E-2]
[1359,0.73836489999999999,0.35365679999999999,14.4147,660.78890000000001,815.52700000000004,660.78890000000001,815.52700000000004,1.6013999999999997E-2,1.4103469900000009E-2,0.77640377531270166,{"$f":"0","v":0},0,2.0844185779338509,{"$f":"0","v":0},0,{"$f":"0","v":0},0,1.3182270002399998E-2,null,1356,0.28339029999999998,0.71660970000000002,1.6013999999999997E-2,0.35365679999999999,0,7.9606360355268437E-3,808.25310000000002,17.62445,23.4057,0.78635775395355123,808.25310000000002,1000.986,1.3182270002399998E-2,2.0844686375663484,null,0,0,null,1.4103469900000009E-2]
[1360,0.74561670000000002,0.35365679999999999,13.34479,611.63419999999996,753.70730000000003,611.63419999999996,753.70730000000003,1.6013999999999997E-2,1.4103469900000009E-2,0.77202129695059518,{"$f":"0","v":0},0,2.0844002133246802,{"$f":"0","v":0},0,{"$f":"0","v":0},0,1.3182270002399998E-2,null,1357,0.27613850000000001,0.72386150000000005,1.6013999999999997E-2,0.35365679999999999,0,7.9323121222522296E-3,759.09829999999999,16.55453,21.937000000000001,0.7834691118785414,759.09829999999999,939.16639999999995,1.3182270002399998E-2,2.0844526624480828,null,0,0,null,1.4103469900000009E-2]
[1361,0.75286850000000005,0.35365679999999999,12.27487,562.47940000000006,691.88760000000002,562.47940000000006,691.88760000000002,1.6013999999999997E-2,1.4103469900000009E-2,0.7668750938570702,{"$f":"0","v":0},0,2.0843796301801758,{"$f":"0","v":0},0,{"$f":"0","v":0},0,1.3182270002399998E-2,null,1358,0.26888679999999998,0.73111320000000002,1.6013999999999997E-2,0.35365679999999999,0,7.9040889853552333E-3,709.94359999999995,15.48462,20.46829,0.78017978484457495,709.94359999999995,877.34670000000006,1.3182270002399998E-2,2.0844374455593346,null,0,0,null,1.4103469900000009E-2]
[1362,0.76012020000000002,0.35365679999999999,11.20496,513.32470000000001,630.06790000000001,513.32470000000001,630.06790000000001,1.6013999999999997E-2,1.4103469900000009E-2,0.76074583636770388,{"$f":"0","v":0},0,2.0843574338933313,{"$f":"0","v":0},0,{"$f":"0","v":0},0,1.3182270002399998E-2,null,1359,0.26163510000000001,0.73836489999999999,1.6013999999999997E-2,0.35365679999999999,0,7.8759662662738796E-3,660.78890000000001,14.4147,18.999590000000001,0.77640377531270166,660.78890000000001,815.52700000000004,1.3182270002399998E-2,2.0844185779338509,null,0,0,null,1.4103469900000009E-2]
[1363,0.76737200000000005,0.35365679999999999,10.13505,464.17,568.2482,464.17,568.2482,1.6013999999999997E-2,1.4103469900000009E-2,0.75332151790075053,{"$f":"0","v":0},0,2.0843342162288705,{"$f":"0","v":0},0,{"$f":"0","v":0},0,1.3182270002399998E-2,null,1360,0.25438329999999998,0.74561670000000002,1.6013999999999997E-2,0.35365679999999999,0,7.8479436077219539E-3,611.63419999999996,13.34479,17.530889999999999,0.77202129695059518,611.63419999999996,753.70730000000003,1.3182270002399998E-2,2.0844002133246802,null,0,0,null,1.4103469900000009E-2]
[1364,0.77462370000000003,0.35365679999999999,9.0651309999999992,415.01530000000002,506.42840000000001,415.01530000000002,506.42840000000001,1.6013999999999997E-2,1.4103469900000009E-2,0.74414707391799795,{"$f":"0","v":0},0,2.0843082015181849,{"$f":"0","v":0},0,{"$f":"0","v":0},0,1.3182270002399998E-2,null,1361,0.2471315,0.75286850000000005,1.6013999999999997E-2,0.35365679999999999,0,7.8200206536844664E-3,562.47940000000006,12.27487,16.062180000000001,0.7668750938570702,562.47940000000006,691.88760000000002,1.3182270002399998E-2,2.0843796301801758,null,0,0,null,1.4103469900000009E-2]
[1365,0.78187549999999995,0.35365679999999999,7.9952160000000001,365.86059999999998,444.6087,365.86059999999998,444.6087,1.6013999999999997E-2,1.4103469900000009E-2,0.73251654489384654,{"$f":"0","v":0},0,2.0842802035695347,{"$f":"0","v":0},0,{"$f":"0","v":0},0,1.3182270002399998E-2,null,1362,0.2398798,0.76012020000000002,1.6013999999999997E-2,0.35365679999999999,0,7.7921970494131305E-3,513.32470000000001,11.20496,14.59348,0.76074583636770388,513.32470000000001,630.06790000000001,1.3182270002399998E-2,2.0843574338933313,null,0,0,null,1.4103469900000009E-2]
[1366,0.78912720000000003,0.35365679999999999,6.9253020000000003,316.70589999999999,382.78899999999999,316.70589999999999,382.78899999999999,1.6013999999999997E-2,1.4103469900000009E-2,0.71729099323033141,{"$f":"0","v":0},0,2.0842492610945391,{"$f":"0","v":0},0,{"$f":"0","v":0},0,1.3182270002399998E-2,null,1363,0.232628,0.76737200000000005,1.6013999999999997E-2,0.35365679999999999,0,7.764472441421845E-3,464.17,10.13505,13.12477,0.75332151790075053,464.17,568.2482,1.3182270002399998E-2,2.0843342162288705,null,0,0,null,1.4103469900000009E-2]
[1367,0.79637899999999995,0.35365679999999999,5.8553870000000003,267.55110000000002,320.96929999999998,267.55110000000002,320.96929999999998,1.6013999999999997E-2,1.4103469900000009E-2,0.69650221952309332,{"$f":"0","v":0},0,2.0842156617719141,{"$f":"0","v":0},0,{"$f":"0","v":0},0,1.3182270002399998E-2,null,1364,0.2253763,0.77462370000000003,1.6013999999999997E-2,0.35365679999999999,0,7.7368464774822182E-3,415.01530000000002,9.0651309999999992,11.65607,0.74414707391799795,415.01530000000002,506.42840000000001,1.3182270002399998E-2,2.0843082015181849,null,0,0,null,1.4103469900000009E-2]
[1368,0.80363070000000003,0.35365679999999999,4.7854720000000004,218.3964,259.14960000000002,218.3964,259.14960000000002,1.6013999999999997E-2,1.4103469900000009E-2,0.66641771873983024,{"$f":"0","v":0},0,2.0841792335085252,{"$f":"0","v":0},0,{"$f":"0","v":0},0,1.3182270002399998E-2,null,1365,0.2181245,0.78187549999999995,1.6013999999999997E-2,0.35365679999999999,0,7.709318806619082E-3,365.86059999999998,7.9952160000000001,10.18737,0.73251654489384654,365.86059999999998,444.6087,1.3182270002399998E-2,2.0842802035695347,null,0,0,null,1.4103469900000009E-2]
[1369,0.81166150000000004,0.35365679999999999,4.4617139999999997,203.5307,241.3442,203.5307,241.3442,1.6013999999999997E-2,1.4103469900000009E-2,0.66470021386399936,{"$f":"0","v":0},0,2.0841544661437927,{"$f":"0","v":0},0,{"$f":"0","v":0},0,1.3182270002399998E-2,null,1366,0.2108728,0.78912720000000003,1.6013999999999997E-2,0.35365679999999999,0,7.6818890791060359E-3,316.70589999999999,6.9253020000000003,8.7186620000000001,0.71729099323033141,316.70589999999999,382.78899999999999,1.3182270002399998E-2,2.0842492610945391,null,0,0,null,1.4103469900000009E-2]
[1370,0.81969230000000004,0.35365679999999999,4.137956,188.66489999999999,223.53880000000001,188.66489999999999,223.53880000000001,1.6013999999999997E-2,1.4103469900000009E-2,0.66271419190215342,{"$f":"0","v":0},0,2.0841265593124514,{"$f":"0","v":0},0,{"$f":"0","v":0},0,1.3182270002399998E-2,null,1367,0.203621,0.79637899999999995,1.6013999999999997E-2,0.35365679999999999,0,7.6545569464610093E-3,267.55110000000002,5.8553870000000003,7.2499580000000003,0.69650221952309332,267.55110000000002,320.96929999999998,1.3182270002399998E-2,2.0842156617719141,null,0,0,null,1.4103469900000009E-2]
[1371,0.82772299999999999,0.35365679999999999,3.8141970000000001,173.79920000000001,205.73349999999999,173.79920000000001,205.73349999999999,1.6013999999999997E-2,1.4103469900000009E-2,0.66039132876461293,{"$f":"0","v":0},0,2.0840993035622901,{"$f":"0","v":0},0,{"$f":"0","v":0},0,1.3182270002399998E-2,null,1368,0.1963693,0.80363070000000003,1.6013999999999997E-2,0.35365679999999999,0,7.6273220614418245E-3,218.3964,4.7854720000000004,5.7812539999999997,0.66641771873983024,218.3964,259.14960000000002,1.3182270002399998E-2,2.0841792335085252,null,0,0,null,1.4103469900000009E-2]
[1372,0.83575379999999999,0.35365679999999999,3.4904389999999998,158.93340000000001,187.9281,158.93340000000001,187.9281,1.6013999999999997E-2,1.4103469900000009E-2,0.65763720313309226,{"$f":"0","v":0},0,2.0840684993339567,{"$f":"0","v":0},0,{"$f":"0","v":0},0,1.3182270002399998E-2,null,1369,0.18833849999999999,0.81166150000000004,1.6013999999999997E-2,0.35365679999999999,0,7.6001840780417929E-3,203.5307,4.4617139999999997,5.3824639999999997,0.66470021386399936,203.5307,241.3442,1.3182270002399998E-2,2.0841544661437927,null,0,0,null,1.4103469900000009E-2]
[1373,0.8437846,0.35365679999999999,3.1666810000000001,144.0677,170.12270000000001,144.0677,170.12270000000001,1.6013999999999997E-2,1.4103469900000009E-2,0.65431960413231816,{"$f":"0","v":0},0,2.0840358206071308,{"$f":"0","v":0},0,{"$f":"0","v":0},0,1.3182270002399998E-2,null,1370,0.18030769999999999,0.81969230000000004,1.6013999999999997E-2,0.35365679999999999,0,7.5731426514853151E-3,188.66489999999999,4.137956,4.9836749999999999,0.66271419190215342,188.66489999999999,223.53880000000001,1.3182270002399998E-2,2.0841265593124514,null,0,0,null,1.4103469900000009E-2]
[1374,0.85181530000000005,0.35365679999999999,2.8429229999999999,129.20189999999999,152.31739999999999,129.20189999999999,152.31739999999999,1.6013999999999997E-2,1.4103469900000009E-2,0.65024672669643191,{"$f":"0","v":0},0,2.0840001145395797,{"$f":"0","v":0},0,{"$f":"0","v":0},0,1.3182270002399998E-2,null,1371,0.17227700000000001,0.82772299999999999,1.6013999999999997E-2,0.35365679999999999,0,7.546197438223501E-3,173.79920000000001,3.8141970000000001,4.584886,0.66039132876461293,173.79920000000001,205.73349999999999,1.3182270002399998E-2,2.0840993035622901,null,0,0,null,1.4103469900000009E-2]
[1375,0.85984609999999995,0.35365679999999999,2.5191650000000001,114.33620000000001,134.512,114.33620000000001,134.512,1.6013999999999997E-2,1.4103469900000009E-2,0.64512697328942992,{"$f":"0","v":0},0,2.0839619812380992,{"$f":"0","v":0},0,{"$f":"0","v":0},0,1.3182270002399998E-2,null,1372,0.16424620000000001,0.83575379999999999,1.6013999999999997E-2,0.35365679999999999,0,7.5193480959298096E-3,158.93340000000001,3.4904389999999998,4.1860970000000002,0.65763720313309226,158.93340000000001,187.9281,1.3182270002399998E-2,2.0840684993339567,null,0,0,null,1.4103469900000009E-2]
[1376,0.86787689999999995,0.35365679999999999,2.1954060000000002,99.470410000000001,116.70659999999999,99.470410000000001,116.70659999999999,1.6013999999999997E-2,1.4103469900000009E-2,0.6384977311713641,{"$f":"0","v":0},0,2.0839206052097956,{"$f":"0","v":0},0,{"$f":"0","v":0},0,1.3182270002399998E-2,null,1373,0.1562154,0.8437846,1.6013999999999997E-2,0.35365679999999999,0,7.4925942834956948E-3,144.0677,3.1666810000000001,3.7873070000000002,0.65431960413231816,144.0677,170.12270000000001,1.3182270002399998E-2,2.0840358206071308,null,0,0,null,1.4103469900000009E-2]
[1377,0.87590769999999996,0.35365679999999999,1.871648,84.604659999999996,98.901250000000005,84.604659999999996,98.901250000000005,1.6013999999999997E-2,1.4103469900000009E-2,0.62957386574113638,{"$f":"0","v":0},0,2.0838755544612799,{"$f":"0","v":0},0,{"$f":"0","v":0},0,1.3182270002399998E-2,null,1374,0.1481847,0.85181530000000005,1.6013999999999997E-2,0.35365679999999999,0,7.465935661026271E-3,129.20189999999999,2.8429229999999999,3.3885179999999999,0.65024672669643191,129.20189999999999,152.31739999999999,1.3182270002399998E-2,2.0840001145395797,null,0,0,null,1.4103469900000009E-2]
[1378,0.88393840000000001,0.35365679999999999,1.54789,69.738910000000004,81.095879999999994,69.738910000000004,81.095879999999994,1.6013999999999997E-2,1.4103469900000009E-2,0.61691759965716775,{"$f":"0","v":0},0,2.0838257637959319,{"$f":"0","v":0},0,{"$f":"0","v":0},0,1.3182270002399998E-2,null,1375,0.1401539,0.85984609999999995,1.6013999999999997E-2,0.35365679999999999,0,7.4393718898360019E-3,114.33620000000001,2.5191650000000001,2.9897290000000001,0.64512697328942992,114.33620000000001,134.512,1.3182270002399998E-2,2.0839619812380992,null,0,0,null,1.4103469900000009E-2]
[1379,0.89196920000000002,0.35365679999999999,1.224132,54.873150000000003,63.290509999999998,54.873150000000003,63.290509999999998,1.6013999999999997E-2,1.4103469900000009E-2,0.59756668398506052,{"$f":"0","v":0},0,2.0837716999191307,{"$f":"0","v":0},0,{"$f":"0","v":0},0,1.3182270002399998E-2,null,1376,0.13212309999999999,0.86787689999999995,1.6013999999999997E-2,0.35365679999999999,0,7.4129026324443893E-3,99.470410000000001,2.1954060000000002,2.5909399999999998,0.6384977311713641,99.470410000000001,116.70659999999999,1.3182270002399998E-2,2.0839206052097956,null,0,0,null,1.4103469900000009E-2]
[1380,0.9,0.35365679999999999,0.90037339999999999,40.007390000000001,45.485140000000001,40.007390000000001,45.485140000000001,1.6013999999999997E-2,1.4103469900000009E-2,0.56429925813742032,{"$f":"0","v":0},0,2.0837114869501066,{"$f":"0","v":0},0,{"$f":"0","v":0},0,1.3182270002399998E-2,null,1377,0.1240923,0.87590769999999996,1.6013999999999997E-2,0.35365679999999999,0,7.3865275525716893E-3,84.604659999999996,1.871648,2.1921499999999998,0.62957386574113638,84.604659999999996,98.901250000000005,1.3182270002399998E-2,2.0838755544612799,null,0,0,null,1.4103469900000009E-2]
[null,null,null,null,null,null,null,null,null,null,null,null,null,null,null,null,null,null,null,null,1378,0.1160616,0.88393840000000001,1.6013999999999997E-2,0.35365679999999999,0,7.3602463151346441E-3,69.738910000000004,1.54789,1.793361,0.61691759965716775,69.738910000000004,81.095879999999994,1.3182270002399998E-2,2.0838257637959319,null,0,0,null,1.4103469900000009E-2]
[null,null,null,null,null,null,null,null,null,null,null,null,null,null,null,null,null,null,null,null,1379,0.1080308,0.89196920000000002,1.6013999999999997E-2,0.35365679999999999,0,7.3340585862422146E-3,54.873150000000003,1.224132,1.3945719999999999,0.59756668398506052,54.873150000000003,63.290509999999998,1.3182270002399998E-2,2.0837716999191307,null,0,0,null,1.4103469900000009E-2]
[null,null,null,null,null,null,null,null,null,null,null,null,null,null,null,null,null,null,null,null,1380,0.1,0.9,1.6013999999999997E-2,0.35365679999999999,0,7.3079640331913534E-3,40.007390000000001,0.90037339999999999,0.99578230000000001,0.56429925813742032,40.007390000000001,45.485140000000001,1.3182270002399998E-2,2.0837114869501066,null,0,0,null,1.4103469900000009E-2]

{"sheet":"Plan1","index":7,"n_rows":0,"n_cols":0,"rows_kept":0,"cut":false,"hidden":true,"merged":[]}